{"text_format":"1","workbook":"xlsx","n_sheets":10,"sheets":["Contents Overview","Life Cycle Analysis Tool","Life Cycle Results Summary","Input Descriptions","TOU Evaluation","Emissions Factors","Technologies Table","Technology Metric Look-ups","Look-up Refs","Dynamic Look-ups"],"not_rendered":{"charts":11,"images":3,"macros":1,"external_links":1,"defined_names":49,"comments":1,"pivot_tables":0},"unopened":[],"bounds":{"document_bytes":16777216,"sheet_cells":100000,"rows_first":2000,"rows_last":500,"rows_between":2000,"halvings":0,"cell_chars":16384,"cell_head_chars":4096},"cells_cut":0,"cells_raw":0,"read":"whole","date_system":"1900"}

{"sheet":"Contents Overview","index":0,"n_rows":12,"n_cols":3,"rows_kept":12,"cut":false,"hidden":false,"merged":[[1,1,1,2]]}
[]
[null,"Building Decabonization Framework\nLife Cycle Cost Analysis Tool"]
[null,"Tab","Contents"]
[null,"Life Cycle Analysis Tool","The full life-cycle tool. Starts with a general overview and instructions. User entry flows from top to bottom, with results continuously updating based on user entries. All calculations and results are included on this tab and it can be copied to evaluate multiple projects and/or scenarios if desired."]
[null,"Life Cycle Results Summary","Summary of modeling results that includes additional reporting figures."]
[null,"Input Descriptions","Includes a detailed description of each of the allowable user entries. Units or entry type is also included."]
[null,"TOU Evaluation","A detailed bin calculation worksheet that allows users to evaluate their blended utility rates based on multiple time-of-use impacts and multiple sources of electric energy. This tab is intended for more advanced users and is not fundamental to the LCCA tool itself."]
[null,"Emissions Factors","A summary of historical emissions factors for the various utilities across the CSU System."]
[null,"Technologies Table","A full copy of the Technology Report technology alternatives table for reference"]
[null,"Technologies Metric Look-ups","Translation of the Technologies table to usable technical metrics for each technology alternative"]
[null,"Look-up Refs","Look-up tables for user entry fields"]
[null,"Dynamic Look-ups","Look-up tables for user entry fields"]

{"sheet":"Life Cycle Analysis Tool","index":1,"n_rows":161,"n_cols":171,"rows_kept":161,"cut":false,"hidden":false,"merged":[[57,2,57,12],[51,2,51,12],[53,3,53,11],[54,3,54,11],[52,3,52,5],[69,5,69,14],[118,2,118,12],[98,2,98,12],[79,2,79,12],[67,2,67,12],[2,2,2,12],[8,2,8,4],[7,2,7,4],[6,2,6,4],[5,2,5,4],[23,2,23,12],[14,2,14,12],[12,2,12,12],[39,2,39,12],[9,2,9,4],[24,3,24,4],[25,3,25,4],[26,3,26,4]]}
[null,null,null,null,null,null,null,null,null,null,null,null,null,null,null,"A",null,null,null,null,null,null,null,null,null,null,null,"A",null,null,null,null,null,"Life Cycle Defs",null,null,null,null,null,null,null,null,null,null,null,null,"Plotting",null,null,null,null,null,null,null,null,null,null,null,null,"P1",{"$f":"BH1","v":"P1"},{"$f":"BI1","v":"P1"},"P1","P1",{"$f":"BL1","v":"P1"},{"$f":"BM1","v":"P1"},{"$f":"BL1","v":"P1"},{"$f":"BO1","v":"P1"},{"$f":"BP1","v":"P1"},{"$f":"BQ1","v":"P1"},{"$f":"BR1","v":"P1"},{"$f":"BS1","v":"P1"},{"$f":"BT1","v":"P1"},{"$f":"BU1","v":"P1"},{"$f":"BV1","v":"P1"},{"$f":"BW1","v":"P1"},null,null,"P2",{"$f":"CA1","v":"P2"},{"$f":"CB1","v":"P2"},{"$f":"CC1","v":"P2"},{"$f":"CD1","v":"P2"},{"$f":"CE1","v":"P2"},{"$f":"CF1","v":"P2"},{"$f":"CE1","v":"P2"},{"$f":"CH1","v":"P2"},{"$f":"CI1","v":"P2"},{"$f":"CJ1","v":"P2"},{"$f":"CK1","v":"P2"},{"$f":"CL1","v":"P2"},{"$f":"CM1","v":"P2"},{"$f":"CN1","v":"P2"},{"$f":"CO1","v":"P2"},{"$f":"CP1","v":"P2"},null,null,"P3",{"$f":"CT1","v":"P3"},{"$f":"CU1","v":"P3"},{"$f":"CV1","v":"P3"},{"$f":"CW1","v":"P3"},{"$f":"CX1","v":"P3"},{"$f":"CY1","v":"P3"},{"$f":"CX1","v":"P3"},{"$f":"DA1","v":"P3"},{"$f":"DB1","v":"P3"},{"$f":"DC1","v":"P3"},{"$f":"DD1","v":"P3"},{"$f":"DE1","v":"P3"},{"$f":"DF1","v":"P3"},{"$f":"DG1","v":"P3"},{"$f":"DH1","v":"P3"},{"$f":"DI1","v":"P3"},null,null,"P4",{"$f":"DM1","v":"P4"},{"$f":"DN1","v":"P4"},{"$f":"DO1","v":"P4"},{"$f":"DP1","v":"P4"},{"$f":"DQ1","v":"P4"},{"$f":"DR1","v":"P4"},{"$f":"DQ1","v":"P4"},{"$f":"DT1","v":"P4"},{"$f":"DU1","v":"P4"},{"$f":"DV1","v":"P4"},{"$f":"DW1","v":"P4"},{"$f":"DX1","v":"P4"},{"$f":"DY1","v":"P4"},{"$f":"DZ1","v":"P4"},{"$f":"EA1","v":"P4"},{"$f":"EB1","v":"P4"},null,null,"P5",{"$f":"EF1","v":"P5"},{"$f":"EG1","v":"P5"},{"$f":"EH1","v":"P5"},{"$f":"EI1","v":"P5"},{"$f":"EJ1","v":"P5"},{"$f":"EK1","v":"P5"},{"$f":"EJ1","v":"P5"},{"$f":"EM1","v":"P5"},{"$f":"EN1","v":"P5"},{"$f":"EO1","v":"P5"},{"$f":"EP1","v":"P5"},{"$f":"EQ1","v":"P5"},{"$f":"ER1","v":"P5"},{"$f":"ES1","v":"P5"},{"$f":"ET1","v":"P5"},{"$f":"EU1","v":"P5"},null,null,"P6",{"$f":"EY1","v":"P6"},{"$f":"EZ1","v":"P6"},{"$f":"FA1","v":"P6"},{"$f":"FB1","v":"P6"},{"$f":"FC1","v":"P6"},{"$f":"FD1","v":"P6"},{"$f":"FC1","v":"P6"},{"$f":"FF1","v":"P6"},{"$f":"FG1","v":"P6"},{"$f":"FH1","v":"P6"},{"$f":"FI1","v":"P6"},{"$f":"FJ1","v":"P6"},{"$f":"FK1","v":"P6"},{"$f":"FL1","v":"P6"},{"$f":"FM1","v":"P6"},{"$f":"FN1","v":"P6"}]
[null,null,"General Information and Instructions",null,null,null,null,null,null,null,null,null,null,null,null,"A",null,null,null,null,null,null,null,null,null,null,null,"A",null,null,null,null,null,null,null,null,null,null,null,null,null,null,null,null,null,null,null,null,null,null,null,null,null,null,null,null,null,null,null,{"$f":"IF(INDEX($Z:$Z,MATCH(BH1,$A:$A,0),1)=\"Yes\",1,0)","v":1},1,1,1,1,1,1,1,1,1,1,1,1,1,1,1,1,null,null,{"$f":"IF(INDEX($Z:$Z,MATCH(CA1,$A:$A,0),1)=\"Yes\",1,0)","v":1},1,1,1,1,1,1,1,1,1,1,1,1,1,1,1,1,null,null,{"$f":"IF(INDEX($Z:$Z,MATCH(CT1,$A:$A,0),1)=\"Yes\",1,0)","v":1},1,1,1,1,1,1,1,1,1,1,1,1,1,1,1,1,null,null,{"$f":"IF(INDEX($Z:$Z,MATCH(DM1,$A:$A,0),1)=\"Yes\",1,0)","v":1},1,1,1,1,1,1,1,1,1,1,1,1,1,1,1,1,null,null,{"$f":"IF(INDEX($Z:$Z,MATCH(EF1,$A:$A,0),1)=\"Yes\",1,0)","v":1},1,1,1,1,1,1,1,1,1,1,1,1,1,1,1,1,null,null,{"$f":"IF(INDEX($Z:$Z,MATCH(EY1,$A:$A,0),1)=\"Yes\",1,0)","v":1},1,1,1,1,1,1,1,1,1,1,1,1,1,1,1,1]
[null,null,"The purpose of this Life Cycle Analysis Tool is to provide a simplified first step for campuses to evaluate various low carbon space heating/cooling technologies and strategies. The tool is associated with a suite of reports, collectively referred to as the \"Building Decarbonization Framework,\" which describes available technologies and carbon reduction strategies in detail. It is recommended that the user review those reports prior to diving into calculations with this tool. The tool is structured in a way to evaluate a system boundary as defined by the User. The boundary could be as simple a single boiler or as complex as an entire campus. The User is able to define the load within the boundary and calculate energy consumption to meet that load with  various technologies. While the calculations are simple and default values are provided, extensibility was prioritized to allow Users to override almost all input fields.\n\nThe tool is designed to be filled from top to bottom and instructions/descriptions are given in each section along the way. The six sections are:\n1. Life Cycle Assumptions\n2. Strategy and Technology Set-Up\n3. Existing System Load Calculations\n4. Energy Usage Calculations\n5. Project Costs\n6. Analysis Results\n\nWhile working through the tool, the User should keep these ideas in mind:\n•The boundary is defined by the User and can represent whatever system scale the user desires\n•Multiple alternates are offered for comparison, but the user does not need to include or report on them all\n•The tool is simply the starting point for consideration of these technologies and will only offer results as accurate as the data entered\n\nUsers should also be aware:\n•Certain entry types will provoke guidance or warnings in the form of red text\n•Blue text is used for tool tips or additional guidance",null,null,null,null,null,null,null,null,null,null,null,null,"A",null,null,null,null,null,null,null,null,null,null,null,"A",null,null,null,null,null,null,null,null,null,null,null,null,null,null,null,null,null,null,null,null,null,null,null,null,null,null,null,null,null,null,null,"Project Ref","Project Capital Costs ($)","Maintenance Cost ($)","Electric Energy Use (kWh)","Natural Gas Energy Use (therm)","Electric GHG Emissions (MT)","NG GHG Emissions (MT)","GHG Emissions (MT)","Kbtu Use per Year (kBtu/yr)","Electric Cost ($)","Natural Gas Cost ($)","GHG Emissions Cost ($/yr)","Total Energy Cost ($)","Total Utility Cost ($)","Annual Total Operating Cost ($)","Cumulative Total Operating Cost ($)","Breakeven Year",null,null,"Project Ref","Project Capital Costs ($)","Maintenance Cost ($)","Electric Energy Use (kWh)","Natural Gas Energy Use (therm)","Electric GHG Emissions (MT)","NG GHG Emissions (MT)","GHG Emissions (MT)","Kbtu Use per Year (kBtu/yr)","Electric Cost ($)","Natural Gas Cost ($)","GHG Emissions Cost ($/yr)","Total Energy Cost ($)","Total Utility Cost ($)","Annual Total Operating Cost ($)","Cumulative Total Operating Cost ($)","Breakeven Year",null,null,"Project Ref","Project Capital Costs ($)","Maintenance Cost ($)","Electric Energy Use (kWh)","Natural Gas Energy Use (therm)","Electric GHG Emissions (MT)","NG GHG Emissions (MT)","GHG Emissions (MT)","Kbtu Use per Year (kBtu/yr)","Electric Cost ($)","Natural Gas Cost ($)","GHG Emissions Cost ($/yr)","Total Energy Cost ($)","Total Utility Cost ($)","Annual Total Operating Cost ($)","Cumulative Total Operating Cost ($)","Breakeven Year",null,null,"Project Ref","Project Capital Costs ($)","Maintenance Cost ($)","Electric Energy Use (kWh)","Natural Gas Energy Use (therm)","Electric GHG Emissions (MT)","NG GHG Emissions (MT)","GHG Emissions (MT)","Kbtu Use per Year (kBtu/yr)","Electric Cost ($)","Natural Gas Cost ($)","GHG Emissions Cost ($/yr)","Total Energy Cost ($)","Total Utility Cost ($)","Annual Total Operating Cost ($)","Cumulative Total Operating Cost ($)","Breakeven Year",null,null,"Project Ref","Project Capital Costs ($)","Maintenance Cost ($)","Electric Energy Use (kWh)","Natural Gas Energy Use (therm)","Electric GHG Emissions (MT)","NG GHG Emissions (MT)","GHG Emissions (MT)","Kbtu Use per Year (kBtu/yr)","Electric Cost ($)","Natural Gas Cost ($)","GHG Emissions Cost ($/yr)","Total Energy Cost ($)","Total Utility Cost ($)","Annual Total Operating Cost ($)","Cumulative Total Operating Cost ($)","Breakeven Year",null,null,"Project Ref","Project Capital Costs ($)","Maintenance Cost ($)","Electric Energy Use (kWh)","Natural Gas Energy Use (therm)","Electric GHG Emissions (MT)","NG GHG Emissions (MT)","GHG Emissions (MT)","Kbtu Use per Year (kBtu/yr)","Electric Cost ($)","Natural Gas Cost ($)","GHG Emissions Cost ($/yr)","Total Energy Cost ($)","Total Utility Cost ($)","Annual Total Operating Cost ($)","Cumulative Total Operating Cost ($)","Breakeven Year"]
[null,null,null,null,null,null,null,null,null,null,null,null,null,null,null,"A",null,null,null,null,null,null,null,null,null,null,null,"A",null,null,null,null,null,null,null,null,null,null,null,null,null,null,null,null,null,null,null,null,null,null,null,null,null,null,null,null,null,null,null,"Year 1",{"$f":"BI37","v":0},{"$f":"BJ37","v":29851.307413224997},239795.37461366304,19512,{"$f":"BM37","v":61.845003374897203},103.45660444799999,165.30160782289721,2769415.7831823514,33370.694118883126,18102.350380935932,3258.8861724077788,51473.044499819058,{"$f":"BU37","v":54731.930672226837},84583.238085451827,896075.0900954518,0,null,null,"Year 1",{"$f":"CB37","v":0},{"$f":"CC37","v":33582.720839878122},99773,0,25.732195759258982,0,25.732195759258982,340439.60800735682,13884.730969842562,0,507.30478698903084,13884.730969842562,{"$f":"CN37","v":14392.035756831592},{"$f":"CO37","v":47974.756596709718},917430.31232170959,1,null,null,"Year 1",{"$f":"CU37","v":0},{"$f":"CV37","v":29851.307413224997},393188,0,101.4060977037026,0,101.4060977037026,1341613.1477774209,54717.304286434781,0,1999.199729251832,54717.304286434781,{"$f":"DG37","v":56716.504015686616},{"$f":"DH37","v":86567.811428911606},376386.33000391151,0,null,null,"Year 1",{"$f":"DN37","v":0},{"$f":"DO37","v":37314.134266531248},266029,0,68.610849685184448,0,68.610849685184448,907728.6287732065,37021.449642450832,0,1352.6483635643399,37021.449642450832,{"$f":"DZ37","v":38374.098006015171},{"$f":"EA37","v":75688.232272546418},655325.26942254626,0,null,null,"Year 1",{"$f":"EG37","v":0},{"$f":"EH37","v":33582.720839878122},351142,0,90.562122851850873,0,90.562122851850873,1198146.2403147074,48866.047950973276,0,1785.4130627815366,48866.047950973276,{"$f":"ES37","v":50651.461013754815},{"$f":"ET37","v":84234.181853632937},953689.73757863278,1,null,null,"Year 1",{"$f":"EZ37","v":0},{"$f":"FA37","v":33582.720839878122},291618,0,75.210442333332523,0,75.210442333332523,995041.9212401089,40582.497027888792,0,1482.7579342323795,40582.497027888792,{"$f":"FL37","v":42065.254962121173},{"$f":"FM37","v":75647.975801999302},75647.975801999302,0]
[null,null,"Tool Field Types",null,null,null,null,null,null,null,null,null,null,null,null,"A",null,null,null,null,null,null,null,null,null,null,null,"A",null,null,null,null,null,null,null,null,null,null,null,null,null,null,null,null,null,null,null,null,null,null,null,null,null,null,null,null,null,null,null,"Life Cycle",{"$f":"SUM(BI36:BI90)","v":811491.85200999992},802115.80917903397,4795907.4922732618,390240,{"$f":"SUM(BM36:BM90)","v":618.45003374897215},2069.1320889599997,2687.5821227089718,55388315.663647041,852442.95552883297,462418.34244651254,66333.913801703951,1314861.2979753455,1381195.2117770498,2994802.8729660842,38106753.892395571,{"$f":"IF(SUM(BX36:BX90)=COUNTIF(BX36:BX90,\">0\"),\"infinite\",SUM(BX36:BX90))","v":"infinite"},null,null,"Life Cycle",{"$f":"SUM(CB36:CB90)","v":869455.55572499987},902380.28532641323,1995460,0,{"$f":"SUM(CF36:CF90)","v":257.32195759258985},0,257.32195759258985,6808792.1601471351,354680.69865402742,0,5921.7502075534785,354680.69865402742,360602.44886158098,2132438.289912994,30365672.796215687,{"$f":"IF(SUM(CQ36:CQ90)=COUNTIF(CQ36:CQ90,\">0\"),\"infinite\",SUM(CQ36:CQ90))","v":"infinite"},null,null,"Life Cycle",{"$f":"SUM(CU36:CU90)","v":289818.51857499994},802115.80917903397,7863760,0,{"$f":"SUM(CY36:CY90)","v":1014.0609770370261},0,1014.0609770370261,26832262.955548413,1397734.8034275782,0,23336.585254603324,1397734.8034275782,1421071.3886821815,2513005.7164362157,27572150.44859742,{"$f":"IF(SUM(DJ36:DJ90)=COUNTIF(DJ36:DJ90,\">0\"),\"infinite\",SUM(DJ36:DJ90))","v":"infinite"},null,null,"Life Cycle",{"$f":"SUM(DN36:DN90)","v":579637.03714999987},1002644.7614737927,5320580,0,{"$f":"SUM(DR36:DR90)","v":686.10849685184439},0,686.10849685184439,18154572.575464133,945700.25540208572,0,15789.414831319542,945700.25540208572,961489.67023340496,2543771.468857198,31089589.162570972,{"$f":"IF(SUM(EC36:EC90)=COUNTIF(EC36:EC90,\">0\"),\"infinite\",SUM(EC36:EC90))","v":"infinite"},null,null,"Life Cycle",{"$f":"SUM(EG36:EG90)","v":869455.55572499987},902380.28532641323,7022840,0,{"$f":"SUM(EK36:EK90)","v":905.62122851850881},0,905.62122851850881,23962924.806294147,1248266.4637404159,0,20841.061323010676,1248266.4637404159,1269107.5250634267,3040943.3661148394,39218532.47068654,{"$f":"IF(SUM(EV36:EV90)=COUNTIF(EV36:EV90,\">0\"),\"infinite\",SUM(EV36:EV90))","v":"infinite"},null,null,"Life Cycle",{"$f":"SUM(EZ36:EZ90)","v":0},902380.28532641323,5832360,0,{"$f":"SUM(FD36:FD90)","v":752.10442333332492},0,752.10442333332492,19900838.424802177,1036665.9916018379,0,17308.179086790315,1036665.9916018379,1053974.1706886282,1956354.4560150418,18863614.940716695,{"$f":"IF(SUM(FO36:FO90)=COUNTIF(FO36:FO90,\">0\"),\"infinite\",SUM(FO36:FO90))","v":"infinite"}]
[null,null,"Input - Required, Value",null,null,null,null,null,null,null,null,null,null,null,null,"A",null,null,null,null,null,null,null,null,null,null,null,"A"]
[null,null,"Input - Required, Dropdown Entry",null,null,null,null,null,null,null,null,null,null,null,null,"A",null,null,null,null,null,null,null,null,null,null,null,"A"]
[null,null,"Input - User Override, Value, Not used if blank",null,null,null,null,null,null,null,null,null,null,null,null,"A",null,null,null,null,null,null,null,null,null,null,null,"A"]
[null,null,"Calculated - Analysis Calculation or Default Entry",null,null,null,null,null,null,null,null,null,null,null,null,"A",null,null,null,null,null,null,null,null,null,null,null,"A"]
[null,null,"Calculated - Modeled Value, displays used value when override is available",null,null,null,null,null,null,null,null,null,null,null,null,"A",null,null,null,null,null,null,null,null,null,null,null,"A"]
[null,null,null,null,null,null,null,null,null,null,null,null,null,null,null,"A",null,null,null,null,null,null,null,null,null,null,null,"A"]
[null,null,"1. Life Cycle Assumptions",null,null,null,null,null,null,null,null,null,null,null,null,"A",null,null,null,null,null,null,null,null,null,null,null,"A"]
[null,null,"The Life Cycle Assumptions section sets up the duration and year over year factors for the full life cycle analysis. The analysis is set up to evaluate a single implementation and assumed equivalent effective useful lives for each technology considered.",null,null,null,null,null,null,null,null,null,null,null,null,"A",null,null,null,null,null,null,null,null,null,null,null,"A"]
[null,null,"1a. Life cycle start and duration",null,null,null,null,null,null,null,null,null,null,null,null,"A",null,null,null,null,null,null,null,null,null,null,null,"A"]
[null,null,"All calculations are performed in whole years. The life cycle is defined by when it starts and the entered effective useful life.\n•\"Pre-project Planning\" years can be used to push the implementation of the project into the future.\n•\"Project Effective Useful Life\" begins one year after the implementation year.\n•All rates are escalated to the \"Project Effective Start Year\"",null,null,null,null,null,null,null,null,null,null,null,null,"A",null,null,null,null,null,null,null,null,null,null,null,"A"]
[null,null,"Pre-project Planning Years",5,"Whole years (between 0 and 10 years), Pushes project implementation into the future and accounts for escalation factors and grid carbon offset ",null,null,null,null,null,null,null,null,null,null,"A",null,null,null,null,null,null,null,null,null,null,null,"A"]
[null,null,"Project EUL (years)",20,"Whole years (between 1 and 40)",null,null,null,null,null,null,null,null,null,null,"A",null,null,null,null,null,null,null,null,null,null,null,"A"]
[null,null,"Current year",2020,null,null,null,null,null,null,null,null,null,null,null,"A",null,null,null,null,null,null,null,null,null,null,null,"A"]
[null,null,"Project Implementation Year",{"$f":"D16+D18","v":2025},"Year that project will be installed (\"Current Year\" + \"Pre-Project Planning Years\")",null,null,null,null,null,null,null,null,null,null,"A",null,null,null,null,null,null,null,null,null,null,null,"A"]
[null,null,"Project Effective Start Year",{"$f":"D19+1","v":2026},"Starting year for the project useful life (\"Project Implementation Year\" + 1)",null,null,null,null,null,null,null,null,null,null,"A",null,null,null,null,null,null,null,null,null,null,null,"A"]
[null,null,"Project Final Year",{"$f":"D20+D17-1","v":2045},"Final year of project useful life (\"Project Effective Start Year\" + \"Project Effective Useful Life\" - 1)",null,null,null,null,null,null,null,null,null,null,"A",null,null,null,null,null,null,null,null,null,null,null,"A"]
[null,null,null,{"$f":"IF(D17+D16>25,\"Total project life cycle length is quite long. Be cautious in interpreting results escalated this far into the future\",\"\")","v":""},null,null,null,null,null,null,null,null,null,null,null,"A",null,null,null,null,null,null,null,null,null,null,null,"A"]
[null,null,"1b. Carbon Emissions Assumptions",null,null,null,null,null,null,null,null,null,null,null,null,"A",null,null,null,null,null,null,null,null,null,null,null,"A"]
[null,null,"Default Carbon Emissions are based on a Campus' location and the primary energy source, although emissions factors can be altered to suit User needs.\n•Users can toggle the \"Project's Primary Electric Energy Source\" between \"Grid Purchases\" and \"On-campus Cogeneration\"\n•If set to \"Grid Purchases\" a default electric utility selected and the current grid characteristics for that utility are applied.\n•All \"Grid Purchase\" emissions decrease from current levels to 0 MT/kWh in 2045, by default, consistent with CA SB100 (2018).\n•Non-cogen natural gas emissions are entered as a flat value by default.\n•Users can use the override to enter any emissions factors they choose.",null,null,null,null,null,null,null,null,null,null,null,null,"A",null,null,null,null,null,null,null,null,null,null,null,"A"]
[null,null,"Campus Selection","CSU Los Angeles",null,null,null,null,null,null,null,null,null,null,null,"A",null,null,null,null,null,null,null,null,{"$f":"D25","v":"CSU Los Angeles"},null,null,"A"]
[null,null,"Project's Primary Electric Energy Source","Grid Purchases",null,null,null,null,null,null,null,null,null,null,null,"A",null,null,null,null,null,null,null,null,null,null,null,"A"]
[null,null,"Electric Emissions Factor Source","LADWP Electricity",null,null,null,null,null,null,null,null,null,null,null,"A",null,null,null,null,null,null,null,null,{"$f":"'Dynamic Look-ups'!M2","v":"LADWP Electricity"},null,null,"A",null,null,null,null,null,null,"Starting Rate",null,null,null,null,{"$f":"H47","v":0.12},{"$f":"H48","v":0.8},{"$f":"H49","v":17}]
[null,null,null,null,null,null,null,null,null,null,null,null,null,null,null,"A",null,null,null,null,null,null,null,null,null,null,null,"A",null,null,null,null,null,null,"Escalation Rate",null,null,null,null,{"$f":"$I$47","v":2.5000000000000001E-2},{"$f":"$I$48","v":2.5000000000000001E-2},{"$f":"$I$49","v":2.5000000000000001E-2}]
[null,null,"Electric Emissions Factors",{"$f":"\"Current Year (\"&D18&\") Emissions (MT/kWh)\"","v":"Current Year (2020) Emissions (MT/kWh)"},"Year Source Reaches Zero Emissions",null,null,null,null,null,null,null,null,null,null,"A",null,null,null,null,null,null,null,null,"Emissions Reduction Slope","Emissions Reduction Intercept",null,"A",null,null,null,null,null,null,"Started year of rate value",null,null,null,null,{"$f":"Z47","v":2020},{"$f":"Z48","v":2020},{"$f":"Z49","v":2020}]
[null,null,"Default Emissions Factor",{"$f":"INDEX('Emissions Factors'!$G:$G,MATCH(emmissions_source,'Emissions Factors'!$A:$A,0),1)","v":3.393518518518511E-4},{"$f":"INDEX('Emissions Factors'!$C:$C,MATCH(emmissions_source,'Emissions Factors'!$A:$A,0),1)","v":2045},null,null,null,null,null,null,null,null,null,null,"A",null,null,null,null,null,null,null,null,{"$f":"IFERROR((D30-0)/($D$18-E30),0)","v":-1.3574074074074044E-5},{"$f":"$D30-Y30*$D$18","v":2.7758981481481419E-2},null,"A",null,null,null,null,null,null,"Phase",null,null,1]
[null,null,"Override Emissions Factor",null,null,"Override emissions should enter for the User's current year. Enter \"NA\" for the zero year if override emissions remain assumed constant. Zero year should be greater than the current year for a decreasing emissions factor.",null,null,null,null,null,null,null,null,null,"A",null,null,null,null,null,null,null,null,{"$f":"IFERROR((D31-0)/($D$18-E31),0)","v":0},{"$f":"$D31-Y31*$D$18","v":0},null,"A",null,null,null,null,null,null,"Included",null,null,{"$f":"IF(AL30<=$D$16,1,0)","v":1},null,null,null,null,null,null,null,null,null,null,null,null,"LC1","LC1","LC1","LC1","LC1","LC1"]
[null,null,"Modeled Emissions Factor",{"$f":"IF(ISBLANK(D31),D30,D31)","v":3.393518518518511E-4},{"$f":"IF(ISBLANK(E31),E30,E31)","v":2045},null,null,null,null,null,null,null,null,null,null,"A",null,null,null,null,null,null,null,null,{"$f":"IFERROR((D32-0)/($D$18-E32),0)","v":-1.3574074074074044E-5},{"$f":"$D32-Y32*$D$18","v":2.7758981481481419E-2},null,"A",null,null,null,null,null,null,"Phase Cost",null,null,{"$f":"(AL33-1)*AL31","v":0},null,null,null,null,null,null,null,null,null,null,null,null,{"$f":"INDEX($C:$C,MATCH(AY$31,$A:$A,0),1)","v":"Total Utility Cost ($)"},"Total Utility Cost ($)","Total Utility Cost ($)","Total Utility Cost ($)","Total Utility Cost ($)","Total Utility Cost ($)"]
[null,null,null,null,null,null,null,null,null,null,null,null,null,null,null,"A",null,null,null,null,null,null,null,null,null,null,null,"A",null,null,null,null,null,null,"Phase start",null,null,1,null,null,null,null,null,null,null,null,null,null,null,null,"P1","P2","P3","P4","P5","P6"]
[null,null,"Natural Gas Emissions","Emissions (MT/therm)","non-cogen gas",null,null,null,null,null,null,null,null,null,null,"A",null,null,null,null,null,null,null,null,null,null,null,"A",null,null,null,null,null,null,"Phase End",null,null,{"$f":"(AL33+$D$17-1)*AL31","v":20},null,null,null,null,null,null,null,null,null,null,null,null,{"$f":"IF(INDEX($Z:$Z,MATCH(AY$33,$A:$A,0),1)=\"Yes\",1,NA())","v":1},1,1,1,1,1]
[null,null,"Default Emissions Factor",5.3022039999999996E-3,null,null,null,null,null,null,null,null,null,null,null,"A",null,null,null,null,null,null,null,null,null,null,null,"A",null,null,null,null,null,null,"Year","Calendar Year","Start Year","Operating Year","In LC Length","Electric Rate","Therm Rate","MT GHG rate","Grid GHG Emissions Rate (MT/kwh)","NG Gas Emissions Rate (MT/Therm)",null,null,null,null,"LC Include","Year",{"$f":"IF(INDEX($Z:$Z,MATCH(AY$33,$A:$A,0),1)=\"Yes\",INDEX($C:$C,MATCH(AY$33,$A:$A,0),1),\"\")","v":"Status Quo Replacement (Replace in Kind)"},"Scenario 1 (WWHP Heating Only)","Scenario 2 (Air-to-Air Heat Pump )","Scenario 3 (WSHP)","Scenario 4 (VRF Air Cooled)","Scenario 5 (VRF Water Cooled)",null,null,null,"Project Ref","Project Capital Costs ($)","Maintenance Cost ($)","Electric Energy Use (kWh)","Natural Gas Energy Use (therm)","Electric GHG Emissions (MT)","NG GHG Emissions (MT)","GHG Emissions (MT)","Kbtu Use per Year (kBtu/yr)","Electric Cost ($)","Natural Gas Cost ($)","GHG Emissions Cost ($/yr)","Total Energy Cost ($)","Total Utility Cost ($)","Annual Total Operating Cost ($)","Cumulative Total Operating Cost ($)","Breakeven Year",null,null,"Project Ref","Project First Cost ($)","Annual Maintenance Cost ($/yr)","Electric Use (kWh/yr)","Therm Use (Therm/yr)","Electric GHG Emissions (MT)","NG GHG Emissions (MT)","GHG Emissions (MT)","Kbtu Use per Year (kBtu/yr)","Electric Cost ($/yr)","Therm Cost ($/yr)","GHG Cost ($/yr)","Total Energy Cost ($/yr)","Total Utility Cost","Annual Total Operating Cost","Cumulative Total Operating Cost","Breakeven Year",null,null,"Project Ref","Project First Cost ($)","Annual Maintenance Cost ($/yr)","Electric Use (kWh/yr)","Therm Use (Therm/yr)","Electric GHG Emissions (MT)","NG GHG Emissions (MT)","GHG Emissions (MT)","Kbtu Use per Year (kBtu/yr)","Electric Cost ($/yr)","Therm Cost ($/yr)","GHG Cost ($/yr)","Total Energy Cost ($/yr)","Total Utility Cost","Annual Total Operating Cost","Cumulative Total Operating Cost","Breakeven Year",null,null,"Project Ref","Project First Cost ($)","Annual Maintenance Cost ($/yr)","Electric Use (kWh/yr)","Therm Use (Therm/yr)","Electric GHG Emissions (MT)","NG GHG Emissions (MT)","GHG Emissions (MT)","Kbtu Use per Year (kBtu/yr)","Electric Cost ($/yr)","Therm Cost ($/yr)","GHG Cost ($/yr)","Total Energy Cost ($/yr)","Total Utility Cost","Annual Total Operating Cost","Cumulative Total Operating Cost","Breakeven Year",null,null,"Project Ref","Project First Cost ($)","Annual Maintenance Cost ($/yr)","Electric Use (kWh/yr)","Therm Use (Therm/yr)","Electric GHG Emissions (MT)","NG GHG Emissions (MT)","GHG Emissions (MT)","Kbtu Use per Year (kBtu/yr)","Electric Cost ($/yr)","Therm Cost ($/yr)","GHG Cost ($/yr)","Total Energy Cost ($/yr)","Total Utility Cost","Annual Total Operating Cost","Cumulative Total Operating Cost","Breakeven Year",null,null,"Project Ref","Project First Cost ($)","Annual Maintenance Cost ($/yr)","Electric Use (kWh/yr)","Therm Use (Therm/yr)","Electric GHG Emissions (MT)","NG GHG Emissions (MT)","GHG Emissions (MT)","Kbtu Use per Year (kBtu/yr)","Electric Cost ($/yr)","Therm Cost ($/yr)","GHG Cost ($/yr)","Total Energy Cost ($/yr)","Total Utility Cost","Annual Total Operating Cost","Cumulative Total Operating Cost","Breakeven Year"]
[null,null,"Override Emissions Factor",null,null,null,null,null,null,null,null,null,null,null,null,"A",null,null,null,null,null,null,null,null,null,null,null,"A",null,null,null,null,null,null,0,{"$f":"D19","v":2025},1,{"$f":"IF(AND($AI36>=AL$33,$AI36<=AL$34),1,0)*AL$31","v":0},{"$f":"IF(SUM(AK36:AL36)>0,1,0)","v":1},{"$f":"AN$27*(1+AN$28)^($AJ36-AN$29)*$AM36","v":0.13576898554687494},{"$f":"AO$27*(1+AO$28)^($AJ36-AO$29)*$AM36","v":0.90512657031249977},{"$f":"AP$27*(1+AP$28)^($AJ36-AP$29)*$AM36","v":19.233939619140621},{"$f":"MAX(AJ36*$Y$32+$Z$32,0)","v":2.7148148148148019E-4},{"$f":"'Life Cycle Analysis Tool'!$D$37","v":5.3022039999999996E-3},null,null,null,null,{"$f":"IF(AM36=1,1,NA())","v":1},{"$f":"AI36*$AW36","v":0},{"$f":"IFERROR(SUMIFS($BH36:$AAU36,$BH$3:$AAU$3,AY$32,$BG$1:$AAT$1,AY$33)*$AW36*AY$34,NA())","v":0},0,0,0,0,0,null,null,null,{"$f":"BH$1","v":"P1"},{"$f":"IFERROR(INDEX($D:$D,MATCH(BI$1,$A:$A,0),1)*BI$2*$AM36*$AK36*(1+$F$44)^($AJ36-INDEX($Z:$Z,MATCH(CONCATENATE(\"C\",RIGHT(BI$1,1)),$A:$A,0),1)),0)","v":811491.85200999992},{"$f":"IFERROR(INDEX($E:$E,MATCH(BJ$1,$A:$A,0),1)*BJ$2*$AM36*$AL36*(1+$F$43)^($AJ36-INDEX($Z:$Z,MATCH(CONCATENATE(\"M\",RIGHT(BJ$1,1)),$A:$A,0),1)),0)","v":0},{"$f":"IFERROR(INDEX($F:$F,MATCH(BK$1,$A:$A,0),1)*BK$2*$AM36*$AL36,0)","v":0},{"$f":"IFERROR(INDEX($G:$G,MATCH(BL$1,$A:$A,0),1)*BL$2*$AM36*$AL36,0)","v":0},{"$f":"BK36*$AQ36","v":0},{"$f":"BL36*$AR36","v":0},{"$f":"BM36+BN36","v":0},{"$f":"BK36*'Look-up Refs'!$D$2+BL36*'Look-up Refs'!$D$3","v":0},{"$f":"BK36*$AN36","v":0},{"$f":"BL36*$AO36","v":0},{"$f":"BO36*$AP36","v":0},{"$f":"BQ36+BR36","v":0},{"$f":"BT36+BS36","v":0},{"$f":"BI36+BJ36+BU36","v":811491.85200999992},{"$f":"BV36*$AM36","v":811491.85200999992},{"$f":"(BW36>$BW36)*$AM36","v":0},null,null,{"$f":"CA$1","v":"P2"},{"$f":"IFERROR(INDEX($D:$D,MATCH(CB$1,$A:$A,0),1)*CB$2*$AM36*$AK36*(1+$F$44)^($AJ36-INDEX($Z:$Z,MATCH(CONCATENATE(\"C\",RIGHT(CB$1,1)),$A:$A,0),1)),0)","v":869455.55572499987},{"$f":"IFERROR(INDEX($E:$E,MATCH(CC$1,$A:$A,0),1)*CC$2*$AM36*$AL36*(1+$F$43)^($AJ36-INDEX($Z:$Z,MATCH(CONCATENATE(\"M\",RIGHT(CC$1,1)),$A:$A,0),1)),0)","v":0},{"$f":"IFERROR(INDEX($F:$F,MATCH(CD$1,$A:$A,0),1)*CD$2*$AM36*$AL36,0)","v":0},{"$f":"IFERROR(INDEX($G:$G,MATCH(CE$1,$A:$A,0),1)*CE$2*$AM36*$AL36,0)","v":0},{"$f":"CD36*$AQ36","v":0},{"$f":"CE36*$AR36","v":0},{"$f":"CF36+CG36","v":0},{"$f":"CD36*'Look-up Refs'!$D$2+CE36*'Look-up Refs'!$D$3","v":0},{"$f":"CD36*$AN36","v":0},{"$f":"CE36*$AO36","v":0},{"$f":"CH36*$AP36","v":0},{"$f":"CJ36+CK36","v":0},{"$f":"CM36+CL36","v":0},{"$f":"CB36+CC36+CN36","v":869455.55572499987},{"$f":"CO36*$AM36","v":869455.55572499987},{"$f":"(CP36>$BW36)*$AM36","v":1},null,null,{"$f":"CT$1","v":"P3"},{"$f":"IFERROR(INDEX($D:$D,MATCH(CU$1,$A:$A,0),1)*CU$2*$AM36*$AK36*(1+$F$44)^($AJ36-INDEX($Z:$Z,MATCH(CONCATENATE(\"C\",RIGHT(CU$1,1)),$A:$A,0),1)),0)","v":289818.51857499994},{"$f":"IFERROR(INDEX($E:$E,MATCH(CV$1,$A:$A,0),1)*CV$2*$AM36*$AL36*(1+$F$43)^($AJ36-INDEX($Z:$Z,MATCH(CONCATENATE(\"M\",RIGHT(CV$1,1)),$A:$A,0),1)),0)","v":0},{"$f":"IFERROR(INDEX($F:$F,MATCH(CW$1,$A:$A,0),1)*CW$2*$AM36*$AL36,0)","v":0},{"$f":"IFERROR(INDEX($G:$G,MATCH(CX$1,$A:$A,0),1)*CX$2*$AM36*$AL36,0)","v":0},{"$f":"CW36*$AQ36","v":0},{"$f":"CX36*$AR36","v":0},{"$f":"CY36+CZ36","v":0},{"$f":"CW36*'Look-up Refs'!$D$2+CX36*'Look-up Refs'!$D$3","v":0},{"$f":"CW36*$AN36","v":0},{"$f":"CX36*$AO36","v":0},{"$f":"DA36*$AP36","v":0},{"$f":"DC36+DD36","v":0},{"$f":"DF36+DE36","v":0},{"$f":"CU36+CV36+DG36","v":289818.51857499994},{"$f":"DH36*$AM36","v":289818.51857499994},{"$f":"(DI36>$BW36)*$AM36","v":0},null,null,{"$f":"DM$1","v":"P4"},{"$f":"IFERROR(INDEX($D:$D,MATCH(DN$1,$A:$A,0),1)*DN$2*$AM36*$AK36*(1+$F$44)^($AJ36-INDEX($Z:$Z,MATCH(CONCATENATE(\"C\",RIGHT(DN$1,1)),$A:$A,0),1)),0)","v":579637.03714999987},{"$f":"IFERROR(INDEX($E:$E,MATCH(DO$1,$A:$A,0),1)*DO$2*$AM36*$AL36*(1+$F$43)^($AJ36-INDEX($Z:$Z,MATCH(CONCATENATE(\"M\",RIGHT(DO$1,1)),$A:$A,0),1)),0)","v":0},{"$f":"IFERROR(INDEX($F:$F,MATCH(DP$1,$A:$A,0),1)*DP$2*$AM36*$AL36,0)","v":0},{"$f":"IFERROR(INDEX($G:$G,MATCH(DQ$1,$A:$A,0),1)*DQ$2*$AM36*$AL36,0)","v":0},{"$f":"DP36*$AQ36","v":0},{"$f":"DQ36*$AR36","v":0},{"$f":"DR36+DS36","v":0},{"$f":"DP36*'Look-up Refs'!$D$2+DQ36*'Look-up Refs'!$D$3","v":0},{"$f":"DP36*$AN36","v":0},{"$f":"DQ36*$AO36","v":0},{"$f":"DT36*$AP36","v":0},{"$f":"DV36+DW36","v":0},{"$f":"DY36+DX36","v":0},{"$f":"DN36+DO36+DZ36","v":579637.03714999987},{"$f":"EA36*$AM36","v":579637.03714999987},{"$f":"(EB36>$BW36)*$AM36","v":0},null,null,{"$f":"EF$1","v":"P5"},{"$f":"IFERROR(INDEX($D:$D,MATCH(EG$1,$A:$A,0),1)*EG$2*$AM36*$AK36*(1+$F$44)^($AJ36-INDEX($Z:$Z,MATCH(CONCATENATE(\"C\",RIGHT(EG$1,1)),$A:$A,0),1)),0)","v":869455.55572499987},{"$f":"IFERROR(INDEX($E:$E,MATCH(EH$1,$A:$A,0),1)*EH$2*$AM36*$AL36*(1+$F$43)^($AJ36-INDEX($Z:$Z,MATCH(CONCATENATE(\"M\",RIGHT(EH$1,1)),$A:$A,0),1)),0)","v":0},{"$f":"IFERROR(INDEX($F:$F,MATCH(EI$1,$A:$A,0),1)*EI$2*$AM36*$AL36,0)","v":0},{"$f":"IFERROR(INDEX($G:$G,MATCH(EJ$1,$A:$A,0),1)*EJ$2*$AM36*$AL36,0)","v":0},{"$f":"EI36*$AQ36","v":0},{"$f":"EJ36*$AR36","v":0},{"$f":"EK36+EL36","v":0},{"$f":"EI36*'Look-up Refs'!$D$2+EJ36*'Look-up Refs'!$D$3","v":0},{"$f":"EI36*$AN36","v":0},{"$f":"EJ36*$AO36","v":0},{"$f":"EM36*$AP36","v":0},{"$f":"EO36+EP36","v":0},{"$f":"ER36+EQ36","v":0},{"$f":"EG36+EH36+ES36","v":869455.55572499987},{"$f":"ET36*$AM36","v":869455.55572499987},{"$f":"(EU36>$BW36)*$AM36","v":1},null,null,{"$f":"EY$1","v":"P6"},{"$f":"IFERROR(INDEX($D:$D,MATCH(EZ$1,$A:$A,0),1)*EZ$2*$AM36*$AK36*(1+$F$44)^($AJ36-INDEX($Z:$Z,MATCH(CONCATENATE(\"C\",RIGHT(EZ$1,1)),$A:$A,0),1)),0)","v":0},{"$f":"IFERROR(INDEX($E:$E,MATCH(FA$1,$A:$A,0),1)*FA$2*$AM36*$AL36*(1+$F$43)^($AJ36-INDEX($Z:$Z,MATCH(CONCATENATE(\"M\",RIGHT(FA$1,1)),$A:$A,0),1)),0)","v":0},{"$f":"IFERROR(INDEX($F:$F,MATCH(FB$1,$A:$A,0),1)*FB$2*$AM36*$AL36,0)","v":0},{"$f":"IFERROR(INDEX($G:$G,MATCH(FC$1,$A:$A,0),1)*FC$2*$AM36*$AL36,0)","v":0},{"$f":"FB36*$AQ36","v":0},{"$f":"FC36*$AR36","v":0},{"$f":"FD36+FE36","v":0},{"$f":"FB36*'Look-up Refs'!$D$2+FC36*'Look-up Refs'!$D$3","v":0},{"$f":"FB36*$AN36","v":0},{"$f":"FC36*$AO36","v":0},{"$f":"FF36*$AP36","v":0},{"$f":"FH36+FI36","v":0},{"$f":"FK36+FJ36","v":0},{"$f":"EZ36+FA36+FL36","v":0},{"$f":"FM36*$AM36","v":0},{"$f":"(FN36>$BW36)*$AM36","v":0}]
[null,null,"Modeled Emissions Factor",{"$f":"IF(ISBLANK(D36),D35,D36)","v":5.3022039999999996E-3},null,null,null,null,null,null,null,null,null,null,null,"A",null,null,null,null,null,null,null,null,null,null,null,"A",null,null,null,null,null,null,{"$f":"AI36+1","v":1},{"$f":"AJ36+1","v":2026},0,{"$f":"IF(AND($AI37>=AL$33,$AI37<=AL$34),1,0)*AL$31","v":1},{"$f":"IF(SUM(AK37:AL37)>0,1,0)","v":1},{"$f":"AN$27*(1+AN$28)^($AJ37-AN$29)*$AM37","v":0.13916321018554681},0.92775473457031221,19.714788109619132,2.5790740740740462E-4,{"$f":"'Life Cycle Analysis Tool'!$D$37","v":5.3022039999999996E-3},null,null,null,null,1,1,54731.930672226837,14392.035756831592,56716.504015686616,38374.098006015171,50651.461013754815,42065.254962121173,null,null,null,"P1",0,29851.307413224997,239795.37461366304,19512,{"$f":"BK37*$AQ37","v":61.845003374897203},{"$f":"BL37*$AR37","v":103.45660444799999},{"$f":"BM37+BN37","v":165.30160782289721},{"$f":"BK37*'Look-up Refs'!$D$2+BL37*'Look-up Refs'!$D$3","v":2769415.7831823514},33370.694118883126,{"$f":"BL37*$AO37","v":18102.350380935932},{"$f":"BO37*$AP37","v":3258.8861724077788},51473.044499819058,{"$f":"BT37+BS37","v":54731.930672226837},84583.238085451827,{"$f":"(BV37+BW36)*$AM37","v":896075.0900954518},0,null,null,"P2",0,33582.720839878122,99773,0,{"$f":"CD37*$AQ37","v":25.732195759258982},{"$f":"CE37*$AR37","v":0},{"$f":"CF37+CG37","v":25.732195759258982},{"$f":"CD37*'Look-up Refs'!$D$2+CE37*'Look-up Refs'!$D$3","v":340439.60800735682},13884.730969842562,0,{"$f":"CH37*$AP37","v":507.30478698903084},13884.730969842562,{"$f":"CM37+CL37","v":14392.035756831592},47974.756596709718,{"$f":"(CO37+CP36)*$AM37","v":917430.31232170959},1,null,null,"P3",0,29851.307413224997,393188,0,{"$f":"CW37*$AQ37","v":101.4060977037026},{"$f":"CX37*$AR37","v":0},{"$f":"CY37+CZ37","v":101.4060977037026},{"$f":"CW37*'Look-up Refs'!$D$2+CX37*'Look-up Refs'!$D$3","v":1341613.1477774209},54717.304286434781,0,{"$f":"DA37*$AP37","v":1999.199729251832},54717.304286434781,{"$f":"DF37+DE37","v":56716.504015686616},86567.811428911606,{"$f":"(DH37+DI36)*$AM37","v":376386.33000391151},0,null,null,"P4",0,37314.134266531248,266029,0,{"$f":"DP37*$AQ37","v":68.610849685184448},{"$f":"DQ37*$AR37","v":0},{"$f":"DR37+DS37","v":68.610849685184448},{"$f":"DP37*'Look-up Refs'!$D$2+DQ37*'Look-up Refs'!$D$3","v":907728.6287732065},37021.449642450832,0,{"$f":"DT37*$AP37","v":1352.6483635643399},37021.449642450832,{"$f":"DY37+DX37","v":38374.098006015171},75688.232272546418,{"$f":"(EA37+EB36)*$AM37","v":655325.26942254626},0,null,null,"P5",0,33582.720839878122,351142,0,{"$f":"EI37*$AQ37","v":90.562122851850873},{"$f":"EJ37*$AR37","v":0},{"$f":"EK37+EL37","v":90.562122851850873},{"$f":"EI37*'Look-up Refs'!$D$2+EJ37*'Look-up Refs'!$D$3","v":1198146.2403147074},48866.047950973276,0,{"$f":"EM37*$AP37","v":1785.4130627815366},48866.047950973276,{"$f":"ER37+EQ37","v":50651.461013754815},84234.181853632937,{"$f":"(ET37+EU36)*$AM37","v":953689.73757863278},1,null,null,"P6",0,33582.720839878122,291618,0,{"$f":"FB37*$AQ37","v":75.210442333332523},{"$f":"FC37*$AR37","v":0},{"$f":"FD37+FE37","v":75.210442333332523},{"$f":"FB37*'Look-up Refs'!$D$2+FC37*'Look-up Refs'!$D$3","v":995041.9212401089},40582.497027888792,0,{"$f":"FF37*$AP37","v":1482.7579342323795},40582.497027888792,{"$f":"FK37+FJ37","v":42065.254962121173},75647.975801999302,{"$f":"(FM37+FN36)*$AM37","v":75647.975801999302},0]
[null,null,null,null,null,null,null,null,null,null,null,null,null,null,null,"A",null,null,null,null,null,null,null,null,null,null,null,"A",null,null,null,null,null,null,{"$f":"AI37+1","v":2},2027,0,1,1,0.1426422904401855,0.95094860293457006,20.207657812359614,2.4433333333333251E-4,{"$f":"'Life Cycle Analysis Tool'!$D$37","v":5.3022039999999996E-3},null,null,null,null,1,2,56034.453009263882,14724.468892506928,58026.565051737583,39260.47863655223,51821.429202817075,43036.895447616938,null,null,null,"P1",0,30746.84663562175,239795.37461366304,19512,58.590003197271471,{"$f":"BL38*$AR38","v":103.45660444799999},162.04660764527148,{"$f":"BK38*'Look-up Refs'!$D$2+BL38*'Look-up Refs'!$D$3","v":2769415.7831823514},34204.961471855211,18554.909140459331,{"$f":"BO38*$AP38","v":3274.5823969493431},52759.870612314538,56034.453009263882,86781.299644885628,{"$f":"(BV38+BW37)*$AM38","v":982856.38974033738},0,null,null,"P2",0,34590.202465074472,99773,0,24.377869666666584,{"$f":"CE38*$AR38","v":0},24.377869666666584,{"$f":"CD38*'Look-up Refs'!$D$2+CE38*'Look-up Refs'!$D$3","v":340439.60800735682},14231.849244088628,0,492.61964841829945,14231.849244088628,14724.468892506928,49314.671357581399,{"$f":"(CO38+CP37)*$AM38","v":966744.98367929098},0,null,null,"P3",0,30746.84663562175,393188,0,96.068934666666351,{"$f":"CX38*$AR38","v":0},96.068934666666351,{"$f":"CW38*'Look-up Refs'!$D$2+CX38*'Look-up Refs'!$D$3","v":1341613.1477774209},56085.236893595655,0,1941.3281581419255,56085.236893595655,58026.565051737583,88773.41168735933,{"$f":"(DH38+DI37)*$AM38","v":465159.74169127084},0,null,null,"P4",0,38433.558294527189,266029,0,64.99975233333312,{"$f":"DQ38*$AR38","v":0},64.99975233333312,{"$f":"DP38*'Look-up Refs'!$D$2+DQ38*'Look-up Refs'!$D$3","v":907728.6287732065},37946.985883512112,0,1313.4927530401189,37946.985883512112,39260.47863655223,77694.036931079419,{"$f":"(EA38+EB37)*$AM38","v":733019.30635362573},0,null,null,"P5",0,34590.202465074472,351142,0,85.795695333333043,{"$f":"EJ38*$AR38","v":0},85.795695333333043,{"$f":"EI38*'Look-up Refs'!$D$2+EJ38*'Look-up Refs'!$D$3","v":1198146.2403147074},50087.699149747619,0,1733.7300530694527,50087.699149747619,51821.429202817075,86411.631667891546,{"$f":"(ET38+EU37)*$AM38","v":1040101.3692465243},1,null,null,"P6",0,34590.202465074472,291618,0,71.251997999999759,{"$f":"FC38*$AR38","v":0},71.251997999999759,{"$f":"FB38*'Look-up Refs'!$D$2+FC38*'Look-up Refs'!$D$3","v":995041.9212401089},41597.059453586015,0,1439.8359940309267,41597.059453586015,43036.895447616938,77627.097912691417,{"$f":"(FM38+FN37)*$AM38","v":153275.07371469072},0]
[null,null,"1c. Financial Cost Assumptions",null,null,null,null,null,null,null,null,null,null,null,null,"A",null,null,null,null,null,null,null,null,null,null,null,"A",null,null,null,null,null,null,3,2028,0,1,1,0.14620834770119012,0.97472231800793419,20.712849257668601,2.3075925925925694E-4,{"$f":"'Life Cycle Analysis Tool'!$D$37","v":5.3022039999999996E-3},null,null,null,null,1,3,57367.894006482617,15064.528662617999,59366.681324581252,40167.194487362343,53018.238638198804,44030.827173036145,null,null,null,"P1",0,31669.252034690398,239795.37461366304,19512,55.335003019644908,103.45660444799999,158.79160746764489,{"$f":"BK39*'Look-up Refs'!$D$2+BL39*'Look-up Refs'!$D$3","v":2769415.7831823514},35060.085508651588,19018.781868970811,3289.0266288602124,54078.867377622402,57367.894006482617,89037.146041173022,1071893.5357815104,0,null,null,"P2",0,35627.908539026699,99773,0,23.023543574073845,0,23.023543574073845,{"$f":"CD39*'Look-up Refs'!$D$2+CE39*'Look-up Refs'!$D$3","v":340439.60800735682},14587.645475190842,0,476.88318742715614,14587.645475190842,15064.528662617999,50692.437201644701,1017437.4208809356,0,null,null,"P3",0,31669.252034690398,393188,0,90.731771629628724,0,90.731771629628724,{"$f":"CW39*'Look-up Refs'!$D$2+CX39*'Look-up Refs'!$D$3","v":1341613.1477774209},57487.36781593554,0,1879.3135086457123,57487.36781593554,59366.681324581252,91035.933359271643,556195.67505054246,0,null,null,"P4",0,39586.565043363,266029,0,61.388654981480869,0,61.388654981480869,{"$f":"DP39*'Look-up Refs'!$D$2+DQ39*'Look-up Refs'!$D$3","v":907728.6287732065},38895.660530599904,0,1271.5339567624399,38895.660530599904,40167.194487362343,79753.759530725336,812773.06588435103,0,null,null,"P5",0,35627.908539026699,351142,0,81.029267814814006,0,81.029267814814006,{"$f":"EI39*'Look-up Refs'!$D$2+EJ39*'Look-up Refs'!$D$3","v":1198146.2403147074},51339.891628491299,0,1678.3470097075005,51339.891628491299,53018.238638198804,88646.147177225503,1128747.5164237497,1,null,null,"P6",0,35627.908539026699,291618,0,67.293553666665986,0,67.293553666665986,{"$f":"FB39*'Look-up Refs'!$D$2+FC39*'Look-up Refs'!$D$3","v":995041.9212401089},42636.98593992566,0,1393.8412331104848,42636.98593992566,44030.827173036145,79658.735712062844,232933.80942675355,0]
[null,null,"The Financial Cost Assumptions are used to project rates and costs forward in time.\n•All escalation rates are annual.\n•Natural gas rates should be for non-cogen fuel supplied to the project boundary.\n•All override rates should be entered for the User's current year. Defaults are in 2020 dollars.\n",null,null,null,null,null,null,null,null,null,null,null,null,"A",null,null,null,null,null,null,null,null,null,null,null,"A",null,null,null,null,null,null,4,2029,0,1,1,0.14986355639371984,0.99909037595813244,21.230670489110313,2.1718518518518484E-4,{"$f":"'Life Cycle Analysis Tool'!$D$37","v":5.3022039999999996E-3},null,null,null,null,1,4,58732.985520431495,15412.388628176812,60737.536807909797,41094.70833156514,54242.500152097877,45047.557425071565,null,null,null,"P1",0,32619.329595731113,239795.37461366304,19512,52.080002842019177,103.45660444799999,155.53660729001916,{"$f":"BK40*'Look-up Refs'!$D$2+BL40*'Look-up Refs'!$D$3","v":2769415.7831823514},35936.587646367865,19494.251415695078,3302.1464583685497,55430.839062062943,58732.985520431495,91352.315116162616,1163245.8508976731,0,null,null,"P2",0,36696.745795197501,99773,0,21.669217481481446,0,21.669217481481446,{"$f":"CD40*'Look-up Refs'!$D$2+CE40*'Look-up Refs'!$D$3","v":340439.60800735682},14952.33661207061,0,460.05201610620145,14952.33661207061,15412.388628176812,52109.134423374315,1069546.5553043098,0,null,null,"P3",0,32619.329595731113,393188,0,85.394608592592462,0,85.394608592592462,{"$f":"CW40*'Look-up Refs'!$D$2+CX40*'Look-up Refs'!$D$3","v":1341613.1477774209},58924.552011333915,0,1812.9847965758788,58924.552011333915,60737.536807909797,93356.866403640917,649552.5414541834,0,null,null,"P4",0,40774.161994663889,266029,0,57.777557629629541,0,57.777557629629541,{"$f":"DP40*'Look-up Refs'!$D$2+DQ40*'Look-up Refs'!$D$3","v":907728.6287732065},39868.052043864896,0,1226.6562877002464,39868.052043864896,41094.70833156514,81868.870326229022,894641.93621058005,0,null,null,"P5",0,36696.745795197501,351142,0,76.262840296296176,0,76.262840296296176,{"$f":"EI40*'Look-up Refs'!$D$2+EJ40*'Look-up Refs'!$D$3","v":1198146.2403147074},52623.388919203571,0,1619.1112328943079,52623.388919203571,54242.500152097877,90939.245947295378,1219686.7623710451,1,null,null,"P6",0,36696.745795197501,291618,0,63.335109333333236,0,63.335109333333236,{"$f":"FB40*'Look-up Refs'!$D$2+FC40*'Look-up Refs'!$D$3","v":995041.9212401089},43702.910588423794,0,1344.6468366477732,43702.910588423794,45047.557425071565,81744.303220269067,314678.11264702259,0]
[null,null,"Financial Escalation Rates","Default Rate","User Override","Modeled Assumption",null,null,null,null,null,null,null,null,null,"A",null,null,null,null,null,null,null,null,null,null,null,"A",null,null,null,null,null,null,5,2030,0,1,1,0.15361014530356285,1.0240676353570857,21.761437251338069,2.0361111111110927E-4,{"$f":"'Life Cycle Analysis Tool'!$D$37","v":5.3022039999999996E-3},null,null,null,null,1,5,60130.476676323757,15768.226261599424,62139.830889576886,42043.493371423472,55494.838342543029,46087.604922725601,null,null,null,"P1",0,33597.909483603042,239795.37461366304,19512,48.825002664392613,103.45660444799999,152.28160711239261,{"$f":"BK41*'Look-up Refs'!$D$2+BL41*'Look-up Refs'!$D$3","v":2769415.7831823514},36835.002337527061,19981.607701087454,3313.8666377092486,56816.610038614512,60130.476676323757,93728.386159926798,1256974.2370575999,0,null,null,"P2",0,37797.648169053427,99773,0,20.314891388888704,0,20.314891388888704,{"$f":"CD41*'Look-up Refs'!$D$2+CE41*'Look-up Refs'!$D$3","v":340439.60800735682},15326.145027372375,0,442.08123422704961,15326.145027372375,15768.226261599424,53565.874430652853,1123112.4297349628,0,null,null,"P3",0,33597.909483603042,393188,0,80.057445555554835,0,80.057445555554835,{"$f":"CW41*'Look-up Refs'!$D$2+CX41*'Look-up Refs'!$D$3","v":1341613.1477774209},60397.665811617269,0,1742.1650779596202,60397.665811617269,62139.830889576886,95737.740373179928,745290.2818273633,0,null,null,"P4",0,41997.386854503806,266029,0,54.16646027777729,0,54.16646027777729,{"$f":"DP41*'Look-up Refs'!$D$2+DQ41*'Look-up Refs'!$D$3","v":907728.6287732065},40864.753344961522,0,1178.7400264619466,40864.753344961522,42043.493371423472,84040.880225927278,978682.81643650727,0,null,null,"P5",0,37797.648169053427,351142,0,71.496412777777138,0,71.496412777777138,{"$f":"EI41*'Look-up Refs'!$D$2+EJ41*'Look-up Refs'!$D$3","v":1198146.2403147074},53938.973642183664,0,1555.8647003593626,53938.973642183664,55494.838342543029,93292.486511596449,1312979.2488826416,1,null,null,"P6",0,37797.648169053427,291618,0,59.376664999999463,0,59.376664999999463,{"$f":"FB41*'Look-up Refs'!$D$2+FC41*'Look-up Refs'!$D$3","v":995041.9212401089},44795.48335313439,0,1292.1215695912097,44795.48335313439,46087.604922725601,83885.253091779028,398563.3657388016,0]
[null,null,"Discount Rate",0.05,null,{"$f":"IF(E42>0,E42,D42)","v":0.05},null,null,null,null,null,null,null,null,null,"A",null,null,null,null,null,null,null,null,null,null,null,"A",null,null,null,null,null,null,6,2031,0,1,1,0.15745039893615193,1.0496693262410128,22.305473182621522,1.9003703703703717E-4,{"$f":"'Life Cycle Analysis Tool'!$D$37","v":5.3022039999999996E-3},null,null,null,null,1,6,61561.134274060416,16132.223033800568,63574.278714822423,43014.033470567498,56775.891879915398,47151.500071871691,null,null,null,"P1",0,34605.846768111136,239795.37461366304,19512,45.570002486766889,103.45660444799999,149.02660693476687,{"$f":"BK42*'Look-up Refs'!$D$2+BL42*'Look-up Refs'!$D$3","v":2769415.7831823514},37755.877395965246,20481.147893614641,3324.108984480521,58237.025289579891,61561.134274060416,96166.981042171552,1353141.2180997715,0,null,null,"P2",0,38931.577614125032,99773,0,18.960565296296309,0,18.960565296296309,{"$f":"CD42*'Look-up Refs'!$D$2+CE42*'Look-up Refs'!$D$3","v":340439.60800735682},15709.298653056687,0,422.92438074388161,15709.298653056687,16132.223033800568,55063.8006479256,1178176.2303828883,0,null,null,"P3",0,34605.846768111136,393188,0,74.720282518518573,0,74.720282518518573,{"$f":"CW42*'Look-up Refs'!$D$2+CX42*'Look-up Refs'!$D$3","v":1341613.1477774209},61907.607456907703,0,1666.6712579147197,61907.607456907703,63574.278714822423,98180.125482933567,843470.4073102969,0,null,null,"P4",0,43257.30846013892,266029,0,50.555362925925962,0,50.555362925925962,{"$f":"DP42*'Look-up Refs'!$D$2+DQ42*'Look-up Refs'!$D$3","v":907728.6287732065},41886.37217858556,0,1127.6612919819399,41886.37217858556,43014.033470567498,86271.341930706418,1064954.1583672138,0,null,null,"P5",0,38931.577614125032,351142,0,66.729985259259308,0,66.729985259259308,{"$f":"EI42*'Look-up Refs'!$D$2+EJ42*'Look-up Refs'!$D$3","v":1198146.2403147074},55287.447983238257,0,1488.4438966771379,55287.447983238257,56775.891879915398,95707.46949404043,1408686.7183766819,1,null,null,"P6",0,38931.577614125032,291618,0,55.418220666666706,0,55.418220666666706,{"$f":"FB42*'Look-up Refs'!$D$2+FC42*'Look-up Refs'!$D$3","v":995041.9212401089},45915.370436962752,0,1236.1296349089359,45915.370436962752,47151.500071871691,86083.077685996715,484646.44342479832,0]
[null,null,"Maintenance Cost Escalation Rate",0.03,null,{"$f":"IF(E43>0,E43,D43)","v":0.03},null,null,null,null,null,null,null,null,null,"A",null,null,null,null,null,null,null,null,null,null,null,"A",null,null,null,null,null,null,7,2032,0,1,1,0.1613866589095557,1.075911059397038,22.863110012187057,1.764629629629616E-4,{"$f":"'Life Cycle Analysis Tool'!$D$37","v":5.3022039999999996E-3},null,null,null,null,1,7,63025.743203761143,16504.564503198257,65041.611537024204,44006.823391311569,58086.313820192256,48239.785225398344,null,null,null,"P1",0,35644.022171154465,239795.37461366304,19512,42.315002309140326,103.45660444799999,145.77160675714032,{"$f":"BK43*'Look-up Refs'!$D$2+BL43*'Look-up Refs'!$D$3","v":2769415.7831823514},38699.774330864369,20993.176590955005,3332.7922819417695,59692.950921819371,63025.743203761143,98669.765374915616,1451810.9834746872,0,null,null,"P2",0,40099.524942548771,99773,0,17.606239203703566,0,17.606239203703566,{"$f":"CD43*'Look-up Refs'!$D$2+CE43*'Look-up Refs'!$D$3","v":340439.60800735682},16102.0311193831,0,402.53338381515528,16102.0311193831,16504.564503198257,56604.089445747028,1234780.3198286353,0,null,null,"P3",0,35644.022171154465,393188,0,69.383119481480946,0,69.383119481480946,{"$f":"CW43*'Look-up Refs'!$D$2+CX43*'Look-up Refs'!$D$3","v":1341613.1477774209},63455.297643330385,0,1586.3138936938178,63455.297643330385,65041.611537024204,100685.63370817868,944156.04101847555,0,null,null,"P4",0,44555.027713943084,266029,0,46.944265574073711,0,46.944265574073711,{"$f":"DP43*'Look-up Refs'!$D$2+DQ43*'Look-up Refs'!$D$3","v":907728.6287732065},42933.531483050196,0,1073.2919082613728,42933.531483050196,44006.823391311569,88561.851105254653,1153516.0094724684,0,null,null,"P5",0,40099.524942548771,351142,0,61.963557740740264,0,61.963557740740264,{"$f":"EI43*'Look-up Refs'!$D$2+EJ43*'Look-up Refs'!$D$3","v":1198146.2403147074},56669.634182819209,0,1416.6796373730497,56669.634182819209,58086.313820192256,98185.838762741027,1506872.557139423,1,null,null,"P6",0,40099.524942548771,291618,0,51.459776333332933,0,51.459776333332933,{"$f":"FB43*'Look-up Refs'!$D$2+FC43*'Look-up Refs'!$D$3","v":995041.9212401089},47063.254697886812,0,1176.5305275115309,47063.254697886812,48239.785225398344,88339.310167947115,572985.7535927454,0]
[null,null,"Capital Cost Escalation Rate",0.03,null,0.03,null,null,null,null,null,null,null,null,null,"A",null,null,null,null,null,null,null,null,null,null,null,"A",null,null,null,null,null,null,8,2033,0,1,1,0.16542132538229459,1.1028088358819639,23.434687762491734,1.6288888888888603E-4,{"$f":"'Life Cycle Analysis Tool'!$D$37","v":5.3022039999999996E-3},null,null,null,null,1,8,64525.106871025637,16885.440406669706,66542.577076139321,45022.369037173732,59426.771925058027,49353.014949056422,null,null,null,"P1",0,36713.342836289099,239795.37461366304,19512,39.060002131513762,103.45660444799999,142.51660657951376,{"$f":"BK44*'Look-up Refs'!$D$2+BL44*'Look-up Refs'!$D$3","v":2769415.7831823514},39667.268689135977,21518.006005728879,3339.8321761607799,61185.274694864856,64525.106871025637,101238.44970731474,1553049.433182002,0,null,null,"P2",0,41302.510690825235,99773,0,16.251913111110827,0,16.251913111110827,{"$f":"CD44*'Look-up Refs'!$D$2+CE44*'Look-up Refs'!$D$3","v":340439.60800735682},16504.58189736768,0,380.85850930202787,16504.58189736768,16885.440406669706,58187.951097494937,1292968.2709261302,0,null,null,"P3",0,36713.342836289099,393188,0,64.04595644444332,0,64.04595644444332,{"$f":"CW44*'Look-up Refs'!$D$2+CX44*'Look-up Refs'!$D$3","v":1341613.1477774209},65041.680084413645,0,1500.8969917256745,65041.680084413645,66542.577076139321,103255.91991242842,1047411.9609309039,0,null,null,"P4",0,45891.67854536137,266029,0,43.33316822222146,0,43.33316822222146,{"$f":"DP44*'Look-up Refs'!$D$2+DQ44*'Look-up Refs'!$D$3","v":907728.6287732065},44006.869770126446,0,1015.499267047289,44006.869770126446,45022.369037173732,90914.047582535102,1244430.0570550035,0,null,null,"P5",0,41302.510690825235,351142,0,57.197130222221219,0,57.197130222221219,{"$f":"EI44*'Look-up Refs'!$D$2+EJ44*'Look-up Refs'!$D$3","v":1198146.2403147074},58086.375037389691,0,1340.3968876683336,58086.375037389691,59426.771925058027,100729.28261588326,1607601.8397553063,1,null,null,"P6",0,41302.510690825235,291618,0,47.501331999999167,0,47.501331999999167,{"$f":"FB44*'Look-up Refs'!$D$2+FC44*'Look-up Refs'!$D$3","v":995041.9212401089},48239.836065333984,0,1113.1788837224374,48239.836065333984,49353.014949056422,90655.525639881656,663641.27923262701,0]
[null,null,null,null,null,null,null,null,null,null,null,null,null,null,null,"A",null,null,null,null,null,null,null,null,null,null,null,"A",null,null,null,null,null,null,9,2034,0,1,1,0.16955685851685193,1.1303790567790128,24.020554956554022,1.4931481481481393E-4,{"$f":"'Life Cycle Analysis Tool'!$D$37","v":5.3022039999999996E-3},null,null,null,null,1,9,66060.047632151021,17275.044752500235,68077.939884999578,46061.187700709459,60797.948989029472,50491.756293131541,null,null,null,"P1",0,37814.743121377775,239795.37461366304,19512,35.805001953888031,103.45660444799999,139.26160640188803,{"$f":"BK45*'Look-up Refs'!$D$2+BL45*'Look-up Refs'!$D$3","v":2769415.7831823514},40658.950406364369,22055.9561558721,3345.1410699145467,62714.906562236472,66060.047632151021,103874.7907535288,1656924.2239355308,0,null,null,"P2",0,42541.586011549996,99773,0,14.897587018518431,0,14.897587018518431,{"$f":"CD45*'Look-up Refs'!$D$2+CE45*'Look-up Refs'!$D$3","v":340439.60800735682},16917.196444801866,0,357.84830769836776,16917.196444801866,17275.044752500235,59816.630764050235,1352784.9016901804,0,null,null,"P3",0,37814.743121377775,393188,0,58.708793407407057,0,58.708793407407057,{"$f":"CW45*'Look-up Refs'!$D$2+CX45*'Look-up Refs'!$D$3","v":1341613.1477774209},66667.72208652398,0,1410.2177984755976,66667.72208652398,68077.939884999578,105892.68300637735,1153304.6439372813,0,null,null,"P4",0,47268.428901722218,266029,0,39.722070870370132,0,39.722070870370132,{"$f":"DP45*'Look-up Refs'!$D$2+DQ45*'Look-up Refs'!$D$3","v":907728.6287732065},45107.041514379598,0,954.14618632985946,45107.041514379598,46061.187700709459,93329.616602431677,1337759.6736574352,0,null,null,"P5",0,42541.586011549996,351142,0,52.430702703703389,0,52.430702703703389,{"$f":"EI45*'Look-up Refs'!$D$2+EJ45*'Look-up Refs'!$D$3","v":1198146.2403147074},59538.534413324422,0,1259.4145757050528,59538.534413324422,60797.948989029472,103339.53500057946,1710941.3747558857,1,null,null,"P6",0,42541.586011549996,291618,0,43.54288766666641,0,43.54288766666641,{"$f":"FB45*'Look-up Refs'!$D$2+FC45*'Look-up Refs'!$D$3","v":995041.9212401089},49445.831966967322,0,1045.9243261642189,49445.831966967322,50491.756293131541,93033.342304681544,756674.62153730856,0]
[null,null,"Utility Rates","Default Starting Rate ($/unit)","User Override Rate ($/unit)","Default Escalation Rate (%/yr)","User Override Escalation (%/yr)","Modeled Rate ($/unit)","Modeled Escalation (%/yr)",null,null,null,null,null,null,"A",null,null,null,null,null,null,null,null,null,null,null,"A",null,null,null,null,null,null,10,2035,0,1,1,0.17379577997977325,1.1586385331984885,24.621068830467877,1.3574074074073836E-4,{"$f":"'Life Cycle Analysis Tool'!$D$37","v":5.3022039999999996E-3},null,null,null,null,1,10,{"$f":"IFERROR(SUMIFS($BH46:$AAU46,$BH$3:$AAU$3,AY$32,$BG$1:$AAT$1,AY$33)*$AW46*AY$34,NA())","v":67631.407239538268},17673.575915368117,69648.481723630233,47123.808316773728,62200.543173746322,51656.589070067253,null,null,null,"P1",0,38949.185415019114,239795.37461366304,19512,32.550001776261468,103.45660444799999,136.00660622426147,{"$f":"BK46*'Look-up Refs'!$D$2+BL46*'Look-up Refs'!$D$3","v":2769415.7831823514},41675.42416652348,22607.35505976891,3348.6280132458824,64282.77922629239,67631.407239538268,106580.59265455737,1763504.8165900882,0,null,null,"P2",0,43817.833591896502,99773,0,13.543260925925688,0,13.543260925925688,{"$f":"CD46*'Look-up Refs'!$D$2+CE46*'Look-up Refs'!$D$3","v":340439.60800735682},17340.126355921915,0,333.4495594462025,17340.126355921915,17673.575915368117,61491.409507264616,1414276.311197445,0,null,null,"P3",0,38949.185415019114,393188,0,53.371630370369431,0,53.371630370369431,{"$f":"CW46*'Look-up Refs'!$D$2+CX46*'Look-up Refs'!$D$3","v":1341613.1477774209},68334.41513868708,0,1314.0665849431555,68334.41513868708,69648.481723630233,108597.66713864935,1261902.3110759307,0,null,null,"P4",0,48686.481768773891,266029,0,36.110973518517888,0,36.110973518517888,{"$f":"DP46*'Look-up Refs'!$D$2+DQ46*'Look-up Refs'!$D$3","v":907728.6287732065},46234.717552239097,0,889.09076453463172,46234.717552239097,47123.808316773728,95810.290085547618,1433569.9637429828,0,null,null,"P5",0,43817.833591896502,351142,0,47.664275185184351,0,47.664275185184351,{"$f":"EI46*'Look-up Refs'!$D$2+EJ46*'Look-up Refs'!$D$3","v":1198146.2403147074},61026.997773657538,0,1173.545400088786,61026.997773657538,62200.543173746322,106018.37676564282,1816959.7515215285,1,null,null,"P6",0,43817.833591896502,291618,0,39.584443333332636,0,39.584443333332636,{"$f":"FB46*'Look-up Refs'!$D$2+FC46*'Look-up Refs'!$D$3","v":995041.9212401089},50681.977766141514,0,974.61130392573807,50681.977766141514,51656.589070067253,95474.422661963763,852149.04419927229,0]
[null,null,"Electric (kWh)",0.12,null,2.5000000000000001E-2,null,{"$f":"IF(ISBLANK(E47),D47,E47)","v":0.12},{"$f":"IF(G47>0,G47,F47)","v":2.5000000000000001E-2},null,null,null,null,null,null,"A",null,null,null,null,null,null,null,null,null,{"$f":"$D$18","v":2020},null,"A",null,null,null,null,null,null,11,2036,0,1,1,0.17814067447926757,1.1876044965284505,25.236595551229573,1.2216666666666626E-4,{"$f":"'Life Cycle Analysis Tool'!$D$37","v":5.3022039999999996E-3},null,null,null,null,1,11,69240.047297524798,18081.236733409089,71255.001941764334,48210.771721328281,63635.268349580896,52848.106138166557,null,null,null,"P1",0,40117.660977469677,239795.37461366304,19512,29.295001598635736,103.45660444799999,132.75160604663574,{"$f":"BK47*'Look-up Refs'!$D$2+BL47*'Look-up Refs'!$D$3","v":2769415.7831823514},42717.309770686566,23172.538936263125,3350.1985905751085,65889.848706949691,69240.047297524798,109357.70827499448,1872862.5248650827,0,null,null,"P2",0,45132.36859965339,99773,0,12.188934833333292,0,12.188934833333292,{"$f":"CD47*'Look-up Refs'!$D$2+CE47*'Look-up Refs'!$D$3","v":340439.60800735682},17773.629514819964,0,307.60721858912615,17773.629514819964,18081.236733409089,63213.605333062478,1477489.9165305076,0,null,null,"P3",0,40117.660977469677,393188,0,48.034467333333176,0,48.034467333333176,{"$f":"CW47*'Look-up Refs'!$D$2+CX47*'Look-up Refs'!$D$3","v":1341613.1477774209},70042.775517154252,0,1212.2264246100783,70042.775517154252,71255.001941764334,111372.66291923402,1373274.9739951647,0,null,null,"P4",0,50147.076221837095,266029,0,32.49987616666656,0,32.49987616666656,{"$f":"DP47*'Look-up Refs'!$D$2+DQ47*'Look-up Refs'!$D$3","v":907728.6287732065},47390.585491045073,0,820.1862302832094,47390.585491045073,48210.771721328281,98357.847943165369,1531927.8116861482,0,null,null,"P5",0,45132.36859965339,351142,0,42.897847666666522,0,42.897847666666522,{"$f":"EI47*'Look-up Refs'!$D$2+EJ47*'Look-up Refs'!$D$3","v":1198146.2403147074},62552.672717998976,0,1082.5956315819203,62552.672717998976,63635.268349580896,108767.63694923429,1925727.3884707629,1,null,null,"P6",0,45132.36859965339,291618,0,35.625998999999879,0,35.625998999999879,{"$f":"FB47*'Look-up Refs'!$D$2+FC47*'Look-up Refs'!$D$3","v":995041.9212401089},51949.027210295048,0,899.07892787150615,51949.027210295048,52848.106138166557,97980.474737819954,950129.51893709227,0]
[null,null,"Natural Gas (therm)",0.8,null,2.5000000000000001E-2,null,{"$f":"IF(ISBLANK(E48),D48,E48)","v":0.8},{"$f":"IF(G48>0,G48,F48)","v":2.5000000000000001E-2},null,null,null,null,null,null,"A",null,null,null,null,null,null,null,null,null,{"$f":"$D$18","v":2020},null,"A",null,null,null,null,null,null,12,2037,0,1,1,0.18259419134124924,1.2172946089416616,25.86751044001031,1.0859259259259069E-4,{"$f":"'Life Cycle Analysis Tool'!$D$37","v":5.3022039999999996E-3},null,null,null,null,1,12,70886.849728885936,18498.234607404996,72898.317869727834,49322.630915912552,65102.854444723562,54066.913691502006,null,null,null,"P1",0,41321.190806793769,239795.37461366304,19512,26.040001421009173,103.45660444799999,129.49660586900916,{"$f":"BK48*'Look-up Refs'!$D$2+BL48*'Look-up Refs'!$D$3","v":2769415.7831823514},43785.24251495373,23751.8524096697,3349.7548042624949,67537.094924623438,70886.849728885936,112208.0405356797,1985070.5654007625,0,null,null,"P2",0,46486.339657642988,99773,0,10.834608740740551,0,10.834608740740551,{"$f":"CD48*'Look-up Refs'!$D$2+CE48*'Look-up Refs'!$D$3","v":340439.60800735682},18217.970252690462,0,280.26435471453317,18217.970252690462,18498.234607404996,64984.574265047981,1542474.4907955555,0,null,null,"P3",0,41321.190806793769,393188,0,42.697304296295549,0,42.697304296295549,{"$f":"CW48*'Look-up Refs'!$D$2+CX48*'Look-up Refs'!$D$3","v":1341613.1477774209},71793.844905083111,0,1104.4729646447222,71793.844905083111,72898.317869727834,114219.5086765216,1487494.4826716864,0,null,null,"P4",0,51651.488508492206,266029,0,28.888778814814309,0,28.888778814814309,{"$f":"DP48*'Look-up Refs'!$D$2+DQ48*'Look-up Refs'!$D$3","v":907728.6287732065},48575.350128321195,0,747.28078759135781,48575.350128321195,49322.630915912552,100974.11942440475,1632901.931110553,0,null,null,"P5",0,46486.339657642988,351142,0,38.131420148147477,0,38.131420148147477,{"$f":"EI48*'Look-up Refs'!$D$2+EJ48*'Look-up Refs'!$D$3","v":1198146.2403147074},64116.489535948938,0,986.36490877462438,64116.489535948938,65102.854444723562,111589.19410236654,2037316.5825731293,1,null,null,"P6",0,46486.339657642988,291618,0,31.66755466666611,0,31.66755466666611,{"$f":"FB48*'Look-up Refs'!$D$2+FC48*'Look-up Refs'!$D$3","v":995041.9212401089},53247.752890552423,0,819.16080094958284,53247.752890552423,54066.913691502006,100553.253349145,1050682.7722862372,0]
[null,null,"GHG (MT)",17,null,2.5000000000000001E-2,null,17,{"$f":"IF(G49>0,G49,F49)","v":2.5000000000000001E-2},null,null,null,null,null,null,"A",null,null,null,null,null,null,null,null,null,2020,null,"A",null,null,null,null,null,null,13,2038,0,1,1,0.18715904612478046,1.2477269741652033,26.514198201010569,9.5018518518518585E-5,{"$f":"'Life Cycle Analysis Tool'!$D$37","v":5.3022039999999996E-3},null,null,null,null,1,13,72572.717252254166,18924.78160214232,74579.265217875945,50459.951337900238,66604.047801904919,55313.6315561679,null,null,null,"P1",0,42560.826530997583,239795.37461366304,19512,22.785001243383444,103.45660444799999,126.24160569138344,{"$f":"BK49*'Look-up Refs'!$D$2+BL49*'Look-up Refs'!$D$3","v":2769415.7831823514},44879.873577827566,24345.648719911445,3347.1949545151642,69225.522297739008,72572.717252254166,115133.54378325175,2100204.1091840141,0,null,null,"P2",0,47880.929847372281,99773,0,9.4802826481481546,0,9.4802826481481546,{"$f":"CD49*'Look-up Refs'!$D$2+CE49*'Look-up Refs'!$D$3","v":340439.60800735682},18673.419509007719,0,251.36209313460151,18673.419509007719,18924.78160214232,66805.711449514609,1609280.2022450701,0,null,null,"P3",0,42560.826530997583,393188,0,37.360141259259287,0,37.360141259259287,{"$f":"CW49*'Look-up Refs'!$D$2+CX49*'Look-up Refs'!$D$3","v":1341613.1477774209},73588.691027710185,0,990.57419016575329,73588.691027710185,74579.265217875945,117140.09174887353,1604634.5744205599,0,null,null,"P4",0,53201.033163746979,266029,0,25.277681462962981,0,25.277681462962981,{"$f":"DP49*'Look-up Refs'!$D$2+DQ49*'Look-up Refs'!$D$3","v":907728.6287732065},49789.733881529224,0,670.21745637101128,49789.733881529224,50459.951337900238,103660.98450164721,1736562.9156122003,0,null,null,"P5",0,47880.929847372281,351142,0,33.364992629629654,0,33.364992629629654,{"$f":"EI49*'Look-up Refs'!$D$2+EJ49*'Look-up Refs'!$D$3","v":1198146.2403147074},65719.401774347658,0,884.64602755725741,65719.401774347658,66604.047801904919,114484.97764927719,2151801.5602224064,1,null,null,"P6",0,47880.929847372281,291618,0,27.709110333333353,0,27.709110333333353,{"$f":"FB49*'Look-up Refs'!$D$2+FC49*'Look-up Refs'!$D$3","v":995041.9212401089},54578.946712816229,0,734.68484335167057,54578.946712816229,55313.6315561679,103194.56140354018,1153877.3336897774,0]
[null,null,null,null,null,null,null,null,null,null,null,null,null,null,null,"A",null,null,null,null,null,null,null,null,null,null,null,"A",null,null,null,null,null,null,14,2039,0,1,1,0.19183802227789998,1.2789201485193333,27.177053156035832,8.1444444444443015E-5,{"$f":"'Life Cycle Analysis Tool'!$D$37","v":5.3022039999999996E-3},null,null,null,null,1,14,74298.573870710272,19361.094549986883,76298.698484762834,51623.31113666483,68139.611542917351,56588.893493009877,null,null,null,"P1",0,43837.651326927509,239795.37461366304,19512,19.530001065756881,103.45660444799999,122.98660551375687,{"$f":"BK50*'Look-up Refs'!$D$2+BL50*'Look-up Refs'!$D$3","v":2769415.7831823514},46001.870417273261,24954.289937909231,3342.41351552778,70956.160355182496,74298.573870710272,118136.22519763777,2218340.3343816521,0,null,null,"P2",0,49317.357742793443,99773,0,8.1259565555554136,0,8.1259565555554136,{"$f":"CD50*'Look-up Refs'!$D$2+CE50*'Look-up Refs'!$D$3","v":340439.60800735682},19140.254996732914,0,220.83955325396732,19140.254996732914,19361.094549986883,68678.452292780334,1677958.6545378505,0,null,null,"P3",0,43837.651326927509,393188,0,32.02297822222166,0,32.02297822222166,{"$f":"CW50*'Look-up Refs'!$D$2+CX50*'Look-up Refs'!$D$3","v":1341613.1477774209},75428.408303402932,0,870.29018135989588,75428.408303402932,76298.698484762834,120136.34981169034,1724770.9242322503,0,null,null,"P4",0,54797.064158659385,266029,0,21.66658411111073,0,21.66658411111073,{"$f":"DP50*'Look-up Refs'!$D$2+DQ50*'Look-up Refs'!$D$3","v":907728.6287732065},51034.477228567455,0,588.83390809737773,51034.477228567455,51623.31113666483,106420.37529532422,1842983.2909075245,0,null,null,"P5",0,49317.357742793443,351142,0,28.598565111110609,0,28.598565111110609,{"$f":"EI50*'Look-up Refs'!$D$2+EJ50*'Look-up Refs'!$D$3","v":1198146.2403147074},67362.386818706349,0,777.22472421100485,67362.386818706349,68139.611542917351,117456.9692857108,2269258.5295081171,1,null,null,"P6",0,49317.357742793443,291618,0,23.750665999999583,0,23.750665999999583,{"$f":"FB50*'Look-up Refs'!$D$2+FC50*'Look-up Refs'!$D$3","v":995041.9212401089},55943.420380636635,0,645.47311237324163,55943.420380636635,56588.893493009877,105906.25123580333,1259783.5849255808,0]
[null,null,"2. Strategy and Technology Set-up",null,null,null,null,null,null,null,null,null,null,null,null,"A",null,null,null,null,null,null,null,null,null,null,null,"A",null,null,null,null,null,null,15,2040,0,1,1,0.19663397283484746,1.3108931522323166,27.856479484936724,6.7870370370367444E-5,{"$f":"'Life Cycle Analysis Tool'!$D$37","v":5.3022039999999996E-3},null,null,null,null,1,15,76065.365371806489,19807.395156722327,78057.491374232894,52813.30145578146,69710.325941104224,57893.347506971346,null,null,null,"P1",0,45152.780866735331,239795.37461366304,19512,16.275000888130318,103.45660444799999,119.73160533613031,{"$f":"BK51*'Look-up Refs'!$D$2+BL51*'Look-up Refs'!$D$3","v":2769415.7831823514},47151.917177705087,25578.14718635696,3335.3010077444546,72730.06436406204,76065.365371806489,121218.14623854181,2339558.4806201938,0,null,null,"P2",0,50796.878475077247,99773,0,6.7716304629626709,0,6.7716304629626709,{"$f":"CD51*'Look-up Refs'!$D$2+CE51*'Look-up Refs'!$D$3","v":340439.60800735682},19618.761371651235,0,188.63378507109221,19618.761371651235,19807.395156722327,70604.273631799573,1748562.92816965,0,null,null,"P3",0,45152.780866735331,393188,0,26.685815185184033,0,26.685815185184033,{"$f":"CW51*'Look-up Refs'!$D$2+CX51*'Look-up Refs'!$D$3","v":1341613.1477774209},77314.118510988003,0,743.37286324489196,77314.118510988003,78057.491374232894,123210.27224096822,1847981.1964732185,0,null,null,"P4",0,56440.976083419162,266029,0,18.055486759258482,0,18.055486759258482,{"$f":"DP51*'Look-up Refs'!$D$2+DQ51*'Look-up Refs'!$D$3","v":907728.6287732065},52310.339159281633,0,502.96229649983053,52310.339159281633,52813.30145578146,109254.27753920062,1952237.5684467251,0,null,null,"P5",0,50796.878475077247,351142,0,23.832137592591565,0,23.832137592591565,{"$f":"EI51*'Look-up Refs'!$D$2+EJ51*'Look-up Refs'!$D$3","v":1198146.2403147074},69046.446489174006,0,663.87945193021619,69046.446489174006,69710.325941104224,120507.20441618147,2389765.7339242985,1,null,null,"P6",0,50796.878475077247,291618,0,19.792221666665814,0,19.792221666665814,{"$f":"FB51*'Look-up Refs'!$D$2+FC51*'Look-up Refs'!$D$3","v":995041.9212401089},57342.005890152548,0,551.34161681879641,57342.005890152548,57893.347506971346,108690.22598204859,1368473.8109076293,0]
[null,null,"The Strategy and Technology Set-up section establishes the engineering fundamentals for the existing system that is to be replaced as well as the alternate low carbon technologies that are being considered. The Strategy Selection dropdown provides guidance on applicable alternate technologies for the strategy being pursued. These strategies are fully described in the Building Decarbonization Framework: Conceptual Recommendations Report.\n•Default \"Alternate Technologies\" are selected based on the chosen strategy but can be changed. An \"Alternate Name\" can be used to differentiate multiple variations of the same technology (e.g. to evaluate different costs, models, or specific sub technologies).\n•Custom strategies and technologies can be used to eliminate any or all pre-filled defaults and proceed based on the User's engineering knowledge.",null,null,null,null,null,null,null,null,null,null,null,null,"A",null,null,null,null,null,null,null,null,null,null,null,"A",null,null,null,null,null,null,16,2041,0,1,1,0.20154982215571862,1.3436654810381243,28.552891472060139,5.4296296296295343E-5,{"$f":"'Life Cycle Analysis Tool'!$D$37","v":5.3022039999999996E-3},null,null,null,null,1,16,77874.059839288369,20263.910109700813,79856.537221623526,54030.526721393544,71316.988801986139,59227.656163197775,null,null,null,"P1",0,46507.364292737388,239795.37461366304,19512,13.020000710504586,103.45660444799999,116.47660515850458,{"$f":"BK52*'Look-up Refs'!$D$2+BL52*'Look-up Refs'!$D$3","v":2769415.7831823514},48330.715107147706,26217.60086601588,3325.7438661247816,74548.315973163582,77874.059839288369,124381.42413202576,2463939.9047522196,0,null,null,"P2",0,52320.784829329561,99773,0,5.4173043703702755,0,5.4173043703702755,{"$f":"CD52*'Look-up Refs'!$D$2+CE52*'Look-up Refs'!$D$3","v":340439.60800735682},20109.230405942515,0,154.67970375829955,20109.230405942515,20263.910109700813,72584.694939030378,1821147.6231086804,0,null,null,"P3",0,46507.364292737388,393188,0,21.348652148147774,0,21.348652148147774,{"$f":"CW52*'Look-up Refs'!$D$2+CX52*'Look-up Refs'!$D$3","v":1341613.1477774209},79246.971473762693,0,609.56574786082695,79246.971473762693,79856.537221623526,126363.90151436091,1974345.0979875794,0,null,null,"P4",0,58134.205365921734,266029,0,14.444389407407154,0,14.444389407407154,{"$f":"DP52*'Look-up Refs'!$D$2+DQ52*'Look-up Refs'!$D$3","v":907728.6287732065},53618.097638263673,0,412.42908312987157,53618.097638263673,54030.526721393544,112164.73208731528,2064402.3005340404,0,null,null,"P5",0,52320.784829329561,351142,0,19.065710074073738,0,19.065710074073738,{"$f":"EI52*'Look-up Refs'!$D$2+EJ52*'Look-up Refs'!$D$3","v":1198146.2403147074},70772.607651403348,0,544.38115058279118,70772.607651403348,71316.988801986139,123637.77363131571,2513403.5075556142,1,null,null,"P6",0,52320.784829329561,291618,0,15.833777333333055,0,15.833777333333055,{"$f":"FB52*'Look-up Refs'!$D$2+FC52*'Look-up Refs'!$D$3","v":995041.9212401089},58775.55603740635,0,452.10012579142449,58775.55603740635,59227.656163197775,111548.44099252734,1480022.2519001567,0]
[null,null,"Strategy Selection","Centralized Heat Pumps",null,null,null,null,null,null,null,null,null,null,null,"A",null,null,null,null,null,null,null,null,{"$f":"D53","v":"Centralized Heat Pumps"},null,null,"A",null,null,null,null,null,null,17,2042,0,1,1,0.20658856770961159,1.3772571180640774,29.266713758861641,4.0722222222219773E-5,{"$f":"'Life Cycle Analysis Tool'!$D$37","v":5.3022039999999996E-3},null,null,null,null,1,17,79725.648176786955,20730.871188355264,81696.749429274743,55275.604936876342,72960.415852198945,60592.496910043657,null,null,null,"P1",0,47902.585221519512,239795.37461366304,19512,9.7650005328780232,103.45660444799999,113.22160498087801,{"$f":"BK53*'Look-up Refs'!$D$2+BL53*'Look-up Refs'!$D$3","v":2769415.7831823514},49538.982984826405,26873.040887666277,3313.6243042942601,76412.023872492689,79725.648176786955,127628.23339830647,2591568.1381505262,0,null,null,"P2",0,53890.408374209452,99773,0,4.0629782777775336,0,4.0629782777775336,{"$f":"CD53*'Look-up Refs'!$D$2+CE53*'Look-up Refs'!$D$3","v":340439.60800735682},20611.961166091078,0,118.91002226418772,20611.961166091078,20730.871188355264,74621.279562564712,1895768.9026712452,0,null,null,"P3",0,47902.585221519512,393188,0,16.011489111110148,0,16.011489111110148,{"$f":"CW53*'Look-up Refs'!$D$2+CX53*'Look-up Refs'!$D$3","v":1341613.1477774209},81228.145760606756,0,468.60366866799069,81228.145760606756,81696.749429274743,129599.33465079425,2103944.4326383737,0,null,null,"P4",0,59878.231526899392,266029,0,10.833292055554903,0,10.833292055554903,{"$f":"DP53*'Look-up Refs'!$D$2+DQ53*'Look-up Refs'!$D$3","v":907728.6287732065},54958.550079220266,0,317.05485765607517,54958.550079220266,55275.604936876342,115153.83646377573,2179556.1369978162,0,null,null,"P5",0,53890.408374209452,351142,0,14.299282555554695,0,14.299282555554695,{"$f":"EI53*'Look-up Refs'!$D$2+EJ53*'Look-up Refs'!$D$3","v":1198146.2403147074},72541.922842688437,0,418.49300951050287,72541.922842688437,72960.415852198945,126850.8242264084,2640254.3317820225,1,null,null,"P6",0,53890.408374209452,291618,0,11.875332999999285,0,11.875332999999285,{"$f":"FB53*'Look-up Refs'!$D$2+FC53*'Look-up Refs'!$D$3","v":995041.9212401089},60244.944938341512,0,347.55197170214279,60244.944938341512,60592.496910043657,114482.90528425311,1594505.1571844099,0]
[null,null,"Design Overview and Recommendations",{"$f":"IFERROR(VLOOKUP($D$53,'Look-up Refs'!$W$2:$Y$8,2,FALSE),\"\")","v":"Centralized heat pumps installed in an existing campus central plant to provide HHW to campus loop. This design separates CHW and HHW production and does not recover heat from the campus cooling load. It is therefore better suited to campuses with a HHW loop that have minimal or no chilled water load. Heat pumps should be sized by assessing campus loads and conducting a cost-benefit analysis on meeting peak loads via the heat pumps versus utilizing additional sources of heat for these periods, such as existing boilers."},null,null,null,null,null,null,null,null,null,null,null,"A",null,null,null,null,null,null,null,null,null,null,null,"A",null,null,null,null,null,null,18,2043,0,1,1,0.21175328190235188,1.4116885460156794,29.998381602833184,2.7148148148147672E-5,{"$f":"'Life Cycle Analysis Tool'!$D$37","v":5.3022039999999996E-3},null,null,null,null,1,18,81621.144643760897,21208.515377123887,83579.061911545068,56549.167983932428,74641.441136921174,61988.56240912986,null,null,null,"P1",0,49339.662778165097,239795.37461366304,19512,6.5100003552522931,103.45660444799999,109.96660480325228,{"$f":"BK54*'Look-up Refs'!$D$2+BL54*'Look-up Refs'!$D$3","v":2769415.7831823514},50777.457559447059,27544.866909857938,3298.8201744559105,78322.324469304993,81621.144643760897,130960.807421926,2722528.9455724522,0,null,null,"P2",0,55507.120625435738,99773,0,2.7086521851851377,0,2.7086521851851377,{"$f":"CD54*'Look-up Refs'!$D$2+CE54*'Look-up Refs'!$D$3","v":340439.60800735682},21127.260195243354,0,81.255181880531737,21127.260195243354,21208.515377123887,76715.636002559622,1972484.5386738048,0,null,null,"P3",0,49339.662778165097,393188,0,10.674326074073887,0,10.674326074073887,{"$f":"CW54*'Look-up Refs'!$D$2+CX54*'Look-up Refs'!$D$3","v":1341613.1477774209},83258.849404621928,0,320.21250692314067,83258.849404621928,83579.061911545068,132918.72468971016,2236863.1573280836,0,null,null,"P4",0,61674.578472706373,266029,0,7.2221947037035772,0,7.2221947037035772,{"$f":"DP54*'Look-up Refs'!$D$2+DQ54*'Look-up Refs'!$D$3","v":907728.6287732065},56332.513831200769,0,216.65415273166064,56332.513831200769,56549.167983932428,118223.74645663879,2297779.8834544551,0,null,null,"P5",0,55507.120625435738,351142,0,9.5328550370368692,0,9.5328550370368692,{"$f":"EI54*'Look-up Refs'!$D$2+EJ54*'Look-up Refs'!$D$3","v":1198146.2403147074},74355.470913755649,0,285.9702231655225,74355.470913755649,74641.441136921174,130148.56176235691,2770402.8935443796,1,null,null,"P6",0,55507.120625435738,291618,0,7.9168886666665275,0,7.9168886666665275,{"$f":"FB54*'Look-up Refs'!$D$2+FC54*'Look-up Refs'!$D$3","v":995041.9212401089},61751.06856180005,0,237.49384732980769,61751.06856180005,61988.56240912986,117495.68303456559,1712000.8402189754,0]
[null,null,"Generally Applicable Technologies",{"$f":"IFERROR(VLOOKUP($D$53,'Look-up Refs'!$W$2:$Y$8,3,FALSE),\"\")","v":"• Air-to-Water Heat Pump\n     » Heating Only\n     » Heating / Cooling Only\n• Water-to-Water Heat Pump\n     » Heating Only\n     » Heating / Cooling Only\n• Water Source Heat Pump"},null,null,null,null,null,null,null,null,null,null,null,"A",null,null,null,null,null,null,null,null,null,null,null,"A",null,null,null,null,null,null,19,2044,0,1,1,0.21704711394991066,1.4469807596660713,30.74834114290401,1.3574074074072101E-5,{"$f":"'Life Cycle Analysis Tool'!$D$37","v":5.3022039999999996E-3},null,null,null,null,1,19,83561.587403973041,21697.084980838205,85504.429549535562,57851.861930255742,76360.917425971842,63416.560872601563,null,null,null,"P1",0,50819.852661510042,239795.37461366304,19512,3.2550001776257309,103.45660444799999,106.71160462562572,{"$f":"BK55*'Look-up Refs'!$D$2+BL55*'Look-up Refs'!$D$3","v":2769415.7831823514},52046.893998433239,28233.488582604383,3281.2048229354332,80280.382581037615,83561.587403973041,134381.4400654831,2856910.3856379353,0,null,null,"P2",0,57172.334244198799,99773,0,1.3543260925923957,0,1.3543260925923957,{"$f":"CD55*'Look-up Refs'!$D$2+CE55*'Look-up Refs'!$D$3","v":340439.60800735682},21655.441700124436,0,41.643280713767183,21655.441700124436,21697.084980838205,78869.419225037011,2051353.9578988419,0,null,null,"P3",0,50819.852661510042,393188,0,5.3371630370362615,0,5.3371630370362615,{"$f":"CW55*'Look-up Refs'!$D$2+CX55*'Look-up Refs'!$D$3","v":1341613.1477774209},85340.320639737474,0,164.1089097980886,85340.320639737474,85504.429549535562,136324.28221104562,2373187.4395391294,0,null,null,"P4",0,63524.815826887556,266029,0,3.6110973518513272,0,3.6110973518513272,{"$f":"DP55*'Look-up Refs'!$D$2+DQ55*'Look-up Refs'!$D$3","v":907728.6287732065},57740.826676980781,0,111.03525327496189,57740.826676980781,57851.861930255742,121376.6777571433,2419156.5612115986,0,null,null,"P5",0,57172.334244198799,351142,0,4.7664275185178253,0,4.7664275185178253,{"$f":"EI55*'Look-up Refs'!$D$2+EJ55*'Look-up Refs'!$D$3","v":1198146.2403147074},76214.357686599527,0,146.55973937231153,76214.357686599527,76360.917425971842,133533.25167017063,2903936.1452145502,1,null,null,"P6",0,57172.334244198799,291618,0,3.9584443333327579,0,3.9584443333327579,{"$f":"FB55*'Look-up Refs'!$D$2+FC55*'Look-up Refs'!$D$3","v":995041.9212401089},63294.845275845051,0,121.71559675651088,63294.845275845051,63416.560872601563,120588.89511680036,1832589.7353357759,0]
[null,null,null,null,null,null,null,null,null,null,null,null,null,null,null,"A",null,null,null,null,null,null,null,null,null,null,null,"A",null,null,null,null,null,null,20,2045,0,1,1,0.22247329179865841,1.4831552786577227,31.517049671476606,0,{"$f":"'Life Cycle Analysis Tool'!$D$37","v":5.3022039999999996E-3},null,null,null,null,1,20,{"$f":"IFERROR(SUMIFS($BH56:$AAU56,$BH$3:$AAU$3,AY$32,$BG$1:$AAT$1,AY$33)*$AW56*AY$34,NA())","v":85548.039086793462},22196.827742627545,87473.828655730904,59184.347343905298,78119.716628764509,64877.216407741165,null,null,null,"P1",0,52344.448241355349,239795.37461366304,19512,0,103.45660444799999,103.45660444799999,{"$f":"BK56*'Look-up Refs'!$D$2+BL56*'Look-up Refs'!$D$3","v":2769415.7831823514},53348.066348394059,28939.325797169484,3260.6469412299234,82287.392145563543,85548.039086793462,137892.4873281488,2994802.8729660842,0,null,null,"P2",0,58887.504271524762,99773,0,0,0,0,{"$f":"CD56*'Look-up Refs'!$D$2+CE56*'Look-up Refs'!$D$3","v":340439.60800735682},22196.827742627545,0,0,22196.827742627545,22196.827742627545,81084.332014152315,2132438.289912994,0,null,null,"P3",0,52344.448241355349,393188,0,0,0,0,{"$f":"CW56*'Look-up Refs'!$D$2+CX56*'Look-up Refs'!$D$3","v":1341613.1477774209},87473.828655730904,0,0,87473.828655730904,87473.828655730904,139818.27689708624,2513005.7164362157,0,null,null,"P4",0,65430.560301694182,266029,0,0,0,0,{"$f":"DP56*'Look-up Refs'!$D$2+DQ56*'Look-up Refs'!$D$3","v":907728.6287732065},59184.347343905298,0,0,59184.347343905298,59184.347343905298,124614.90764559948,2543771.468857198,0,null,null,"P5",0,58887.504271524762,351142,0,0,0,0,{"$f":"EI56*'Look-up Refs'!$D$2+EJ56*'Look-up Refs'!$D$3","v":1198146.2403147074},78119.716628764509,0,0,78119.716628764509,78119.716628764509,137007.22090028928,3040943.3661148394,1,null,null,"P6",0,58887.504271524762,291618,0,0,0,0,{"$f":"FB56*'Look-up Refs'!$D$2+FC56*'Look-up Refs'!$D$3","v":995041.9212401089},64877.216407741165,0,0,64877.216407741165,64877.216407741165,123764.72067926593,1956354.4560150418,0]
[null,null,"2a. Technology Alternatives Selection",null,null,null,null,null,null,null,null,null,null,null,null,"A",null,null,null,null,null,null,null,null,null,null,null,"A",null,null,null,null,null,null,{"$f":"AI56+1","v":21},{"$f":"AJ56+1","v":2046},0,0,0,0,0,0,0,{"$f":"'Life Cycle Analysis Tool'!$D$37","v":5.3022039999999996E-3},null,null,null,null,{"$error":"#N/A"},{"$error":"#N/A"},{"$error":"#N/A"},{"$error":"#N/A"},{"$error":"#N/A"},{"$error":"#N/A"},{"$error":"#N/A"},{"$error":"#N/A"},null,null,null,"P1",0,0,0,0,0,0,0,{"$f":"BK57*'Look-up Refs'!$D$2+BL57*'Look-up Refs'!$D$3","v":0},0,0,0,0,0,0,{"$f":"(BV57+BW56)*$AM57","v":0},0,null,null,"P2",0,0,0,0,0,0,0,{"$f":"CD57*'Look-up Refs'!$D$2+CE57*'Look-up Refs'!$D$3","v":0},0,0,0,0,0,0,{"$f":"(CO57+CP56)*$AM57","v":0},0,null,null,"P3",0,0,0,0,0,0,0,{"$f":"CW57*'Look-up Refs'!$D$2+CX57*'Look-up Refs'!$D$3","v":0},0,0,0,0,0,0,{"$f":"(DH57+DI56)*$AM57","v":0},0,null,null,"P4",0,0,0,0,0,0,0,{"$f":"DP57*'Look-up Refs'!$D$2+DQ57*'Look-up Refs'!$D$3","v":0},0,0,0,0,0,0,{"$f":"(EA57+EB56)*$AM57","v":0},0,null,null,"P5",0,0,0,0,0,0,0,{"$f":"EI57*'Look-up Refs'!$D$2+EJ57*'Look-up Refs'!$D$3","v":0},0,0,0,0,0,0,{"$f":"(ET57+EU56)*$AM57","v":0},0,null,null,"P6",0,0,0,0,0,0,0,{"$f":"FB57*'Look-up Refs'!$D$2+FC57*'Look-up Refs'!$D$3","v":0},0,0,0,0,0,0,{"$f":"(FM57+FN56)*$AM57","v":0},0]
[null,null,"The Technology Alternatives Selection allow users to set-up which low carbon technologies are evaluated. The selections made here determine the default efficiencies used in the annual energy calculations.\n•Status Quo Replacement is assumed to be \"Replace in Kind\" for a typical electric cooling/gas heating arrangement.\n•\"No Selection\" can be used to eliminate calculations for that row moving forward.\n•\"Custom Entry\" can be used to have null starting point with no default entries.\n•Heating Only technologies are noted as such and should be evaluated as such by the user.\n•Users should be aware that the tool allows selection of any technology for any strategy, however not all technologies may be appropriate for every situation. Users should read the Technology Report and Conceptual Recommendations Report to become familiar with the technologies and their applicability.",null,null,null,null,null,null,null,null,null,null,null,null,"A",null,null,null,null,null,null,null,null,null,null,null,"A",null,null,null,null,null,null,22,2047,0,0,0,0,0,0,0,{"$f":"'Life Cycle Analysis Tool'!$D$37","v":5.3022039999999996E-3},null,null,null,null,{"$error":"#N/A"},{"$error":"#N/A"},{"$error":"#N/A"},{"$error":"#N/A"},{"$error":"#N/A"},{"$error":"#N/A"},{"$error":"#N/A"},{"$error":"#N/A"},null,null,null,"P1",0,0,0,0,0,0,0,{"$f":"BK58*'Look-up Refs'!$D$2+BL58*'Look-up Refs'!$D$3","v":0},0,0,0,0,0,0,0,0,null,null,"P2",0,0,0,0,0,0,0,{"$f":"CD58*'Look-up Refs'!$D$2+CE58*'Look-up Refs'!$D$3","v":0},0,0,0,0,0,0,0,0,null,null,"P3",0,0,0,0,0,0,0,{"$f":"CW58*'Look-up Refs'!$D$2+CX58*'Look-up Refs'!$D$3","v":0},0,0,0,0,0,0,0,0,null,null,"P4",0,0,0,0,0,0,0,{"$f":"DP58*'Look-up Refs'!$D$2+DQ58*'Look-up Refs'!$D$3","v":0},0,0,0,0,0,0,0,0,null,null,"P5",0,0,0,0,0,0,0,{"$f":"EI58*'Look-up Refs'!$D$2+EJ58*'Look-up Refs'!$D$3","v":0},0,0,0,0,0,0,0,0,null,null,"P6",0,0,0,0,0,0,0,{"$f":"FB58*'Look-up Refs'!$D$2+FC58*'Look-up Refs'!$D$3","v":0},0,0,0,0,0,0,0,0]
[null,null,"Alternate Name","Technology Type","Project Name","Heating/Cooling Capabilities","Include Status Quo",null,null,null,null,null,null,null,null,"A",null,null,null,null,null,null,null,null,null,"Included In Results",null,"A",null,null,null,null,null,null,23,2048,0,0,0,0,0,0,0,{"$f":"'Life Cycle Analysis Tool'!$D$37","v":5.3022039999999996E-3},null,null,null,null,{"$error":"#N/A"},{"$error":"#N/A"},{"$error":"#N/A"},{"$error":"#N/A"},{"$error":"#N/A"},{"$error":"#N/A"},{"$error":"#N/A"},{"$error":"#N/A"},null,null,null,"P1",0,0,0,0,0,0,0,{"$f":"BK59*'Look-up Refs'!$D$2+BL59*'Look-up Refs'!$D$3","v":0},0,0,0,0,0,0,0,0,null,null,"P2",0,0,0,0,0,0,0,{"$f":"CD59*'Look-up Refs'!$D$2+CE59*'Look-up Refs'!$D$3","v":0},0,0,0,0,0,0,0,0,null,null,"P3",0,0,0,0,0,0,0,{"$f":"CW59*'Look-up Refs'!$D$2+CX59*'Look-up Refs'!$D$3","v":0},0,0,0,0,0,0,0,0,null,null,"P4",0,0,0,0,0,0,0,{"$f":"DP59*'Look-up Refs'!$D$2+DQ59*'Look-up Refs'!$D$3","v":0},0,0,0,0,0,0,0,0,null,null,"P5",0,0,0,0,0,0,0,{"$f":"EI59*'Look-up Refs'!$D$2+EJ59*'Look-up Refs'!$D$3","v":0},0,0,0,0,0,0,0,0,null,null,"P6",0,0,0,0,0,0,0,{"$f":"FB59*'Look-up Refs'!$D$2+FC59*'Look-up Refs'!$D$3","v":0},0,0,0,0,0,0,0,0]
["S1",null,"Status Quo Replacement","Replace in Kind",{"$f":"IF(Z60=\"Yes\",C60&\" (\"&D60&\")\",\"\")","v":"Status Quo Replacement (Replace in Kind)"},{"$f":"IFERROR(INDEX('Technology Metric Look-ups'!$1:$1048576,MATCH($D60,'Technology Metric Look-ups'!$A:$A,0),MATCH(F$59,'Technology Metric Look-ups'!$1:$1,0)),\"\")","v":"Heating/Cooling"},"Yes",null,null,null,null,null,null,null,null,"A",null,null,null,null,null,null,null,null,null,{"$f":"G60","v":"Yes"},null,"A",null,null,null,null,null,null,24,2049,0,0,0,0,0,0,0,{"$f":"'Life Cycle Analysis Tool'!$D$37","v":5.3022039999999996E-3},null,null,null,null,{"$error":"#N/A"},{"$error":"#N/A"},{"$error":"#N/A"},{"$error":"#N/A"},{"$error":"#N/A"},{"$error":"#N/A"},{"$error":"#N/A"},{"$error":"#N/A"},null,null,null,"P1",0,0,0,0,0,0,0,{"$f":"BK60*'Look-up Refs'!$D$2+BL60*'Look-up Refs'!$D$3","v":0},0,0,0,0,0,0,0,0,null,null,"P2",0,0,0,0,0,0,0,{"$f":"CD60*'Look-up Refs'!$D$2+CE60*'Look-up Refs'!$D$3","v":0},0,0,0,0,0,0,0,0,null,null,"P3",0,0,0,0,0,0,0,{"$f":"CW60*'Look-up Refs'!$D$2+CX60*'Look-up Refs'!$D$3","v":0},0,0,0,0,0,0,0,0,null,null,"P4",0,0,0,0,0,0,0,{"$f":"DP60*'Look-up Refs'!$D$2+DQ60*'Look-up Refs'!$D$3","v":0},0,0,0,0,0,0,0,0,null,null,"P5",0,0,0,0,0,0,0,{"$f":"EI60*'Look-up Refs'!$D$2+EJ60*'Look-up Refs'!$D$3","v":0},0,0,0,0,0,0,0,0,null,null,"P6",0,0,0,0,0,0,0,{"$f":"FB60*'Look-up Refs'!$D$2+FC60*'Look-up Refs'!$D$3","v":0},0,0,0,0,0,0,0,0]
["S2",null,"Scenario 1","WWHP Heating Only","Scenario 1 (WWHP Heating Only)",{"$f":"IFERROR(INDEX('Technology Metric Look-ups'!$1:$1048576,MATCH($D61,'Technology Metric Look-ups'!$A:$A,0),MATCH(F$59,'Technology Metric Look-ups'!$1:$1,0)),\"\")","v":"Heating Only"},{"$f":"IF(F61=\"Heating Only\",\"Please note that technology is heating only and cooling loads are not accounted for. Please be cautious of comparing with other heating/cooling technologies and zero out system cooling loads. \",\"\") &IF(LEFT($D61,6)=\"Custom\",\"Please note that user overrides must be used to appropriately life cycle characteristics use for custom technologies\",\"\")","v":"Please note that technology is heating only and cooling loads are not accounted for. Please be cautious of comparing with other heating/cooling technologies and zero out system cooling loads. "},null,null,null,null,null,null,null,null,"A",null,null,null,null,null,null,null,null,{"$f":"INDEX('Dynamic Look-ups'!$B$31:$H$35,1,MATCH($D$53,'Dynamic Look-ups'!$B$13:$H$13,0))","v":"AWHP Heating Only"},{"$f":"IF(D61=\"No Selection\",\"No\",\"Yes\")","v":"Yes"},null,"A",null,null,null,null,null,null,25,2050,0,0,0,0,0,0,0,{"$f":"'Life Cycle Analysis Tool'!$D$37","v":5.3022039999999996E-3},null,null,null,null,{"$error":"#N/A"},{"$error":"#N/A"},{"$error":"#N/A"},{"$error":"#N/A"},{"$error":"#N/A"},{"$error":"#N/A"},{"$error":"#N/A"},{"$error":"#N/A"},null,null,null,"P1",0,0,0,0,0,0,0,{"$f":"BK61*'Look-up Refs'!$D$2+BL61*'Look-up Refs'!$D$3","v":0},0,0,0,0,0,0,0,0,null,null,"P2",0,0,0,0,0,0,0,{"$f":"CD61*'Look-up Refs'!$D$2+CE61*'Look-up Refs'!$D$3","v":0},0,0,0,0,0,0,0,0,null,null,"P3",0,0,0,0,0,0,0,{"$f":"CW61*'Look-up Refs'!$D$2+CX61*'Look-up Refs'!$D$3","v":0},0,0,0,0,0,0,0,0,null,null,"P4",0,0,0,0,0,0,0,{"$f":"DP61*'Look-up Refs'!$D$2+DQ61*'Look-up Refs'!$D$3","v":0},0,0,0,0,0,0,0,0,null,null,"P5",0,0,0,0,0,0,0,{"$f":"EI61*'Look-up Refs'!$D$2+EJ61*'Look-up Refs'!$D$3","v":0},0,0,0,0,0,0,0,0,null,null,"P6",0,0,0,0,0,0,0,{"$f":"FB61*'Look-up Refs'!$D$2+FC61*'Look-up Refs'!$D$3","v":0},0,0,0,0,0,0,0,0]
["S3",null,"Scenario 2","Air-to-Air Heat Pump ","Scenario 2 (Air-to-Air Heat Pump )",{"$f":"IFERROR(INDEX('Technology Metric Look-ups'!$1:$1048576,MATCH($D62,'Technology Metric Look-ups'!$A:$A,0),MATCH(F$59,'Technology Metric Look-ups'!$1:$1,0)),\"\")","v":"Heating/Cooling"},"",null,null,null,null,null,null,null,null,"A",null,null,null,null,null,null,null,null,{"$f":"INDEX('Dynamic Look-ups'!$B$31:$H$35,2,MATCH($D$53,'Dynamic Look-ups'!$B$13:$H$13,0))","v":"AWHP Heating/Cooling Only"},{"$f":"IF(D62=\"No Selection\",\"No\",\"Yes\")","v":"Yes"},null,"A",null,null,null,null,null,null,26,2051,0,0,0,0,0,0,0,{"$f":"'Life Cycle Analysis Tool'!$D$37","v":5.3022039999999996E-3},null,null,null,null,{"$error":"#N/A"},{"$error":"#N/A"},{"$error":"#N/A"},{"$error":"#N/A"},{"$error":"#N/A"},{"$error":"#N/A"},{"$error":"#N/A"},{"$error":"#N/A"},null,null,null,"P1",0,0,0,0,0,0,0,{"$f":"BK62*'Look-up Refs'!$D$2+BL62*'Look-up Refs'!$D$3","v":0},0,0,0,0,0,0,0,0,null,null,"P2",0,0,0,0,0,0,0,{"$f":"CD62*'Look-up Refs'!$D$2+CE62*'Look-up Refs'!$D$3","v":0},0,0,0,0,0,0,0,0,null,null,"P3",0,0,0,0,0,0,0,{"$f":"CW62*'Look-up Refs'!$D$2+CX62*'Look-up Refs'!$D$3","v":0},0,0,0,0,0,0,0,0,null,null,"P4",0,0,0,0,0,0,0,{"$f":"DP62*'Look-up Refs'!$D$2+DQ62*'Look-up Refs'!$D$3","v":0},0,0,0,0,0,0,0,0,null,null,"P5",0,0,0,0,0,0,0,{"$f":"EI62*'Look-up Refs'!$D$2+EJ62*'Look-up Refs'!$D$3","v":0},0,0,0,0,0,0,0,0,null,null,"P6",0,0,0,0,0,0,0,{"$f":"FB62*'Look-up Refs'!$D$2+FC62*'Look-up Refs'!$D$3","v":0},0,0,0,0,0,0,0,0]
["S4",null,"Scenario 3","WSHP","Scenario 3 (WSHP)",{"$f":"IFERROR(INDEX('Technology Metric Look-ups'!$1:$1048576,MATCH($D63,'Technology Metric Look-ups'!$A:$A,0),MATCH(F$59,'Technology Metric Look-ups'!$1:$1,0)),\"\")","v":"Heating/Cooling"},"",null,null,null,null,null,null,null,null,"A",null,null,null,null,null,null,null,null,{"$f":"INDEX('Dynamic Look-ups'!$B$31:$H$35,3,MATCH($D$53,'Dynamic Look-ups'!$B$13:$H$13,0))","v":"WWHP Heating Only"},"Yes",null,"A",null,null,null,null,null,null,27,2052,0,0,0,0,0,0,0,{"$f":"'Life Cycle Analysis Tool'!$D$37","v":5.3022039999999996E-3},null,null,null,null,{"$error":"#N/A"},{"$error":"#N/A"},{"$error":"#N/A"},{"$error":"#N/A"},{"$error":"#N/A"},{"$error":"#N/A"},{"$error":"#N/A"},{"$error":"#N/A"},null,null,null,"P1",0,0,0,0,0,0,0,{"$f":"BK63*'Look-up Refs'!$D$2+BL63*'Look-up Refs'!$D$3","v":0},0,0,0,0,0,0,0,0,null,null,"P2",0,0,0,0,0,0,0,{"$f":"CD63*'Look-up Refs'!$D$2+CE63*'Look-up Refs'!$D$3","v":0},0,0,0,0,0,0,0,0,null,null,"P3",0,0,0,0,0,0,0,{"$f":"CW63*'Look-up Refs'!$D$2+CX63*'Look-up Refs'!$D$3","v":0},0,0,0,0,0,0,0,0,null,null,"P4",0,0,0,0,0,0,0,{"$f":"DP63*'Look-up Refs'!$D$2+DQ63*'Look-up Refs'!$D$3","v":0},0,0,0,0,0,0,0,0,null,null,"P5",0,0,0,0,0,0,0,{"$f":"EI63*'Look-up Refs'!$D$2+EJ63*'Look-up Refs'!$D$3","v":0},0,0,0,0,0,0,0,0,null,null,"P6",0,0,0,0,0,0,0,{"$f":"FB63*'Look-up Refs'!$D$2+FC63*'Look-up Refs'!$D$3","v":0},0,0,0,0,0,0,0,0]
["S5",null,"Scenario 4","VRF Air Cooled","Scenario 4 (VRF Air Cooled)",{"$f":"IFERROR(INDEX('Technology Metric Look-ups'!$1:$1048576,MATCH($D64,'Technology Metric Look-ups'!$A:$A,0),MATCH(F$59,'Technology Metric Look-ups'!$1:$1,0)),\"\")","v":"Heating/Cooling"},"",null,null,null,null,null,null,null,null,"A",null,null,null,null,null,null,null,null,{"$f":"INDEX('Dynamic Look-ups'!$B$31:$H$35,4,MATCH($D$53,'Dynamic Look-ups'!$B$13:$H$13,0))","v":"WWHP Heating/Cooling Only"},"Yes",null,"A",null,null,null,null,null,null,28,2053,0,0,0,0,0,0,0,{"$f":"'Life Cycle Analysis Tool'!$D$37","v":5.3022039999999996E-3},null,null,null,null,{"$error":"#N/A"},{"$error":"#N/A"},{"$error":"#N/A"},{"$error":"#N/A"},{"$error":"#N/A"},{"$error":"#N/A"},{"$error":"#N/A"},{"$error":"#N/A"},null,null,null,"P1",0,0,0,0,0,0,0,{"$f":"BK64*'Look-up Refs'!$D$2+BL64*'Look-up Refs'!$D$3","v":0},0,0,0,0,0,0,0,0,null,null,"P2",0,0,0,0,0,0,0,{"$f":"CD64*'Look-up Refs'!$D$2+CE64*'Look-up Refs'!$D$3","v":0},0,0,0,0,0,0,0,0,null,null,"P3",0,0,0,0,0,0,0,{"$f":"CW64*'Look-up Refs'!$D$2+CX64*'Look-up Refs'!$D$3","v":0},0,0,0,0,0,0,0,0,null,null,"P4",0,0,0,0,0,0,0,{"$f":"DP64*'Look-up Refs'!$D$2+DQ64*'Look-up Refs'!$D$3","v":0},0,0,0,0,0,0,0,0,null,null,"P5",0,0,0,0,0,0,0,{"$f":"EI64*'Look-up Refs'!$D$2+EJ64*'Look-up Refs'!$D$3","v":0},0,0,0,0,0,0,0,0,null,null,"P6",0,0,0,0,0,0,0,{"$f":"FB64*'Look-up Refs'!$D$2+FC64*'Look-up Refs'!$D$3","v":0},0,0,0,0,0,0,0,0]
["S6",null,"Scenario 5","VRF Water Cooled","Scenario 5 (VRF Water Cooled)",{"$f":"IFERROR(INDEX('Technology Metric Look-ups'!$1:$1048576,MATCH($D65,'Technology Metric Look-ups'!$A:$A,0),MATCH(F$59,'Technology Metric Look-ups'!$1:$1,0)),\"\")","v":"Heating/Cooling"},"",null,null,null,null,null,null,null,null,"A",null,null,null,null,null,null,null,null,{"$f":"INDEX('Dynamic Look-ups'!$B$31:$H$35,5,MATCH($D$53,'Dynamic Look-ups'!$B$13:$H$13,0))","v":"WSHP"},"Yes",null,"A",null,null,null,null,null,null,29,2054,0,0,0,0,0,0,0,{"$f":"'Life Cycle Analysis Tool'!$D$37","v":5.3022039999999996E-3},null,null,null,null,{"$error":"#N/A"},{"$error":"#N/A"},{"$error":"#N/A"},{"$error":"#N/A"},{"$error":"#N/A"},{"$error":"#N/A"},{"$error":"#N/A"},{"$error":"#N/A"},null,null,null,"P1",0,0,0,0,0,0,0,{"$f":"BK65*'Look-up Refs'!$D$2+BL65*'Look-up Refs'!$D$3","v":0},0,0,0,0,0,0,0,0,null,null,"P2",0,0,0,0,0,0,0,{"$f":"CD65*'Look-up Refs'!$D$2+CE65*'Look-up Refs'!$D$3","v":0},0,0,0,0,0,0,0,0,null,null,"P3",0,0,0,0,0,0,0,{"$f":"CW65*'Look-up Refs'!$D$2+CX65*'Look-up Refs'!$D$3","v":0},0,0,0,0,0,0,0,0,null,null,"P4",0,0,0,0,0,0,0,{"$f":"DP65*'Look-up Refs'!$D$2+DQ65*'Look-up Refs'!$D$3","v":0},0,0,0,0,0,0,0,0,null,null,"P5",0,0,0,0,0,0,0,{"$f":"EI65*'Look-up Refs'!$D$2+EJ65*'Look-up Refs'!$D$3","v":0},0,0,0,0,0,0,0,0,null,null,"P6",0,0,0,0,0,0,0,{"$f":"FB65*'Look-up Refs'!$D$2+FC65*'Look-up Refs'!$D$3","v":0},0,0,0,0,0,0,0,0]
[null,null,null,null,null,null,null,null,null,null,null,null,null,null,null,"A",null,null,null,null,null,null,null,null,null,null,null,"A",null,null,null,null,null,null,30,2055,0,0,0,0,0,0,0,{"$f":"'Life Cycle Analysis Tool'!$D$37","v":5.3022039999999996E-3},null,null,null,null,{"$error":"#N/A"},{"$error":"#N/A"},{"$f":"IFERROR(SUMIFS($BH66:$AAU66,$BH$3:$AAU$3,AY$32,$BG$1:$AAT$1,AY$33)*$AW66*AY$34,NA())","v":{"$error":"#N/A"}},{"$error":"#N/A"},{"$error":"#N/A"},{"$error":"#N/A"},{"$error":"#N/A"},{"$error":"#N/A"},null,null,null,"P1",0,0,0,0,0,0,0,{"$f":"BK66*'Look-up Refs'!$D$2+BL66*'Look-up Refs'!$D$3","v":0},0,0,0,0,0,0,0,0,null,null,"P2",0,0,0,0,0,0,0,{"$f":"CD66*'Look-up Refs'!$D$2+CE66*'Look-up Refs'!$D$3","v":0},0,0,0,0,0,0,0,0,null,null,"P3",0,0,0,0,0,0,0,{"$f":"CW66*'Look-up Refs'!$D$2+CX66*'Look-up Refs'!$D$3","v":0},0,0,0,0,0,0,0,0,null,null,"P4",0,0,0,0,0,0,0,{"$f":"DP66*'Look-up Refs'!$D$2+DQ66*'Look-up Refs'!$D$3","v":0},0,0,0,0,0,0,0,0,null,null,"P5",0,0,0,0,0,0,0,{"$f":"EI66*'Look-up Refs'!$D$2+EJ66*'Look-up Refs'!$D$3","v":0},0,0,0,0,0,0,0,0,null,null,"P6",0,0,0,0,0,0,0,{"$f":"FB66*'Look-up Refs'!$D$2+FC66*'Look-up Refs'!$D$3","v":0},0,0,0,0,0,0,0,0]
[null,null,"3. Existing System Load Calculations",null,null,null,null,null,null,null,null,null,null,null,null,"A",null,null,null,null,null,null,null,null,null,null,null,"A",null,null,null,null,null,null,31,2056,0,0,0,0,0,0,0,{"$f":"'Life Cycle Analysis Tool'!$D$37","v":5.3022039999999996E-3},null,null,null,null,{"$error":"#N/A"},{"$error":"#N/A"},{"$error":"#N/A"},{"$error":"#N/A"},{"$error":"#N/A"},{"$error":"#N/A"},{"$error":"#N/A"},{"$error":"#N/A"},null,null,null,"P1",0,0,0,0,0,0,0,{"$f":"BK67*'Look-up Refs'!$D$2+BL67*'Look-up Refs'!$D$3","v":0},0,0,0,0,0,0,0,0,null,null,"P2",0,0,0,0,0,0,0,{"$f":"CD67*'Look-up Refs'!$D$2+CE67*'Look-up Refs'!$D$3","v":0},0,0,0,0,0,0,0,0,null,null,"P3",0,0,0,0,0,0,0,{"$f":"CW67*'Look-up Refs'!$D$2+CX67*'Look-up Refs'!$D$3","v":0},0,0,0,0,0,0,0,0,null,null,"P4",0,0,0,0,0,0,0,{"$f":"DP67*'Look-up Refs'!$D$2+DQ67*'Look-up Refs'!$D$3","v":0},0,0,0,0,0,0,0,0,null,null,"P5",0,0,0,0,0,0,0,{"$f":"EI67*'Look-up Refs'!$D$2+EJ67*'Look-up Refs'!$D$3","v":0},0,0,0,0,0,0,0,0,null,null,"P6",0,0,0,0,0,0,0,{"$f":"FB67*'Look-up Refs'!$D$2+FC67*'Look-up Refs'!$D$3","v":0},0,0,0,0,0,0,0,0]
[null,null,"The Existing System Load Calculations serve as the basis for all energy calculations for each alternate being considered.\n•The calculation is set-up to be based on existing system capacities and effective full load hours.\n•Alternatively, the User can enter the annual heating and cooling loads if they are known.\n•The \"Future Heating/Cooling Load Multipliers\" can be used to project load growth from current levels.\n",null,null,null,null,null,null,null,null,null,null,null,null,"A",null,null,null,null,null,null,null,null,null,null,null,"A",null,null,null,null,null,null,32,2057,0,0,0,0,0,0,{"$f":"MAX(AJ68*$Y$32+$Z$32,0)","v":0},{"$f":"'Life Cycle Analysis Tool'!$D$37","v":5.3022039999999996E-3},null,null,null,null,{"$f":"IF(AM68=1,1,NA())","v":{"$error":"#N/A"}},{"$f":"AI68*$AW68","v":{"$error":"#N/A"}},{"$error":"#N/A"},{"$error":"#N/A"},{"$error":"#N/A"},{"$error":"#N/A"},{"$error":"#N/A"},{"$error":"#N/A"},null,null,null,{"$f":"BH$1","v":"P1"},{"$f":"IFERROR(INDEX($D:$D,MATCH(BI$1,$A:$A,0),1)*BI$2*$AM68*$AK68*(1+$F$44)^($AJ68-INDEX($Z:$Z,MATCH(CONCATENATE(\"C\",RIGHT(BI$1,1)),$A:$A,0),1)),0)","v":0},{"$f":"IFERROR(INDEX($E:$E,MATCH(BJ$1,$A:$A,0),1)*BJ$2*$AM68*$AL68*(1+$F$43)^($AJ68-INDEX($Z:$Z,MATCH(CONCATENATE(\"M\",RIGHT(BJ$1,1)),$A:$A,0),1)),0)","v":0},{"$f":"IFERROR(INDEX($F:$F,MATCH(BK$1,$A:$A,0),1)*BK$2*$AM68*$AL68,0)","v":0},{"$f":"IFERROR(INDEX($G:$G,MATCH(BL$1,$A:$A,0),1)*BL$2*$AM68*$AL68,0)","v":0},0,0,0,{"$f":"BK68*'Look-up Refs'!$D$2+BL68*'Look-up Refs'!$D$3","v":0},{"$f":"BK68*$AN68","v":0},{"$f":"BL68*$AO68","v":0},0,{"$f":"BQ68+BR68","v":0},0,{"$f":"BI68+BJ68+BU68","v":0},0,{"$f":"(BW68>$BW68)*$AM68","v":0},null,null,{"$f":"CA$1","v":"P2"},{"$f":"IFERROR(INDEX($D:$D,MATCH(CB$1,$A:$A,0),1)*CB$2*$AM68*$AK68*(1+$F$44)^($AJ68-INDEX($Z:$Z,MATCH(CONCATENATE(\"C\",RIGHT(CB$1,1)),$A:$A,0),1)),0)","v":0},{"$f":"IFERROR(INDEX($E:$E,MATCH(CC$1,$A:$A,0),1)*CC$2*$AM68*$AL68*(1+$F$43)^($AJ68-INDEX($Z:$Z,MATCH(CONCATENATE(\"M\",RIGHT(CC$1,1)),$A:$A,0),1)),0)","v":0},{"$f":"IFERROR(INDEX($F:$F,MATCH(CD$1,$A:$A,0),1)*CD$2*$AM68*$AL68,0)","v":0},{"$f":"IFERROR(INDEX($G:$G,MATCH(CE$1,$A:$A,0),1)*CE$2*$AM68*$AL68,0)","v":0},0,0,0,{"$f":"CD68*'Look-up Refs'!$D$2+CE68*'Look-up Refs'!$D$3","v":0},{"$f":"CD68*$AN68","v":0},{"$f":"CE68*$AO68","v":0},0,{"$f":"CJ68+CK68","v":0},0,{"$f":"CB68+CC68+CN68","v":0},0,{"$f":"(CP68>$BW68)*$AM68","v":0},null,null,{"$f":"CT$1","v":"P3"},{"$f":"IFERROR(INDEX($D:$D,MATCH(CU$1,$A:$A,0),1)*CU$2*$AM68*$AK68*(1+$F$44)^($AJ68-INDEX($Z:$Z,MATCH(CONCATENATE(\"C\",RIGHT(CU$1,1)),$A:$A,0),1)),0)","v":0},{"$f":"IFERROR(INDEX($E:$E,MATCH(CV$1,$A:$A,0),1)*CV$2*$AM68*$AL68*(1+$F$43)^($AJ68-INDEX($Z:$Z,MATCH(CONCATENATE(\"M\",RIGHT(CV$1,1)),$A:$A,0),1)),0)","v":0},{"$f":"IFERROR(INDEX($F:$F,MATCH(CW$1,$A:$A,0),1)*CW$2*$AM68*$AL68,0)","v":0},{"$f":"IFERROR(INDEX($G:$G,MATCH(CX$1,$A:$A,0),1)*CX$2*$AM68*$AL68,0)","v":0},0,0,0,{"$f":"CW68*'Look-up Refs'!$D$2+CX68*'Look-up Refs'!$D$3","v":0},{"$f":"CW68*$AN68","v":0},{"$f":"CX68*$AO68","v":0},0,{"$f":"DC68+DD68","v":0},0,{"$f":"CU68+CV68+DG68","v":0},0,{"$f":"(DI68>$BW68)*$AM68","v":0},null,null,{"$f":"DM$1","v":"P4"},{"$f":"IFERROR(INDEX($D:$D,MATCH(DN$1,$A:$A,0),1)*DN$2*$AM68*$AK68*(1+$F$44)^($AJ68-INDEX($Z:$Z,MATCH(CONCATENATE(\"C\",RIGHT(DN$1,1)),$A:$A,0),1)),0)","v":0},{"$f":"IFERROR(INDEX($E:$E,MATCH(DO$1,$A:$A,0),1)*DO$2*$AM68*$AL68*(1+$F$43)^($AJ68-INDEX($Z:$Z,MATCH(CONCATENATE(\"M\",RIGHT(DO$1,1)),$A:$A,0),1)),0)","v":0},{"$f":"IFERROR(INDEX($F:$F,MATCH(DP$1,$A:$A,0),1)*DP$2*$AM68*$AL68,0)","v":0},{"$f":"IFERROR(INDEX($G:$G,MATCH(DQ$1,$A:$A,0),1)*DQ$2*$AM68*$AL68,0)","v":0},0,0,0,{"$f":"DP68*'Look-up Refs'!$D$2+DQ68*'Look-up Refs'!$D$3","v":0},{"$f":"DP68*$AN68","v":0},{"$f":"DQ68*$AO68","v":0},0,{"$f":"DV68+DW68","v":0},0,{"$f":"DN68+DO68+DZ68","v":0},0,{"$f":"(EB68>$BW68)*$AM68","v":0},null,null,{"$f":"EF$1","v":"P5"},{"$f":"IFERROR(INDEX($D:$D,MATCH(EG$1,$A:$A,0),1)*EG$2*$AM68*$AK68*(1+$F$44)^($AJ68-INDEX($Z:$Z,MATCH(CONCATENATE(\"C\",RIGHT(EG$1,1)),$A:$A,0),1)),0)","v":0},{"$f":"IFERROR(INDEX($E:$E,MATCH(EH$1,$A:$A,0),1)*EH$2*$AM68*$AL68*(1+$F$43)^($AJ68-INDEX($Z:$Z,MATCH(CONCATENATE(\"M\",RIGHT(EH$1,1)),$A:$A,0),1)),0)","v":0},{"$f":"IFERROR(INDEX($F:$F,MATCH(EI$1,$A:$A,0),1)*EI$2*$AM68*$AL68,0)","v":0},{"$f":"IFERROR(INDEX($G:$G,MATCH(EJ$1,$A:$A,0),1)*EJ$2*$AM68*$AL68,0)","v":0},0,0,0,{"$f":"EI68*'Look-up Refs'!$D$2+EJ68*'Look-up Refs'!$D$3","v":0},{"$f":"EI68*$AN68","v":0},{"$f":"EJ68*$AO68","v":0},0,{"$f":"EO68+EP68","v":0},0,{"$f":"EG68+EH68+ES68","v":0},0,{"$f":"(EU68>$BW68)*$AM68","v":0},null,null,{"$f":"EY$1","v":"P6"},{"$f":"IFERROR(INDEX($D:$D,MATCH(EZ$1,$A:$A,0),1)*EZ$2*$AM68*$AK68*(1+$F$44)^($AJ68-INDEX($Z:$Z,MATCH(CONCATENATE(\"C\",RIGHT(EZ$1,1)),$A:$A,0),1)),0)","v":0},{"$f":"IFERROR(INDEX($E:$E,MATCH(FA$1,$A:$A,0),1)*FA$2*$AM68*$AL68*(1+$F$43)^($AJ68-INDEX($Z:$Z,MATCH(CONCATENATE(\"M\",RIGHT(FA$1,1)),$A:$A,0),1)),0)","v":0},{"$f":"IFERROR(INDEX($F:$F,MATCH(FB$1,$A:$A,0),1)*FB$2*$AM68*$AL68,0)","v":0},{"$f":"IFERROR(INDEX($G:$G,MATCH(FC$1,$A:$A,0),1)*FC$2*$AM68*$AL68,0)","v":0},0,0,0,{"$f":"FB68*'Look-up Refs'!$D$2+FC68*'Look-up Refs'!$D$3","v":0},{"$f":"FB68*$AN68","v":0},{"$f":"FC68*$AO68","v":0},0,{"$f":"FH68+FI68","v":0},0,{"$f":"EZ68+FA68+FL68","v":0},0,{"$f":"(FN68>$BW68)*$AM68","v":0}]
[null,null,"Existing Conditions","Existing Capacity (kBTU for Heating, Tons for Cooling)","Existing System(s) Operating Hours (Full Load Hours per Year)",null,null,null,null,null,null,null,null,null,null,"A",null,null,null,null,null,null,null,null,null,null,null,"A",null,null,null,null,null,null,33,2058,0,0,0,{"$f":"AN$27*(1+AN$28)^($AJ69-AN$29)*$AM69","v":0},0,0,0,{"$f":"'Life Cycle Analysis Tool'!$D$37","v":5.3022039999999996E-3},null,null,null,null,{"$error":"#N/A"},{"$error":"#N/A"},{"$error":"#N/A"},{"$error":"#N/A"},{"$error":"#N/A"},{"$error":"#N/A"},{"$error":"#N/A"},{"$error":"#N/A"},null,null,null,"P1",0,0,0,0,0,0,0,{"$f":"BK69*'Look-up Refs'!$D$2+BL69*'Look-up Refs'!$D$3","v":0},0,0,0,0,0,0,0,0,null,null,"P2",0,0,0,0,0,0,0,{"$f":"CD69*'Look-up Refs'!$D$2+CE69*'Look-up Refs'!$D$3","v":0},0,0,0,0,0,0,0,0,null,null,"P3",0,0,0,0,0,0,0,{"$f":"CW69*'Look-up Refs'!$D$2+CX69*'Look-up Refs'!$D$3","v":0},0,0,0,0,0,0,0,0,null,null,"P4",0,0,0,0,0,0,0,{"$f":"DP69*'Look-up Refs'!$D$2+DQ69*'Look-up Refs'!$D$3","v":0},0,0,0,0,0,0,0,0,null,null,"P5",0,0,0,0,0,0,0,{"$f":"EI69*'Look-up Refs'!$D$2+EJ69*'Look-up Refs'!$D$3","v":0},0,0,0,0,0,0,0,0,null,null,"P6",0,0,0,0,0,0,0,{"$f":"FB69*'Look-up Refs'!$D$2+FC69*'Look-up Refs'!$D$3","v":0},0,0,0,0,0,0,0,0]
[null,null,"Boundary's Existing Heating System",2000,800,{"$f":"CONCATENATE(CONCATENATE(\"Heating source is roughly equivalent to \", TEXT(D70*0.293071039,\"#,### kW\"),\"  in new electrical demand. Please consider if impacts campus peak billing demand costs, and adding additional infrastructure costs to accomodate service upgrades as appropriate.\"),\n\nIF(ISBLANK(D70), \"Please enter the exiting system's heating capacity as this serves as a system cost metric later in the calculation. The load can still be overriden below.\",\"\"))","v":"Heating source is roughly equivalent to 586 kW  in new electrical demand. Please consider if impacts campus peak billing demand costs, and adding additional infrastructure costs to accomodate service upgrades as appropriate."},null,null,null,null,null,null,null,null,null,"A",null,null,null,null,null,null,null,null,null,null,null,"A",null,null,null,null,null,null,34,2059,0,0,0,0,0,0,0,{"$f":"'Life Cycle Analysis Tool'!$D$37","v":5.3022039999999996E-3},null,null,null,null,{"$error":"#N/A"},{"$error":"#N/A"},{"$error":"#N/A"},{"$error":"#N/A"},{"$error":"#N/A"},{"$error":"#N/A"},{"$error":"#N/A"},{"$error":"#N/A"},null,null,null,"P1",0,0,0,0,0,0,0,{"$f":"BK70*'Look-up Refs'!$D$2+BL70*'Look-up Refs'!$D$3","v":0},0,0,0,0,0,0,0,0,null,null,"P2",0,0,0,0,0,0,0,{"$f":"CD70*'Look-up Refs'!$D$2+CE70*'Look-up Refs'!$D$3","v":0},0,0,0,0,0,0,0,0,null,null,"P3",0,0,0,0,0,0,0,{"$f":"CW70*'Look-up Refs'!$D$2+CX70*'Look-up Refs'!$D$3","v":0},0,0,0,0,0,0,0,0,null,null,"P4",0,0,0,0,0,0,0,{"$f":"DP70*'Look-up Refs'!$D$2+DQ70*'Look-up Refs'!$D$3","v":0},0,0,0,0,0,0,0,0,null,null,"P5",0,0,0,0,0,0,0,{"$f":"EI70*'Look-up Refs'!$D$2+EJ70*'Look-up Refs'!$D$3","v":0},0,0,0,0,0,0,0,0,null,null,"P6",0,0,0,0,0,0,0,{"$f":"FB70*'Look-up Refs'!$D$2+FC70*'Look-up Refs'!$D$3","v":0},0,0,0,0,0,0,0,0]
[null,null,"Boundary's Existing Cooling System",150,1500,{"$f":"IF(strategy_select_main=\"Electric Boilers\", \"Consider setting cooling system loads to zero for the strategy you are evaluating\", \"\")","v":""},null,null,null,null,null,null,null,null,null,"A",null,null,null,null,null,null,null,null,null,null,null,"A",null,null,null,null,null,null,35,2060,0,0,0,0,0,0,0,{"$f":"'Life Cycle Analysis Tool'!$D$37","v":5.3022039999999996E-3},null,null,null,null,{"$error":"#N/A"},{"$error":"#N/A"},{"$error":"#N/A"},{"$error":"#N/A"},{"$error":"#N/A"},{"$error":"#N/A"},{"$error":"#N/A"},{"$error":"#N/A"},null,null,null,"P1",0,0,0,0,0,0,0,{"$f":"BK71*'Look-up Refs'!$D$2+BL71*'Look-up Refs'!$D$3","v":0},0,0,0,0,0,0,0,0,null,null,"P2",0,0,0,0,0,0,0,{"$f":"CD71*'Look-up Refs'!$D$2+CE71*'Look-up Refs'!$D$3","v":0},0,0,0,0,0,0,0,0,null,null,"P3",0,0,0,0,0,0,0,{"$f":"CW71*'Look-up Refs'!$D$2+CX71*'Look-up Refs'!$D$3","v":0},0,0,0,0,0,0,0,0,null,null,"P4",0,0,0,0,0,0,0,{"$f":"DP71*'Look-up Refs'!$D$2+DQ71*'Look-up Refs'!$D$3","v":0},0,0,0,0,0,0,0,0,null,null,"P5",0,0,0,0,0,0,0,{"$f":"EI71*'Look-up Refs'!$D$2+EJ71*'Look-up Refs'!$D$3","v":0},0,0,0,0,0,0,0,0,null,null,"P6",0,0,0,0,0,0,0,{"$f":"FB71*'Look-up Refs'!$D$2+FC71*'Look-up Refs'!$D$3","v":0},0,0,0,0,0,0,0,0]
[null,null,null,null,null,null,null,null,null,null,null,null,null,null,null,"A",null,null,null,null,null,null,null,null,null,null,null,"A",null,null,null,null,null,null,36,2061,0,0,0,0,0,0,0,{"$f":"'Life Cycle Analysis Tool'!$D$37","v":5.3022039999999996E-3},null,null,null,null,{"$error":"#N/A"},{"$error":"#N/A"},{"$error":"#N/A"},{"$error":"#N/A"},{"$error":"#N/A"},{"$error":"#N/A"},{"$error":"#N/A"},{"$error":"#N/A"},null,null,null,"P1",0,0,0,0,0,0,0,{"$f":"BK72*'Look-up Refs'!$D$2+BL72*'Look-up Refs'!$D$3","v":0},0,0,0,0,0,0,0,0,null,null,"P2",0,0,0,0,0,0,0,{"$f":"CD72*'Look-up Refs'!$D$2+CE72*'Look-up Refs'!$D$3","v":0},0,0,0,0,0,0,0,0,null,null,"P3",0,0,0,0,0,0,0,{"$f":"CW72*'Look-up Refs'!$D$2+CX72*'Look-up Refs'!$D$3","v":0},0,0,0,0,0,0,0,0,null,null,"P4",0,0,0,0,0,0,0,{"$f":"DP72*'Look-up Refs'!$D$2+DQ72*'Look-up Refs'!$D$3","v":0},0,0,0,0,0,0,0,0,null,null,"P5",0,0,0,0,0,0,0,{"$f":"EI72*'Look-up Refs'!$D$2+EJ72*'Look-up Refs'!$D$3","v":0},0,0,0,0,0,0,0,0,null,null,"P6",0,0,0,0,0,0,0,{"$f":"FB72*'Look-up Refs'!$D$2+FC72*'Look-up Refs'!$D$3","v":0},0,0,0,0,0,0,0,0]
[null,null,"Existing Load Calculation","Calculated Annual Heating Load (kBTU/yr)","Calculated Annual Cooling Load (kBTU/yr)","User Override Annual Heating Load (kBTU/yr)","User Override Annual Cooling Load (kBTU/yr)","Future Heating Load % Multiplier","Future Cooling Load % multiplier","Modeled Annual Heating Load (kBTU/yr)","Modeled Annual Cooling Load (kBTU/yr)",null,null,null,null,"A",null,null,null,null,null,null,null,null,null,null,null,"A",null,null,null,null,null,null,37,2062,0,0,0,0,0,0,0,{"$f":"'Life Cycle Analysis Tool'!$D$37","v":5.3022039999999996E-3},null,null,null,null,{"$error":"#N/A"},{"$error":"#N/A"},{"$error":"#N/A"},{"$error":"#N/A"},{"$error":"#N/A"},{"$error":"#N/A"},{"$error":"#N/A"},{"$error":"#N/A"},null,null,null,"P1",0,0,0,0,0,0,0,{"$f":"BK73*'Look-up Refs'!$D$2+BL73*'Look-up Refs'!$D$3","v":0},0,0,0,0,0,0,0,0,null,null,"P2",0,0,0,0,0,0,0,{"$f":"CD73*'Look-up Refs'!$D$2+CE73*'Look-up Refs'!$D$3","v":0},0,0,0,0,0,0,0,0,null,null,"P3",0,0,0,0,0,0,0,{"$f":"CW73*'Look-up Refs'!$D$2+CX73*'Look-up Refs'!$D$3","v":0},0,0,0,0,0,0,0,0,null,null,"P4",0,0,0,0,0,0,0,{"$f":"DP73*'Look-up Refs'!$D$2+DQ73*'Look-up Refs'!$D$3","v":0},0,0,0,0,0,0,0,0,null,null,"P5",0,0,0,0,0,0,0,{"$f":"EI73*'Look-up Refs'!$D$2+EJ73*'Look-up Refs'!$D$3","v":0},0,0,0,0,0,0,0,0,null,null,"P6",0,0,0,0,0,0,0,{"$f":"FB73*'Look-up Refs'!$D$2+FC73*'Look-up Refs'!$D$3","v":0},0,0,0,0,0,0,0,0]
[null,null,"System Heat and Cooling Loads",{"$f":"+E70*D70","v":1600000},{"$f":"+D71*E71*12","v":2700000},null,null,null,null,{"$f":"IF(F74>0,F74,D74)*IF(H74>0,H74,1)","v":1600000},{"$f":"IF(G74>0,G74,E74)*IF(I74>0,I74,1)","v":2700000},"note load multiplier is applied to either the calculated load or the user entered override",null,null,null,"A",null,null,null,null,null,null,null,null,null,null,null,"A",null,null,null,null,null,null,38,2063,0,0,0,0,0,0,0,{"$f":"'Life Cycle Analysis Tool'!$D$37","v":5.3022039999999996E-3},null,null,null,null,{"$error":"#N/A"},{"$error":"#N/A"},{"$error":"#N/A"},{"$error":"#N/A"},{"$error":"#N/A"},{"$error":"#N/A"},{"$error":"#N/A"},{"$error":"#N/A"},null,null,null,"P1",0,0,0,0,0,0,0,{"$f":"BK74*'Look-up Refs'!$D$2+BL74*'Look-up Refs'!$D$3","v":0},0,0,0,0,0,0,0,0,null,null,"P2",0,0,0,0,0,0,0,{"$f":"CD74*'Look-up Refs'!$D$2+CE74*'Look-up Refs'!$D$3","v":0},0,0,0,0,0,0,0,0,null,null,"P3",0,0,0,0,0,0,0,{"$f":"CW74*'Look-up Refs'!$D$2+CX74*'Look-up Refs'!$D$3","v":0},0,0,0,0,0,0,0,0,null,null,"P4",0,0,0,0,0,0,0,{"$f":"DP74*'Look-up Refs'!$D$2+DQ74*'Look-up Refs'!$D$3","v":0},0,0,0,0,0,0,0,0,null,null,"P5",0,0,0,0,0,0,0,{"$f":"EI74*'Look-up Refs'!$D$2+EJ74*'Look-up Refs'!$D$3","v":0},0,0,0,0,0,0,0,0,null,null,"P6",0,0,0,0,0,0,0,{"$f":"FB74*'Look-up Refs'!$D$2+FC74*'Look-up Refs'!$D$3","v":0},0,0,0,0,0,0,0,0]
[null,null,null,null,null,null,null,null,null,null,null,null,null,null,null,"A",null,null,null,null,null,null,null,null,null,null,null,"A",null,null,null,null,null,null,39,2064,0,0,0,0,0,0,0,{"$f":"'Life Cycle Analysis Tool'!$D$37","v":5.3022039999999996E-3},null,null,null,null,{"$error":"#N/A"},{"$error":"#N/A"},{"$error":"#N/A"},{"$error":"#N/A"},{"$error":"#N/A"},{"$error":"#N/A"},{"$error":"#N/A"},{"$error":"#N/A"},null,null,null,"P1",0,0,0,0,0,0,0,{"$f":"BK75*'Look-up Refs'!$D$2+BL75*'Look-up Refs'!$D$3","v":0},0,0,0,0,0,0,0,0,null,null,"P2",0,0,0,0,0,0,0,{"$f":"CD75*'Look-up Refs'!$D$2+CE75*'Look-up Refs'!$D$3","v":0},0,0,0,0,0,0,0,0,null,null,"P3",0,0,0,0,0,0,0,{"$f":"CW75*'Look-up Refs'!$D$2+CX75*'Look-up Refs'!$D$3","v":0},0,0,0,0,0,0,0,0,null,null,"P4",0,0,0,0,0,0,0,{"$f":"DP75*'Look-up Refs'!$D$2+DQ75*'Look-up Refs'!$D$3","v":0},0,0,0,0,0,0,0,0,null,null,"P5",0,0,0,0,0,0,0,{"$f":"EI75*'Look-up Refs'!$D$2+EJ75*'Look-up Refs'!$D$3","v":0},0,0,0,0,0,0,0,0,null,null,"P6",0,0,0,0,0,0,0,{"$f":"FB75*'Look-up Refs'!$D$2+FC75*'Look-up Refs'!$D$3","v":0},0,0,0,0,0,0,0,0]
[null,null,"HHW Temperature","Default HHW Temperature (°F)","Override HHW Temperature (°F)","Modeled HHW Temperature (°F)",null,null,null,null,null,null,null,null,null,"A",null,null,null,null,null,null,null,null,null,null,null,"A",null,null,null,null,null,null,40,2065,0,0,0,0,0,0,0,{"$f":"'Life Cycle Analysis Tool'!$D$37","v":5.3022039999999996E-3},null,null,null,null,{"$error":"#N/A"},{"$error":"#N/A"},{"$f":"IFERROR(SUMIFS($BH76:$AAU76,$BH$3:$AAU$3,AY$32,$BG$1:$AAT$1,AY$33)*$AW76*AY$34,NA())","v":{"$error":"#N/A"}},{"$error":"#N/A"},{"$error":"#N/A"},{"$error":"#N/A"},{"$error":"#N/A"},{"$error":"#N/A"},null,null,null,"P1",0,0,0,0,0,0,0,{"$f":"BK76*'Look-up Refs'!$D$2+BL76*'Look-up Refs'!$D$3","v":0},0,0,0,0,0,0,0,0,null,null,"P2",0,0,0,0,0,0,0,{"$f":"CD76*'Look-up Refs'!$D$2+CE76*'Look-up Refs'!$D$3","v":0},0,0,0,0,0,0,0,0,null,null,"P3",0,0,0,0,0,0,0,{"$f":"CW76*'Look-up Refs'!$D$2+CX76*'Look-up Refs'!$D$3","v":0},0,0,0,0,0,0,0,0,null,null,"P4",0,0,0,0,0,0,0,{"$f":"DP76*'Look-up Refs'!$D$2+DQ76*'Look-up Refs'!$D$3","v":0},0,0,0,0,0,0,0,0,null,null,"P5",0,0,0,0,0,0,0,{"$f":"EI76*'Look-up Refs'!$D$2+EJ76*'Look-up Refs'!$D$3","v":0},0,0,0,0,0,0,0,0,null,null,"P6",0,0,0,0,0,0,0,{"$f":"FB76*'Look-up Refs'!$D$2+FC76*'Look-up Refs'!$D$3","v":0},0,0,0,0,0,0,0,0]
[null,null,"Operating Temperature (°F)",140,null,{"$f":"IF(E77>0,E77,D77)","v":140},"used as applicable to calculate default COP on a technology by technology basis",null,null,null,null,null,null,null,null,"A",null,null,null,null,null,null,null,null,null,null,null,"A"]
[null,null,null,null,null,null,null,null,null,null,null,null,null,null,null,"A",null,null,null,null,null,null,null,null,null,null,null,"A"]
[null,null,"4. Energy Usage Calculations",null,null,null,null,null,null,null,null,null,null,null,null,"A",null,null,null,null,null,null,null,null,null,null,null,"A"]
[null,null,"Energy calculations for each alternate are performed based on assumed efficiencies for technology using the existing loads calculated above.\n•Users can override all defaults to match more specific knowledge, as necessary.",null,null,null,null,null,null,null,null,null,null,null,null,"A",null,null,null,null,null,null,null,null,null,null,null,"A"]
[null,null,"Replace in Kind Energy Usage","Assumed Heating Efficiency (%)","Assumed Cooling Efficiency (COP)","User Override Heating Efficiency (%)","User Override Cooling Efficiency (COP)","Electricity Use (kWh/yr)","Natural Gas Use (therms/yr)",null,null,null,null,null,null,"A",null,null,null,null,null,null,null,null,null,null,null,"A"]
["E1",null,{"$f":"IF(Z60=\"Yes\",E60,\"\")","v":"Status Quo Replacement (Replace in Kind)"},{"$f":"IF($Z61=\"Yes\",IFERROR(INDEX('Technology Metric Look-ups'!$1:$1048576,MATCH($D60,'Technology Metric Look-ups'!$A:$A,0),MATCH(D$81,'Technology Metric Look-ups'!$1:$1,0)),\"\"),\"\")","v":0.82},{"$f":"IF($Z61=\"Yes\",IFERROR(INDEX('Technology Metric Look-ups'!$1:$1048576,MATCH($D60,'Technology Metric Look-ups'!$A:$A,0),MATCH(E$81,'Technology Metric Look-ups'!$1:$1,0)),\"\"),\"\")","v":3.3},null,null,{"$f":"IF(Z60=\"Yes\",IF(G82>0,+K74/G82/3.412,+K74/E82/3.412),\"\")","v":239795.37461366304},{"$f":"IF(Z60=\"Yes\",IF(F82>0,ROUND(J74/F82/100,0),ROUND(J74/D82/100,0)),\"\")","v":19512},null,null,null,null,null,null,"A",null,null,null,null,null,null,null,null,null,null,null,"A"]
[null,null,null,null,null,null,null,null,null,null,null,null,null,null,null,"A",null,null,null,null,null,null,null,null,null,null,null,"A"]
[null,null,"Low Carbon Technology Characteristics","Assumed Heat Recovery Operation (% heating load)","Assumed Heating Only Efficiency (COP)","Assumed Heat Recover Mode (COP)","Assumed Cooling Only Efficiency (COP)","User Override Heat Recovery Operation (% heating load)","User Override Heating Only Efficiency (COP)","User Override Heat Recover Mode (COP)","User Override Cooling Only (COP)",null,null,null,null,"A",null,null,null,null,null,null,null,null,null,null,null,"A"]
["E2",null,{"$f":"IF(Z61=\"Yes\",E61,\"\")","v":"Scenario 1 (WWHP Heating Only)"},{"$f":"IF($Z61=\"Yes\",IFERROR(INDEX('Technology Metric Look-ups'!$1:$1048576,MATCH($D61,'Technology Metric Look-ups'!$A:$A,0),MATCH(D$84,'Technology Metric Look-ups'!$1:$1,0)),\"\"),\"\")","v":0},{"$f":"IF($Z61=\"Yes\",IFERROR(INDEX('Technology Metric Look-ups'!$1:$1048576,MATCH($D61,'Technology Metric Look-ups'!$A:$A,0),MATCH(E$84,'Technology Metric Look-ups'!$1:$1,0)),\"\"),\"\")","v":4.7},{"$f":"IF($Z61=\"Yes\",IFERROR(INDEX('Technology Metric Look-ups'!$1:$1048576,MATCH($D61,'Technology Metric Look-ups'!$A:$A,0),MATCH(F$84,'Technology Metric Look-ups'!$1:$1,0)),\"\"),\"\")","v":0},{"$f":"IF($Z61=\"Yes\",IFERROR(INDEX('Technology Metric Look-ups'!$1:$1048576,MATCH($D61,'Technology Metric Look-ups'!$A:$A,0),MATCH(G$84,'Technology Metric Look-ups'!$1:$1,0)),\"\"),\"\")","v":0},null,null,null,null,{"$f":"IF(LEFT($D61,6)=\"Custom\",\"Please note that user overrides must be used to appropriately life cycle characteristics use for custom technologies\",\"\")","v":""},null,null,null,"A",null,null,null,null,null,null,null,null,null,null,null,"A"]
["E3",null,{"$f":"IF(Z62=\"Yes\",E62,\"\")","v":"Scenario 2 (Air-to-Air Heat Pump )"},{"$f":"IF($Z62=\"Yes\",IFERROR(INDEX('Technology Metric Look-ups'!$1:$1048576,MATCH($D62,'Technology Metric Look-ups'!$A:$A,0),MATCH(D$84,'Technology Metric Look-ups'!$1:$1,0)),\"\"),\"\")","v":0},{"$f":"IF($Z62=\"Yes\",IFERROR(INDEX('Technology Metric Look-ups'!$1:$1048576,MATCH($D62,'Technology Metric Look-ups'!$A:$A,0),MATCH(E$84,'Technology Metric Look-ups'!$1:$1,0)),\"\"),\"\")","v":3.4},{"$f":"IF($Z62=\"Yes\",IFERROR(INDEX('Technology Metric Look-ups'!$1:$1048576,MATCH($D62,'Technology Metric Look-ups'!$A:$A,0),MATCH(F$84,'Technology Metric Look-ups'!$1:$1,0)),\"\"),\"\")","v":0},{"$f":"IF($Z62=\"Yes\",IFERROR(INDEX('Technology Metric Look-ups'!$1:$1048576,MATCH($D62,'Technology Metric Look-ups'!$A:$A,0),MATCH(G$84,'Technology Metric Look-ups'!$1:$1,0)),\"\"),\"\")","v":3.1},null,null,null,null,{"$f":"IF(LEFT($D62,6)=\"Custom\",\"Please note that user overrides must be used to appropriately life cycle characteristics use for custom technologies\",\"\")","v":""},null,null,null,"A",null,null,null,null,null,null,null,null,null,null,null,"A"]
["E4",null,{"$f":"IF(Z63=\"Yes\",E63,\"\")","v":"Scenario 3 (WSHP)"},{"$f":"IF($Z63=\"Yes\",IFERROR(INDEX('Technology Metric Look-ups'!$1:$1048576,MATCH($D63,'Technology Metric Look-ups'!$A:$A,0),MATCH(D$84,'Technology Metric Look-ups'!$1:$1,0)),\"\"),\"\")","v":0},{"$f":"IF($Z63=\"Yes\",IFERROR(INDEX('Technology Metric Look-ups'!$1:$1048576,MATCH($D63,'Technology Metric Look-ups'!$A:$A,0),MATCH(E$84,'Technology Metric Look-ups'!$1:$1,0)),\"\"),\"\")","v":5.2},{"$f":"IF($Z63=\"Yes\",IFERROR(INDEX('Technology Metric Look-ups'!$1:$1048576,MATCH($D63,'Technology Metric Look-ups'!$A:$A,0),MATCH(F$84,'Technology Metric Look-ups'!$1:$1,0)),\"\"),\"\")","v":0},{"$f":"IF($Z63=\"Yes\",IFERROR(INDEX('Technology Metric Look-ups'!$1:$1048576,MATCH($D63,'Technology Metric Look-ups'!$A:$A,0),MATCH(G$84,'Technology Metric Look-ups'!$1:$1,0)),\"\"),\"\")","v":4.5},null,null,null,null,{"$f":"IF(LEFT($D63,6)=\"Custom\",\"Please note that user overrides must be used to appropriately life cycle characteristics use for custom technologies\",\"\")","v":""},null,null,null,"A",null,null,null,null,null,null,null,null,null,null,null,"A"]
["E5",null,{"$f":"IF(Z64=\"Yes\",E64,\"\")","v":"Scenario 4 (VRF Air Cooled)"},{"$f":"IF($Z64=\"Yes\",IFERROR(INDEX('Technology Metric Look-ups'!$1:$1048576,MATCH($D64,'Technology Metric Look-ups'!$A:$A,0),MATCH(D$84,'Technology Metric Look-ups'!$1:$1,0)),\"\"),\"\")","v":0},{"$f":"IF($Z64=\"Yes\",IFERROR(INDEX('Technology Metric Look-ups'!$1:$1048576,MATCH($D64,'Technology Metric Look-ups'!$A:$A,0),MATCH(E$84,'Technology Metric Look-ups'!$1:$1,0)),\"\"),\"\")","v":3.75},{"$f":"IF($Z64=\"Yes\",IFERROR(INDEX('Technology Metric Look-ups'!$1:$1048576,MATCH($D64,'Technology Metric Look-ups'!$A:$A,0),MATCH(F$84,'Technology Metric Look-ups'!$1:$1,0)),\"\"),\"\")","v":0},{"$f":"IF($Z64=\"Yes\",IFERROR(INDEX('Technology Metric Look-ups'!$1:$1048576,MATCH($D64,'Technology Metric Look-ups'!$A:$A,0),MATCH(G$84,'Technology Metric Look-ups'!$1:$1,0)),\"\"),\"\")","v":3.5},null,null,null,null,{"$f":"IF(LEFT($D64,6)=\"Custom\",\"Please note that user overrides must be used to appropriately life cycle characteristics use for custom technologies\",\"\")","v":""},null,null,null,"A",null,null,null,null,null,null,null,null,null,null,null,"A"]
["E6",null,{"$f":"IF(Z65=\"Yes\",E65,\"\")","v":"Scenario 5 (VRF Water Cooled)"},{"$f":"IF($Z65=\"Yes\",IFERROR(INDEX('Technology Metric Look-ups'!$1:$1048576,MATCH($D65,'Technology Metric Look-ups'!$A:$A,0),MATCH(D$84,'Technology Metric Look-ups'!$1:$1,0)),\"\"),\"\")","v":0},{"$f":"IF($Z65=\"Yes\",IFERROR(INDEX('Technology Metric Look-ups'!$1:$1048576,MATCH($D65,'Technology Metric Look-ups'!$A:$A,0),MATCH(E$84,'Technology Metric Look-ups'!$1:$1,0)),\"\"),\"\")","v":5},{"$f":"IF($Z65=\"Yes\",IFERROR(INDEX('Technology Metric Look-ups'!$1:$1048576,MATCH($D65,'Technology Metric Look-ups'!$A:$A,0),MATCH(F$84,'Technology Metric Look-ups'!$1:$1,0)),\"\"),\"\")","v":0},{"$f":"IF($Z65=\"Yes\",IFERROR(INDEX('Technology Metric Look-ups'!$1:$1048576,MATCH($D65,'Technology Metric Look-ups'!$A:$A,0),MATCH(G$84,'Technology Metric Look-ups'!$1:$1,0)),\"\"),\"\")","v":4},null,null,null,null,{"$f":"IF(LEFT($D65,6)=\"Custom\",\"Please note that user overrides must be used to appropriately life cycle characteristics use for custom technologies\",\"\")","v":""},null,null,null,"A",null,null,null,null,null,null,null,null,null,null,null,"A"]
[null,null,null,null,null,null,null,null,null,null,null,null,null,null,null,"A",null,null,null,null,null,null,null,null,null,null,null,"A"]
[null,null,"Low Carbon Technology Energy Use","Heating Load - Heat Only (kBTU/yr)","Heating Load - Heat Recovery (kBTU/yr)","Cooling Load - Heat Recovery (kBTU/yr)","Cooling Load - Cooling Only (kBTU/yr)","Heating Energy (kWh/yr)","Cooling Energy (kWh/yr)","Electricity Use (kWh/yr)",null,null,null,null,null,"A",null,null,null,null,null,null,null,null,null,null,null,"A"]
["E2",null,{"$f":"C85","v":"Scenario 1 (WWHP Heating Only)"},{"$f":"IF(Z61=\"Yes\",+$J$74-E92,\"\")","v":1600000},{"$f":"IF(Z61=\"Yes\",IF(+H85>0,H85,D85)*$J$74,\"\")","v":0},{"$f":"IF(Z61=\"Yes\",E92*IF($F61=\"Heating Only\",0,1),\"\")","v":0},{"$f":"IF(Z61=\"Yes\",($K$74-F92)*IF($F61=\"Heating Only\",0,1),\"\")","v":0},{"$f":"IF(Z61=\"Yes\",ROUND((D92/IF(I85>0,I85,E85)+IFERROR(E92/IF(J85>0,J85,F85),0))/3.412,0),\"\")","v":99773},{"$f":"IF(Z61=\"Yes\",ROUND((IF(F92>0,F92/IF(J85>0,J85,F85),0)+IF(G92>0,G92/IF(K85>0,K85,G85),0))/3.412,0),\"\")","v":0},{"$f":"IF(Z61=\"Yes\",SUM(H92:I92),\"\")","v":99773},{"$f":"IF(LEFT($C92,6)=\"Custom\",\"Please note that user overrides must be used to appropriately life cycle characteristics use for custom technologies\",\"\")","v":""},null,null,null,null,"A",null,null,null,null,null,null,null,null,null,null,null,"A"]
["E3",null,{"$f":"C86","v":"Scenario 2 (Air-to-Air Heat Pump )"},{"$f":"IF(Z62=\"Yes\",+$J$74-E93,\"\")","v":1600000},{"$f":"IF(Z62=\"Yes\",IF(+H86>0,H86,D86)*$J$74,\"\")","v":0},{"$f":"IF(Z62=\"Yes\",E93*IF($F62=\"Heating Only\",0,1),\"\")","v":0},{"$f":"IF(Z62=\"Yes\",($K$74-F93)*IF($F62=\"Heating Only\",0,1),\"\")","v":2700000},{"$f":"IF(Z62=\"Yes\",ROUND((D93/IF(I86>0,I86,E86)+IFERROR(E93/IF(J86>0,J86,F86),0))/3.412,0),\"\")","v":137922},{"$f":"IF(Z62=\"Yes\",ROUND((IF(F93>0,F93/IF(J86>0,J86,F86),0)+IF(G93>0,G93/IF(K86>0,K86,G86),0))/3.412,0),\"\")","v":255266},{"$f":"IF(Z62=\"Yes\",SUM(H93:I93),\"\")","v":393188},{"$f":"IF(LEFT($C93,6)=\"Custom\",\"Please note that user overrides must be used to appropriately life cycle characteristics use for custom technologies\",\"\")","v":""},null,null,null,null,"A",null,null,null,null,null,null,null,null,null,null,null,"A"]
["E4",null,"Scenario 3 (WSHP)",{"$f":"IF(Z63=\"Yes\",+$J$74-E94,\"\")","v":1600000},{"$f":"IF(Z63=\"Yes\",IF(+H87>0,H87,D87)*$J$74,\"\")","v":0},{"$f":"IF(Z63=\"Yes\",E94*IF($F63=\"Heating Only\",0,1),\"\")","v":0},{"$f":"IF(Z63=\"Yes\",($K$74-F94)*IF($F63=\"Heating Only\",0,1),\"\")","v":2700000},{"$f":"IF(Z63=\"Yes\",ROUND((D94/IF(I87>0,I87,E87)+IFERROR(E94/IF(J87>0,J87,F87),0))/3.412,0),\"\")","v":90179},{"$f":"IF(Z63=\"Yes\",ROUND((IF(F94>0,F94/IF(J87>0,J87,F87),0)+IF(G94>0,G94/IF(K87>0,K87,G87),0))/3.412,0),\"\")","v":175850},{"$f":"IF(Z63=\"Yes\",SUM(H94:I94),\"\")","v":266029},"",null,null,null,null,"A",null,null,null,null,null,null,null,null,null,null,null,"A"]
["E5",null,"Scenario 4 (VRF Air Cooled)",{"$f":"IF(Z64=\"Yes\",+$J$74-E95,\"\")","v":1600000},{"$f":"IF(Z64=\"Yes\",IF(+H88>0,H88,D88)*$J$74,\"\")","v":0},{"$f":"IF(Z64=\"Yes\",E95*IF($F64=\"Heating Only\",0,1),\"\")","v":0},{"$f":"IF(Z64=\"Yes\",($K$74-F95)*IF($F64=\"Heating Only\",0,1),\"\")","v":2700000},{"$f":"IF(Z64=\"Yes\",ROUND((D95/IF(I88>0,I88,E88)+IFERROR(E95/IF(J88>0,J88,F88),0))/3.412,0),\"\")","v":125049},{"$f":"IF(Z64=\"Yes\",ROUND((IF(F95>0,F95/IF(J88>0,J88,F88),0)+IF(G95>0,G95/IF(K88>0,K88,G88),0))/3.412,0),\"\")","v":226093},{"$f":"IF(Z64=\"Yes\",SUM(H95:I95),\"\")","v":351142},"",null,null,null,null,"A",null,null,null,null,null,null,null,null,null,null,null,"A"]
["E6",null,"Scenario 5 (VRF Water Cooled)",{"$f":"IF(Z65=\"Yes\",+$J$74-E96,\"\")","v":1600000},{"$f":"IF(Z65=\"Yes\",IF(+H89>0,H89,D89)*$J$74,\"\")","v":0},{"$f":"IF(Z65=\"Yes\",E96*IF($F65=\"Heating Only\",0,1),\"\")","v":0},{"$f":"IF(Z65=\"Yes\",($K$74-F96)*IF($F65=\"Heating Only\",0,1),\"\")","v":2700000},{"$f":"IF(Z65=\"Yes\",ROUND((D96/IF(I89>0,I89,E89)+IFERROR(E96/IF(J89>0,J89,F89),0))/3.412,0),\"\")","v":93787},{"$f":"IF(Z65=\"Yes\",ROUND((IF(F96>0,F96/IF(J89>0,J89,F89),0)+IF(G96>0,G96/IF(K89>0,K89,G89),0))/3.412,0),\"\")","v":197831},{"$f":"IF(Z65=\"Yes\",SUM(H96:I96),\"\")","v":291618},"",null,null,null,null,"A",null,null,null,null,null,null,null,null,null,null,null,"A"]
[null,null,null,null,null,null,null,null,null,null,null,null,null,null,null,"A",null,null,null,null,null,null,null,null,null,null,null,"A"]
[null,null,"5. Project Costs",null,null,null,null,null,null,null,null,null,null,null,null,"A",null,null,null,null,null,null,null,null,null,null,null,"A"]
[null,null,"Default Project Costs are based on metrics outlined in the associated Technology Report and described on the Technologies Table tab.\n•All override costs should be entered for the User's current year. Defaults are in 2020 dollars.\n•In-kind replacement costs are based on $50/kBTU and $1,200/ton for equipment only.\n•Default low carbon technology costs apply to the heating capacity entered above in the Existing System Load Calculations section.\n•Installation costs are assumed to be 150% of the equipment only costs.\n•Users can either override the total project costs using the \"User Override Project Cost\" entry or add/subtract to using the \"Additional Required Infrastructure Costs\" entry to accommodate for more specific User knowledge.\n•Maintenance costs are based on a multiplier to the forward looking maintenance cost of a new in-kind system.",null,null,null,null,null,null,null,null,null,null,null,null,"A",null,null,null,null,null,null,null,null,null,null,null,"A"]
[null,null,"Technology and Installation Costs","Assumed Technology Report Cost Metric ($/MBH)","Default Technology Only Project Cost ($)","Installation Cost Markup (%)","Total Default Project Cost ($)","User Override Project Cost ($)","Additional Required Infrastructure Costs ($)","Modeled Project Cost ($)",null,null,null,null,null,"A",null,null,null,null,null,null,null,null,null,null,null,"A"]
["C1",null,{"$f":"C82","v":"Status Quo Replacement (Replace in Kind)"},null,{"$f":"IF($Z60=\"Yes\",IFERROR(D70*50+D71*1200,\"\"),\"\")","v":280000},{"$f":"IF($Z60=\"Yes\",150%,\"\")","v":1.5},{"$f":"IF($Z60=\"Yes\",E101*F101+E101,\"\")","v":700000},null,0,{"$f":"IFERROR(IF(Z60=\"Yes\",IF(H101>0,H101,G101)+I101,\"\"),\"\")","v":700000},"in-kind replacement is calculated using $50/MBH for heating equipment and $1,200/ton for cooling equipment",null,null,null,null,"A",null,null,null,null,null,null,null,null,null,{"$f":"$D$18","v":2020},null,"A"]
["C2",null,{"$f":"C85","v":"Scenario 1 (WWHP Heating Only)"},{"$f":"IF($Z61=\"Yes\",IFERROR(INDEX('Technology Metric Look-ups'!$1:$1048576,MATCH($D61,'Technology Metric Look-ups'!$A:$A,0),MATCH(D$100,'Technology Metric Look-ups'!$1:$1,0)),\"\"),\"\")","v":150},{"$f":"IFERROR(D102*($D$70),\"\")","v":300000},{"$f":"IF(Z61=\"Yes\",150%,\"\")","v":1.5},750000,null,0,750000,{"$f":"IF(LEFT($D61,6)=\"Custom\",\"Please note that user overrides must be used to appropriately life cycle characteristics use for custom technologies\",\"\")","v":""},null,null,null,null,"A",null,null,null,null,null,null,null,null,null,2020,null,"A"]
["C3",null,{"$f":"C86","v":"Scenario 2 (Air-to-Air Heat Pump )"},{"$f":"IF($Z62=\"Yes\",IFERROR(INDEX('Technology Metric Look-ups'!$1:$1048576,MATCH($D62,'Technology Metric Look-ups'!$A:$A,0),MATCH(D$100,'Technology Metric Look-ups'!$1:$1,0)),\"\"),\"\")","v":50},{"$f":"IFERROR(D103*($D$70),\"\")","v":100000},1.5,250000,null,0,250000,{"$f":"IF(LEFT($D62,6)=\"Custom\",\"Please note that user overrides must be used to appropriately life cycle characteristics use for custom technologies\",\"\")","v":""},null,null,null,null,"A",null,null,null,null,null,null,null,null,null,2020,null,"A"]
["C4",null,{"$f":"C87","v":"Scenario 3 (WSHP)"},{"$f":"IF($Z63=\"Yes\",IFERROR(INDEX('Technology Metric Look-ups'!$1:$1048576,MATCH($D63,'Technology Metric Look-ups'!$A:$A,0),MATCH(D$100,'Technology Metric Look-ups'!$1:$1,0)),\"\"),\"\")","v":100},{"$f":"IFERROR(D104*($D$70),\"\")","v":200000},1.5,500000,null,0,500000,{"$f":"IF(LEFT($D63,6)=\"Custom\",\"Please note that user overrides must be used to appropriately life cycle characteristics use for custom technologies\",\"\")","v":""},null,null,null,null,"A",null,null,null,null,null,null,null,null,null,2020,null,"A"]
["C5",null,{"$f":"C88","v":"Scenario 4 (VRF Air Cooled)"},{"$f":"IF($Z64=\"Yes\",IFERROR(INDEX('Technology Metric Look-ups'!$1:$1048576,MATCH($D64,'Technology Metric Look-ups'!$A:$A,0),MATCH(D$100,'Technology Metric Look-ups'!$1:$1,0)),\"\"),\"\")","v":150},{"$f":"IFERROR(D105*($D$70),\"\")","v":300000},1.5,750000,null,0,750000,{"$f":"IF(LEFT($D64,6)=\"Custom\",\"Please note that user overrides must be used to appropriately life cycle characteristics use for custom technologies\",\"\")","v":""},null,null,null,null,"A",null,null,null,null,null,null,null,null,null,2020,null,"A"]
["C6",null,{"$f":"C89","v":"Scenario 5 (VRF Water Cooled)"},{"$f":"IF($Z65=\"Yes\",IFERROR(INDEX('Technology Metric Look-ups'!$1:$1048576,MATCH($D65,'Technology Metric Look-ups'!$A:$A,0),MATCH(D$100,'Technology Metric Look-ups'!$1:$1,0)),\"\"),\"\")","v":150},{"$f":"IFERROR(D106*N78/8760,\"\")","v":0},1.5,0,null,0,0,{"$f":"IF(LEFT($D65,6)=\"Custom\",\"Please note that user overrides must be used to appropriately life cycle characteristics use for custom technologies\",\"\")","v":""},null,null,null,null,"A",null,null,null,null,null,null,null,null,null,2020,null,"A"]
[null,null,null,null,null,null,null,null,null,null,null,null,null,null,null,"A",null,null,null,null,null,null,null,null,null,null,null,"A"]
[null,null,"Existing Annual Maintenance Costs",25000,"forward looking with new in-kind equipment",null,null,null,null,null,null,null,null,null,null,"A",null,null,null,null,null,null,null,null,null,null,null,"A"]
[null,null,null,null,null,null,null,null,null,null,null,null,null,null,null,"A",null,null,null,null,null,null,null,null,null,null,null,"A"]
[null,null,"Annual Maintenance Costs","Assumed System Annual Maintenance Cost Multiplier (% of new in-kind)","Default Annual Maintenance Cost ($)","User Override Annual Maintenance Cost ($)","Modeled Annual Maintenance Cost ($)",null,null,null,null,null,null,null,null,"A",null,null,null,null,null,null,null,null,null,null,null,"A"]
["M1",null,{"$f":"C101","v":"Status Quo Replacement (Replace in Kind)"},{"$f":"IF($Z60=\"Yes\",IFERROR(INDEX('Technology Metric Look-ups'!$1:$1048576,MATCH($D60,'Technology Metric Look-ups'!$A:$A,0),MATCH(D$110,'Technology Metric Look-ups'!$1:$1,0)),\"\"),\"\")","v":1},{"$f":"IFERROR(D111*$D$108,\"\")","v":25000},null,{"$f":"IF(Z60=\"Yes\",IF(F111>0,F111,E111),\"\")","v":25000},null,null,null,null,null,null,null,null,"A",null,null,null,null,null,null,null,null,null,{"$f":"$D$18","v":2020},null,"A"]
["M2",null,{"$f":"C85","v":"Scenario 1 (WWHP Heating Only)"},{"$f":"IF($Z61=\"Yes\",IFERROR(INDEX('Technology Metric Look-ups'!$1:$1048576,MATCH($D61,'Technology Metric Look-ups'!$A:$A,0),MATCH(D$110,'Technology Metric Look-ups'!$1:$1,0)),\"\"),\"\")","v":1.125},28125,null,28125,{"$f":"IF(LEFT($D61,6)=\"Custom\",\"Please note that user overrides must be used to appropriately life cycle characteristics use for custom technologies\",\"\")","v":""},null,null,null,null,null,null,null,"A",null,null,null,null,null,null,null,null,null,2020,null,"A"]
["M3",null,{"$f":"C86","v":"Scenario 2 (Air-to-Air Heat Pump )"},{"$f":"IF($Z62=\"Yes\",IFERROR(INDEX('Technology Metric Look-ups'!$1:$1048576,MATCH($D62,'Technology Metric Look-ups'!$A:$A,0),MATCH(D$110,'Technology Metric Look-ups'!$1:$1,0)),\"\"),\"\")","v":1},25000,null,25000,{"$f":"IF(LEFT($D62,6)=\"Custom\",\"Please note that user overrides must be used to appropriately life cycle characteristics use for custom technologies\",\"\")","v":""},null,null,null,null,null,null,null,"A",null,null,null,null,null,null,null,null,null,2020,null,"A"]
["M4",null,{"$f":"C87","v":"Scenario 3 (WSHP)"},{"$f":"IF($Z63=\"Yes\",IFERROR(INDEX('Technology Metric Look-ups'!$1:$1048576,MATCH($D63,'Technology Metric Look-ups'!$A:$A,0),MATCH(D$110,'Technology Metric Look-ups'!$1:$1,0)),\"\"),\"\")","v":1.25},31250,null,31250,{"$f":"IF(LEFT($D63,6)=\"Custom\",\"Please note that user overrides must be used to appropriately life cycle characteristics use for custom technologies\",\"\")","v":""},null,null,null,null,null,null,null,"A",null,null,null,null,null,null,null,null,null,2020,null,"A"]
["M5",null,{"$f":"C88","v":"Scenario 4 (VRF Air Cooled)"},{"$f":"IF($Z64=\"Yes\",IFERROR(INDEX('Technology Metric Look-ups'!$1:$1048576,MATCH($D64,'Technology Metric Look-ups'!$A:$A,0),MATCH(D$110,'Technology Metric Look-ups'!$1:$1,0)),\"\"),\"\")","v":1.125},28125,null,28125,{"$f":"IF(LEFT($D64,6)=\"Custom\",\"Please note that user overrides must be used to appropriately life cycle characteristics use for custom technologies\",\"\")","v":""},null,null,null,null,null,null,null,"A",null,null,null,null,null,null,null,null,null,2020,null,"A"]
["M6",null,{"$f":"C89","v":"Scenario 5 (VRF Water Cooled)"},{"$f":"IF($Z65=\"Yes\",IFERROR(INDEX('Technology Metric Look-ups'!$1:$1048576,MATCH($D65,'Technology Metric Look-ups'!$A:$A,0),MATCH(D$110,'Technology Metric Look-ups'!$1:$1,0)),\"\"),\"\")","v":1.125},28125,null,28125,{"$f":"IF(LEFT($D65,6)=\"Custom\",\"Please note that user overrides must be used to appropriately life cycle characteristics use for custom technologies\",\"\")","v":""},null,null,null,null,null,null,null,"A",null,null,null,null,null,null,null,null,null,2020,null,"A"]
[null,null,null,null,null,null,null,null,null,null,null,null,null,null,null,"A",null,null,null,null,null,null,null,null,null,null,null,"A"]
[null,null,"6. Analysis Results",null,null,null,null,null,null,null,null,null,null,null,null,"A",null,null,null,null,null,null,null,null,null,null,null,"A"]
[null,null,"The resulting annual and life cycle results for each project are included below.\n•First year numbers highlight the total project cost and the starting maintenance costs for each project as well as the annual energy usage\n•Life cycle numbers summarize each project performance over the project duration as defined above.\n•The life cycle comparison dropdown can be used to view different project characteristics over the full life of the project.",null,null,null,null,null,null,null,null,null,null,null,null,"A",null,null,null,null,null,null,null,null,null,null,null,"A"]
[null,null,"Project Fundamentals","Full Project First Cost ($)","Full Project Annual Maintenance Cost ($/yr)","Full Project Electric Use (kWh/yr)","Full Project Therm Use (Therm/yr)","Starting Project Total GHG Emissions (MT/yr)",null,null,null,null,null,null,null,"A",null,null,null,null,null,null,null,null,null,"Include in Life Cycle Comparison",null,"A"]
["P1",null,{"$f":"C101","v":"Status Quo Replacement (Replace in Kind)"},{"$f":"J101","v":700000},{"$f":"G111","v":25000},{"$f":"H82","v":239795.37461366304},{"$f":"I82","v":19512},{"$f":"IF($Z60=\"Yes\",(F121*'Look-up Refs'!$H$2+G121*'Life Cycle Analysis Tool'!$D$37),\"\")","v":175.37507402063136},null,null,null,null,null,null,null,"A",null,null,null,null,null,null,null,null,null,{"$f":"Z60","v":"Yes"},null,"A"]
["P2",null,"Scenario 1 (WWHP Heating Only)",750000,28125,{"$f":"J92","v":99773},null,{"$f":"IF($Z61=\"Yes\",(F122*'Look-up Refs'!$H$2+G122*'Life Cycle Analysis Tool'!$D$37),\"\")","v":29.923519068000001},null,null,null,null,null,null,null,"A",null,null,null,null,null,null,null,null,null,"Yes",null,"A"]
["P3",null,"Scenario 2 (Air-to-Air Heat Pump )",250000,25000,{"$f":"J93","v":393188},null,{"$f":"IF($Z62=\"Yes\",(F123*'Look-up Refs'!$H$2+G123*'Life Cycle Analysis Tool'!$D$37),\"\")","v":117.923372208},null,null,null,null,null,null,null,"A",null,null,null,null,null,null,null,null,null,"Yes",null,"A"]
["P4",null,"Scenario 3 (WSHP)",500000,31250,{"$f":"J94","v":266029},null,{"$f":"IF($Z63=\"Yes\",(F124*'Look-up Refs'!$H$2+G124*'Life Cycle Analysis Tool'!$D$37),\"\")","v":79.786353563999995},null,null,null,null,null,null,null,"A",null,null,null,null,null,null,null,null,null,"Yes",null,"A"]
["P5",null,"Scenario 4 (VRF Air Cooled)",750000,28125,{"$f":"J95","v":351142},null,{"$f":"IF($Z64=\"Yes\",(F125*'Look-up Refs'!$H$2+G125*'Life Cycle Analysis Tool'!$D$37),\"\")","v":105.313104072},null,null,null,null,null,null,null,"A",null,null,null,null,null,null,null,null,null,"Yes",null,"A"]
["P6",null,"Scenario 5 (VRF Water Cooled)",0,28125,{"$f":"J96","v":291618},null,{"$f":"IF($Z65=\"Yes\",(F126*'Look-up Refs'!$H$2+G126*'Life Cycle Analysis Tool'!$D$37),\"\")","v":87.460904088000007},null,null,null,null,null,null,null,"A",null,null,null,null,null,null,null,null,null,"Yes",null,"A"]
[null,null,null,null,null,null,null,null,null,null,null,null,null,null,null,"A",null,null,null,null,null,null,null,null,null,null,null,"A"]
[null,null,"Life Cycle Operating Summary","Electric Energy Use (kWh)","Natural Gas Energy Use (therm)","GHG Emissions (MT)","Project Capital Costs ($)","Maintenance Cost ($)","Electric Cost ($)","Natural Gas Cost ($)","GHG Emissions Cost ($/yr)","Total Energy Cost ($/yr)","Total Project Cost ($)",null,null,"A",null,null,null,null,null,null,null,null,null,null,null,"A"]
["R1",null,{"$f":"C101","v":"Status Quo Replacement (Replace in Kind)"},{"$f":"IF($Z60=\"Yes\",SUMIFS($BH$5:$AAR$5,$BH$1:$AAR$1,$A121,$BH$3:$AAR$3,D$128),\"\")","v":4795907.4922732618},390240,2687.5821227089718,811491.85200999992,802115.80917903397,852442.95552883297,462418.34244651254,66333.913801703951,{"$f":"IF($Z60=\"Yes\",I129+J129,\"\")","v":1314861.2979753455},{"$f":"IF($Z60=\"Yes\",SUM(G129:K129),\"\")","v":2994802.8729660832},null,null,"A",null,null,null,null,null,null,null,null,null,null,null,"A"]
["R2",null,"Scenario 1 (WWHP Heating Only)",{"$f":"IF($Z61=\"Yes\",SUMIFS($BH$5:$AAR$5,$BH$1:$AAR$1,$A122,$BH$3:$AAR$3,D$128),\"\")","v":1995460},null,{"$f":"IF($Z61=\"Yes\",SUMIFS($BH$5:$AAR$5,$BH$1:$AAR$1,$A122,$BH$3:$AAR$3,F$128),\"\")","v":257.32195759258985},869455.55572499987,902380.28532641323,354680.69865402742,null,{"$f":"IF($Z61=\"Yes\",SUMIFS($BH$5:$AAR$5,$BH$1:$AAR$1,$A122,$BH$3:$AAR$3,K$128),\"\")","v":5921.7502075534785},354680.69865402742,2132438.289912994,null,null,"A",null,null,null,null,null,null,null,null,null,null,null,"A"]
["R3",null,"Scenario 2 (Air-to-Air Heat Pump )",{"$f":"IF($Z62=\"Yes\",SUMIFS($BH$5:$AAR$5,$BH$1:$AAR$1,$A123,$BH$3:$AAR$3,D$128),\"\")","v":7863760},null,1014.0609770370261,289818.51857499994,802115.80917903397,1397734.8034275782,null,{"$f":"IF($Z62=\"Yes\",SUMIFS($BH$5:$AAR$5,$BH$1:$AAR$1,$A123,$BH$3:$AAR$3,K$128),\"\")","v":23336.585254603324},1397734.8034275782,2513005.7164362157,null,null,"A",null,null,null,null,null,null,null,null,null,null,null,"A"]
["R4",null,"Scenario 3 (WSHP)",{"$f":"IF($Z63=\"Yes\",SUMIFS($BH$5:$AAR$5,$BH$1:$AAR$1,$A124,$BH$3:$AAR$3,D$128),\"\")","v":5320580},null,686.10849685184439,579637.03714999987,1002644.7614737927,945700.25540208572,null,{"$f":"IF($Z63=\"Yes\",SUMIFS($BH$5:$AAR$5,$BH$1:$AAR$1,$A124,$BH$3:$AAR$3,K$128),\"\")","v":15789.414831319542},945700.25540208572,2543771.4688571976,null,null,"A",null,null,null,null,null,null,null,null,null,null,null,"A"]
["R5",null,"Scenario 4 (VRF Air Cooled)",{"$f":"IF($Z64=\"Yes\",SUMIFS($BH$5:$AAR$5,$BH$1:$AAR$1,$A125,$BH$3:$AAR$3,D$128),\"\")","v":7022840},null,905.62122851850881,869455.55572499987,902380.28532641323,1248266.4637404159,null,{"$f":"IF($Z64=\"Yes\",SUMIFS($BH$5:$AAR$5,$BH$1:$AAR$1,$A125,$BH$3:$AAR$3,K$128),\"\")","v":20841.061323010676},1248266.4637404159,3040943.3661148399,null,null,"A",null,null,null,null,null,null,null,null,null,null,null,"A"]
["R6",null,"Scenario 5 (VRF Water Cooled)",{"$f":"IF($Z65=\"Yes\",SUMIFS($BH$5:$AAR$5,$BH$1:$AAR$1,$A126,$BH$3:$AAR$3,D$128),\"\")","v":5832360},null,752.10442333332492,0,902380.28532641323,1036665.9916018379,null,{"$f":"IF($Z65=\"Yes\",SUMIFS($BH$5:$AAR$5,$BH$1:$AAR$1,$A126,$BH$3:$AAR$3,K$128),\"\")","v":17308.179086790315},1036665.9916018379,1956354.4560150416,null,null,"A",null,null,null,null,null,null,null,null,null,null,null,"A"]
[null,null,null,null,null,null,null,null,null,null,null,null,null,null,null,"A",null,null,null,null,null,null,null,null,null,null,null,"A"]
[null,null,"6a. Reporting Figures",null,null,null,null,null,null,null,null,null,null,null,null,"A",null,null,null,null,null,null,null,null,null,null,null,"A"]
[null,null,"Lifecycle Comparison",null,null,null,null,null,null,null,null,null,null,null,null,"A",null,null,null,null,null,null,null,null,null,null,null,"A"]
["LC1",null,"Total Utility Cost ($)","toggle to view different variables",null,null,null,null,null,null,null,null,null,null,null,"A",null,null,null,null,null,null,null,null,null,null,null,"A"]
[null,null,null,null,null,null,null,null,null,null,null,null,null,null,null,"A",null,null,null,null,null,null,null,null,null,null,null,"A"]
[null,null,null,null,null,null,null,null,null,null,null,null,null,null,null,"A",null,null,null,null,null,null,null,null,null,null,null,"A"]
[null,null,null,null,null,null,null,null,null,null,null,null,null,null,null,"A",null,null,null,null,null,null,null,null,null,null,null,"A"]
[null,null,null,null,null,null,null,null,null,null,null,null,null,null,null,"A",null,null,null,null,null,null,null,null,null,null,null,"A"]
[null,null,null,null,null,null,null,null,null,null,null,null,null,null,null,"A",null,null,null,null,null,null,null,null,null,null,null,"A"]
[null,null,null,null,null,null,null,null,null,null,null,null,null,null,null,"A",null,null,null,null,null,null,null,null,null,null,null,"A"]
[null,null,null,null,null,null,null,null,null,null,null,null,null,null,null,"A",null,null,null,null,null,null,null,null,null,null,null,"A"]
[null,null,null,null,null,null,null,null,null,null,null,null,null,null,null,"A",null,null,null,null,null,null,null,null,null,null,null,"A"]
[null,null,null,null,null,null,null,null,null,null,null,null,null,null,null,"A",null,null,null,null,null,null,null,null,null,null,null,"A"]
[null,null,null,null,null,null,null,null,null,null,null,null,null,null,null,"A",null,null,null,null,null,null,null,null,null,null,null,"A"]
[null,null,null,null,null,null,null,null,null,null,null,null,null,null,null,"A",null,null,null,null,null,null,null,null,null,null,null,"A"]
[null,null,null,null,null,null,null,null,null,null,null,null,null,null,null,"A",null,null,null,null,null,null,null,null,null,null,null,"A"]
[null,null,null,null,null,null,null,null,null,null,null,null,null,null,null,"A",null,null,null,null,null,null,null,null,null,null,null,"A"]
[null,null,null,null,null,null,null,null,null,null,null,null,null,null,null,"A",null,null,null,null,null,null,null,null,null,null,null,"A"]
[null,null,null,null,null,null,null,null,null,null,null,null,null,null,null,"A",null,null,null,null,null,null,null,null,null,null,null,"A"]
[null,null,null,null,null,null,null,null,null,null,null,null,null,null,null,"A",null,null,null,null,null,null,null,null,null,null,null,"A"]
[null,null,null,null,null,null,null,null,null,null,null,null,null,null,null,"A",null,null,null,null,null,null,null,null,null,null,null,"A"]
[null,null,null,null,null,null,null,null,null,null,null,null,null,null,null,"A",null,null,null,null,null,null,null,null,null,null,null,"A"]
[null,null,null,null,null,null,null,null,null,null,null,null,null,null,null,"A",null,null,null,null,null,null,null,null,null,null,null,"A"]
[null,null,null,null,null,null,null,null,null,null,null,null,null,null,null,"A",null,null,null,null,null,null,null,null,null,null,null,"A"]
[null,null,null,null,null,null,null,null,null,null,null,null,null,null,null,"A",null,null,null,null,null,null,null,null,null,null,null,"A"]
[null,null,null,null,null,null,null,null,null,null,null,null,null,null,null,"A",null,null,null,null,null,null,null,null,null,null,null,"A"]
[null,null,null,null,null,null,null,null,null,null,null,null,null,null,null,"A",null,null,null,null,null,null,null,null,null,null,null,"A"]

{"sheet":"Life Cycle Results Summary","index":2,"n_rows":129,"n_cols":218,"rows_kept":129,"cut":false,"hidden":false,"merged":[]}
[null,null,null,null,null,null,null,null,null,null,null,null,null,null,null,null,null,null,null,null,null,null,null,null,null,null,"A"]
[null,null,null,null,null,null,null,null,null,null,null,null,null,null,"A",null,null,null,null,null,null,null,null,null,null,null,"A",null,null,null,null,null,{"$f":"CONCATENATE(AG4,\"-\",AG3)","v":"P1-Cumulative Total Operating Cost ($)"},{"$f":"CONCATENATE(AH4,\"-\",AH3)","v":"P2-Cumulative Total Operating Cost ($)"},"P3-Cumulative Total Operating Cost ($)","P4-Cumulative Total Operating Cost ($)","P5-Cumulative Total Operating Cost ($)","P6-Cumulative Total Operating Cost ($)",null,{"$f":"CONCATENATE(AN4,\"-\",AN3)","v":"P1-Cumulative Capital and Maintenance Costs ($)"},{"$f":"CONCATENATE(AO4,\"-\",AO3)","v":"P2-Cumulative Capital and Maintenance Costs ($)"},{"$f":"CONCATENATE(AP4,\"-\",AP3)","v":"P3-Cumulative Capital and Maintenance Costs ($)"},{"$f":"CONCATENATE(AQ4,\"-\",AQ3)","v":"P4-Cumulative Capital and Maintenance Costs ($)"},{"$f":"CONCATENATE(AR4,\"-\",AR3)","v":"P5-Cumulative Capital and Maintenance Costs ($)"},{"$f":"CONCATENATE(AS4,\"-\",AS3)","v":"P6-Cumulative Capital and Maintenance Costs ($)"},null,{"$f":"CONCATENATE(AU4,\"-\",AU3)","v":"P1-Cumulative Energy Costs ($)"},{"$f":"CONCATENATE(AV4,\"-\",AV3)","v":"P2-Cumulative Energy Costs ($)"},{"$f":"CONCATENATE(AW4,\"-\",AW3)","v":"P3-Cumulative Energy Costs ($)"},{"$f":"CONCATENATE(AX4,\"-\",AX3)","v":"P4-Cumulative Energy Costs ($)"},{"$f":"CONCATENATE(AY4,\"-\",AY3)","v":"P5-Cumulative Energy Costs ($)"},{"$f":"CONCATENATE(AZ4,\"-\",AZ3)","v":"P6-Cumulative Energy Costs ($)"},null,{"$f":"CONCATENATE(BB4,\"-\",BB3)","v":"P1-Cumulative GHG Costs ($)"},{"$f":"CONCATENATE(BC4,\"-\",BC3)","v":"P2-Cumulative GHG Costs ($)"},{"$f":"CONCATENATE(BD4,\"-\",BD3)","v":"P3-Cumulative GHG Costs ($)"},{"$f":"CONCATENATE(BE4,\"-\",BE3)","v":"P4-Cumulative GHG Costs ($)"},{"$f":"CONCATENATE(BF4,\"-\",BF3)","v":"P5-Cumulative GHG Costs ($)"},{"$f":"CONCATENATE(BG4,\"-\",BG3)","v":"P6-Cumulative GHG Costs ($)"},null,{"$f":"CONCATENATE(BI4,\"-\",BI3)","v":"P1-Cumulative GHG Emissions (MT)"},{"$f":"CONCATENATE(BJ4,\"-\",BJ3)","v":"P2-Cumulative GHG Emissions (MT)"},{"$f":"CONCATENATE(BK4,\"-\",BK3)","v":"P3-Cumulative GHG Emissions (MT)"},{"$f":"CONCATENATE(BL4,\"-\",BL3)","v":"P4-Cumulative GHG Emissions (MT)"},{"$f":"CONCATENATE(BM4,\"-\",BM3)","v":"P5-Cumulative GHG Emissions (MT)"},{"$f":"CONCATENATE(BN4,\"-\",BN3)","v":"P6-Cumulative GHG Emissions (MT)"},null,{"$f":"CONCATENATE(BP4,\"-\",BP3)","v":"P1-Cumulative Energy Use (kBtu)"},{"$f":"CONCATENATE(BQ4,\"-\",BQ3)","v":"P2-Cumulative Energy Use (kBtu)"},{"$f":"CONCATENATE(BR4,\"-\",BR3)","v":"P3-Cumulative Energy Use (kBtu)"},{"$f":"CONCATENATE(BS4,\"-\",BS3)","v":"P4-Cumulative Energy Use (kBtu)"},{"$f":"CONCATENATE(BT4,\"-\",BT3)","v":"P5-Cumulative Energy Use (kBtu)"},{"$f":"CONCATENATE(BU4,\"-\",BU3)","v":"P6-Cumulative Energy Use (kBtu)"}]
[null,"Life Cycle Analysis Results Summary",null,null,null,null,null,null,null,null,null,null,null,null,"A",null,null,null,null,null,null,null,null,null,null,null,"A",null,null,null,null,null,"Cumulative Total Operating Cost ($)",{"$f":"AG3","v":"Cumulative Total Operating Cost ($)"},{"$f":"AH3","v":"Cumulative Total Operating Cost ($)"},"Cumulative Total Operating Cost ($)","Cumulative Total Operating Cost ($)","Cumulative Total Operating Cost ($)",null,"Cumulative Capital and Maintenance Costs ($)",{"$f":"AN3","v":"Cumulative Capital and Maintenance Costs ($)"},{"$f":"AO3","v":"Cumulative Capital and Maintenance Costs ($)"},"Cumulative Capital and Maintenance Costs ($)","Cumulative Capital and Maintenance Costs ($)","Cumulative Capital and Maintenance Costs ($)",null,"Cumulative Energy Costs ($)",{"$f":"AU3","v":"Cumulative Energy Costs ($)"},{"$f":"AV3","v":"Cumulative Energy Costs ($)"},"Cumulative Energy Costs ($)","Cumulative Energy Costs ($)","Cumulative Energy Costs ($)",null,"Cumulative GHG Costs ($)",{"$f":"BB3","v":"Cumulative GHG Costs ($)"},{"$f":"BC3","v":"Cumulative GHG Costs ($)"},"Cumulative GHG Costs ($)","Cumulative GHG Costs ($)","Cumulative GHG Costs ($)",null,"Cumulative GHG Emissions (MT)",{"$f":"BI3","v":"Cumulative GHG Emissions (MT)"},{"$f":"BJ3","v":"Cumulative GHG Emissions (MT)"},"Cumulative GHG Emissions (MT)","Cumulative GHG Emissions (MT)","Cumulative GHG Emissions (MT)",null,"Cumulative Energy Use (kBtu)",{"$f":"BP3","v":"Cumulative Energy Use (kBtu)"},{"$f":"BQ3","v":"Cumulative Energy Use (kBtu)"},"Cumulative Energy Use (kBtu)","Cumulative Energy Use (kBtu)","Cumulative Energy Use (kBtu)"]
[null,"Project Fundamentals","Full Project First Cost ($)","Full Project Annual Maintenance Cost ($/yr)","Full Project Electric Use (kWh/yr)","Full Project Therm Use (Therm/yr)","Starting Project Total GHG Emissions (MT/yr)",null,null,null,null,null,null,null,"A",null,null,null,null,null,null,null,null,null,"Include in Life Cycle Comparison",null,"A",null,null,null,null,null,"P1","P2","P3","P4","P5","P6",null,"P1","P2","P3","P4","P5","P6",null,"P1","P2","P3","P4","P5","P6",null,"P1","P2","P3","P4","P5","P6",null,"P1","P2","P3","P4","P5","P6",null,"P1","P2","P3","P4","P5","P6",null,null,null,{"$f":"BY7","v":"P1"},{"$f":"BY4","v":"P1"},{"$f":"BZ4","v":"P1"},"P1","P1","P1","P1","P1","P1","P1","P1","P1","P1","P1","P1","P1","P1","P1","P1","P1","P1",null,null,null,{"$f":"CW7","v":"P2"},{"$f":"CW4","v":"P2"},{"$f":"CX4","v":"P2"},"P2","P2","P2","P2","P2","P2","P2","P2","P2","P2","P2","P2","P2","P2","P2","P2","P2","P2",null,null,null,null,{"$f":"DV7","v":"P3"},{"$f":"DV4","v":"P3"},{"$f":"DW4","v":"P3"},"P3","P3","P3","P3","P3","P3","P3","P3","P3","P3","P3","P3","P3","P3","P3","P3","P3","P3",null,null,null,{"$f":"ET7","v":"P4"},{"$f":"ET4","v":"P4"},{"$f":"EU4","v":"P4"},"P4","P4","P4","P4","P4","P4","P4","P4","P4","P4","P4","P4","P4","P4","P4","P4","P4","P4",null,null,null,{"$f":"FR7","v":"P5"},{"$f":"FR4","v":"P5"},{"$f":"FS4","v":"P5"},"P5","P5","P5","P5","P5","P5","P5","P5","P5","P5","P5","P5","P5","P5","P5","P5","P5","P5",null,null,null,{"$f":"GP7","v":"P6"},{"$f":"GP4","v":"P6"},{"$f":"GQ4","v":"P6"},"P6","P6","P6","P6","P6","P6","P6","P6","P6","P6","P6","P6","P6","P6","P6","P6","P6","P6"]
[null,{"$f":"IF($Y5=\"Yes\",'Life Cycle Analysis Tool'!C121,\"\")","v":"Status Quo Replacement (Replace in Kind)"},{"$f":"IF($Y5=\"Yes\",'Life Cycle Analysis Tool'!D121,\"\")","v":700000},{"$f":"IF($Y5=\"Yes\",'Life Cycle Analysis Tool'!E121,\"\")","v":25000},{"$f":"IF($Y5=\"Yes\",'Life Cycle Analysis Tool'!F121,\"\")","v":239795.37461366304},{"$f":"IF($Y5=\"Yes\",'Life Cycle Analysis Tool'!G121,\"\")","v":19512},{"$f":"IF($Y5=\"Yes\",'Life Cycle Analysis Tool'!H121,\"\")","v":175.37507402063136},null,null,null,null,null,null,null,"A",null,null,null,null,null,null,null,null,"P1",{"$f":"'Life Cycle Analysis Tool'!Z121","v":"Yes"},null,"A",null,null,null,null,null,{"$f":"IF(INDEX($Y:$Y,MATCH(AG$4,$X:$X,0),1)=\"Yes\",1,NA())","v":1},1,1,1,1,1,null,{"$f":"IF(INDEX($Y:$Y,MATCH(AN$4,$X:$X,0),1)=\"Yes\",1,NA())","v":1},1,1,1,1,1,null,{"$f":"IF(INDEX($Y:$Y,MATCH(AU$4,$X:$X,0),1)=\"Yes\",1,NA())","v":1},1,1,1,1,1,null,{"$f":"IF(INDEX($Y:$Y,MATCH(BB$4,$X:$X,0),1)=\"Yes\",1,NA())","v":1},1,1,1,1,1,null,{"$f":"IF(INDEX($Y:$Y,MATCH(BI$4,$X:$X,0),1)=\"Yes\",1,NA())","v":1},1,1,1,1,1,null,{"$f":"IF(INDEX($Y:$Y,MATCH(BP$4,$X:$X,0),1)=\"Yes\",1,NA())","v":1},1,1,1,1,1,null,null,null,{"$f":"CONCATENATE(BY4,\"-\",BY6)","v":"P1-Project Ref"},{"$f":"CONCATENATE(BZ4,\"-\",BZ6)","v":"P1-Project Capital Costs ($)"},"P1-Maintenance Cost ($)","P1-Electric Energy Use (kWh)","P1-Natural Gas Energy Use (therm)","P1-Electric GHG Emissions (MT)","P1-NG GHG Emissions (MT)","P1-GHG Emissions (MT)","P1-Kbtu Use per Year (kBtu/yr)","P1-Electric Cost ($)","P1-Natural Gas Cost ($)","P1-GHG Emissions Cost ($/yr)","P1-Total Energy Cost ($)","P1-Total Utility Cost ($)","P1-Annual Total Operating Cost ($)","P1-Cumulative Total Operating Cost ($)","P1-Cumulative Capital and Maintenance Costs ($)","P1-Cumulative Energy Costs ($)","P1-Cumulative GHG Costs ($)","P1-Cumulative GHG Emissions (MT)","P1-Cumulative Energy Use (kBtu)",null,null,null,{"$f":"CONCATENATE(CW4,\"-\",CW6)","v":"P2-Project Ref"},{"$f":"CONCATENATE(CX4,\"-\",CX6)","v":"P2-Project First Cost ($)"},{"$f":"CONCATENATE(CY4,\"-\",CY6)","v":"P2-Annual Maintenance Cost ($/yr)"},{"$f":"CONCATENATE(CZ4,\"-\",CZ6)","v":"P2-Electric Use (kWh/yr)"},{"$f":"CONCATENATE(DA4,\"-\",DA6)","v":"P2-Therm Use (Therm/yr)"},{"$f":"CONCATENATE(DB4,\"-\",DB6)","v":"P2-Electric GHG Emissions (MT)"},{"$f":"CONCATENATE(DC4,\"-\",DC6)","v":"P2-NG GHG Emissions (MT)"},{"$f":"CONCATENATE(DD4,\"-\",DD6)","v":"P2-GHG Emissions (MT)"},{"$f":"CONCATENATE(DE4,\"-\",DE6)","v":"P2-Kbtu Use per Year (kBtu/yr)"},{"$f":"CONCATENATE(DF4,\"-\",DF6)","v":"P2-Electric Cost ($/yr)"},{"$f":"CONCATENATE(DG4,\"-\",DG6)","v":"P2-Therm Cost ($/yr)"},{"$f":"CONCATENATE(DH4,\"-\",DH6)","v":"P2-GHG Cost ($/yr)"},{"$f":"CONCATENATE(DI4,\"-\",DI6)","v":"P2-Total Energy Cost ($/yr)"},{"$f":"CONCATENATE(DJ4,\"-\",DJ6)","v":"P2-Total Utility Cost"},{"$f":"CONCATENATE(DK4,\"-\",DK6)","v":"P2-Annual Total Operating Cost"},{"$f":"CONCATENATE(DL4,\"-\",DL6)","v":"P2-Cumulative Total Operating Cost ($)"},{"$f":"CONCATENATE(DM4,\"-\",DM6)","v":"P2-Cumulative Capital and Maintenance Costs ($)"},{"$f":"CONCATENATE(DN4,\"-\",DN6)","v":"P2-Cumulative Energy Costs ($)"},{"$f":"CONCATENATE(DO4,\"-\",DO6)","v":"P2-Cumulative GHG Costs ($)"},{"$f":"CONCATENATE(DP4,\"-\",DP6)","v":"P2-Cumulative GHG Emissions (MT)"},{"$f":"CONCATENATE(DQ4,\"-\",DQ6)","v":"P2-Cumulative Energy Use (kBtu)"},null,null,null,null,{"$f":"CONCATENATE(DV4,\"-\",DV6)","v":"P3-Project Ref"},{"$f":"CONCATENATE(DW4,\"-\",DW6)","v":"P3-Project First Cost ($)"},{"$f":"CONCATENATE(DX4,\"-\",DX6)","v":"P3-Annual Maintenance Cost ($/yr)"},{"$f":"CONCATENATE(DY4,\"-\",DY6)","v":"P3-Electric Use (kWh/yr)"},{"$f":"CONCATENATE(DZ4,\"-\",DZ6)","v":"P3-Therm Use (Therm/yr)"},{"$f":"CONCATENATE(EA4,\"-\",EA6)","v":"P3-Electric GHG Emissions (MT)"},{"$f":"CONCATENATE(EB4,\"-\",EB6)","v":"P3-NG GHG Emissions (MT)"},{"$f":"CONCATENATE(EC4,\"-\",EC6)","v":"P3-GHG Emissions (MT)"},{"$f":"CONCATENATE(ED4,\"-\",ED6)","v":"P3-Kbtu Use per Year (kBtu/yr)"},{"$f":"CONCATENATE(EE4,\"-\",EE6)","v":"P3-Electric Cost ($/yr)"},{"$f":"CONCATENATE(EF4,\"-\",EF6)","v":"P3-Therm Cost ($/yr)"},{"$f":"CONCATENATE(EG4,\"-\",EG6)","v":"P3-GHG Cost ($/yr)"},{"$f":"CONCATENATE(EH4,\"-\",EH6)","v":"P3-Total Energy Cost ($/yr)"},{"$f":"CONCATENATE(EI4,\"-\",EI6)","v":"P3-Total Utility Cost"},{"$f":"CONCATENATE(EJ4,\"-\",EJ6)","v":"P3-Annual Total Operating Cost"},{"$f":"CONCATENATE(EK4,\"-\",EK6)","v":"P3-Cumulative Total Operating Cost ($)"},{"$f":"CONCATENATE(EL4,\"-\",EL6)","v":"P3-Cumulative Capital and Maintenance Costs ($)"},{"$f":"CONCATENATE(EM4,\"-\",EM6)","v":"P3-Cumulative Energy Costs ($)"},{"$f":"CONCATENATE(EN4,\"-\",EN6)","v":"P3-Cumulative GHG Costs ($)"},{"$f":"CONCATENATE(EO4,\"-\",EO6)","v":"P3-Cumulative GHG Emissions (MT)"},{"$f":"CONCATENATE(EP4,\"-\",EP6)","v":"P3-Cumulative Energy Use (kBtu)"},null,null,null,{"$f":"CONCATENATE(ET4,\"-\",ET6)","v":"P4-Project Ref"},{"$f":"CONCATENATE(EU4,\"-\",EU6)","v":"P4-Project First Cost ($)"},{"$f":"CONCATENATE(EV4,\"-\",EV6)","v":"P4-Annual Maintenance Cost ($/yr)"},{"$f":"CONCATENATE(EW4,\"-\",EW6)","v":"P4-Electric Use (kWh/yr)"},{"$f":"CONCATENATE(EX4,\"-\",EX6)","v":"P4-Therm Use (Therm/yr)"},{"$f":"CONCATENATE(EY4,\"-\",EY6)","v":"P4-Electric GHG Emissions (MT)"},{"$f":"CONCATENATE(EZ4,\"-\",EZ6)","v":"P4-NG GHG Emissions (MT)"},{"$f":"CONCATENATE(FA4,\"-\",FA6)","v":"P4-GHG Emissions (MT)"},{"$f":"CONCATENATE(FB4,\"-\",FB6)","v":"P4-Kbtu Use per Year (kBtu/yr)"},{"$f":"CONCATENATE(FC4,\"-\",FC6)","v":"P4-Electric Cost ($/yr)"},{"$f":"CONCATENATE(FD4,\"-\",FD6)","v":"P4-Therm Cost ($/yr)"},{"$f":"CONCATENATE(FE4,\"-\",FE6)","v":"P4-GHG Cost ($/yr)"},{"$f":"CONCATENATE(FF4,\"-\",FF6)","v":"P4-Total Energy Cost ($/yr)"},{"$f":"CONCATENATE(FG4,\"-\",FG6)","v":"P4-Total Utility Cost"},{"$f":"CONCATENATE(FH4,\"-\",FH6)","v":"P4-Annual Total Operating Cost"},{"$f":"CONCATENATE(FI4,\"-\",FI6)","v":"P4-Cumulative Total Operating Cost ($)"},{"$f":"CONCATENATE(FJ4,\"-\",FJ6)","v":"P4-Cumulative Capital and Maintenance Costs ($)"},{"$f":"CONCATENATE(FK4,\"-\",FK6)","v":"P4-Cumulative Energy Costs ($)"},{"$f":"CONCATENATE(FL4,\"-\",FL6)","v":"P4-Cumulative GHG Costs ($)"},{"$f":"CONCATENATE(FM4,\"-\",FM6)","v":"P4-Cumulative GHG Emissions (MT)"},{"$f":"CONCATENATE(FN4,\"-\",FN6)","v":"P4-Cumulative Energy Use (kBtu)"},null,null,null,{"$f":"CONCATENATE(FR4,\"-\",FR6)","v":"P5-Project Ref"},{"$f":"CONCATENATE(FS4,\"-\",FS6)","v":"P5-Project First Cost ($)"},{"$f":"CONCATENATE(FT4,\"-\",FT6)","v":"P5-Annual Maintenance Cost ($/yr)"},{"$f":"CONCATENATE(FU4,\"-\",FU6)","v":"P5-Electric Use (kWh/yr)"},{"$f":"CONCATENATE(FV4,\"-\",FV6)","v":"P5-Therm Use (Therm/yr)"},{"$f":"CONCATENATE(FW4,\"-\",FW6)","v":"P5-Electric GHG Emissions (MT)"},{"$f":"CONCATENATE(FX4,\"-\",FX6)","v":"P5-NG GHG Emissions (MT)"},{"$f":"CONCATENATE(FY4,\"-\",FY6)","v":"P5-GHG Emissions (MT)"},{"$f":"CONCATENATE(FZ4,\"-\",FZ6)","v":"P5-Kbtu Use per Year (kBtu/yr)"},{"$f":"CONCATENATE(GA4,\"-\",GA6)","v":"P5-Electric Cost ($/yr)"},{"$f":"CONCATENATE(GB4,\"-\",GB6)","v":"P5-Therm Cost ($/yr)"},{"$f":"CONCATENATE(GC4,\"-\",GC6)","v":"P5-GHG Cost ($/yr)"},{"$f":"CONCATENATE(GD4,\"-\",GD6)","v":"P5-Total Energy Cost ($/yr)"},{"$f":"CONCATENATE(GE4,\"-\",GE6)","v":"P5-Total Utility Cost"},{"$f":"CONCATENATE(GF4,\"-\",GF6)","v":"P5-Annual Total Operating Cost"},{"$f":"CONCATENATE(GG4,\"-\",GG6)","v":"P5-Cumulative Total Operating Cost ($)"},{"$f":"CONCATENATE(GH4,\"-\",GH6)","v":"P5-Cumulative Capital and Maintenance Costs ($)"},{"$f":"CONCATENATE(GI4,\"-\",GI6)","v":"P5-Cumulative Energy Costs ($)"},{"$f":"CONCATENATE(GJ4,\"-\",GJ6)","v":"P5-Cumulative GHG Costs ($)"},{"$f":"CONCATENATE(GK4,\"-\",GK6)","v":"P5-Cumulative GHG Emissions (MT)"},{"$f":"CONCATENATE(GL4,\"-\",GL6)","v":"P5-Cumulative Energy Use (kBtu)"},null,null,null,{"$f":"CONCATENATE(GP4,\"-\",GP6)","v":"P6-Project Ref"},{"$f":"CONCATENATE(GQ4,\"-\",GQ6)","v":"P6-Project First Cost ($)"},{"$f":"CONCATENATE(GR4,\"-\",GR6)","v":"P6-Annual Maintenance Cost ($/yr)"},{"$f":"CONCATENATE(GS4,\"-\",GS6)","v":"P6-Electric Use (kWh/yr)"},{"$f":"CONCATENATE(GT4,\"-\",GT6)","v":"P6-Therm Use (Therm/yr)"},{"$f":"CONCATENATE(GU4,\"-\",GU6)","v":"P6-Electric GHG Emissions (MT)"},{"$f":"CONCATENATE(GV4,\"-\",GV6)","v":"P6-NG GHG Emissions (MT)"},{"$f":"CONCATENATE(GW4,\"-\",GW6)","v":"P6-GHG Emissions (MT)"},{"$f":"CONCATENATE(GX4,\"-\",GX6)","v":"P6-Kbtu Use per Year (kBtu/yr)"},{"$f":"CONCATENATE(GY4,\"-\",GY6)","v":"P6-Electric Cost ($/yr)"},{"$f":"CONCATENATE(GZ4,\"-\",GZ6)","v":"P6-Therm Cost ($/yr)"},{"$f":"CONCATENATE(HA4,\"-\",HA6)","v":"P6-GHG Cost ($/yr)"},{"$f":"CONCATENATE(HB4,\"-\",HB6)","v":"P6-Total Energy Cost ($/yr)"},{"$f":"CONCATENATE(HC4,\"-\",HC6)","v":"P6-Total Utility Cost"},{"$f":"CONCATENATE(HD4,\"-\",HD6)","v":"P6-Annual Total Operating Cost"},{"$f":"CONCATENATE(HE4,\"-\",HE6)","v":"P6-Cumulative Total Operating Cost ($)"},{"$f":"CONCATENATE(HF4,\"-\",HF6)","v":"P6-Cumulative Capital and Maintenance Costs ($)"},{"$f":"CONCATENATE(HG4,\"-\",HG6)","v":"P6-Cumulative Energy Costs ($)"},{"$f":"CONCATENATE(HH4,\"-\",HH6)","v":"P6-Cumulative GHG Costs ($)"},{"$f":"CONCATENATE(HI4,\"-\",HI6)","v":"P6-Cumulative GHG Emissions (MT)"},{"$f":"CONCATENATE(HJ4,\"-\",HJ6)","v":"P6-Cumulative Energy Use (kBtu)"}]
[null,{"$f":"IF($Y6=\"Yes\",'Life Cycle Analysis Tool'!C122,\"\")","v":"Scenario 1 (WWHP Heating Only)"},{"$f":"IF($Y6=\"Yes\",'Life Cycle Analysis Tool'!D122,\"\")","v":750000},{"$f":"IF($Y6=\"Yes\",'Life Cycle Analysis Tool'!E122,\"\")","v":28125},{"$f":"IF($Y6=\"Yes\",'Life Cycle Analysis Tool'!F122,\"\")","v":99773},null,{"$f":"IF($Y6=\"Yes\",'Life Cycle Analysis Tool'!H122,\"\")","v":29.923519068000001},null,null,null,null,null,null,null,"A",null,null,null,null,null,null,null,null,"P2",{"$f":"'Life Cycle Analysis Tool'!Z122","v":"Yes"},null,"A",null,"LC Include","LC Include","Year","Calendar Year",{"$f":"IF(INDEX($Y:$Y,MATCH(AG$4,$X:$X,0),1)=\"Yes\",INDEX($B:$B,MATCH(AG$4,$X:$X,0),1),\"\")","v":"Status Quo Replacement (Replace in Kind)"},"Scenario 1 (WWHP Heating Only)","Scenario 2 (Air-to-Air Heat Pump )","Scenario 3 (WSHP)","Scenario 4 (VRF Air Cooled)","Scenario 5 (VRF Water Cooled)",null,{"$f":"IF(INDEX($Y:$Y,MATCH(AN$4,$X:$X,0),1)=\"Yes\",INDEX($B:$B,MATCH(AN$4,$X:$X,0),1),\"\")","v":"Status Quo Replacement (Replace in Kind)"},"Scenario 1 (WWHP Heating Only)","Scenario 2 (Air-to-Air Heat Pump )","Scenario 3 (WSHP)","Scenario 4 (VRF Air Cooled)","Scenario 5 (VRF Water Cooled)",null,{"$f":"IF(INDEX($Y:$Y,MATCH(AU$4,$X:$X,0),1)=\"Yes\",INDEX($B:$B,MATCH(AU$4,$X:$X,0),1),\"\")","v":"Status Quo Replacement (Replace in Kind)"},"Scenario 1 (WWHP Heating Only)","Scenario 2 (Air-to-Air Heat Pump )","Scenario 3 (WSHP)","Scenario 4 (VRF Air Cooled)","Scenario 5 (VRF Water Cooled)",null,{"$f":"IF(INDEX($Y:$Y,MATCH(BB$4,$X:$X,0),1)=\"Yes\",INDEX($B:$B,MATCH(BB$4,$X:$X,0),1),\"\")","v":"Status Quo Replacement (Replace in Kind)"},"Scenario 1 (WWHP Heating Only)","Scenario 2 (Air-to-Air Heat Pump )","Scenario 3 (WSHP)","Scenario 4 (VRF Air Cooled)","Scenario 5 (VRF Water Cooled)",null,{"$f":"IF(INDEX($Y:$Y,MATCH(BI$4,$X:$X,0),1)=\"Yes\",INDEX($B:$B,MATCH(BI$4,$X:$X,0),1),\"\")","v":"Status Quo Replacement (Replace in Kind)"},"Scenario 1 (WWHP Heating Only)","Scenario 2 (Air-to-Air Heat Pump )","Scenario 3 (WSHP)","Scenario 4 (VRF Air Cooled)","Scenario 5 (VRF Water Cooled)",null,{"$f":"IF(INDEX($Y:$Y,MATCH(BP$4,$X:$X,0),1)=\"Yes\",INDEX($B:$B,MATCH(BP$4,$X:$X,0),1),\"\")","v":"Status Quo Replacement (Replace in Kind)"},"Scenario 1 (WWHP Heating Only)","Scenario 2 (Air-to-Air Heat Pump )","Scenario 3 (WSHP)","Scenario 4 (VRF Air Cooled)","Scenario 5 (VRF Water Cooled)",null,null,null,"Project Ref","Project Capital Costs ($)","Maintenance Cost ($)","Electric Energy Use (kWh)","Natural Gas Energy Use (therm)","Electric GHG Emissions (MT)","NG GHG Emissions (MT)","GHG Emissions (MT)","Kbtu Use per Year (kBtu/yr)","Electric Cost ($)","Natural Gas Cost ($)","GHG Emissions Cost ($/yr)","Total Energy Cost ($)","Total Utility Cost ($)","Annual Total Operating Cost ($)","Cumulative Total Operating Cost ($)","Cumulative Capital and Maintenance Costs ($)","Cumulative Energy Costs ($)","Cumulative GHG Costs ($)","Cumulative GHG Emissions (MT)","Cumulative Energy Use (kBtu)",null,null,null,"Project Ref","Project First Cost ($)","Annual Maintenance Cost ($/yr)","Electric Use (kWh/yr)","Therm Use (Therm/yr)","Electric GHG Emissions (MT)","NG GHG Emissions (MT)","GHG Emissions (MT)","Kbtu Use per Year (kBtu/yr)","Electric Cost ($/yr)","Therm Cost ($/yr)","GHG Cost ($/yr)","Total Energy Cost ($/yr)","Total Utility Cost","Annual Total Operating Cost","Cumulative Total Operating Cost ($)","Cumulative Capital and Maintenance Costs ($)","Cumulative Energy Costs ($)","Cumulative GHG Costs ($)","Cumulative GHG Emissions (MT)","Cumulative Energy Use (kBtu)",null,null,null,null,"Project Ref","Project First Cost ($)","Annual Maintenance Cost ($/yr)","Electric Use (kWh/yr)","Therm Use (Therm/yr)","Electric GHG Emissions (MT)","NG GHG Emissions (MT)","GHG Emissions (MT)","Kbtu Use per Year (kBtu/yr)","Electric Cost ($/yr)","Therm Cost ($/yr)","GHG Cost ($/yr)","Total Energy Cost ($/yr)","Total Utility Cost","Annual Total Operating Cost","Cumulative Total Operating Cost ($)","Cumulative Capital and Maintenance Costs ($)","Cumulative Energy Costs ($)","Cumulative GHG Costs ($)","Cumulative GHG Emissions (MT)","Cumulative Energy Use (kBtu)",null,null,null,"Project Ref","Project First Cost ($)","Annual Maintenance Cost ($/yr)","Electric Use (kWh/yr)","Therm Use (Therm/yr)","Electric GHG Emissions (MT)","NG GHG Emissions (MT)","GHG Emissions (MT)","Kbtu Use per Year (kBtu/yr)","Electric Cost ($/yr)","Therm Cost ($/yr)","GHG Cost ($/yr)","Total Energy Cost ($/yr)","Total Utility Cost","Annual Total Operating Cost","Cumulative Total Operating Cost ($)","Cumulative Capital and Maintenance Costs ($)","Cumulative Energy Costs ($)","Cumulative GHG Costs ($)","Cumulative GHG Emissions (MT)","Cumulative Energy Use (kBtu)",null,null,null,"Project Ref","Project First Cost ($)","Annual Maintenance Cost ($/yr)","Electric Use (kWh/yr)","Therm Use (Therm/yr)","Electric GHG Emissions (MT)","NG GHG Emissions (MT)","GHG Emissions (MT)","Kbtu Use per Year (kBtu/yr)","Electric Cost ($/yr)","Therm Cost ($/yr)","GHG Cost ($/yr)","Total Energy Cost ($/yr)","Total Utility Cost","Annual Total Operating Cost","Cumulative Total Operating Cost ($)","Cumulative Capital and Maintenance Costs ($)","Cumulative Energy Costs ($)","Cumulative GHG Costs ($)","Cumulative GHG Emissions (MT)","Cumulative Energy Use (kBtu)",null,null,null,"Project Ref","Project First Cost ($)","Annual Maintenance Cost ($/yr)","Electric Use (kWh/yr)","Therm Use (Therm/yr)","Electric GHG Emissions (MT)","NG GHG Emissions (MT)","GHG Emissions (MT)","Kbtu Use per Year (kBtu/yr)","Electric Cost ($/yr)","Therm Cost ($/yr)","GHG Cost ($/yr)","Total Energy Cost ($/yr)","Total Utility Cost","Annual Total Operating Cost","Cumulative Total Operating Cost ($)","Cumulative Capital and Maintenance Costs ($)","Cumulative Energy Costs ($)","Cumulative GHG Costs ($)","Cumulative GHG Emissions (MT)","Cumulative Energy Use (kBtu)"]
[null,{"$f":"IF($Y7=\"Yes\",'Life Cycle Analysis Tool'!C123,\"\")","v":"Scenario 2 (Air-to-Air Heat Pump )"},{"$f":"IF($Y7=\"Yes\",'Life Cycle Analysis Tool'!D123,\"\")","v":250000},{"$f":"IF($Y7=\"Yes\",'Life Cycle Analysis Tool'!E123,\"\")","v":25000},{"$f":"IF($Y7=\"Yes\",'Life Cycle Analysis Tool'!F123,\"\")","v":393188},null,{"$f":"IF($Y7=\"Yes\",'Life Cycle Analysis Tool'!H123,\"\")","v":117.923372208},null,null,null,null,null,null,null,"A",null,null,null,null,null,null,null,null,"P3",{"$f":"'Life Cycle Analysis Tool'!Z123","v":"Yes"},null,"A",null,{"$f":"'Life Cycle Analysis Tool'!AM36","v":1},{"$f":"'Life Cycle Analysis Tool'!AW36","v":1},{"$f":"'Life Cycle Analysis Tool'!AX36","v":0},{"$f":"'Life Cycle Analysis Tool'!AJ36*AD7","v":2025},{"$f":"INDEX($BY7:$HJ7,1,MATCH(AG$2,$BY$5:$HJ$5,0))*AG$5*$AD7","v":811491.85200999992},{"$f":"INDEX($BY7:$HJ7,1,MATCH(AH$2,$BY$5:$HJ$5,0))*AH$5*$AD7","v":869455.55572499987},289818.51857499994,579637.03714999987,869455.55572499987,0,null,{"$f":"INDEX($BY7:$HJ7,1,MATCH(AN$2,$BY$5:$HJ$5,0))*AN$5*$AD7","v":811491.85200999992},{"$f":"INDEX($BY7:$HJ7,1,MATCH(AO$2,$BY$5:$HJ$5,0))*AO$5*$AD7","v":869455.55572499987},289818.51857499994,579637.03714999987,869455.55572499987,0,null,{"$f":"INDEX($BY7:$HJ7,1,MATCH(AU$2,$BY$5:$HJ$5,0))*AU$5*$AD7","v":0},{"$f":"INDEX($BY7:$HJ7,1,MATCH(AV$2,$BY$5:$HJ$5,0))*AV$5*$AD7","v":0},0,0,0,0,null,{"$f":"INDEX($BY7:$HJ7,1,MATCH(BB$2,$BY$5:$HJ$5,0))*BB$5*$AD7","v":0},{"$f":"INDEX($BY7:$HJ7,1,MATCH(BC$2,$BY$5:$HJ$5,0))*BC$5*$AD7","v":0},0,0,0,0,null,{"$f":"INDEX($BY7:$HJ7,1,MATCH(BI$2,$BY$5:$HJ$5,0))*BI$5*$AD7","v":0},{"$f":"INDEX($BY7:$HJ7,1,MATCH(BJ$2,$BY$5:$HJ$5,0))*BJ$5*$AD7","v":0},0,0,0,0,null,{"$f":"INDEX($BY7:$HJ7,1,MATCH(BP$2,$BY$5:$HJ$5,0))*BP$5*$AD7","v":0},{"$f":"INDEX($BY7:$HJ7,1,MATCH(BQ$2,$BY$5:$HJ$5,0))*BQ$5*$AD7","v":0},0,0,0,0,null,null,null,{"$f":"'Life Cycle Analysis Tool'!BH36","v":"P1"},{"$f":"'Life Cycle Analysis Tool'!BI36","v":811491.85200999992},{"$f":"'Life Cycle Analysis Tool'!BJ36","v":0},{"$f":"'Life Cycle Analysis Tool'!BK36","v":0},{"$f":"'Life Cycle Analysis Tool'!BL36","v":0},{"$f":"'Life Cycle Analysis Tool'!BM36","v":0},{"$f":"'Life Cycle Analysis Tool'!BN36","v":0},{"$f":"'Life Cycle Analysis Tool'!BO36","v":0},{"$f":"'Life Cycle Analysis Tool'!BP36","v":0},{"$f":"'Life Cycle Analysis Tool'!BQ36","v":0},{"$f":"'Life Cycle Analysis Tool'!BR36","v":0},{"$f":"'Life Cycle Analysis Tool'!BS36","v":0},{"$f":"'Life Cycle Analysis Tool'!BT36","v":0},{"$f":"'Life Cycle Analysis Tool'!BU36","v":0},{"$f":"'Life Cycle Analysis Tool'!BV36","v":811491.85200999992},{"$f":"CM7","v":811491.85200999992},{"$f":"SUM(BZ7:CA7)","v":811491.85200999992},{"$f":"SUM(CH7:CI7)","v":0},{"$f":"CJ7","v":0},{"$f":"CF7","v":0},{"$f":"CG7","v":0},null,null,null,{"$f":"'Life Cycle Analysis Tool'!CA36","v":"P2"},{"$f":"'Life Cycle Analysis Tool'!CB36","v":869455.55572499987},{"$f":"'Life Cycle Analysis Tool'!CC36","v":0},{"$f":"'Life Cycle Analysis Tool'!CD36","v":0},{"$f":"'Life Cycle Analysis Tool'!CE36","v":0},{"$f":"'Life Cycle Analysis Tool'!CF36","v":0},{"$f":"'Life Cycle Analysis Tool'!CG36","v":0},{"$f":"'Life Cycle Analysis Tool'!CH36","v":0},{"$f":"'Life Cycle Analysis Tool'!CI36","v":0},{"$f":"'Life Cycle Analysis Tool'!CJ36","v":0},{"$f":"'Life Cycle Analysis Tool'!CK36","v":0},{"$f":"'Life Cycle Analysis Tool'!CL36","v":0},{"$f":"'Life Cycle Analysis Tool'!CM36","v":0},{"$f":"'Life Cycle Analysis Tool'!CN36","v":0},{"$f":"'Life Cycle Analysis Tool'!CO36","v":869455.55572499987},{"$f":"DK7","v":869455.55572499987},{"$f":"SUM(CX7:CY7)","v":869455.55572499987},{"$f":"SUM(DF7:DG7)","v":0},{"$f":"DH7","v":0},{"$f":"DD7","v":0},{"$f":"DE7","v":0},null,null,null,null,{"$f":"'Life Cycle Analysis Tool'!CT36","v":"P3"},{"$f":"'Life Cycle Analysis Tool'!CU36","v":289818.51857499994},{"$f":"'Life Cycle Analysis Tool'!CV36","v":0},{"$f":"'Life Cycle Analysis Tool'!CW36","v":0},{"$f":"'Life Cycle Analysis Tool'!CX36","v":0},{"$f":"'Life Cycle Analysis Tool'!CY36","v":0},{"$f":"'Life Cycle Analysis Tool'!CZ36","v":0},{"$f":"'Life Cycle Analysis Tool'!DA36","v":0},{"$f":"'Life Cycle Analysis Tool'!DB36","v":0},{"$f":"'Life Cycle Analysis Tool'!DC36","v":0},{"$f":"'Life Cycle Analysis Tool'!DD36","v":0},{"$f":"'Life Cycle Analysis Tool'!DE36","v":0},{"$f":"'Life Cycle Analysis Tool'!DF36","v":0},{"$f":"'Life Cycle Analysis Tool'!DG36","v":0},{"$f":"'Life Cycle Analysis Tool'!DH36","v":289818.51857499994},{"$f":"EJ7","v":289818.51857499994},{"$f":"SUM(DW7:DX7)","v":289818.51857499994},{"$f":"SUM(EE7:EF7)","v":0},{"$f":"EG7","v":0},{"$f":"EC7","v":0},{"$f":"ED7","v":0},null,null,null,{"$f":"'Life Cycle Analysis Tool'!DM36","v":"P4"},{"$f":"'Life Cycle Analysis Tool'!DN36","v":579637.03714999987},{"$f":"'Life Cycle Analysis Tool'!DO36","v":0},{"$f":"'Life Cycle Analysis Tool'!DP36","v":0},{"$f":"'Life Cycle Analysis Tool'!DQ36","v":0},{"$f":"'Life Cycle Analysis Tool'!DR36","v":0},{"$f":"'Life Cycle Analysis Tool'!DS36","v":0},{"$f":"'Life Cycle Analysis Tool'!DT36","v":0},{"$f":"'Life Cycle Analysis Tool'!DU36","v":0},{"$f":"'Life Cycle Analysis Tool'!DV36","v":0},{"$f":"'Life Cycle Analysis Tool'!DW36","v":0},{"$f":"'Life Cycle Analysis Tool'!DX36","v":0},{"$f":"'Life Cycle Analysis Tool'!DY36","v":0},{"$f":"'Life Cycle Analysis Tool'!DZ36","v":0},{"$f":"'Life Cycle Analysis Tool'!EA36","v":579637.03714999987},{"$f":"FH7","v":579637.03714999987},{"$f":"SUM(EU7:EV7)","v":579637.03714999987},{"$f":"SUM(FC7:FD7)","v":0},{"$f":"FE7","v":0},{"$f":"FA7","v":0},{"$f":"FB7","v":0},null,null,null,{"$f":"'Life Cycle Analysis Tool'!EF36","v":"P5"},{"$f":"'Life Cycle Analysis Tool'!EG36","v":869455.55572499987},{"$f":"'Life Cycle Analysis Tool'!EH36","v":0},{"$f":"'Life Cycle Analysis Tool'!EI36","v":0},{"$f":"'Life Cycle Analysis Tool'!EJ36","v":0},{"$f":"'Life Cycle Analysis Tool'!EK36","v":0},{"$f":"'Life Cycle Analysis Tool'!EL36","v":0},{"$f":"'Life Cycle Analysis Tool'!EM36","v":0},{"$f":"'Life Cycle Analysis Tool'!EN36","v":0},{"$f":"'Life Cycle Analysis Tool'!EO36","v":0},{"$f":"'Life Cycle Analysis Tool'!EP36","v":0},{"$f":"'Life Cycle Analysis Tool'!EQ36","v":0},{"$f":"'Life Cycle Analysis Tool'!ER36","v":0},{"$f":"'Life Cycle Analysis Tool'!ES36","v":0},{"$f":"'Life Cycle Analysis Tool'!ET36","v":869455.55572499987},{"$f":"GF7","v":869455.55572499987},{"$f":"SUM(FS7:FT7)","v":869455.55572499987},{"$f":"SUM(GA7:GB7)","v":0},{"$f":"GC7","v":0},{"$f":"FY7","v":0},{"$f":"FZ7","v":0},null,null,null,{"$f":"'Life Cycle Analysis Tool'!EY36","v":"P6"},{"$f":"'Life Cycle Analysis Tool'!EZ36","v":0},{"$f":"'Life Cycle Analysis Tool'!FA36","v":0},{"$f":"'Life Cycle Analysis Tool'!FB36","v":0},{"$f":"'Life Cycle Analysis Tool'!FC36","v":0},{"$f":"'Life Cycle Analysis Tool'!FD36","v":0},{"$f":"'Life Cycle Analysis Tool'!FE36","v":0},{"$f":"'Life Cycle Analysis Tool'!FF36","v":0},{"$f":"'Life Cycle Analysis Tool'!FG36","v":0},{"$f":"'Life Cycle Analysis Tool'!FH36","v":0},{"$f":"'Life Cycle Analysis Tool'!FI36","v":0},{"$f":"'Life Cycle Analysis Tool'!FJ36","v":0},{"$f":"'Life Cycle Analysis Tool'!FK36","v":0},{"$f":"'Life Cycle Analysis Tool'!FL36","v":0},{"$f":"'Life Cycle Analysis Tool'!FM36","v":0},{"$f":"HD7","v":0},{"$f":"SUM(GQ7:GR7)","v":0},{"$f":"SUM(GY7:GZ7)","v":0},{"$f":"HA7","v":0},{"$f":"GW7","v":0},{"$f":"GX7","v":0}]
[null,{"$f":"IF($Y8=\"Yes\",'Life Cycle Analysis Tool'!C124,\"\")","v":"Scenario 3 (WSHP)"},{"$f":"IF($Y8=\"Yes\",'Life Cycle Analysis Tool'!D124,\"\")","v":500000},{"$f":"IF($Y8=\"Yes\",'Life Cycle Analysis Tool'!E124,\"\")","v":31250},{"$f":"IF($Y8=\"Yes\",'Life Cycle Analysis Tool'!F124,\"\")","v":266029},null,{"$f":"IF($Y8=\"Yes\",'Life Cycle Analysis Tool'!H124,\"\")","v":79.786353563999995},null,null,null,null,null,null,null,"A",null,null,null,null,null,null,null,null,"P4",{"$f":"'Life Cycle Analysis Tool'!Z124","v":"Yes"},null,"A",null,{"$f":"'Life Cycle Analysis Tool'!AM37","v":1},{"$f":"'Life Cycle Analysis Tool'!AW37","v":1},{"$f":"'Life Cycle Analysis Tool'!AX37","v":1},{"$f":"'Life Cycle Analysis Tool'!AJ37*AD8","v":2026},{"$f":"INDEX($BY8:$HJ8,1,MATCH(AG$2,$BY$5:$HJ$5,0))*AG$5*$AD8","v":896075.0900954518},917430.31232170959,376386.33000391151,655325.26942254626,953689.73757863278,75647.975801999302,null,{"$f":"INDEX($BY8:$HJ8,1,MATCH(AN$2,$BY$5:$HJ$5,0))*AN$5*$AD8","v":841343.15942322486},903038.27656487795,319669.82598822494,616951.17141653108,903038.27656487795,33582.720839878122,null,{"$f":"INDEX($BY8:$HJ8,1,MATCH(AU$2,$BY$5:$HJ$5,0))*AU$5*$AD8","v":51473.044499819058},13884.730969842562,54717.304286434781,37021.449642450832,48866.047950973276,40582.497027888792,null,{"$f":"INDEX($BY8:$HJ8,1,MATCH(BB$2,$BY$5:$HJ$5,0))*BB$5*$AD8","v":3258.8861724077788},507.30478698903084,1999.199729251832,1352.6483635643399,1785.4130627815366,1482.7579342323795,null,{"$f":"INDEX($BY8:$HJ8,1,MATCH(BI$2,$BY$5:$HJ$5,0))*BI$5*$AD8","v":165.30160782289721},25.732195759258982,101.4060977037026,68.610849685184448,90.562122851850873,75.210442333332523,null,{"$f":"INDEX($BY8:$HJ8,1,MATCH(BP$2,$BY$5:$HJ$5,0))*BP$5*$AD8","v":2769415.7831823514},340439.60800735682,1341613.1477774209,907728.6287732065,1198146.2403147074,995041.9212401089,null,null,null,{"$f":"'Life Cycle Analysis Tool'!BH37","v":"P1"},{"$f":"'Life Cycle Analysis Tool'!BI37","v":0},{"$f":"'Life Cycle Analysis Tool'!BJ37","v":29851.307413224997},{"$f":"'Life Cycle Analysis Tool'!BK37","v":239795.37461366304},{"$f":"'Life Cycle Analysis Tool'!BL37","v":19512},{"$f":"'Life Cycle Analysis Tool'!BM37","v":61.845003374897203},{"$f":"'Life Cycle Analysis Tool'!BN37","v":103.45660444799999},{"$f":"'Life Cycle Analysis Tool'!BO37","v":165.30160782289721},{"$f":"'Life Cycle Analysis Tool'!BP37","v":2769415.7831823514},{"$f":"'Life Cycle Analysis Tool'!BQ37","v":33370.694118883126},{"$f":"'Life Cycle Analysis Tool'!BR37","v":18102.350380935932},{"$f":"'Life Cycle Analysis Tool'!BS37","v":3258.8861724077788},{"$f":"'Life Cycle Analysis Tool'!BT37","v":51473.044499819058},{"$f":"'Life Cycle Analysis Tool'!BU37","v":54731.930672226837},{"$f":"'Life Cycle Analysis Tool'!BV37","v":84583.238085451827},{"$f":"(CN7+CM8)*$AC8","v":896075.0900954518},{"$f":"(SUM(BZ8:CA8)+CO7)*$AC8","v":841343.15942322486},{"$f":"(SUM(CH8:CI8)+CP7)*$AC8","v":51473.044499819058},{"$f":"(CQ7+CJ8)*$AC8","v":3258.8861724077788},{"$f":"(CR7+CF8)*$AC8","v":165.30160782289721},{"$f":"(CS7+CG8)*$AC8","v":2769415.7831823514},null,null,null,{"$f":"'Life Cycle Analysis Tool'!CA37","v":"P2"},{"$f":"'Life Cycle Analysis Tool'!CB37","v":0},{"$f":"'Life Cycle Analysis Tool'!CC37","v":33582.720839878122},{"$f":"'Life Cycle Analysis Tool'!CD37","v":99773},{"$f":"'Life Cycle Analysis Tool'!CE37","v":0},{"$f":"'Life Cycle Analysis Tool'!CF37","v":25.732195759258982},{"$f":"'Life Cycle Analysis Tool'!CG37","v":0},{"$f":"'Life Cycle Analysis Tool'!CH37","v":25.732195759258982},{"$f":"'Life Cycle Analysis Tool'!CI37","v":340439.60800735682},{"$f":"'Life Cycle Analysis Tool'!CJ37","v":13884.730969842562},{"$f":"'Life Cycle Analysis Tool'!CK37","v":0},{"$f":"'Life Cycle Analysis Tool'!CL37","v":507.30478698903084},{"$f":"'Life Cycle Analysis Tool'!CM37","v":13884.730969842562},{"$f":"'Life Cycle Analysis Tool'!CN37","v":14392.035756831592},{"$f":"'Life Cycle Analysis Tool'!CO37","v":47974.756596709718},{"$f":"(DL7+DK8)*$AC8","v":917430.31232170959},{"$f":"(SUM(CX8:CY8)+DM7)*$AC8","v":903038.27656487795},{"$f":"(SUM(DF8:DG8)+DN7)*$AC8","v":13884.730969842562},{"$f":"(DO7+DH8)*$AC8","v":507.30478698903084},{"$f":"(DP7+DD8)*$AC8","v":25.732195759258982},{"$f":"(DQ7+DE8)*$AC8","v":340439.60800735682},null,null,null,null,{"$f":"'Life Cycle Analysis Tool'!CT37","v":"P3"},{"$f":"'Life Cycle Analysis Tool'!CU37","v":0},{"$f":"'Life Cycle Analysis Tool'!CV37","v":29851.307413224997},{"$f":"'Life Cycle Analysis Tool'!CW37","v":393188},{"$f":"'Life Cycle Analysis Tool'!CX37","v":0},{"$f":"'Life Cycle Analysis Tool'!CY37","v":101.4060977037026},{"$f":"'Life Cycle Analysis Tool'!CZ37","v":0},{"$f":"'Life Cycle Analysis Tool'!DA37","v":101.4060977037026},{"$f":"'Life Cycle Analysis Tool'!DB37","v":1341613.1477774209},{"$f":"'Life Cycle Analysis Tool'!DC37","v":54717.304286434781},{"$f":"'Life Cycle Analysis Tool'!DD37","v":0},{"$f":"'Life Cycle Analysis Tool'!DE37","v":1999.199729251832},{"$f":"'Life Cycle Analysis Tool'!DF37","v":54717.304286434781},{"$f":"'Life Cycle Analysis Tool'!DG37","v":56716.504015686616},{"$f":"'Life Cycle Analysis Tool'!DH37","v":86567.811428911606},{"$f":"(EK7+EJ8)*$AC8","v":376386.33000391151},{"$f":"(SUM(DW8:DX8)+EL7)*$AC8","v":319669.82598822494},{"$f":"(SUM(EE8:EF8)+EM7)*$AC8","v":54717.304286434781},{"$f":"(EN7+EG8)*$AC8","v":1999.199729251832},{"$f":"(EO7+EC8)*$AC8","v":101.4060977037026},{"$f":"(EP7+ED8)*$AC8","v":1341613.1477774209},null,null,null,{"$f":"'Life Cycle Analysis Tool'!DM37","v":"P4"},{"$f":"'Life Cycle Analysis Tool'!DN37","v":0},{"$f":"'Life Cycle Analysis Tool'!DO37","v":37314.134266531248},{"$f":"'Life Cycle Analysis Tool'!DP37","v":266029},{"$f":"'Life Cycle Analysis Tool'!DQ37","v":0},{"$f":"'Life Cycle Analysis Tool'!DR37","v":68.610849685184448},{"$f":"'Life Cycle Analysis Tool'!DS37","v":0},{"$f":"'Life Cycle Analysis Tool'!DT37","v":68.610849685184448},{"$f":"'Life Cycle Analysis Tool'!DU37","v":907728.6287732065},{"$f":"'Life Cycle Analysis Tool'!DV37","v":37021.449642450832},{"$f":"'Life Cycle Analysis Tool'!DW37","v":0},{"$f":"'Life Cycle Analysis Tool'!DX37","v":1352.6483635643399},{"$f":"'Life Cycle Analysis Tool'!DY37","v":37021.449642450832},{"$f":"'Life Cycle Analysis Tool'!DZ37","v":38374.098006015171},{"$f":"'Life Cycle Analysis Tool'!EA37","v":75688.232272546418},{"$f":"(FI7+FH8)*$AC8","v":655325.26942254626},{"$f":"(SUM(EU8:EV8)+FJ7)*$AC8","v":616951.17141653108},{"$f":"(SUM(FC8:FD8)+FK7)*$AC8","v":37021.449642450832},{"$f":"(FL7+FE8)*$AC8","v":1352.6483635643399},{"$f":"(FM7+FA8)*$AC8","v":68.610849685184448},{"$f":"(FN7+FB8)*$AC8","v":907728.6287732065},null,null,null,{"$f":"'Life Cycle Analysis Tool'!EF37","v":"P5"},{"$f":"'Life Cycle Analysis Tool'!EG37","v":0},{"$f":"'Life Cycle Analysis Tool'!EH37","v":33582.720839878122},{"$f":"'Life Cycle Analysis Tool'!EI37","v":351142},{"$f":"'Life Cycle Analysis Tool'!EJ37","v":0},{"$f":"'Life Cycle Analysis Tool'!EK37","v":90.562122851850873},{"$f":"'Life Cycle Analysis Tool'!EL37","v":0},{"$f":"'Life Cycle Analysis Tool'!EM37","v":90.562122851850873},{"$f":"'Life Cycle Analysis Tool'!EN37","v":1198146.2403147074},{"$f":"'Life Cycle Analysis Tool'!EO37","v":48866.047950973276},{"$f":"'Life Cycle Analysis Tool'!EP37","v":0},{"$f":"'Life Cycle Analysis Tool'!EQ37","v":1785.4130627815366},{"$f":"'Life Cycle Analysis Tool'!ER37","v":48866.047950973276},{"$f":"'Life Cycle Analysis Tool'!ES37","v":50651.461013754815},{"$f":"'Life Cycle Analysis Tool'!ET37","v":84234.181853632937},{"$f":"(GG7+GF8)*$AC8","v":953689.73757863278},{"$f":"(SUM(FS8:FT8)+GH7)*$AC8","v":903038.27656487795},{"$f":"(SUM(GA8:GB8)+GI7)*$AC8","v":48866.047950973276},{"$f":"(GJ7+GC8)*$AC8","v":1785.4130627815366},{"$f":"(GK7+FY8)*$AC8","v":90.562122851850873},{"$f":"(GL7+FZ8)*$AC8","v":1198146.2403147074},null,null,null,{"$f":"'Life Cycle Analysis Tool'!EY37","v":"P6"},{"$f":"'Life Cycle Analysis Tool'!EZ37","v":0},{"$f":"'Life Cycle Analysis Tool'!FA37","v":33582.720839878122},{"$f":"'Life Cycle Analysis Tool'!FB37","v":291618},{"$f":"'Life Cycle Analysis Tool'!FC37","v":0},{"$f":"'Life Cycle Analysis Tool'!FD37","v":75.210442333332523},{"$f":"'Life Cycle Analysis Tool'!FE37","v":0},{"$f":"'Life Cycle Analysis Tool'!FF37","v":75.210442333332523},{"$f":"'Life Cycle Analysis Tool'!FG37","v":995041.9212401089},{"$f":"'Life Cycle Analysis Tool'!FH37","v":40582.497027888792},{"$f":"'Life Cycle Analysis Tool'!FI37","v":0},{"$f":"'Life Cycle Analysis Tool'!FJ37","v":1482.7579342323795},{"$f":"'Life Cycle Analysis Tool'!FK37","v":40582.497027888792},{"$f":"'Life Cycle Analysis Tool'!FL37","v":42065.254962121173},{"$f":"'Life Cycle Analysis Tool'!FM37","v":75647.975801999302},{"$f":"(HE7+HD8)*$AC8","v":75647.975801999302},{"$f":"(SUM(GQ8:GR8)+HF7)*$AC8","v":33582.720839878122},{"$f":"(SUM(GY8:GZ8)+HG7)*$AC8","v":40582.497027888792},{"$f":"(HH7+HA8)*$AC8","v":1482.7579342323795},{"$f":"(HI7+GW8)*$AC8","v":75.210442333332523},{"$f":"(HJ7+GX8)*$AC8","v":995041.9212401089}]
[null,{"$f":"IF($Y9=\"Yes\",'Life Cycle Analysis Tool'!C125,\"\")","v":"Scenario 4 (VRF Air Cooled)"},{"$f":"IF($Y9=\"Yes\",'Life Cycle Analysis Tool'!D125,\"\")","v":750000},{"$f":"IF($Y9=\"Yes\",'Life Cycle Analysis Tool'!E125,\"\")","v":28125},{"$f":"IF($Y9=\"Yes\",'Life Cycle Analysis Tool'!F125,\"\")","v":351142},null,{"$f":"IF($Y9=\"Yes\",'Life Cycle Analysis Tool'!H125,\"\")","v":105.313104072},null,null,null,null,null,null,null,"A",null,null,null,null,null,null,null,null,"P5",{"$f":"'Life Cycle Analysis Tool'!Z125","v":"Yes"},null,"A",null,{"$f":"'Life Cycle Analysis Tool'!AM38","v":1},{"$f":"'Life Cycle Analysis Tool'!AW38","v":1},{"$f":"'Life Cycle Analysis Tool'!AX38","v":2},{"$f":"'Life Cycle Analysis Tool'!AJ38*AD9","v":2027},982856.38974033738,966744.98367929098,465159.74169127084,733019.30635362573,1040101.3692465243,153275.07371469072,null,872090.0060588466,937628.47902995243,350416.67262384668,655384.72971105832,937628.47902995243,68172.923304952594,null,104232.9151121336,28116.580213931189,110802.54118003044,74968.435525962937,98953.747100720895,82179.556481474807,null,6533.4685693571219,999.92443540733029,3940.5278873937577,2666.1411166044591,3519.1431158509895,2922.5939282633062,null,327.34821546816869,50.110065425925569,197.47503237036895,133.61060201851757,176.35781818518393,146.46244033333227,null,5538831.5663647028,680879.21601471363,2683226.2955548419,1815457.257546413,2396292.4806294148,1990083.8424802178,null,null,null,{"$f":"'Life Cycle Analysis Tool'!BH38","v":"P1"},{"$f":"'Life Cycle Analysis Tool'!BI38","v":0},{"$f":"'Life Cycle Analysis Tool'!BJ38","v":30746.84663562175},{"$f":"'Life Cycle Analysis Tool'!BK38","v":239795.37461366304},{"$f":"'Life Cycle Analysis Tool'!BL38","v":19512},{"$f":"'Life Cycle Analysis Tool'!BM38","v":58.590003197271471},{"$f":"'Life Cycle Analysis Tool'!BN38","v":103.45660444799999},{"$f":"'Life Cycle Analysis Tool'!BO38","v":162.04660764527148},{"$f":"'Life Cycle Analysis Tool'!BP38","v":2769415.7831823514},{"$f":"'Life Cycle Analysis Tool'!BQ38","v":34204.961471855211},{"$f":"'Life Cycle Analysis Tool'!BR38","v":18554.909140459331},{"$f":"'Life Cycle Analysis Tool'!BS38","v":3274.5823969493431},{"$f":"'Life Cycle Analysis Tool'!BT38","v":52759.870612314538},{"$f":"'Life Cycle Analysis Tool'!BU38","v":56034.453009263882},{"$f":"'Life Cycle Analysis Tool'!BV38","v":86781.299644885628},{"$f":"(CN8+CM9)*$AC8","v":982856.38974033738},{"$f":"(SUM(BZ9:CA9)+CO8)*$AC8","v":872090.0060588466},{"$f":"(SUM(CH9:CI9)+CP8)*$AC8","v":104232.9151121336},{"$f":"(CQ8+CJ9)*$AC8","v":6533.4685693571219},{"$f":"(CR8+CF9)*$AC8","v":327.34821546816869},{"$f":"(CS8+CG9)*$AC8","v":5538831.5663647028},null,null,null,{"$f":"'Life Cycle Analysis Tool'!CA38","v":"P2"},{"$f":"'Life Cycle Analysis Tool'!CB38","v":0},{"$f":"'Life Cycle Analysis Tool'!CC38","v":34590.202465074472},{"$f":"'Life Cycle Analysis Tool'!CD38","v":99773},{"$f":"'Life Cycle Analysis Tool'!CE38","v":0},{"$f":"'Life Cycle Analysis Tool'!CF38","v":24.377869666666584},{"$f":"'Life Cycle Analysis Tool'!CG38","v":0},{"$f":"'Life Cycle Analysis Tool'!CH38","v":24.377869666666584},{"$f":"'Life Cycle Analysis Tool'!CI38","v":340439.60800735682},{"$f":"'Life Cycle Analysis Tool'!CJ38","v":14231.849244088628},{"$f":"'Life Cycle Analysis Tool'!CK38","v":0},{"$f":"'Life Cycle Analysis Tool'!CL38","v":492.61964841829945},{"$f":"'Life Cycle Analysis Tool'!CM38","v":14231.849244088628},{"$f":"'Life Cycle Analysis Tool'!CN38","v":14724.468892506928},{"$f":"'Life Cycle Analysis Tool'!CO38","v":49314.671357581399},{"$f":"(DL8+DK9)*$AC8","v":966744.98367929098},{"$f":"(SUM(CX9:CY9)+DM8)*$AC8","v":937628.47902995243},{"$f":"(SUM(DF9:DG9)+DN8)*$AC8","v":28116.580213931189},{"$f":"(DO8+DH9)*$AC8","v":999.92443540733029},{"$f":"(DP8+DD9)*$AC8","v":50.110065425925569},{"$f":"(DQ8+DE9)*$AC8","v":680879.21601471363},null,null,null,null,{"$f":"'Life Cycle Analysis Tool'!CT38","v":"P3"},{"$f":"'Life Cycle Analysis Tool'!CU38","v":0},{"$f":"'Life Cycle Analysis Tool'!CV38","v":30746.84663562175},{"$f":"'Life Cycle Analysis Tool'!CW38","v":393188},{"$f":"'Life Cycle Analysis Tool'!CX38","v":0},{"$f":"'Life Cycle Analysis Tool'!CY38","v":96.068934666666351},{"$f":"'Life Cycle Analysis Tool'!CZ38","v":0},{"$f":"'Life Cycle Analysis Tool'!DA38","v":96.068934666666351},{"$f":"'Life Cycle Analysis Tool'!DB38","v":1341613.1477774209},{"$f":"'Life Cycle Analysis Tool'!DC38","v":56085.236893595655},{"$f":"'Life Cycle Analysis Tool'!DD38","v":0},{"$f":"'Life Cycle Analysis Tool'!DE38","v":1941.3281581419255},{"$f":"'Life Cycle Analysis Tool'!DF38","v":56085.236893595655},{"$f":"'Life Cycle Analysis Tool'!DG38","v":58026.565051737583},{"$f":"'Life Cycle Analysis Tool'!DH38","v":88773.41168735933},{"$f":"(EK8+EJ9)*$AC8","v":465159.74169127084},{"$f":"(SUM(DW9:DX9)+EL8)*$AC8","v":350416.67262384668},{"$f":"(SUM(EE9:EF9)+EM8)*$AC8","v":110802.54118003044},{"$f":"(EN8+EG9)*$AC8","v":3940.5278873937577},{"$f":"(EO8+EC9)*$AC8","v":197.47503237036895},{"$f":"(EP8+ED9)*$AC8","v":2683226.2955548419},null,null,null,{"$f":"'Life Cycle Analysis Tool'!DM38","v":"P4"},{"$f":"'Life Cycle Analysis Tool'!DN38","v":0},{"$f":"'Life Cycle Analysis Tool'!DO38","v":38433.558294527189},{"$f":"'Life Cycle Analysis Tool'!DP38","v":266029},{"$f":"'Life Cycle Analysis Tool'!DQ38","v":0},{"$f":"'Life Cycle Analysis Tool'!DR38","v":64.99975233333312},{"$f":"'Life Cycle Analysis Tool'!DS38","v":0},{"$f":"'Life Cycle Analysis Tool'!DT38","v":64.99975233333312},{"$f":"'Life Cycle Analysis Tool'!DU38","v":907728.6287732065},{"$f":"'Life Cycle Analysis Tool'!DV38","v":37946.985883512112},{"$f":"'Life Cycle Analysis Tool'!DW38","v":0},{"$f":"'Life Cycle Analysis Tool'!DX38","v":1313.4927530401189},{"$f":"'Life Cycle Analysis Tool'!DY38","v":37946.985883512112},{"$f":"'Life Cycle Analysis Tool'!DZ38","v":39260.47863655223},{"$f":"'Life Cycle Analysis Tool'!EA38","v":77694.036931079419},{"$f":"(FI8+FH9)*$AC8","v":733019.30635362573},{"$f":"(SUM(EU9:EV9)+FJ8)*$AC8","v":655384.72971105832},{"$f":"(SUM(FC9:FD9)+FK8)*$AC8","v":74968.435525962937},{"$f":"(FL8+FE9)*$AC8","v":2666.1411166044591},{"$f":"(FM8+FA9)*$AC8","v":133.61060201851757},{"$f":"(FN8+FB9)*$AC8","v":1815457.257546413},null,null,null,{"$f":"'Life Cycle Analysis Tool'!EF38","v":"P5"},{"$f":"'Life Cycle Analysis Tool'!EG38","v":0},{"$f":"'Life Cycle Analysis Tool'!EH38","v":34590.202465074472},{"$f":"'Life Cycle Analysis Tool'!EI38","v":351142},{"$f":"'Life Cycle Analysis Tool'!EJ38","v":0},{"$f":"'Life Cycle Analysis Tool'!EK38","v":85.795695333333043},{"$f":"'Life Cycle Analysis Tool'!EL38","v":0},{"$f":"'Life Cycle Analysis Tool'!EM38","v":85.795695333333043},{"$f":"'Life Cycle Analysis Tool'!EN38","v":1198146.2403147074},{"$f":"'Life Cycle Analysis Tool'!EO38","v":50087.699149747619},{"$f":"'Life Cycle Analysis Tool'!EP38","v":0},{"$f":"'Life Cycle Analysis Tool'!EQ38","v":1733.7300530694527},{"$f":"'Life Cycle Analysis Tool'!ER38","v":50087.699149747619},{"$f":"'Life Cycle Analysis Tool'!ES38","v":51821.429202817075},{"$f":"'Life Cycle Analysis Tool'!ET38","v":86411.631667891546},{"$f":"(GG8+GF9)*$AC8","v":1040101.3692465243},{"$f":"(SUM(FS9:FT9)+GH8)*$AC8","v":937628.47902995243},{"$f":"(SUM(GA9:GB9)+GI8)*$AC8","v":98953.747100720895},{"$f":"(GJ8+GC9)*$AC8","v":3519.1431158509895},{"$f":"(GK8+FY9)*$AC8","v":176.35781818518393},{"$f":"(GL8+FZ9)*$AC8","v":2396292.4806294148},null,null,null,{"$f":"'Life Cycle Analysis Tool'!EY38","v":"P6"},{"$f":"'Life Cycle Analysis Tool'!EZ38","v":0},{"$f":"'Life Cycle Analysis Tool'!FA38","v":34590.202465074472},{"$f":"'Life Cycle Analysis Tool'!FB38","v":291618},{"$f":"'Life Cycle Analysis Tool'!FC38","v":0},{"$f":"'Life Cycle Analysis Tool'!FD38","v":71.251997999999759},{"$f":"'Life Cycle Analysis Tool'!FE38","v":0},{"$f":"'Life Cycle Analysis Tool'!FF38","v":71.251997999999759},{"$f":"'Life Cycle Analysis Tool'!FG38","v":995041.9212401089},{"$f":"'Life Cycle Analysis Tool'!FH38","v":41597.059453586015},{"$f":"'Life Cycle Analysis Tool'!FI38","v":0},{"$f":"'Life Cycle Analysis Tool'!FJ38","v":1439.8359940309267},{"$f":"'Life Cycle Analysis Tool'!FK38","v":41597.059453586015},{"$f":"'Life Cycle Analysis Tool'!FL38","v":43036.895447616938},{"$f":"'Life Cycle Analysis Tool'!FM38","v":77627.097912691417},{"$f":"(HE8+HD9)*$AC8","v":153275.07371469072},{"$f":"(SUM(GQ9:GR9)+HF8)*$AC8","v":68172.923304952594},{"$f":"(SUM(GY9:GZ9)+HG8)*$AC8","v":82179.556481474807},{"$f":"(HH8+HA9)*$AC8","v":2922.5939282633062},{"$f":"(HI8+GW9)*$AC8","v":146.46244033333227},{"$f":"(HJ8+GX9)*$AC8","v":1990083.8424802178}]
[null,{"$f":"IF($Y10=\"Yes\",'Life Cycle Analysis Tool'!C126,\"\")","v":"Scenario 5 (VRF Water Cooled)"},{"$f":"IF($Y10=\"Yes\",'Life Cycle Analysis Tool'!D126,\"\")","v":0},{"$f":"IF($Y10=\"Yes\",'Life Cycle Analysis Tool'!E126,\"\")","v":28125},{"$f":"IF($Y10=\"Yes\",'Life Cycle Analysis Tool'!F126,\"\")","v":291618},null,{"$f":"IF($Y10=\"Yes\",'Life Cycle Analysis Tool'!H126,\"\")","v":87.460904088000007},null,null,null,null,null,null,null,"A",null,null,null,null,null,null,null,null,"P6",{"$f":"'Life Cycle Analysis Tool'!Z126","v":"Yes"},null,"A",null,{"$f":"'Life Cycle Analysis Tool'!AM39","v":1},{"$f":"'Life Cycle Analysis Tool'!AW39","v":1},{"$f":"'Life Cycle Analysis Tool'!AX39","v":3},{"$f":"'Life Cycle Analysis Tool'!AJ39*AD10","v":2028},1071893.5357815104,1017437.4208809356,556195.67505054246,812773.06588435103,1128747.5164237497,232933.80942675355,null,903759.25809353695,973256.38756897917,382085.92465853709,694971.29475442134,973256.38756897917,103800.83184397929,null,158311.78248975601,42704.225689122031,168289.90899596599,113864.09605656285,150293.63872921219,124816.54242140046,null,9822.4951982173334,1476.8076228344864,5819.8413960394701,3937.6750733668987,5197.49012555849,4316.4351613737908,null,486.13982293581358,73.13360899999941,288.20680399999765,194.99925699999844,257.38708599999791,213.75599399999825,null,8308247.3495470546,1021318.8240220705,4024839.4433322628,2723185.8863196196,3594438.7209441224,2985125.7637203266,null,null,null,{"$f":"'Life Cycle Analysis Tool'!BH39","v":"P1"},{"$f":"'Life Cycle Analysis Tool'!BI39","v":0},{"$f":"'Life Cycle Analysis Tool'!BJ39","v":31669.252034690398},{"$f":"'Life Cycle Analysis Tool'!BK39","v":239795.37461366304},{"$f":"'Life Cycle Analysis Tool'!BL39","v":19512},{"$f":"'Life Cycle Analysis Tool'!BM39","v":55.335003019644908},{"$f":"'Life Cycle Analysis Tool'!BN39","v":103.45660444799999},{"$f":"'Life Cycle Analysis Tool'!BO39","v":158.79160746764489},{"$f":"'Life Cycle Analysis Tool'!BP39","v":2769415.7831823514},{"$f":"'Life Cycle Analysis Tool'!BQ39","v":35060.085508651588},{"$f":"'Life Cycle Analysis Tool'!BR39","v":19018.781868970811},{"$f":"'Life Cycle Analysis Tool'!BS39","v":3289.0266288602124},{"$f":"'Life Cycle Analysis Tool'!BT39","v":54078.867377622402},{"$f":"'Life Cycle Analysis Tool'!BU39","v":57367.894006482617},{"$f":"'Life Cycle Analysis Tool'!BV39","v":89037.146041173022},1071893.5357815104,903759.25809353695,158311.78248975601,9822.4951982173334,486.13982293581358,8308247.3495470546,null,null,null,{"$f":"'Life Cycle Analysis Tool'!CA39","v":"P2"},{"$f":"'Life Cycle Analysis Tool'!CB39","v":0},{"$f":"'Life Cycle Analysis Tool'!CC39","v":35627.908539026699},{"$f":"'Life Cycle Analysis Tool'!CD39","v":99773},{"$f":"'Life Cycle Analysis Tool'!CE39","v":0},{"$f":"'Life Cycle Analysis Tool'!CF39","v":23.023543574073845},{"$f":"'Life Cycle Analysis Tool'!CG39","v":0},{"$f":"'Life Cycle Analysis Tool'!CH39","v":23.023543574073845},{"$f":"'Life Cycle Analysis Tool'!CI39","v":340439.60800735682},{"$f":"'Life Cycle Analysis Tool'!CJ39","v":14587.645475190842},{"$f":"'Life Cycle Analysis Tool'!CK39","v":0},{"$f":"'Life Cycle Analysis Tool'!CL39","v":476.88318742715614},{"$f":"'Life Cycle Analysis Tool'!CM39","v":14587.645475190842},{"$f":"'Life Cycle Analysis Tool'!CN39","v":15064.528662617999},{"$f":"'Life Cycle Analysis Tool'!CO39","v":50692.437201644701},1017437.4208809356,973256.38756897917,42704.225689122031,1476.8076228344864,73.13360899999941,1021318.8240220705,null,null,null,null,{"$f":"'Life Cycle Analysis Tool'!CT39","v":"P3"},{"$f":"'Life Cycle Analysis Tool'!CU39","v":0},{"$f":"'Life Cycle Analysis Tool'!CV39","v":31669.252034690398},{"$f":"'Life Cycle Analysis Tool'!CW39","v":393188},{"$f":"'Life Cycle Analysis Tool'!CX39","v":0},{"$f":"'Life Cycle Analysis Tool'!CY39","v":90.731771629628724},{"$f":"'Life Cycle Analysis Tool'!CZ39","v":0},{"$f":"'Life Cycle Analysis Tool'!DA39","v":90.731771629628724},{"$f":"'Life Cycle Analysis Tool'!DB39","v":1341613.1477774209},{"$f":"'Life Cycle Analysis Tool'!DC39","v":57487.36781593554},{"$f":"'Life Cycle Analysis Tool'!DD39","v":0},{"$f":"'Life Cycle Analysis Tool'!DE39","v":1879.3135086457123},{"$f":"'Life Cycle Analysis Tool'!DF39","v":57487.36781593554},{"$f":"'Life Cycle Analysis Tool'!DG39","v":59366.681324581252},{"$f":"'Life Cycle Analysis Tool'!DH39","v":91035.933359271643},556195.67505054246,382085.92465853709,168289.90899596599,5819.8413960394701,288.20680399999765,4024839.4433322628,null,null,null,{"$f":"'Life Cycle Analysis Tool'!DM39","v":"P4"},{"$f":"'Life Cycle Analysis Tool'!DN39","v":0},{"$f":"'Life Cycle Analysis Tool'!DO39","v":39586.565043363},{"$f":"'Life Cycle Analysis Tool'!DP39","v":266029},{"$f":"'Life Cycle Analysis Tool'!DQ39","v":0},{"$f":"'Life Cycle Analysis Tool'!DR39","v":61.388654981480869},{"$f":"'Life Cycle Analysis Tool'!DS39","v":0},{"$f":"'Life Cycle Analysis Tool'!DT39","v":61.388654981480869},{"$f":"'Life Cycle Analysis Tool'!DU39","v":907728.6287732065},{"$f":"'Life Cycle Analysis Tool'!DV39","v":38895.660530599904},{"$f":"'Life Cycle Analysis Tool'!DW39","v":0},{"$f":"'Life Cycle Analysis Tool'!DX39","v":1271.5339567624399},{"$f":"'Life Cycle Analysis Tool'!DY39","v":38895.660530599904},{"$f":"'Life Cycle Analysis Tool'!DZ39","v":40167.194487362343},{"$f":"'Life Cycle Analysis Tool'!EA39","v":79753.759530725336},812773.06588435103,694971.29475442134,113864.09605656285,3937.6750733668987,194.99925699999844,2723185.8863196196,null,null,null,{"$f":"'Life Cycle Analysis Tool'!EF39","v":"P5"},{"$f":"'Life Cycle Analysis Tool'!EG39","v":0},{"$f":"'Life Cycle Analysis Tool'!EH39","v":35627.908539026699},{"$f":"'Life Cycle Analysis Tool'!EI39","v":351142},{"$f":"'Life Cycle Analysis Tool'!EJ39","v":0},{"$f":"'Life Cycle Analysis Tool'!EK39","v":81.029267814814006},{"$f":"'Life Cycle Analysis Tool'!EL39","v":0},{"$f":"'Life Cycle Analysis Tool'!EM39","v":81.029267814814006},{"$f":"'Life Cycle Analysis Tool'!EN39","v":1198146.2403147074},{"$f":"'Life Cycle Analysis Tool'!EO39","v":51339.891628491299},{"$f":"'Life Cycle Analysis Tool'!EP39","v":0},{"$f":"'Life Cycle Analysis Tool'!EQ39","v":1678.3470097075005},{"$f":"'Life Cycle Analysis Tool'!ER39","v":51339.891628491299},{"$f":"'Life Cycle Analysis Tool'!ES39","v":53018.238638198804},{"$f":"'Life Cycle Analysis Tool'!ET39","v":88646.147177225503},1128747.5164237497,973256.38756897917,150293.63872921219,5197.49012555849,257.38708599999791,3594438.7209441224,null,null,null,{"$f":"'Life Cycle Analysis Tool'!EY39","v":"P6"},{"$f":"'Life Cycle Analysis Tool'!EZ39","v":0},{"$f":"'Life Cycle Analysis Tool'!FA39","v":35627.908539026699},{"$f":"'Life Cycle Analysis Tool'!FB39","v":291618},{"$f":"'Life Cycle Analysis Tool'!FC39","v":0},{"$f":"'Life Cycle Analysis Tool'!FD39","v":67.293553666665986},{"$f":"'Life Cycle Analysis Tool'!FE39","v":0},{"$f":"'Life Cycle Analysis Tool'!FF39","v":67.293553666665986},{"$f":"'Life Cycle Analysis Tool'!FG39","v":995041.9212401089},{"$f":"'Life Cycle Analysis Tool'!FH39","v":42636.98593992566},{"$f":"'Life Cycle Analysis Tool'!FI39","v":0},{"$f":"'Life Cycle Analysis Tool'!FJ39","v":1393.8412331104848},{"$f":"'Life Cycle Analysis Tool'!FK39","v":42636.98593992566},{"$f":"'Life Cycle Analysis Tool'!FL39","v":44030.827173036145},{"$f":"'Life Cycle Analysis Tool'!FM39","v":79658.735712062844},232933.80942675355,103800.83184397929,124816.54242140046,4316.4351613737908,213.75599399999825,2985125.7637203266]
[null,null,null,null,null,null,null,null,null,null,null,null,null,null,"A",null,null,null,null,null,null,null,null,null,null,null,"A",null,{"$f":"'Life Cycle Analysis Tool'!AM40","v":1},{"$f":"'Life Cycle Analysis Tool'!AW40","v":1},{"$f":"'Life Cycle Analysis Tool'!AX40","v":4},{"$f":"'Life Cycle Analysis Tool'!AJ40*AD11","v":2029},1163245.8508976731,1069546.5553043098,649552.5414541834,894641.93621058005,1219686.7623710451,314678.11264702259,null,936378.58768926805,1009953.1333641767,414705.25425426819,735745.45674908522,1009953.1333641767,140497.5776391768,null,213742.62155181894,57656.562301192644,227214.46100729989,153732.14810042776,202917.02764841577,168519.45300982427,null,13124.641656585884,1936.859638940688,7632.8261926153491,5164.3313610671448,6816.6013584527982,5661.0819980215638,null,641.67643022583275,94.802826481480849,373.60141259259012,252.77681462962798,333.6499262962941,277.09110333333149,null,11077663.132729406,1361758.4320294273,5366452.5911096837,3630914.515092826,4792584.9612588296,3980167.6849604356,null,null,null,{"$f":"'Life Cycle Analysis Tool'!BH40","v":"P1"},{"$f":"'Life Cycle Analysis Tool'!BI40","v":0},{"$f":"'Life Cycle Analysis Tool'!BJ40","v":32619.329595731113},{"$f":"'Life Cycle Analysis Tool'!BK40","v":239795.37461366304},{"$f":"'Life Cycle Analysis Tool'!BL40","v":19512},{"$f":"'Life Cycle Analysis Tool'!BM40","v":52.080002842019177},{"$f":"'Life Cycle Analysis Tool'!BN40","v":103.45660444799999},{"$f":"'Life Cycle Analysis Tool'!BO40","v":155.53660729001916},{"$f":"'Life Cycle Analysis Tool'!BP40","v":2769415.7831823514},{"$f":"'Life Cycle Analysis Tool'!BQ40","v":35936.587646367865},{"$f":"'Life Cycle Analysis Tool'!BR40","v":19494.251415695078},{"$f":"'Life Cycle Analysis Tool'!BS40","v":3302.1464583685497},{"$f":"'Life Cycle Analysis Tool'!BT40","v":55430.839062062943},{"$f":"'Life Cycle Analysis Tool'!BU40","v":58732.985520431495},{"$f":"'Life Cycle Analysis Tool'!BV40","v":91352.315116162616},1163245.8508976731,936378.58768926805,213742.62155181894,13124.641656585884,641.67643022583275,11077663.132729406,null,null,null,{"$f":"'Life Cycle Analysis Tool'!CA40","v":"P2"},{"$f":"'Life Cycle Analysis Tool'!CB40","v":0},{"$f":"'Life Cycle Analysis Tool'!CC40","v":36696.745795197501},{"$f":"'Life Cycle Analysis Tool'!CD40","v":99773},{"$f":"'Life Cycle Analysis Tool'!CE40","v":0},{"$f":"'Life Cycle Analysis Tool'!CF40","v":21.669217481481446},{"$f":"'Life Cycle Analysis Tool'!CG40","v":0},{"$f":"'Life Cycle Analysis Tool'!CH40","v":21.669217481481446},{"$f":"'Life Cycle Analysis Tool'!CI40","v":340439.60800735682},{"$f":"'Life Cycle Analysis Tool'!CJ40","v":14952.33661207061},{"$f":"'Life Cycle Analysis Tool'!CK40","v":0},{"$f":"'Life Cycle Analysis Tool'!CL40","v":460.05201610620145},{"$f":"'Life Cycle Analysis Tool'!CM40","v":14952.33661207061},{"$f":"'Life Cycle Analysis Tool'!CN40","v":15412.388628176812},{"$f":"'Life Cycle Analysis Tool'!CO40","v":52109.134423374315},1069546.5553043098,1009953.1333641767,57656.562301192644,1936.859638940688,94.802826481480849,1361758.4320294273,null,null,null,null,{"$f":"'Life Cycle Analysis Tool'!CT40","v":"P3"},{"$f":"'Life Cycle Analysis Tool'!CU40","v":0},{"$f":"'Life Cycle Analysis Tool'!CV40","v":32619.329595731113},{"$f":"'Life Cycle Analysis Tool'!CW40","v":393188},{"$f":"'Life Cycle Analysis Tool'!CX40","v":0},{"$f":"'Life Cycle Analysis Tool'!CY40","v":85.394608592592462},{"$f":"'Life Cycle Analysis Tool'!CZ40","v":0},{"$f":"'Life Cycle Analysis Tool'!DA40","v":85.394608592592462},{"$f":"'Life Cycle Analysis Tool'!DB40","v":1341613.1477774209},{"$f":"'Life Cycle Analysis Tool'!DC40","v":58924.552011333915},{"$f":"'Life Cycle Analysis Tool'!DD40","v":0},{"$f":"'Life Cycle Analysis Tool'!DE40","v":1812.9847965758788},{"$f":"'Life Cycle Analysis Tool'!DF40","v":58924.552011333915},{"$f":"'Life Cycle Analysis Tool'!DG40","v":60737.536807909797},{"$f":"'Life Cycle Analysis Tool'!DH40","v":93356.866403640917},649552.5414541834,414705.25425426819,227214.46100729989,7632.8261926153491,373.60141259259012,5366452.5911096837,null,null,null,{"$f":"'Life Cycle Analysis Tool'!DM40","v":"P4"},{"$f":"'Life Cycle Analysis Tool'!DN40","v":0},{"$f":"'Life Cycle Analysis Tool'!DO40","v":40774.161994663889},{"$f":"'Life Cycle Analysis Tool'!DP40","v":266029},{"$f":"'Life Cycle Analysis Tool'!DQ40","v":0},{"$f":"'Life Cycle Analysis Tool'!DR40","v":57.777557629629541},{"$f":"'Life Cycle Analysis Tool'!DS40","v":0},{"$f":"'Life Cycle Analysis Tool'!DT40","v":57.777557629629541},{"$f":"'Life Cycle Analysis Tool'!DU40","v":907728.6287732065},{"$f":"'Life Cycle Analysis Tool'!DV40","v":39868.052043864896},{"$f":"'Life Cycle Analysis Tool'!DW40","v":0},{"$f":"'Life Cycle Analysis Tool'!DX40","v":1226.6562877002464},{"$f":"'Life Cycle Analysis Tool'!DY40","v":39868.052043864896},{"$f":"'Life Cycle Analysis Tool'!DZ40","v":41094.70833156514},{"$f":"'Life Cycle Analysis Tool'!EA40","v":81868.870326229022},894641.93621058005,735745.45674908522,153732.14810042776,5164.3313610671448,252.77681462962798,3630914.515092826,null,null,null,{"$f":"'Life Cycle Analysis Tool'!EF40","v":"P5"},{"$f":"'Life Cycle Analysis Tool'!EG40","v":0},{"$f":"'Life Cycle Analysis Tool'!EH40","v":36696.745795197501},{"$f":"'Life Cycle Analysis Tool'!EI40","v":351142},{"$f":"'Life Cycle Analysis Tool'!EJ40","v":0},{"$f":"'Life Cycle Analysis Tool'!EK40","v":76.262840296296176},{"$f":"'Life Cycle Analysis Tool'!EL40","v":0},{"$f":"'Life Cycle Analysis Tool'!EM40","v":76.262840296296176},{"$f":"'Life Cycle Analysis Tool'!EN40","v":1198146.2403147074},{"$f":"'Life Cycle Analysis Tool'!EO40","v":52623.388919203571},{"$f":"'Life Cycle Analysis Tool'!EP40","v":0},{"$f":"'Life Cycle Analysis Tool'!EQ40","v":1619.1112328943079},{"$f":"'Life Cycle Analysis Tool'!ER40","v":52623.388919203571},{"$f":"'Life Cycle Analysis Tool'!ES40","v":54242.500152097877},{"$f":"'Life Cycle Analysis Tool'!ET40","v":90939.245947295378},1219686.7623710451,1009953.1333641767,202917.02764841577,6816.6013584527982,333.6499262962941,4792584.9612588296,null,null,null,{"$f":"'Life Cycle Analysis Tool'!EY40","v":"P6"},{"$f":"'Life Cycle Analysis Tool'!EZ40","v":0},{"$f":"'Life Cycle Analysis Tool'!FA40","v":36696.745795197501},{"$f":"'Life Cycle Analysis Tool'!FB40","v":291618},{"$f":"'Life Cycle Analysis Tool'!FC40","v":0},{"$f":"'Life Cycle Analysis Tool'!FD40","v":63.335109333333236},{"$f":"'Life Cycle Analysis Tool'!FE40","v":0},{"$f":"'Life Cycle Analysis Tool'!FF40","v":63.335109333333236},{"$f":"'Life Cycle Analysis Tool'!FG40","v":995041.9212401089},{"$f":"'Life Cycle Analysis Tool'!FH40","v":43702.910588423794},{"$f":"'Life Cycle Analysis Tool'!FI40","v":0},{"$f":"'Life Cycle Analysis Tool'!FJ40","v":1344.6468366477732},{"$f":"'Life Cycle Analysis Tool'!FK40","v":43702.910588423794},{"$f":"'Life Cycle Analysis Tool'!FL40","v":45047.557425071565},{"$f":"'Life Cycle Analysis Tool'!FM40","v":81744.303220269067},314678.11264702259,140497.5776391768,168519.45300982427,5661.0819980215638,277.09110333333149,3980167.6849604356]
[null,"Life Cycle Operating Summary","Electric Energy Use (kWh)","Natural Gas Energy Use (therm)","GHG Emissions (MT)","Project Capital Costs ($)","Maintenance Cost ($)","Electric Cost ($)","Natural Gas Cost ($)","GHG Emissions Cost ($/yr)","Total Energy Cost ($/yr)","Total Project Cost ($)",null,null,"A",null,null,null,null,null,null,null,null,null,null,null,"A",null,{"$f":"'Life Cycle Analysis Tool'!AM41","v":1},{"$f":"'Life Cycle Analysis Tool'!AW41","v":1},{"$f":"'Life Cycle Analysis Tool'!AX41","v":5},{"$f":"'Life Cycle Analysis Tool'!AJ41*AD12","v":2030},1256974.2370575999,1123112.4297349628,745290.2818273633,978682.81643650727,1312979.2488826416,398563.3657388016,null,969976.49717287114,1047750.7815332301,448303.16373787122,777742.84360358899,1047750.7815332301,178295.22580823023,null,270559.23159043345,72982.707328565011,287612.12681891717,194596.90144538929,256856.00129059944,213314.93636295866,null,16438.508294295134,2378.9408731677377,9374.9912705749703,6343.0713875290912,8372.4660588121606,6953.2035676127734,null,793.95803733822538,115.11771787036955,453.65885814814499,306.94327490740528,405.14633907407125,336.46776833333092,null,13847078.915911756,1702198.040036784,6708065.7388871051,4538643.1438660324,5990731.2015735367,4975209.6062005442,null,null,null,{"$f":"'Life Cycle Analysis Tool'!BH41","v":"P1"},{"$f":"'Life Cycle Analysis Tool'!BI41","v":0},{"$f":"'Life Cycle Analysis Tool'!BJ41","v":33597.909483603042},{"$f":"'Life Cycle Analysis Tool'!BK41","v":239795.37461366304},{"$f":"'Life Cycle Analysis Tool'!BL41","v":19512},{"$f":"'Life Cycle Analysis Tool'!BM41","v":48.825002664392613},{"$f":"'Life Cycle Analysis Tool'!BN41","v":103.45660444799999},{"$f":"'Life Cycle Analysis Tool'!BO41","v":152.28160711239261},{"$f":"'Life Cycle Analysis Tool'!BP41","v":2769415.7831823514},{"$f":"'Life Cycle Analysis Tool'!BQ41","v":36835.002337527061},{"$f":"'Life Cycle Analysis Tool'!BR41","v":19981.607701087454},{"$f":"'Life Cycle Analysis Tool'!BS41","v":3313.8666377092486},{"$f":"'Life Cycle Analysis Tool'!BT41","v":56816.610038614512},{"$f":"'Life Cycle Analysis Tool'!BU41","v":60130.476676323757},{"$f":"'Life Cycle Analysis Tool'!BV41","v":93728.386159926798},1256974.2370575999,969976.49717287114,270559.23159043345,16438.508294295134,793.95803733822538,13847078.915911756,null,null,null,{"$f":"'Life Cycle Analysis Tool'!CA41","v":"P2"},{"$f":"'Life Cycle Analysis Tool'!CB41","v":0},{"$f":"'Life Cycle Analysis Tool'!CC41","v":37797.648169053427},{"$f":"'Life Cycle Analysis Tool'!CD41","v":99773},{"$f":"'Life Cycle Analysis Tool'!CE41","v":0},{"$f":"'Life Cycle Analysis Tool'!CF41","v":20.314891388888704},{"$f":"'Life Cycle Analysis Tool'!CG41","v":0},{"$f":"'Life Cycle Analysis Tool'!CH41","v":20.314891388888704},{"$f":"'Life Cycle Analysis Tool'!CI41","v":340439.60800735682},{"$f":"'Life Cycle Analysis Tool'!CJ41","v":15326.145027372375},{"$f":"'Life Cycle Analysis Tool'!CK41","v":0},{"$f":"'Life Cycle Analysis Tool'!CL41","v":442.08123422704961},{"$f":"'Life Cycle Analysis Tool'!CM41","v":15326.145027372375},{"$f":"'Life Cycle Analysis Tool'!CN41","v":15768.226261599424},{"$f":"'Life Cycle Analysis Tool'!CO41","v":53565.874430652853},1123112.4297349628,1047750.7815332301,72982.707328565011,2378.9408731677377,115.11771787036955,1702198.040036784,null,null,null,null,{"$f":"'Life Cycle Analysis Tool'!CT41","v":"P3"},{"$f":"'Life Cycle Analysis Tool'!CU41","v":0},{"$f":"'Life Cycle Analysis Tool'!CV41","v":33597.909483603042},{"$f":"'Life Cycle Analysis Tool'!CW41","v":393188},{"$f":"'Life Cycle Analysis Tool'!CX41","v":0},{"$f":"'Life Cycle Analysis Tool'!CY41","v":80.057445555554835},{"$f":"'Life Cycle Analysis Tool'!CZ41","v":0},{"$f":"'Life Cycle Analysis Tool'!DA41","v":80.057445555554835},{"$f":"'Life Cycle Analysis Tool'!DB41","v":1341613.1477774209},{"$f":"'Life Cycle Analysis Tool'!DC41","v":60397.665811617269},{"$f":"'Life Cycle Analysis Tool'!DD41","v":0},{"$f":"'Life Cycle Analysis Tool'!DE41","v":1742.1650779596202},{"$f":"'Life Cycle Analysis Tool'!DF41","v":60397.665811617269},{"$f":"'Life Cycle Analysis Tool'!DG41","v":62139.830889576886},{"$f":"'Life Cycle Analysis Tool'!DH41","v":95737.740373179928},745290.2818273633,448303.16373787122,287612.12681891717,9374.9912705749703,453.65885814814499,6708065.7388871051,null,null,null,{"$f":"'Life Cycle Analysis Tool'!DM41","v":"P4"},{"$f":"'Life Cycle Analysis Tool'!DN41","v":0},{"$f":"'Life Cycle Analysis Tool'!DO41","v":41997.386854503806},{"$f":"'Life Cycle Analysis Tool'!DP41","v":266029},{"$f":"'Life Cycle Analysis Tool'!DQ41","v":0},{"$f":"'Life Cycle Analysis Tool'!DR41","v":54.16646027777729},{"$f":"'Life Cycle Analysis Tool'!DS41","v":0},{"$f":"'Life Cycle Analysis Tool'!DT41","v":54.16646027777729},{"$f":"'Life Cycle Analysis Tool'!DU41","v":907728.6287732065},{"$f":"'Life Cycle Analysis Tool'!DV41","v":40864.753344961522},{"$f":"'Life Cycle Analysis Tool'!DW41","v":0},{"$f":"'Life Cycle Analysis Tool'!DX41","v":1178.7400264619466},{"$f":"'Life Cycle Analysis Tool'!DY41","v":40864.753344961522},{"$f":"'Life Cycle Analysis Tool'!DZ41","v":42043.493371423472},{"$f":"'Life Cycle Analysis Tool'!EA41","v":84040.880225927278},978682.81643650727,777742.84360358899,194596.90144538929,6343.0713875290912,306.94327490740528,4538643.1438660324,null,null,null,{"$f":"'Life Cycle Analysis Tool'!EF41","v":"P5"},{"$f":"'Life Cycle Analysis Tool'!EG41","v":0},{"$f":"'Life Cycle Analysis Tool'!EH41","v":37797.648169053427},{"$f":"'Life Cycle Analysis Tool'!EI41","v":351142},{"$f":"'Life Cycle Analysis Tool'!EJ41","v":0},{"$f":"'Life Cycle Analysis Tool'!EK41","v":71.496412777777138},{"$f":"'Life Cycle Analysis Tool'!EL41","v":0},{"$f":"'Life Cycle Analysis Tool'!EM41","v":71.496412777777138},{"$f":"'Life Cycle Analysis Tool'!EN41","v":1198146.2403147074},{"$f":"'Life Cycle Analysis Tool'!EO41","v":53938.973642183664},{"$f":"'Life Cycle Analysis Tool'!EP41","v":0},{"$f":"'Life Cycle Analysis Tool'!EQ41","v":1555.8647003593626},{"$f":"'Life Cycle Analysis Tool'!ER41","v":53938.973642183664},{"$f":"'Life Cycle Analysis Tool'!ES41","v":55494.838342543029},{"$f":"'Life Cycle Analysis Tool'!ET41","v":93292.486511596449},1312979.2488826416,1047750.7815332301,256856.00129059944,8372.4660588121606,405.14633907407125,5990731.2015735367,null,null,null,{"$f":"'Life Cycle Analysis Tool'!EY41","v":"P6"},{"$f":"'Life Cycle Analysis Tool'!EZ41","v":0},{"$f":"'Life Cycle Analysis Tool'!FA41","v":37797.648169053427},{"$f":"'Life Cycle Analysis Tool'!FB41","v":291618},{"$f":"'Life Cycle Analysis Tool'!FC41","v":0},{"$f":"'Life Cycle Analysis Tool'!FD41","v":59.376664999999463},{"$f":"'Life Cycle Analysis Tool'!FE41","v":0},{"$f":"'Life Cycle Analysis Tool'!FF41","v":59.376664999999463},{"$f":"'Life Cycle Analysis Tool'!FG41","v":995041.9212401089},{"$f":"'Life Cycle Analysis Tool'!FH41","v":44795.48335313439},{"$f":"'Life Cycle Analysis Tool'!FI41","v":0},{"$f":"'Life Cycle Analysis Tool'!FJ41","v":1292.1215695912097},{"$f":"'Life Cycle Analysis Tool'!FK41","v":44795.48335313439},{"$f":"'Life Cycle Analysis Tool'!FL41","v":46087.604922725601},{"$f":"'Life Cycle Analysis Tool'!FM41","v":83885.253091779028},398563.3657388016,178295.22580823023,213314.93636295866,6953.2035676127734,336.46776833333092,4975209.6062005442]
[null,{"$f":"IF($Y13=\"Yes\",'Life Cycle Analysis Tool'!C129,\"\")","v":"Status Quo Replacement (Replace in Kind)"},{"$f":"IF($Y13=\"Yes\",'Life Cycle Analysis Tool'!D129,\"\")","v":4795907.4922732618},{"$f":"IF($Y13=\"Yes\",'Life Cycle Analysis Tool'!E129,\"\")","v":390240},{"$f":"IF($Y13=\"Yes\",'Life Cycle Analysis Tool'!F129,\"\")","v":2687.5821227089718},{"$f":"IF($Y13=\"Yes\",'Life Cycle Analysis Tool'!G129,\"\")","v":811491.85200999992},{"$f":"IF($Y13=\"Yes\",'Life Cycle Analysis Tool'!H129,\"\")","v":802115.80917903397},{"$f":"IF($Y13=\"Yes\",'Life Cycle Analysis Tool'!I129,\"\")","v":852442.95552883297},{"$f":"IF($Y13=\"Yes\",'Life Cycle Analysis Tool'!J129,\"\")","v":462418.34244651254},{"$f":"IF($Y13=\"Yes\",'Life Cycle Analysis Tool'!K129,\"\")","v":66333.913801703951},{"$f":"IF($Y13=\"Yes\",'Life Cycle Analysis Tool'!L129,\"\")","v":1314861.2979753455},{"$f":"IF($Y13=\"Yes\",'Life Cycle Analysis Tool'!M129,\"\")","v":2994802.8729660832},null,null,"A",null,null,null,null,null,null,null,null,"R1",{"$f":"Y5","v":"Yes"},null,"A",null,{"$f":"'Life Cycle Analysis Tool'!AM42","v":1},{"$f":"'Life Cycle Analysis Tool'!AW42","v":1},{"$f":"'Life Cycle Analysis Tool'!AX42","v":6},{"$f":"'Life Cycle Analysis Tool'!AJ42*AD13","v":2031},1353141.2180997715,1178176.2303828883,843470.4073102969,1064954.1583672138,1408686.7183766819,484646.44342479832,null,1004582.3439409822,1086682.3591473552,482909.01050598233,821000.15206372796,1086682.3591473552,217226.80342235527,null,328796.25688001333,88692.005981621696,349519.73427582486,236483.27362397485,312143.44927383767,259230.30679992141,null,19762.617278775655,2801.8652539116192,11041.662528489691,7470.7326795110312,9860.9099554892982,8189.3332025217096,null,942.98464427299223,134.07828316666587,528.3791406666636,357.49863783333126,471.87632433333056,391.88598899999761,null,16616494.699094107,2042637.6480441408,8049678.8866645265,5446371.7726392392,7188877.4418882439,5970251.5274406532,null,null,null,{"$f":"'Life Cycle Analysis Tool'!BH42","v":"P1"},{"$f":"'Life Cycle Analysis Tool'!BI42","v":0},{"$f":"'Life Cycle Analysis Tool'!BJ42","v":34605.846768111136},{"$f":"'Life Cycle Analysis Tool'!BK42","v":239795.37461366304},{"$f":"'Life Cycle Analysis Tool'!BL42","v":19512},{"$f":"'Life Cycle Analysis Tool'!BM42","v":45.570002486766889},{"$f":"'Life Cycle Analysis Tool'!BN42","v":103.45660444799999},{"$f":"'Life Cycle Analysis Tool'!BO42","v":149.02660693476687},{"$f":"'Life Cycle Analysis Tool'!BP42","v":2769415.7831823514},{"$f":"'Life Cycle Analysis Tool'!BQ42","v":37755.877395965246},{"$f":"'Life Cycle Analysis Tool'!BR42","v":20481.147893614641},{"$f":"'Life Cycle Analysis Tool'!BS42","v":3324.108984480521},{"$f":"'Life Cycle Analysis Tool'!BT42","v":58237.025289579891},{"$f":"'Life Cycle Analysis Tool'!BU42","v":61561.134274060416},{"$f":"'Life Cycle Analysis Tool'!BV42","v":96166.981042171552},1353141.2180997715,1004582.3439409822,328796.25688001333,19762.617278775655,942.98464427299223,16616494.699094107,null,null,null,{"$f":"'Life Cycle Analysis Tool'!CA42","v":"P2"},{"$f":"'Life Cycle Analysis Tool'!CB42","v":0},{"$f":"'Life Cycle Analysis Tool'!CC42","v":38931.577614125032},{"$f":"'Life Cycle Analysis Tool'!CD42","v":99773},{"$f":"'Life Cycle Analysis Tool'!CE42","v":0},{"$f":"'Life Cycle Analysis Tool'!CF42","v":18.960565296296309},{"$f":"'Life Cycle Analysis Tool'!CG42","v":0},{"$f":"'Life Cycle Analysis Tool'!CH42","v":18.960565296296309},{"$f":"'Life Cycle Analysis Tool'!CI42","v":340439.60800735682},{"$f":"'Life Cycle Analysis Tool'!CJ42","v":15709.298653056687},{"$f":"'Life Cycle Analysis Tool'!CK42","v":0},{"$f":"'Life Cycle Analysis Tool'!CL42","v":422.92438074388161},{"$f":"'Life Cycle Analysis Tool'!CM42","v":15709.298653056687},{"$f":"'Life Cycle Analysis Tool'!CN42","v":16132.223033800568},{"$f":"'Life Cycle Analysis Tool'!CO42","v":55063.8006479256},1178176.2303828883,1086682.3591473552,88692.005981621696,2801.8652539116192,134.07828316666587,2042637.6480441408,null,null,null,null,{"$f":"'Life Cycle Analysis Tool'!CT42","v":"P3"},{"$f":"'Life Cycle Analysis Tool'!CU42","v":0},{"$f":"'Life Cycle Analysis Tool'!CV42","v":34605.846768111136},{"$f":"'Life Cycle Analysis Tool'!CW42","v":393188},{"$f":"'Life Cycle Analysis Tool'!CX42","v":0},{"$f":"'Life Cycle Analysis Tool'!CY42","v":74.720282518518573},{"$f":"'Life Cycle Analysis Tool'!CZ42","v":0},{"$f":"'Life Cycle Analysis Tool'!DA42","v":74.720282518518573},{"$f":"'Life Cycle Analysis Tool'!DB42","v":1341613.1477774209},{"$f":"'Life Cycle Analysis Tool'!DC42","v":61907.607456907703},{"$f":"'Life Cycle Analysis Tool'!DD42","v":0},{"$f":"'Life Cycle Analysis Tool'!DE42","v":1666.6712579147197},{"$f":"'Life Cycle Analysis Tool'!DF42","v":61907.607456907703},{"$f":"'Life Cycle Analysis Tool'!DG42","v":63574.278714822423},{"$f":"'Life Cycle Analysis Tool'!DH42","v":98180.125482933567},843470.4073102969,482909.01050598233,349519.73427582486,11041.662528489691,528.3791406666636,8049678.8866645265,null,null,null,{"$f":"'Life Cycle Analysis Tool'!DM42","v":"P4"},{"$f":"'Life Cycle Analysis Tool'!DN42","v":0},{"$f":"'Life Cycle Analysis Tool'!DO42","v":43257.30846013892},{"$f":"'Life Cycle Analysis Tool'!DP42","v":266029},{"$f":"'Life Cycle Analysis Tool'!DQ42","v":0},{"$f":"'Life Cycle Analysis Tool'!DR42","v":50.555362925925962},{"$f":"'Life Cycle Analysis Tool'!DS42","v":0},{"$f":"'Life Cycle Analysis Tool'!DT42","v":50.555362925925962},{"$f":"'Life Cycle Analysis Tool'!DU42","v":907728.6287732065},{"$f":"'Life Cycle Analysis Tool'!DV42","v":41886.37217858556},{"$f":"'Life Cycle Analysis Tool'!DW42","v":0},{"$f":"'Life Cycle Analysis Tool'!DX42","v":1127.6612919819399},{"$f":"'Life Cycle Analysis Tool'!DY42","v":41886.37217858556},{"$f":"'Life Cycle Analysis Tool'!DZ42","v":43014.033470567498},{"$f":"'Life Cycle Analysis Tool'!EA42","v":86271.341930706418},1064954.1583672138,821000.15206372796,236483.27362397485,7470.7326795110312,357.49863783333126,5446371.7726392392,null,null,null,{"$f":"'Life Cycle Analysis Tool'!EF42","v":"P5"},{"$f":"'Life Cycle Analysis Tool'!EG42","v":0},{"$f":"'Life Cycle Analysis Tool'!EH42","v":38931.577614125032},{"$f":"'Life Cycle Analysis Tool'!EI42","v":351142},{"$f":"'Life Cycle Analysis Tool'!EJ42","v":0},{"$f":"'Life Cycle Analysis Tool'!EK42","v":66.729985259259308},{"$f":"'Life Cycle Analysis Tool'!EL42","v":0},{"$f":"'Life Cycle Analysis Tool'!EM42","v":66.729985259259308},{"$f":"'Life Cycle Analysis Tool'!EN42","v":1198146.2403147074},{"$f":"'Life Cycle Analysis Tool'!EO42","v":55287.447983238257},{"$f":"'Life Cycle Analysis Tool'!EP42","v":0},{"$f":"'Life Cycle Analysis Tool'!EQ42","v":1488.4438966771379},{"$f":"'Life Cycle Analysis Tool'!ER42","v":55287.447983238257},{"$f":"'Life Cycle Analysis Tool'!ES42","v":56775.891879915398},{"$f":"'Life Cycle Analysis Tool'!ET42","v":95707.46949404043},1408686.7183766819,1086682.3591473552,312143.44927383767,9860.9099554892982,471.87632433333056,7188877.4418882439,null,null,null,{"$f":"'Life Cycle Analysis Tool'!EY42","v":"P6"},{"$f":"'Life Cycle Analysis Tool'!EZ42","v":0},{"$f":"'Life Cycle Analysis Tool'!FA42","v":38931.577614125032},{"$f":"'Life Cycle Analysis Tool'!FB42","v":291618},{"$f":"'Life Cycle Analysis Tool'!FC42","v":0},{"$f":"'Life Cycle Analysis Tool'!FD42","v":55.418220666666706},{"$f":"'Life Cycle Analysis Tool'!FE42","v":0},{"$f":"'Life Cycle Analysis Tool'!FF42","v":55.418220666666706},{"$f":"'Life Cycle Analysis Tool'!FG42","v":995041.9212401089},{"$f":"'Life Cycle Analysis Tool'!FH42","v":45915.370436962752},{"$f":"'Life Cycle Analysis Tool'!FI42","v":0},{"$f":"'Life Cycle Analysis Tool'!FJ42","v":1236.1296349089359},{"$f":"'Life Cycle Analysis Tool'!FK42","v":45915.370436962752},{"$f":"'Life Cycle Analysis Tool'!FL42","v":47151.500071871691},{"$f":"'Life Cycle Analysis Tool'!FM42","v":86083.077685996715},484646.44342479832,217226.80342235527,259230.30679992141,8189.3332025217096,391.88598899999761,5970251.5274406532]
[null,{"$f":"IF($Y14=\"Yes\",'Life Cycle Analysis Tool'!C130,\"\")","v":"Scenario 1 (WWHP Heating Only)"},{"$f":"IF($Y14=\"Yes\",'Life Cycle Analysis Tool'!D130,\"\")","v":1995460},null,{"$f":"IF($Y14=\"Yes\",'Life Cycle Analysis Tool'!F130,\"\")","v":257.32195759258985},{"$f":"IF($Y14=\"Yes\",'Life Cycle Analysis Tool'!G130,\"\")","v":869455.55572499987},{"$f":"IF($Y14=\"Yes\",'Life Cycle Analysis Tool'!H130,\"\")","v":902380.28532641323},{"$f":"IF($Y14=\"Yes\",'Life Cycle Analysis Tool'!I130,\"\")","v":354680.69865402742},null,{"$f":"IF($Y14=\"Yes\",'Life Cycle Analysis Tool'!K130,\"\")","v":5921.7502075534785},{"$f":"IF($Y14=\"Yes\",'Life Cycle Analysis Tool'!L130,\"\")","v":354680.69865402742},{"$f":"IF($Y14=\"Yes\",'Life Cycle Analysis Tool'!M130,\"\")","v":2132438.289912994},null,null,"A",null,null,null,null,null,null,null,null,"R2",{"$f":"Y6","v":"Yes"},null,"A",null,{"$f":"'Life Cycle Analysis Tool'!AM43","v":1},{"$f":"'Life Cycle Analysis Tool'!AW43","v":1},{"$f":"'Life Cycle Analysis Tool'!AX43","v":7},{"$f":"'Life Cycle Analysis Tool'!AJ43*AD14","v":2032},1451810.9834746872,1234780.3198286353,944156.04101847555,1153516.0094724684,1506872.557139423,572985.7535927454,null,1040226.3661121367,1126781.8840899039,518553.03267713677,865555.179777671,1126781.8840899039,257326.32836490404,null,388489.2078018327,104794.0371010048,412975.03191915527,279416.80510702502,368813.0834566569,306293.5614978082,null,23095.409560717424,3204.3986377267747,12627.976422183508,8544.0245877724046,11277.589592862349,9365.8637300332412,null,1088.7562510301325,151.68452237036945,597.76226014814461,404.44290340740497,533.83988207407083,443.34576533333052,null,19385910.482276458,2383077.2560514975,9391292.0344419479,6354100.4014124461,8387023.6822029511,6965293.4486807622,null,null,null,{"$f":"'Life Cycle Analysis Tool'!BH43","v":"P1"},{"$f":"'Life Cycle Analysis Tool'!BI43","v":0},{"$f":"'Life Cycle Analysis Tool'!BJ43","v":35644.022171154465},{"$f":"'Life Cycle Analysis Tool'!BK43","v":239795.37461366304},{"$f":"'Life Cycle Analysis Tool'!BL43","v":19512},{"$f":"'Life Cycle Analysis Tool'!BM43","v":42.315002309140326},{"$f":"'Life Cycle Analysis Tool'!BN43","v":103.45660444799999},{"$f":"'Life Cycle Analysis Tool'!BO43","v":145.77160675714032},{"$f":"'Life Cycle Analysis Tool'!BP43","v":2769415.7831823514},{"$f":"'Life Cycle Analysis Tool'!BQ43","v":38699.774330864369},{"$f":"'Life Cycle Analysis Tool'!BR43","v":20993.176590955005},{"$f":"'Life Cycle Analysis Tool'!BS43","v":3332.7922819417695},{"$f":"'Life Cycle Analysis Tool'!BT43","v":59692.950921819371},{"$f":"'Life Cycle Analysis Tool'!BU43","v":63025.743203761143},{"$f":"'Life Cycle Analysis Tool'!BV43","v":98669.765374915616},1451810.9834746872,1040226.3661121367,388489.2078018327,23095.409560717424,1088.7562510301325,19385910.482276458,null,null,null,{"$f":"'Life Cycle Analysis Tool'!CA43","v":"P2"},{"$f":"'Life Cycle Analysis Tool'!CB43","v":0},{"$f":"'Life Cycle Analysis Tool'!CC43","v":40099.524942548771},{"$f":"'Life Cycle Analysis Tool'!CD43","v":99773},{"$f":"'Life Cycle Analysis Tool'!CE43","v":0},{"$f":"'Life Cycle Analysis Tool'!CF43","v":17.606239203703566},{"$f":"'Life Cycle Analysis Tool'!CG43","v":0},{"$f":"'Life Cycle Analysis Tool'!CH43","v":17.606239203703566},{"$f":"'Life Cycle Analysis Tool'!CI43","v":340439.60800735682},{"$f":"'Life Cycle Analysis Tool'!CJ43","v":16102.0311193831},{"$f":"'Life Cycle Analysis Tool'!CK43","v":0},{"$f":"'Life Cycle Analysis Tool'!CL43","v":402.53338381515528},{"$f":"'Life Cycle Analysis Tool'!CM43","v":16102.0311193831},{"$f":"'Life Cycle Analysis Tool'!CN43","v":16504.564503198257},{"$f":"'Life Cycle Analysis Tool'!CO43","v":56604.089445747028},1234780.3198286353,1126781.8840899039,104794.0371010048,3204.3986377267747,151.68452237036945,2383077.2560514975,null,null,null,null,{"$f":"'Life Cycle Analysis Tool'!CT43","v":"P3"},{"$f":"'Life Cycle Analysis Tool'!CU43","v":0},{"$f":"'Life Cycle Analysis Tool'!CV43","v":35644.022171154465},{"$f":"'Life Cycle Analysis Tool'!CW43","v":393188},{"$f":"'Life Cycle Analysis Tool'!CX43","v":0},{"$f":"'Life Cycle Analysis Tool'!CY43","v":69.383119481480946},{"$f":"'Life Cycle Analysis Tool'!CZ43","v":0},{"$f":"'Life Cycle Analysis Tool'!DA43","v":69.383119481480946},{"$f":"'Life Cycle Analysis Tool'!DB43","v":1341613.1477774209},{"$f":"'Life Cycle Analysis Tool'!DC43","v":63455.297643330385},{"$f":"'Life Cycle Analysis Tool'!DD43","v":0},{"$f":"'Life Cycle Analysis Tool'!DE43","v":1586.3138936938178},{"$f":"'Life Cycle Analysis Tool'!DF43","v":63455.297643330385},{"$f":"'Life Cycle Analysis Tool'!DG43","v":65041.611537024204},{"$f":"'Life Cycle Analysis Tool'!DH43","v":100685.63370817868},944156.04101847555,518553.03267713677,412975.03191915527,12627.976422183508,597.76226014814461,9391292.0344419479,null,null,null,{"$f":"'Life Cycle Analysis Tool'!DM43","v":"P4"},{"$f":"'Life Cycle Analysis Tool'!DN43","v":0},{"$f":"'Life Cycle Analysis Tool'!DO43","v":44555.027713943084},{"$f":"'Life Cycle Analysis Tool'!DP43","v":266029},{"$f":"'Life Cycle Analysis Tool'!DQ43","v":0},{"$f":"'Life Cycle Analysis Tool'!DR43","v":46.944265574073711},{"$f":"'Life Cycle Analysis Tool'!DS43","v":0},{"$f":"'Life Cycle Analysis Tool'!DT43","v":46.944265574073711},{"$f":"'Life Cycle Analysis Tool'!DU43","v":907728.6287732065},{"$f":"'Life Cycle Analysis Tool'!DV43","v":42933.531483050196},{"$f":"'Life Cycle Analysis Tool'!DW43","v":0},{"$f":"'Life Cycle Analysis Tool'!DX43","v":1073.2919082613728},{"$f":"'Life Cycle Analysis Tool'!DY43","v":42933.531483050196},{"$f":"'Life Cycle Analysis Tool'!DZ43","v":44006.823391311569},{"$f":"'Life Cycle Analysis Tool'!EA43","v":88561.851105254653},1153516.0094724684,865555.179777671,279416.80510702502,8544.0245877724046,404.44290340740497,6354100.4014124461,null,null,null,{"$f":"'Life Cycle Analysis Tool'!EF43","v":"P5"},{"$f":"'Life Cycle Analysis Tool'!EG43","v":0},{"$f":"'Life Cycle Analysis Tool'!EH43","v":40099.524942548771},{"$f":"'Life Cycle Analysis Tool'!EI43","v":351142},{"$f":"'Life Cycle Analysis Tool'!EJ43","v":0},{"$f":"'Life Cycle Analysis Tool'!EK43","v":61.963557740740264},{"$f":"'Life Cycle Analysis Tool'!EL43","v":0},{"$f":"'Life Cycle Analysis Tool'!EM43","v":61.963557740740264},{"$f":"'Life Cycle Analysis Tool'!EN43","v":1198146.2403147074},{"$f":"'Life Cycle Analysis Tool'!EO43","v":56669.634182819209},{"$f":"'Life Cycle Analysis Tool'!EP43","v":0},{"$f":"'Life Cycle Analysis Tool'!EQ43","v":1416.6796373730497},{"$f":"'Life Cycle Analysis Tool'!ER43","v":56669.634182819209},{"$f":"'Life Cycle Analysis Tool'!ES43","v":58086.313820192256},{"$f":"'Life Cycle Analysis Tool'!ET43","v":98185.838762741027},1506872.557139423,1126781.8840899039,368813.0834566569,11277.589592862349,533.83988207407083,8387023.6822029511,null,null,null,{"$f":"'Life Cycle Analysis Tool'!EY43","v":"P6"},{"$f":"'Life Cycle Analysis Tool'!EZ43","v":0},{"$f":"'Life Cycle Analysis Tool'!FA43","v":40099.524942548771},{"$f":"'Life Cycle Analysis Tool'!FB43","v":291618},{"$f":"'Life Cycle Analysis Tool'!FC43","v":0},{"$f":"'Life Cycle Analysis Tool'!FD43","v":51.459776333332933},{"$f":"'Life Cycle Analysis Tool'!FE43","v":0},{"$f":"'Life Cycle Analysis Tool'!FF43","v":51.459776333332933},{"$f":"'Life Cycle Analysis Tool'!FG43","v":995041.9212401089},{"$f":"'Life Cycle Analysis Tool'!FH43","v":47063.254697886812},{"$f":"'Life Cycle Analysis Tool'!FI43","v":0},{"$f":"'Life Cycle Analysis Tool'!FJ43","v":1176.5305275115309},{"$f":"'Life Cycle Analysis Tool'!FK43","v":47063.254697886812},{"$f":"'Life Cycle Analysis Tool'!FL43","v":48239.785225398344},{"$f":"'Life Cycle Analysis Tool'!FM43","v":88339.310167947115},572985.7535927454,257326.32836490404,306293.5614978082,9365.8637300332412,443.34576533333052,6965293.4486807622]
[null,{"$f":"IF($Y15=\"Yes\",'Life Cycle Analysis Tool'!C131,\"\")","v":"Scenario 2 (Air-to-Air Heat Pump )"},{"$f":"IF($Y15=\"Yes\",'Life Cycle Analysis Tool'!D131,\"\")","v":7863760},null,{"$f":"IF($Y15=\"Yes\",'Life Cycle Analysis Tool'!F131,\"\")","v":1014.0609770370261},{"$f":"IF($Y15=\"Yes\",'Life Cycle Analysis Tool'!G131,\"\")","v":289818.51857499994},{"$f":"IF($Y15=\"Yes\",'Life Cycle Analysis Tool'!H131,\"\")","v":802115.80917903397},{"$f":"IF($Y15=\"Yes\",'Life Cycle Analysis Tool'!I131,\"\")","v":1397734.8034275782},null,{"$f":"IF($Y15=\"Yes\",'Life Cycle Analysis Tool'!K131,\"\")","v":23336.585254603324},{"$f":"IF($Y15=\"Yes\",'Life Cycle Analysis Tool'!L131,\"\")","v":1397734.8034275782},{"$f":"IF($Y15=\"Yes\",'Life Cycle Analysis Tool'!M131,\"\")","v":2513005.7164362157},null,null,"A",null,null,null,null,null,null,null,null,"R3","Yes",null,"A",null,{"$f":"'Life Cycle Analysis Tool'!AM44","v":1},{"$f":"'Life Cycle Analysis Tool'!AW44","v":1},{"$f":"'Life Cycle Analysis Tool'!AX44","v":8},{"$f":"'Life Cycle Analysis Tool'!AJ44*AD15","v":2033},1553049.433182002,1292968.2709261302,1047411.9609309039,1244430.0570550035,1607601.8397553063,663641.27923262701,null,1076939.7089484259,1168084.3947807292,555266.37551342591,911446.85832303239,1168084.3947807292,298628.83905572927,null,449674.48249669757,121298.61899837248,478016.71200356889,323423.6748771515,426899.45849404659,354533.39756314218,null,26435.241736878204,3585.2571470288026,14128.873413909183,9559.523854819694,12617.986480530682,10479.042613755679,null,1231.2728576096463,167.93643548148029,661.80821659258788,447.77607162962641,591.037012296292,490.84709733332966,null,22155326.265458811,2723516.8640588545,10732905.182219369,7261829.0301856529,9585169.9225176591,7960335.3699208712,null,null,null,{"$f":"'Life Cycle Analysis Tool'!BH44","v":"P1"},{"$f":"'Life Cycle Analysis Tool'!BI44","v":0},{"$f":"'Life Cycle Analysis Tool'!BJ44","v":36713.342836289099},{"$f":"'Life Cycle Analysis Tool'!BK44","v":239795.37461366304},{"$f":"'Life Cycle Analysis Tool'!BL44","v":19512},{"$f":"'Life Cycle Analysis Tool'!BM44","v":39.060002131513762},{"$f":"'Life Cycle Analysis Tool'!BN44","v":103.45660444799999},{"$f":"'Life Cycle Analysis Tool'!BO44","v":142.51660657951376},{"$f":"'Life Cycle Analysis Tool'!BP44","v":2769415.7831823514},{"$f":"'Life Cycle Analysis Tool'!BQ44","v":39667.268689135977},{"$f":"'Life Cycle Analysis Tool'!BR44","v":21518.006005728879},{"$f":"'Life Cycle Analysis Tool'!BS44","v":3339.8321761607799},{"$f":"'Life Cycle Analysis Tool'!BT44","v":61185.274694864856},{"$f":"'Life Cycle Analysis Tool'!BU44","v":64525.106871025637},{"$f":"'Life Cycle Analysis Tool'!BV44","v":101238.44970731474},1553049.433182002,1076939.7089484259,449674.48249669757,26435.241736878204,1231.2728576096463,22155326.265458811,null,null,null,{"$f":"'Life Cycle Analysis Tool'!CA44","v":"P2"},{"$f":"'Life Cycle Analysis Tool'!CB44","v":0},{"$f":"'Life Cycle Analysis Tool'!CC44","v":41302.510690825235},{"$f":"'Life Cycle Analysis Tool'!CD44","v":99773},{"$f":"'Life Cycle Analysis Tool'!CE44","v":0},{"$f":"'Life Cycle Analysis Tool'!CF44","v":16.251913111110827},{"$f":"'Life Cycle Analysis Tool'!CG44","v":0},{"$f":"'Life Cycle Analysis Tool'!CH44","v":16.251913111110827},{"$f":"'Life Cycle Analysis Tool'!CI44","v":340439.60800735682},{"$f":"'Life Cycle Analysis Tool'!CJ44","v":16504.58189736768},{"$f":"'Life Cycle Analysis Tool'!CK44","v":0},{"$f":"'Life Cycle Analysis Tool'!CL44","v":380.85850930202787},{"$f":"'Life Cycle Analysis Tool'!CM44","v":16504.58189736768},{"$f":"'Life Cycle Analysis Tool'!CN44","v":16885.440406669706},{"$f":"'Life Cycle Analysis Tool'!CO44","v":58187.951097494937},1292968.2709261302,1168084.3947807292,121298.61899837248,3585.2571470288026,167.93643548148029,2723516.8640588545,null,null,null,null,{"$f":"'Life Cycle Analysis Tool'!CT44","v":"P3"},{"$f":"'Life Cycle Analysis Tool'!CU44","v":0},{"$f":"'Life Cycle Analysis Tool'!CV44","v":36713.342836289099},{"$f":"'Life Cycle Analysis Tool'!CW44","v":393188},{"$f":"'Life Cycle Analysis Tool'!CX44","v":0},{"$f":"'Life Cycle Analysis Tool'!CY44","v":64.04595644444332},{"$f":"'Life Cycle Analysis Tool'!CZ44","v":0},{"$f":"'Life Cycle Analysis Tool'!DA44","v":64.04595644444332},{"$f":"'Life Cycle Analysis Tool'!DB44","v":1341613.1477774209},{"$f":"'Life Cycle Analysis Tool'!DC44","v":65041.680084413645},{"$f":"'Life Cycle Analysis Tool'!DD44","v":0},{"$f":"'Life Cycle Analysis Tool'!DE44","v":1500.8969917256745},{"$f":"'Life Cycle Analysis Tool'!DF44","v":65041.680084413645},{"$f":"'Life Cycle Analysis Tool'!DG44","v":66542.577076139321},{"$f":"'Life Cycle Analysis Tool'!DH44","v":103255.91991242842},1047411.9609309039,555266.37551342591,478016.71200356889,14128.873413909183,661.80821659258788,10732905.182219369,null,null,null,{"$f":"'Life Cycle Analysis Tool'!DM44","v":"P4"},{"$f":"'Life Cycle Analysis Tool'!DN44","v":0},{"$f":"'Life Cycle Analysis Tool'!DO44","v":45891.67854536137},{"$f":"'Life Cycle Analysis Tool'!DP44","v":266029},{"$f":"'Life Cycle Analysis Tool'!DQ44","v":0},{"$f":"'Life Cycle Analysis Tool'!DR44","v":43.33316822222146},{"$f":"'Life Cycle Analysis Tool'!DS44","v":0},{"$f":"'Life Cycle Analysis Tool'!DT44","v":43.33316822222146},{"$f":"'Life Cycle Analysis Tool'!DU44","v":907728.6287732065},{"$f":"'Life Cycle Analysis Tool'!DV44","v":44006.869770126446},{"$f":"'Life Cycle Analysis Tool'!DW44","v":0},{"$f":"'Life Cycle Analysis Tool'!DX44","v":1015.499267047289},{"$f":"'Life Cycle Analysis Tool'!DY44","v":44006.869770126446},{"$f":"'Life Cycle Analysis Tool'!DZ44","v":45022.369037173732},{"$f":"'Life Cycle Analysis Tool'!EA44","v":90914.047582535102},1244430.0570550035,911446.85832303239,323423.6748771515,9559.523854819694,447.77607162962641,7261829.0301856529,null,null,null,{"$f":"'Life Cycle Analysis Tool'!EF44","v":"P5"},{"$f":"'Life Cycle Analysis Tool'!EG44","v":0},{"$f":"'Life Cycle Analysis Tool'!EH44","v":41302.510690825235},{"$f":"'Life Cycle Analysis Tool'!EI44","v":351142},{"$f":"'Life Cycle Analysis Tool'!EJ44","v":0},{"$f":"'Life Cycle Analysis Tool'!EK44","v":57.197130222221219},{"$f":"'Life Cycle Analysis Tool'!EL44","v":0},{"$f":"'Life Cycle Analysis Tool'!EM44","v":57.197130222221219},{"$f":"'Life Cycle Analysis Tool'!EN44","v":1198146.2403147074},{"$f":"'Life Cycle Analysis Tool'!EO44","v":58086.375037389691},{"$f":"'Life Cycle Analysis Tool'!EP44","v":0},{"$f":"'Life Cycle Analysis Tool'!EQ44","v":1340.3968876683336},{"$f":"'Life Cycle Analysis Tool'!ER44","v":58086.375037389691},{"$f":"'Life Cycle Analysis Tool'!ES44","v":59426.771925058027},{"$f":"'Life Cycle Analysis Tool'!ET44","v":100729.28261588326},1607601.8397553063,1168084.3947807292,426899.45849404659,12617.986480530682,591.037012296292,9585169.9225176591,null,null,null,{"$f":"'Life Cycle Analysis Tool'!EY44","v":"P6"},{"$f":"'Life Cycle Analysis Tool'!EZ44","v":0},{"$f":"'Life Cycle Analysis Tool'!FA44","v":41302.510690825235},{"$f":"'Life Cycle Analysis Tool'!FB44","v":291618},{"$f":"'Life Cycle Analysis Tool'!FC44","v":0},{"$f":"'Life Cycle Analysis Tool'!FD44","v":47.501331999999167},{"$f":"'Life Cycle Analysis Tool'!FE44","v":0},{"$f":"'Life Cycle Analysis Tool'!FF44","v":47.501331999999167},{"$f":"'Life Cycle Analysis Tool'!FG44","v":995041.9212401089},{"$f":"'Life Cycle Analysis Tool'!FH44","v":48239.836065333984},{"$f":"'Life Cycle Analysis Tool'!FI44","v":0},{"$f":"'Life Cycle Analysis Tool'!FJ44","v":1113.1788837224374},{"$f":"'Life Cycle Analysis Tool'!FK44","v":48239.836065333984},{"$f":"'Life Cycle Analysis Tool'!FL44","v":49353.014949056422},{"$f":"'Life Cycle Analysis Tool'!FM44","v":90655.525639881656},663641.27923262701,298628.83905572927,354533.39756314218,10479.042613755679,490.84709733332966,7960335.3699208712]
[null,{"$f":"IF($Y16=\"Yes\",'Life Cycle Analysis Tool'!C132,\"\")","v":"Scenario 3 (WSHP)"},{"$f":"IF($Y16=\"Yes\",'Life Cycle Analysis Tool'!D132,\"\")","v":5320580},null,{"$f":"IF($Y16=\"Yes\",'Life Cycle Analysis Tool'!F132,\"\")","v":686.10849685184439},{"$f":"IF($Y16=\"Yes\",'Life Cycle Analysis Tool'!G132,\"\")","v":579637.03714999987},{"$f":"IF($Y16=\"Yes\",'Life Cycle Analysis Tool'!H132,\"\")","v":1002644.7614737927},{"$f":"IF($Y16=\"Yes\",'Life Cycle Analysis Tool'!I132,\"\")","v":945700.25540208572},null,{"$f":"IF($Y16=\"Yes\",'Life Cycle Analysis Tool'!K132,\"\")","v":15789.414831319542},{"$f":"IF($Y16=\"Yes\",'Life Cycle Analysis Tool'!L132,\"\")","v":945700.25540208572},{"$f":"IF($Y16=\"Yes\",'Life Cycle Analysis Tool'!M132,\"\")","v":2543771.4688571976},null,null,"A",null,null,null,null,null,null,null,null,"R4","Yes",null,"A",null,{"$f":"'Life Cycle Analysis Tool'!AM45","v":1},{"$f":"'Life Cycle Analysis Tool'!AW45","v":1},{"$f":"'Life Cycle Analysis Tool'!AX45","v":9},{"$f":"'Life Cycle Analysis Tool'!AJ45*AD16","v":2034},1656924.2239355308,1352784.9016901804,1153304.6439372813,1337759.6736574352,1710941.3747558857,756674.62153730856,null,1114754.4520698036,1210625.9807922791,593081.11863480369,958715.28722475457,1210625.9807922791,341170.42506727926,null,512389.38905893406,138215.81544317433,544684.43409009289,368530.71639153111,486437.99290737102,403979.2295301095,null,29780.38280679275,3943.1054547271706,15539.091212384781,10513.670041149553,13877.401056235736,11524.966939919897,null,1370.5344640115343,182.83402249999872,720.51700999999491,487.49814249999656,643.46771499999545,534.38998499999605,null,24924742.048641164,3063956.4720662115,12074518.329996791,8169557.6589588597,10783316.162832366,8955377.2911609802,null,null,null,{"$f":"'Life Cycle Analysis Tool'!BH45","v":"P1"},{"$f":"'Life Cycle Analysis Tool'!BI45","v":0},{"$f":"'Life Cycle Analysis Tool'!BJ45","v":37814.743121377775},{"$f":"'Life Cycle Analysis Tool'!BK45","v":239795.37461366304},{"$f":"'Life Cycle Analysis Tool'!BL45","v":19512},{"$f":"'Life Cycle Analysis Tool'!BM45","v":35.805001953888031},{"$f":"'Life Cycle Analysis Tool'!BN45","v":103.45660444799999},{"$f":"'Life Cycle Analysis Tool'!BO45","v":139.26160640188803},{"$f":"'Life Cycle Analysis Tool'!BP45","v":2769415.7831823514},{"$f":"'Life Cycle Analysis Tool'!BQ45","v":40658.950406364369},{"$f":"'Life Cycle Analysis Tool'!BR45","v":22055.9561558721},{"$f":"'Life Cycle Analysis Tool'!BS45","v":3345.1410699145467},{"$f":"'Life Cycle Analysis Tool'!BT45","v":62714.906562236472},{"$f":"'Life Cycle Analysis Tool'!BU45","v":66060.047632151021},{"$f":"'Life Cycle Analysis Tool'!BV45","v":103874.7907535288},1656924.2239355308,1114754.4520698036,512389.38905893406,29780.38280679275,1370.5344640115343,24924742.048641164,null,null,null,{"$f":"'Life Cycle Analysis Tool'!CA45","v":"P2"},{"$f":"'Life Cycle Analysis Tool'!CB45","v":0},{"$f":"'Life Cycle Analysis Tool'!CC45","v":42541.586011549996},{"$f":"'Life Cycle Analysis Tool'!CD45","v":99773},{"$f":"'Life Cycle Analysis Tool'!CE45","v":0},{"$f":"'Life Cycle Analysis Tool'!CF45","v":14.897587018518431},{"$f":"'Life Cycle Analysis Tool'!CG45","v":0},{"$f":"'Life Cycle Analysis Tool'!CH45","v":14.897587018518431},{"$f":"'Life Cycle Analysis Tool'!CI45","v":340439.60800735682},{"$f":"'Life Cycle Analysis Tool'!CJ45","v":16917.196444801866},{"$f":"'Life Cycle Analysis Tool'!CK45","v":0},{"$f":"'Life Cycle Analysis Tool'!CL45","v":357.84830769836776},{"$f":"'Life Cycle Analysis Tool'!CM45","v":16917.196444801866},{"$f":"'Life Cycle Analysis Tool'!CN45","v":17275.044752500235},{"$f":"'Life Cycle Analysis Tool'!CO45","v":59816.630764050235},1352784.9016901804,1210625.9807922791,138215.81544317433,3943.1054547271706,182.83402249999872,3063956.4720662115,null,null,null,null,{"$f":"'Life Cycle Analysis Tool'!CT45","v":"P3"},{"$f":"'Life Cycle Analysis Tool'!CU45","v":0},{"$f":"'Life Cycle Analysis Tool'!CV45","v":37814.743121377775},{"$f":"'Life Cycle Analysis Tool'!CW45","v":393188},{"$f":"'Life Cycle Analysis Tool'!CX45","v":0},{"$f":"'Life Cycle Analysis Tool'!CY45","v":58.708793407407057},{"$f":"'Life Cycle Analysis Tool'!CZ45","v":0},{"$f":"'Life Cycle Analysis Tool'!DA45","v":58.708793407407057},{"$f":"'Life Cycle Analysis Tool'!DB45","v":1341613.1477774209},{"$f":"'Life Cycle Analysis Tool'!DC45","v":66667.72208652398},{"$f":"'Life Cycle Analysis Tool'!DD45","v":0},{"$f":"'Life Cycle Analysis Tool'!DE45","v":1410.2177984755976},{"$f":"'Life Cycle Analysis Tool'!DF45","v":66667.72208652398},{"$f":"'Life Cycle Analysis Tool'!DG45","v":68077.939884999578},{"$f":"'Life Cycle Analysis Tool'!DH45","v":105892.68300637735},1153304.6439372813,593081.11863480369,544684.43409009289,15539.091212384781,720.51700999999491,12074518.329996791,null,null,null,{"$f":"'Life Cycle Analysis Tool'!DM45","v":"P4"},{"$f":"'Life Cycle Analysis Tool'!DN45","v":0},{"$f":"'Life Cycle Analysis Tool'!DO45","v":47268.428901722218},{"$f":"'Life Cycle Analysis Tool'!DP45","v":266029},{"$f":"'Life Cycle Analysis Tool'!DQ45","v":0},{"$f":"'Life Cycle Analysis Tool'!DR45","v":39.722070870370132},{"$f":"'Life Cycle Analysis Tool'!DS45","v":0},{"$f":"'Life Cycle Analysis Tool'!DT45","v":39.722070870370132},{"$f":"'Life Cycle Analysis Tool'!DU45","v":907728.6287732065},{"$f":"'Life Cycle Analysis Tool'!DV45","v":45107.041514379598},{"$f":"'Life Cycle Analysis Tool'!DW45","v":0},{"$f":"'Life Cycle Analysis Tool'!DX45","v":954.14618632985946},{"$f":"'Life Cycle Analysis Tool'!DY45","v":45107.041514379598},{"$f":"'Life Cycle Analysis Tool'!DZ45","v":46061.187700709459},{"$f":"'Life Cycle Analysis Tool'!EA45","v":93329.616602431677},1337759.6736574352,958715.28722475457,368530.71639153111,10513.670041149553,487.49814249999656,8169557.6589588597,null,null,null,{"$f":"'Life Cycle Analysis Tool'!EF45","v":"P5"},{"$f":"'Life Cycle Analysis Tool'!EG45","v":0},{"$f":"'Life Cycle Analysis Tool'!EH45","v":42541.586011549996},{"$f":"'Life Cycle Analysis Tool'!EI45","v":351142},{"$f":"'Life Cycle Analysis Tool'!EJ45","v":0},{"$f":"'Life Cycle Analysis Tool'!EK45","v":52.430702703703389},{"$f":"'Life Cycle Analysis Tool'!EL45","v":0},{"$f":"'Life Cycle Analysis Tool'!EM45","v":52.430702703703389},{"$f":"'Life Cycle Analysis Tool'!EN45","v":1198146.2403147074},{"$f":"'Life Cycle Analysis Tool'!EO45","v":59538.534413324422},{"$f":"'Life Cycle Analysis Tool'!EP45","v":0},{"$f":"'Life Cycle Analysis Tool'!EQ45","v":1259.4145757050528},{"$f":"'Life Cycle Analysis Tool'!ER45","v":59538.534413324422},{"$f":"'Life Cycle Analysis Tool'!ES45","v":60797.948989029472},{"$f":"'Life Cycle Analysis Tool'!ET45","v":103339.53500057946},1710941.3747558857,1210625.9807922791,486437.99290737102,13877.401056235736,643.46771499999545,10783316.162832366,null,null,null,{"$f":"'Life Cycle Analysis Tool'!EY45","v":"P6"},{"$f":"'Life Cycle Analysis Tool'!EZ45","v":0},{"$f":"'Life Cycle Analysis Tool'!FA45","v":42541.586011549996},{"$f":"'Life Cycle Analysis Tool'!FB45","v":291618},{"$f":"'Life Cycle Analysis Tool'!FC45","v":0},{"$f":"'Life Cycle Analysis Tool'!FD45","v":43.54288766666641},{"$f":"'Life Cycle Analysis Tool'!FE45","v":0},{"$f":"'Life Cycle Analysis Tool'!FF45","v":43.54288766666641},{"$f":"'Life Cycle Analysis Tool'!FG45","v":995041.9212401089},{"$f":"'Life Cycle Analysis Tool'!FH45","v":49445.831966967322},{"$f":"'Life Cycle Analysis Tool'!FI45","v":0},{"$f":"'Life Cycle Analysis Tool'!FJ45","v":1045.9243261642189},{"$f":"'Life Cycle Analysis Tool'!FK45","v":49445.831966967322},{"$f":"'Life Cycle Analysis Tool'!FL45","v":50491.756293131541},{"$f":"'Life Cycle Analysis Tool'!FM45","v":93033.342304681544},756674.62153730856,341170.42506727926,403979.2295301095,11524.966939919897,534.38998499999605,8955377.2911609802]
[null,{"$f":"IF($Y17=\"Yes\",'Life Cycle Analysis Tool'!C133,\"\")","v":"Scenario 4 (VRF Air Cooled)"},{"$f":"IF($Y17=\"Yes\",'Life Cycle Analysis Tool'!D133,\"\")","v":7022840},null,{"$f":"IF($Y17=\"Yes\",'Life Cycle Analysis Tool'!F133,\"\")","v":905.62122851850881},{"$f":"IF($Y17=\"Yes\",'Life Cycle Analysis Tool'!G133,\"\")","v":869455.55572499987},{"$f":"IF($Y17=\"Yes\",'Life Cycle Analysis Tool'!H133,\"\")","v":902380.28532641323},{"$f":"IF($Y17=\"Yes\",'Life Cycle Analysis Tool'!I133,\"\")","v":1248266.4637404159},null,{"$f":"IF($Y17=\"Yes\",'Life Cycle Analysis Tool'!K133,\"\")","v":20841.061323010676},{"$f":"IF($Y17=\"Yes\",'Life Cycle Analysis Tool'!L133,\"\")","v":1248266.4637404159},{"$f":"IF($Y17=\"Yes\",'Life Cycle Analysis Tool'!M133,\"\")","v":3040943.3661148399},null,null,"A",null,null,null,null,null,null,null,null,"R5","Yes",null,null,null,{"$f":"'Life Cycle Analysis Tool'!AM46","v":1},{"$f":"'Life Cycle Analysis Tool'!AW46","v":1},{"$f":"'Life Cycle Analysis Tool'!AX46","v":10},{"$f":"'Life Cycle Analysis Tool'!AJ46*AD17","v":2035},1763504.8165900882,1414276.311197445,1261902.3110759307,1433569.9637429828,1816959.7515215285,852149.04419927229,null,1153703.6374848227,1254443.8143841757,632030.30404982285,1007401.7689935284,1254443.8143841757,384988.25865917577,null,576672.16828522645,155555.94179909624,613018.84922878002,414765.43394377019,547464.99068102858,454661.20729625103,null,33129.010820038631,4276.5550141733729,16853.157797327938,11402.760805684185,15050.946456324522,12499.578243845635,null,1506.5410702357958,196.37728342592442,773.88864037036433,523.60911601851444,691.1319901851798,573.97442833332866,null,27694157.831823517,3404396.0800735685,13416131.477774212,9077286.2877320666,11981462.403147073,9950419.2124010883,null,null,null,{"$f":"'Life Cycle Analysis Tool'!BH46","v":"P1"},{"$f":"'Life Cycle Analysis Tool'!BI46","v":0},{"$f":"'Life Cycle Analysis Tool'!BJ46","v":38949.185415019114},{"$f":"'Life Cycle Analysis Tool'!BK46","v":239795.37461366304},{"$f":"'Life Cycle Analysis Tool'!BL46","v":19512},{"$f":"'Life Cycle Analysis Tool'!BM46","v":32.550001776261468},{"$f":"'Life Cycle Analysis Tool'!BN46","v":103.45660444799999},{"$f":"'Life Cycle Analysis Tool'!BO46","v":136.00660622426147},{"$f":"'Life Cycle Analysis Tool'!BP46","v":2769415.7831823514},{"$f":"'Life Cycle Analysis Tool'!BQ46","v":41675.42416652348},{"$f":"'Life Cycle Analysis Tool'!BR46","v":22607.35505976891},{"$f":"'Life Cycle Analysis Tool'!BS46","v":3348.6280132458824},{"$f":"'Life Cycle Analysis Tool'!BT46","v":64282.77922629239},{"$f":"'Life Cycle Analysis Tool'!BU46","v":67631.407239538268},{"$f":"'Life Cycle Analysis Tool'!BV46","v":106580.59265455737},1763504.8165900882,1153703.6374848227,576672.16828522645,33129.010820038631,1506.5410702357958,27694157.831823517,null,null,null,{"$f":"'Life Cycle Analysis Tool'!CA46","v":"P2"},{"$f":"'Life Cycle Analysis Tool'!CB46","v":0},{"$f":"'Life Cycle Analysis Tool'!CC46","v":43817.833591896502},{"$f":"'Life Cycle Analysis Tool'!CD46","v":99773},{"$f":"'Life Cycle Analysis Tool'!CE46","v":0},{"$f":"'Life Cycle Analysis Tool'!CF46","v":13.543260925925688},{"$f":"'Life Cycle Analysis Tool'!CG46","v":0},{"$f":"'Life Cycle Analysis Tool'!CH46","v":13.543260925925688},{"$f":"'Life Cycle Analysis Tool'!CI46","v":340439.60800735682},{"$f":"'Life Cycle Analysis Tool'!CJ46","v":17340.126355921915},{"$f":"'Life Cycle Analysis Tool'!CK46","v":0},{"$f":"'Life Cycle Analysis Tool'!CL46","v":333.4495594462025},{"$f":"'Life Cycle Analysis Tool'!CM46","v":17340.126355921915},{"$f":"'Life Cycle Analysis Tool'!CN46","v":17673.575915368117},{"$f":"'Life Cycle Analysis Tool'!CO46","v":61491.409507264616},1414276.311197445,1254443.8143841757,155555.94179909624,4276.5550141733729,196.37728342592442,3404396.0800735685,null,null,null,null,{"$f":"'Life Cycle Analysis Tool'!CT46","v":"P3"},{"$f":"'Life Cycle Analysis Tool'!CU46","v":0},{"$f":"'Life Cycle Analysis Tool'!CV46","v":38949.185415019114},{"$f":"'Life Cycle Analysis Tool'!CW46","v":393188},{"$f":"'Life Cycle Analysis Tool'!CX46","v":0},{"$f":"'Life Cycle Analysis Tool'!CY46","v":53.371630370369431},{"$f":"'Life Cycle Analysis Tool'!CZ46","v":0},{"$f":"'Life Cycle Analysis Tool'!DA46","v":53.371630370369431},{"$f":"'Life Cycle Analysis Tool'!DB46","v":1341613.1477774209},{"$f":"'Life Cycle Analysis Tool'!DC46","v":68334.41513868708},{"$f":"'Life Cycle Analysis Tool'!DD46","v":0},{"$f":"'Life Cycle Analysis Tool'!DE46","v":1314.0665849431555},{"$f":"'Life Cycle Analysis Tool'!DF46","v":68334.41513868708},{"$f":"'Life Cycle Analysis Tool'!DG46","v":69648.481723630233},{"$f":"'Life Cycle Analysis Tool'!DH46","v":108597.66713864935},1261902.3110759307,632030.30404982285,613018.84922878002,16853.157797327938,773.88864037036433,13416131.477774212,null,null,null,{"$f":"'Life Cycle Analysis Tool'!DM46","v":"P4"},{"$f":"'Life Cycle Analysis Tool'!DN46","v":0},{"$f":"'Life Cycle Analysis Tool'!DO46","v":48686.481768773891},{"$f":"'Life Cycle Analysis Tool'!DP46","v":266029},{"$f":"'Life Cycle Analysis Tool'!DQ46","v":0},{"$f":"'Life Cycle Analysis Tool'!DR46","v":36.110973518517888},{"$f":"'Life Cycle Analysis Tool'!DS46","v":0},{"$f":"'Life Cycle Analysis Tool'!DT46","v":36.110973518517888},{"$f":"'Life Cycle Analysis Tool'!DU46","v":907728.6287732065},{"$f":"'Life Cycle Analysis Tool'!DV46","v":46234.717552239097},{"$f":"'Life Cycle Analysis Tool'!DW46","v":0},{"$f":"'Life Cycle Analysis Tool'!DX46","v":889.09076453463172},{"$f":"'Life Cycle Analysis Tool'!DY46","v":46234.717552239097},{"$f":"'Life Cycle Analysis Tool'!DZ46","v":47123.808316773728},{"$f":"'Life Cycle Analysis Tool'!EA46","v":95810.290085547618},1433569.9637429828,1007401.7689935284,414765.43394377019,11402.760805684185,523.60911601851444,9077286.2877320666,null,null,null,{"$f":"'Life Cycle Analysis Tool'!EF46","v":"P5"},{"$f":"'Life Cycle Analysis Tool'!EG46","v":0},{"$f":"'Life Cycle Analysis Tool'!EH46","v":43817.833591896502},{"$f":"'Life Cycle Analysis Tool'!EI46","v":351142},{"$f":"'Life Cycle Analysis Tool'!EJ46","v":0},{"$f":"'Life Cycle Analysis Tool'!EK46","v":47.664275185184351},{"$f":"'Life Cycle Analysis Tool'!EL46","v":0},{"$f":"'Life Cycle Analysis Tool'!EM46","v":47.664275185184351},{"$f":"'Life Cycle Analysis Tool'!EN46","v":1198146.2403147074},{"$f":"'Life Cycle Analysis Tool'!EO46","v":61026.997773657538},{"$f":"'Life Cycle Analysis Tool'!EP46","v":0},{"$f":"'Life Cycle Analysis Tool'!EQ46","v":1173.545400088786},{"$f":"'Life Cycle Analysis Tool'!ER46","v":61026.997773657538},{"$f":"'Life Cycle Analysis Tool'!ES46","v":62200.543173746322},{"$f":"'Life Cycle Analysis Tool'!ET46","v":106018.37676564282},1816959.7515215285,1254443.8143841757,547464.99068102858,15050.946456324522,691.1319901851798,11981462.403147073,null,null,null,{"$f":"'Life Cycle Analysis Tool'!EY46","v":"P6"},{"$f":"'Life Cycle Analysis Tool'!EZ46","v":0},{"$f":"'Life Cycle Analysis Tool'!FA46","v":43817.833591896502},{"$f":"'Life Cycle Analysis Tool'!FB46","v":291618},{"$f":"'Life Cycle Analysis Tool'!FC46","v":0},{"$f":"'Life Cycle Analysis Tool'!FD46","v":39.584443333332636},{"$f":"'Life Cycle Analysis Tool'!FE46","v":0},{"$f":"'Life Cycle Analysis Tool'!FF46","v":39.584443333332636},{"$f":"'Life Cycle Analysis Tool'!FG46","v":995041.9212401089},{"$f":"'Life Cycle Analysis Tool'!FH46","v":50681.977766141514},{"$f":"'Life Cycle Analysis Tool'!FI46","v":0},{"$f":"'Life Cycle Analysis Tool'!FJ46","v":974.61130392573807},{"$f":"'Life Cycle Analysis Tool'!FK46","v":50681.977766141514},{"$f":"'Life Cycle Analysis Tool'!FL46","v":51656.589070067253},{"$f":"'Life Cycle Analysis Tool'!FM46","v":95474.422661963763},852149.04419927229,384988.25865917577,454661.20729625103,12499.578243845635,573.97442833332866,9950419.2124010883]
[null,{"$f":"IF($Y18=\"Yes\",'Life Cycle Analysis Tool'!C134,\"\")","v":"Scenario 5 (VRF Water Cooled)"},{"$f":"IF($Y18=\"Yes\",'Life Cycle Analysis Tool'!D134,\"\")","v":5832360},null,{"$f":"IF($Y18=\"Yes\",'Life Cycle Analysis Tool'!F134,\"\")","v":752.10442333332492},{"$f":"IF($Y18=\"Yes\",'Life Cycle Analysis Tool'!G134,\"\")","v":0},{"$f":"IF($Y18=\"Yes\",'Life Cycle Analysis Tool'!H134,\"\")","v":902380.28532641323},{"$f":"IF($Y18=\"Yes\",'Life Cycle Analysis Tool'!I134,\"\")","v":1036665.9916018379},null,{"$f":"IF($Y18=\"Yes\",'Life Cycle Analysis Tool'!K134,\"\")","v":17308.179086790315},{"$f":"IF($Y18=\"Yes\",'Life Cycle Analysis Tool'!L134,\"\")","v":1036665.9916018379},{"$f":"IF($Y18=\"Yes\",'Life Cycle Analysis Tool'!M134,\"\")","v":1956354.4560150416},null,null,"A",null,null,null,null,null,null,null,null,"R6","Yes",null,null,null,{"$f":"'Life Cycle Analysis Tool'!AM47","v":1},{"$f":"'Life Cycle Analysis Tool'!AW47","v":1},{"$f":"'Life Cycle Analysis Tool'!AX47","v":11},{"$f":"'Life Cycle Analysis Tool'!AJ47*AD18","v":2036},1872862.5248650827,1477489.9165305076,1373274.9739951647,1531927.8116861482,1925727.3884707629,950129.51893709227,null,1193821.2984622924,1299576.1829838292,672147.96502729249,1057548.8452153655,1299576.1829838292,430120.62725882919,null,642562.01699217618,173329.57131391621,683061.62474593427,462156.01943481527,610017.66339902754,506610.23450654605,null,36479.209410613737,4584.1622327624991,18065.384221938017,12222.947035967394,16133.542087906442,13398.657171717141,null,1639.2926762824316,208.56621825925771,821.9231077036975,556.10899218518102,734.02983785184631,609.60042733332853,null,30463573.615005869,3744835.6880809255,14757744.625551634,9985014.9165052734,13179608.643461781,10945461.133641196,null,null,null,{"$f":"'Life Cycle Analysis Tool'!BH47","v":"P1"},{"$f":"'Life Cycle Analysis Tool'!BI47","v":0},{"$f":"'Life Cycle Analysis Tool'!BJ47","v":40117.660977469677},{"$f":"'Life Cycle Analysis Tool'!BK47","v":239795.37461366304},{"$f":"'Life Cycle Analysis Tool'!BL47","v":19512},{"$f":"'Life Cycle Analysis Tool'!BM47","v":29.295001598635736},{"$f":"'Life Cycle Analysis Tool'!BN47","v":103.45660444799999},{"$f":"'Life Cycle Analysis Tool'!BO47","v":132.75160604663574},{"$f":"'Life Cycle Analysis Tool'!BP47","v":2769415.7831823514},{"$f":"'Life Cycle Analysis Tool'!BQ47","v":42717.309770686566},{"$f":"'Life Cycle Analysis Tool'!BR47","v":23172.538936263125},{"$f":"'Life Cycle Analysis Tool'!BS47","v":3350.1985905751085},{"$f":"'Life Cycle Analysis Tool'!BT47","v":65889.848706949691},{"$f":"'Life Cycle Analysis Tool'!BU47","v":69240.047297524798},{"$f":"'Life Cycle Analysis Tool'!BV47","v":109357.70827499448},1872862.5248650827,1193821.2984622924,642562.01699217618,36479.209410613737,1639.2926762824316,30463573.615005869,null,null,null,{"$f":"'Life Cycle Analysis Tool'!CA47","v":"P2"},{"$f":"'Life Cycle Analysis Tool'!CB47","v":0},{"$f":"'Life Cycle Analysis Tool'!CC47","v":45132.36859965339},{"$f":"'Life Cycle Analysis Tool'!CD47","v":99773},{"$f":"'Life Cycle Analysis Tool'!CE47","v":0},{"$f":"'Life Cycle Analysis Tool'!CF47","v":12.188934833333292},{"$f":"'Life Cycle Analysis Tool'!CG47","v":0},{"$f":"'Life Cycle Analysis Tool'!CH47","v":12.188934833333292},{"$f":"'Life Cycle Analysis Tool'!CI47","v":340439.60800735682},{"$f":"'Life Cycle Analysis Tool'!CJ47","v":17773.629514819964},{"$f":"'Life Cycle Analysis Tool'!CK47","v":0},{"$f":"'Life Cycle Analysis Tool'!CL47","v":307.60721858912615},{"$f":"'Life Cycle Analysis Tool'!CM47","v":17773.629514819964},{"$f":"'Life Cycle Analysis Tool'!CN47","v":18081.236733409089},{"$f":"'Life Cycle Analysis Tool'!CO47","v":63213.605333062478},1477489.9165305076,1299576.1829838292,173329.57131391621,4584.1622327624991,208.56621825925771,3744835.6880809255,null,null,null,null,{"$f":"'Life Cycle Analysis Tool'!CT47","v":"P3"},{"$f":"'Life Cycle Analysis Tool'!CU47","v":0},{"$f":"'Life Cycle Analysis Tool'!CV47","v":40117.660977469677},{"$f":"'Life Cycle Analysis Tool'!CW47","v":393188},{"$f":"'Life Cycle Analysis Tool'!CX47","v":0},{"$f":"'Life Cycle Analysis Tool'!CY47","v":48.034467333333176},{"$f":"'Life Cycle Analysis Tool'!CZ47","v":0},{"$f":"'Life Cycle Analysis Tool'!DA47","v":48.034467333333176},{"$f":"'Life Cycle Analysis Tool'!DB47","v":1341613.1477774209},{"$f":"'Life Cycle Analysis Tool'!DC47","v":70042.775517154252},{"$f":"'Life Cycle Analysis Tool'!DD47","v":0},{"$f":"'Life Cycle Analysis Tool'!DE47","v":1212.2264246100783},{"$f":"'Life Cycle Analysis Tool'!DF47","v":70042.775517154252},{"$f":"'Life Cycle Analysis Tool'!DG47","v":71255.001941764334},{"$f":"'Life Cycle Analysis Tool'!DH47","v":111372.66291923402},1373274.9739951647,672147.96502729249,683061.62474593427,18065.384221938017,821.9231077036975,14757744.625551634,null,null,null,{"$f":"'Life Cycle Analysis Tool'!DM47","v":"P4"},{"$f":"'Life Cycle Analysis Tool'!DN47","v":0},{"$f":"'Life Cycle Analysis Tool'!DO47","v":50147.076221837095},{"$f":"'Life Cycle Analysis Tool'!DP47","v":266029},{"$f":"'Life Cycle Analysis Tool'!DQ47","v":0},{"$f":"'Life Cycle Analysis Tool'!DR47","v":32.49987616666656},{"$f":"'Life Cycle Analysis Tool'!DS47","v":0},{"$f":"'Life Cycle Analysis Tool'!DT47","v":32.49987616666656},{"$f":"'Life Cycle Analysis Tool'!DU47","v":907728.6287732065},{"$f":"'Life Cycle Analysis Tool'!DV47","v":47390.585491045073},{"$f":"'Life Cycle Analysis Tool'!DW47","v":0},{"$f":"'Life Cycle Analysis Tool'!DX47","v":820.1862302832094},{"$f":"'Life Cycle Analysis Tool'!DY47","v":47390.585491045073},{"$f":"'Life Cycle Analysis Tool'!DZ47","v":48210.771721328281},{"$f":"'Life Cycle Analysis Tool'!EA47","v":98357.847943165369},1531927.8116861482,1057548.8452153655,462156.01943481527,12222.947035967394,556.10899218518102,9985014.9165052734,null,null,null,{"$f":"'Life Cycle Analysis Tool'!EF47","v":"P5"},{"$f":"'Life Cycle Analysis Tool'!EG47","v":0},{"$f":"'Life Cycle Analysis Tool'!EH47","v":45132.36859965339},{"$f":"'Life Cycle Analysis Tool'!EI47","v":351142},{"$f":"'Life Cycle Analysis Tool'!EJ47","v":0},{"$f":"'Life Cycle Analysis Tool'!EK47","v":42.897847666666522},{"$f":"'Life Cycle Analysis Tool'!EL47","v":0},{"$f":"'Life Cycle Analysis Tool'!EM47","v":42.897847666666522},{"$f":"'Life Cycle Analysis Tool'!EN47","v":1198146.2403147074},{"$f":"'Life Cycle Analysis Tool'!EO47","v":62552.672717998976},{"$f":"'Life Cycle Analysis Tool'!EP47","v":0},{"$f":"'Life Cycle Analysis Tool'!EQ47","v":1082.5956315819203},{"$f":"'Life Cycle Analysis Tool'!ER47","v":62552.672717998976},{"$f":"'Life Cycle Analysis Tool'!ES47","v":63635.268349580896},{"$f":"'Life Cycle Analysis Tool'!ET47","v":108767.63694923429},1925727.3884707629,1299576.1829838292,610017.66339902754,16133.542087906442,734.02983785184631,13179608.643461781,null,null,null,{"$f":"'Life Cycle Analysis Tool'!EY47","v":"P6"},{"$f":"'Life Cycle Analysis Tool'!EZ47","v":0},{"$f":"'Life Cycle Analysis Tool'!FA47","v":45132.36859965339},{"$f":"'Life Cycle Analysis Tool'!FB47","v":291618},{"$f":"'Life Cycle Analysis Tool'!FC47","v":0},{"$f":"'Life Cycle Analysis Tool'!FD47","v":35.625998999999879},{"$f":"'Life Cycle Analysis Tool'!FE47","v":0},{"$f":"'Life Cycle Analysis Tool'!FF47","v":35.625998999999879},{"$f":"'Life Cycle Analysis Tool'!FG47","v":995041.9212401089},{"$f":"'Life Cycle Analysis Tool'!FH47","v":51949.027210295048},{"$f":"'Life Cycle Analysis Tool'!FI47","v":0},{"$f":"'Life Cycle Analysis Tool'!FJ47","v":899.07892787150615},{"$f":"'Life Cycle Analysis Tool'!FK47","v":51949.027210295048},{"$f":"'Life Cycle Analysis Tool'!FL47","v":52848.106138166557},{"$f":"'Life Cycle Analysis Tool'!FM47","v":97980.474737819954},950129.51893709227,430120.62725882919,506610.23450654605,13398.657171717141,609.60042733332853,10945461.133641196]
[null,null,null,null,null,null,null,null,null,null,null,null,null,null,"A",null,null,null,null,null,null,null,null,null,null,null,null,null,{"$f":"'Life Cycle Analysis Tool'!AM48","v":1},{"$f":"'Life Cycle Analysis Tool'!AW48","v":1},{"$f":"'Life Cycle Analysis Tool'!AX48","v":12},{"$f":"'Life Cycle Analysis Tool'!AJ48*AD19","v":2037},1985070.5654007625,1542474.4907955555,1487494.4826716864,1632901.931110553,2037316.5825731293,1050682.7722862372,null,1235142.4892690862,1346062.5226414721,713469.15583408624,1109200.3337238578,1346062.5226414721,476606.96691647219,null,710099.11191679956,191547.54156660667,754855.46965101734,510731.36956313648,674134.1529349765,559857.98739709845,null,39828.964214876236,4864.4265874770326,19169.85718658274,12970.227823558753,17119.906996681068,14217.817972666724,null,1768.7892821514406,219.40082699999826,864.62041199999305,584.99777099999528,772.16125799999384,641.26798199999462,null,33232989.398188222,4085275.2960882825,16099357.773329055,10892743.54527848,14377754.883776488,11940503.054881305,null,null,null,{"$f":"'Life Cycle Analysis Tool'!BH48","v":"P1"},{"$f":"'Life Cycle Analysis Tool'!BI48","v":0},{"$f":"'Life Cycle Analysis Tool'!BJ48","v":41321.190806793769},{"$f":"'Life Cycle Analysis Tool'!BK48","v":239795.37461366304},{"$f":"'Life Cycle Analysis Tool'!BL48","v":19512},{"$f":"'Life Cycle Analysis Tool'!BM48","v":26.040001421009173},{"$f":"'Life Cycle Analysis Tool'!BN48","v":103.45660444799999},{"$f":"'Life Cycle Analysis Tool'!BO48","v":129.49660586900916},{"$f":"'Life Cycle Analysis Tool'!BP48","v":2769415.7831823514},{"$f":"'Life Cycle Analysis Tool'!BQ48","v":43785.24251495373},{"$f":"'Life Cycle Analysis Tool'!BR48","v":23751.8524096697},{"$f":"'Life Cycle Analysis Tool'!BS48","v":3349.7548042624949},{"$f":"'Life Cycle Analysis Tool'!BT48","v":67537.094924623438},{"$f":"'Life Cycle Analysis Tool'!BU48","v":70886.849728885936},{"$f":"'Life Cycle Analysis Tool'!BV48","v":112208.0405356797},1985070.5654007625,1235142.4892690862,710099.11191679956,39828.964214876236,1768.7892821514406,33232989.398188222,null,null,null,{"$f":"'Life Cycle Analysis Tool'!CA48","v":"P2"},{"$f":"'Life Cycle Analysis Tool'!CB48","v":0},{"$f":"'Life Cycle Analysis Tool'!CC48","v":46486.339657642988},{"$f":"'Life Cycle Analysis Tool'!CD48","v":99773},{"$f":"'Life Cycle Analysis Tool'!CE48","v":0},{"$f":"'Life Cycle Analysis Tool'!CF48","v":10.834608740740551},{"$f":"'Life Cycle Analysis Tool'!CG48","v":0},{"$f":"'Life Cycle Analysis Tool'!CH48","v":10.834608740740551},{"$f":"'Life Cycle Analysis Tool'!CI48","v":340439.60800735682},{"$f":"'Life Cycle Analysis Tool'!CJ48","v":18217.970252690462},{"$f":"'Life Cycle Analysis Tool'!CK48","v":0},{"$f":"'Life Cycle Analysis Tool'!CL48","v":280.26435471453317},{"$f":"'Life Cycle Analysis Tool'!CM48","v":18217.970252690462},{"$f":"'Life Cycle Analysis Tool'!CN48","v":18498.234607404996},{"$f":"'Life Cycle Analysis Tool'!CO48","v":64984.574265047981},1542474.4907955555,1346062.5226414721,191547.54156660667,4864.4265874770326,219.40082699999826,4085275.2960882825,null,null,null,null,{"$f":"'Life Cycle Analysis Tool'!CT48","v":"P3"},{"$f":"'Life Cycle Analysis Tool'!CU48","v":0},{"$f":"'Life Cycle Analysis Tool'!CV48","v":41321.190806793769},{"$f":"'Life Cycle Analysis Tool'!CW48","v":393188},{"$f":"'Life Cycle Analysis Tool'!CX48","v":0},{"$f":"'Life Cycle Analysis Tool'!CY48","v":42.697304296295549},{"$f":"'Life Cycle Analysis Tool'!CZ48","v":0},{"$f":"'Life Cycle Analysis Tool'!DA48","v":42.697304296295549},{"$f":"'Life Cycle Analysis Tool'!DB48","v":1341613.1477774209},{"$f":"'Life Cycle Analysis Tool'!DC48","v":71793.844905083111},{"$f":"'Life Cycle Analysis Tool'!DD48","v":0},{"$f":"'Life Cycle Analysis Tool'!DE48","v":1104.4729646447222},{"$f":"'Life Cycle Analysis Tool'!DF48","v":71793.844905083111},{"$f":"'Life Cycle Analysis Tool'!DG48","v":72898.317869727834},{"$f":"'Life Cycle Analysis Tool'!DH48","v":114219.5086765216},1487494.4826716864,713469.15583408624,754855.46965101734,19169.85718658274,864.62041199999305,16099357.773329055,null,null,null,{"$f":"'Life Cycle Analysis Tool'!DM48","v":"P4"},{"$f":"'Life Cycle Analysis Tool'!DN48","v":0},{"$f":"'Life Cycle Analysis Tool'!DO48","v":51651.488508492206},{"$f":"'Life Cycle Analysis Tool'!DP48","v":266029},{"$f":"'Life Cycle Analysis Tool'!DQ48","v":0},{"$f":"'Life Cycle Analysis Tool'!DR48","v":28.888778814814309},{"$f":"'Life Cycle Analysis Tool'!DS48","v":0},{"$f":"'Life Cycle Analysis Tool'!DT48","v":28.888778814814309},{"$f":"'Life Cycle Analysis Tool'!DU48","v":907728.6287732065},{"$f":"'Life Cycle Analysis Tool'!DV48","v":48575.350128321195},{"$f":"'Life Cycle Analysis Tool'!DW48","v":0},{"$f":"'Life Cycle Analysis Tool'!DX48","v":747.28078759135781},{"$f":"'Life Cycle Analysis Tool'!DY48","v":48575.350128321195},{"$f":"'Life Cycle Analysis Tool'!DZ48","v":49322.630915912552},{"$f":"'Life Cycle Analysis Tool'!EA48","v":100974.11942440475},1632901.931110553,1109200.3337238578,510731.36956313648,12970.227823558753,584.99777099999528,10892743.54527848,null,null,null,{"$f":"'Life Cycle Analysis Tool'!EF48","v":"P5"},{"$f":"'Life Cycle Analysis Tool'!EG48","v":0},{"$f":"'Life Cycle Analysis Tool'!EH48","v":46486.339657642988},{"$f":"'Life Cycle Analysis Tool'!EI48","v":351142},{"$f":"'Life Cycle Analysis Tool'!EJ48","v":0},{"$f":"'Life Cycle Analysis Tool'!EK48","v":38.131420148147477},{"$f":"'Life Cycle Analysis Tool'!EL48","v":0},{"$f":"'Life Cycle Analysis Tool'!EM48","v":38.131420148147477},{"$f":"'Life Cycle Analysis Tool'!EN48","v":1198146.2403147074},{"$f":"'Life Cycle Analysis Tool'!EO48","v":64116.489535948938},{"$f":"'Life Cycle Analysis Tool'!EP48","v":0},{"$f":"'Life Cycle Analysis Tool'!EQ48","v":986.36490877462438},{"$f":"'Life Cycle Analysis Tool'!ER48","v":64116.489535948938},{"$f":"'Life Cycle Analysis Tool'!ES48","v":65102.854444723562},{"$f":"'Life Cycle Analysis Tool'!ET48","v":111589.19410236654},2037316.5825731293,1346062.5226414721,674134.1529349765,17119.906996681068,772.16125799999384,14377754.883776488,null,null,null,{"$f":"'Life Cycle Analysis Tool'!EY48","v":"P6"},{"$f":"'Life Cycle Analysis Tool'!EZ48","v":0},{"$f":"'Life Cycle Analysis Tool'!FA48","v":46486.339657642988},{"$f":"'Life Cycle Analysis Tool'!FB48","v":291618},{"$f":"'Life Cycle Analysis Tool'!FC48","v":0},{"$f":"'Life Cycle Analysis Tool'!FD48","v":31.66755466666611},{"$f":"'Life Cycle Analysis Tool'!FE48","v":0},{"$f":"'Life Cycle Analysis Tool'!FF48","v":31.66755466666611},{"$f":"'Life Cycle Analysis Tool'!FG48","v":995041.9212401089},{"$f":"'Life Cycle Analysis Tool'!FH48","v":53247.752890552423},{"$f":"'Life Cycle Analysis Tool'!FI48","v":0},{"$f":"'Life Cycle Analysis Tool'!FJ48","v":819.16080094958284},{"$f":"'Life Cycle Analysis Tool'!FK48","v":53247.752890552423},{"$f":"'Life Cycle Analysis Tool'!FL48","v":54066.913691502006},{"$f":"'Life Cycle Analysis Tool'!FM48","v":100553.253349145},1050682.7722862372,476606.96691647219,559857.98739709845,14217.817972666724,641.26798199999462,11940503.054881305]
[null,null,null,null,null,null,null,null,null,null,null,null,null,null,"A",null,null,null,null,null,null,null,null,null,null,null,null,null,{"$f":"'Life Cycle Analysis Tool'!AM49","v":1},{"$f":"'Life Cycle Analysis Tool'!AW49","v":1},{"$f":"'Life Cycle Analysis Tool'!AX49","v":13},{"$f":"'Life Cycle Analysis Tool'!AJ49*AD20","v":2038},2100204.1091840141,1609280.2022450701,1604634.5744205599,1736562.9156122003,2151801.5602224064,1153877.3336897774,null,1277703.3158000838,1393943.4524888443,756029.98236508388,1162401.3668876048,1393943.4524888443,524487.89676384442,null,779324.63421453862,210220.96107561438,828444.16067872755,560521.10344466567,739853.55470932415,614436.9341099147,null,43176.159169391402,5115.7886806116339,20160.431376748493,13640.445279929763,18004.553024238325,14952.502816018394,null,1895.0308878428241,228.88110964814641,901.98055325925236,610.27545246295824,805.52625062962352,668.97709233332796,null,36002405.181370571,4425714.9040956395,17440970.921106476,11800472.174051687,15575901.124091195,12935544.976121413,null,null,null,{"$f":"'Life Cycle Analysis Tool'!BH49","v":"P1"},{"$f":"'Life Cycle Analysis Tool'!BI49","v":0},{"$f":"'Life Cycle Analysis Tool'!BJ49","v":42560.826530997583},{"$f":"'Life Cycle Analysis Tool'!BK49","v":239795.37461366304},{"$f":"'Life Cycle Analysis Tool'!BL49","v":19512},{"$f":"'Life Cycle Analysis Tool'!BM49","v":22.785001243383444},{"$f":"'Life Cycle Analysis Tool'!BN49","v":103.45660444799999},{"$f":"'Life Cycle Analysis Tool'!BO49","v":126.24160569138344},{"$f":"'Life Cycle Analysis Tool'!BP49","v":2769415.7831823514},{"$f":"'Life Cycle Analysis Tool'!BQ49","v":44879.873577827566},{"$f":"'Life Cycle Analysis Tool'!BR49","v":24345.648719911445},{"$f":"'Life Cycle Analysis Tool'!BS49","v":3347.1949545151642},{"$f":"'Life Cycle Analysis Tool'!BT49","v":69225.522297739008},{"$f":"'Life Cycle Analysis Tool'!BU49","v":72572.717252254166},{"$f":"'Life Cycle Analysis Tool'!BV49","v":115133.54378325175},2100204.1091840141,1277703.3158000838,779324.63421453862,43176.159169391402,1895.0308878428241,36002405.181370571,null,null,null,{"$f":"'Life Cycle Analysis Tool'!CA49","v":"P2"},{"$f":"'Life Cycle Analysis Tool'!CB49","v":0},{"$f":"'Life Cycle Analysis Tool'!CC49","v":47880.929847372281},{"$f":"'Life Cycle Analysis Tool'!CD49","v":99773},{"$f":"'Life Cycle Analysis Tool'!CE49","v":0},{"$f":"'Life Cycle Analysis Tool'!CF49","v":9.4802826481481546},{"$f":"'Life Cycle Analysis Tool'!CG49","v":0},{"$f":"'Life Cycle Analysis Tool'!CH49","v":9.4802826481481546},{"$f":"'Life Cycle Analysis Tool'!CI49","v":340439.60800735682},{"$f":"'Life Cycle Analysis Tool'!CJ49","v":18673.419509007719},{"$f":"'Life Cycle Analysis Tool'!CK49","v":0},{"$f":"'Life Cycle Analysis Tool'!CL49","v":251.36209313460151},{"$f":"'Life Cycle Analysis Tool'!CM49","v":18673.419509007719},{"$f":"'Life Cycle Analysis Tool'!CN49","v":18924.78160214232},{"$f":"'Life Cycle Analysis Tool'!CO49","v":66805.711449514609},1609280.2022450701,1393943.4524888443,210220.96107561438,5115.7886806116339,228.88110964814641,4425714.9040956395,null,null,null,null,{"$f":"'Life Cycle Analysis Tool'!CT49","v":"P3"},{"$f":"'Life Cycle Analysis Tool'!CU49","v":0},{"$f":"'Life Cycle Analysis Tool'!CV49","v":42560.826530997583},{"$f":"'Life Cycle Analysis Tool'!CW49","v":393188},{"$f":"'Life Cycle Analysis Tool'!CX49","v":0},{"$f":"'Life Cycle Analysis Tool'!CY49","v":37.360141259259287},{"$f":"'Life Cycle Analysis Tool'!CZ49","v":0},{"$f":"'Life Cycle Analysis Tool'!DA49","v":37.360141259259287},{"$f":"'Life Cycle Analysis Tool'!DB49","v":1341613.1477774209},{"$f":"'Life Cycle Analysis Tool'!DC49","v":73588.691027710185},{"$f":"'Life Cycle Analysis Tool'!DD49","v":0},{"$f":"'Life Cycle Analysis Tool'!DE49","v":990.57419016575329},{"$f":"'Life Cycle Analysis Tool'!DF49","v":73588.691027710185},{"$f":"'Life Cycle Analysis Tool'!DG49","v":74579.265217875945},{"$f":"'Life Cycle Analysis Tool'!DH49","v":117140.09174887353},1604634.5744205599,756029.98236508388,828444.16067872755,20160.431376748493,901.98055325925236,17440970.921106476,null,null,null,{"$f":"'Life Cycle Analysis Tool'!DM49","v":"P4"},{"$f":"'Life Cycle Analysis Tool'!DN49","v":0},{"$f":"'Life Cycle Analysis Tool'!DO49","v":53201.033163746979},{"$f":"'Life Cycle Analysis Tool'!DP49","v":266029},{"$f":"'Life Cycle Analysis Tool'!DQ49","v":0},{"$f":"'Life Cycle Analysis Tool'!DR49","v":25.277681462962981},{"$f":"'Life Cycle Analysis Tool'!DS49","v":0},{"$f":"'Life Cycle Analysis Tool'!DT49","v":25.277681462962981},{"$f":"'Life Cycle Analysis Tool'!DU49","v":907728.6287732065},{"$f":"'Life Cycle Analysis Tool'!DV49","v":49789.733881529224},{"$f":"'Life Cycle Analysis Tool'!DW49","v":0},{"$f":"'Life Cycle Analysis Tool'!DX49","v":670.21745637101128},{"$f":"'Life Cycle Analysis Tool'!DY49","v":49789.733881529224},{"$f":"'Life Cycle Analysis Tool'!DZ49","v":50459.951337900238},{"$f":"'Life Cycle Analysis Tool'!EA49","v":103660.98450164721},1736562.9156122003,1162401.3668876048,560521.10344466567,13640.445279929763,610.27545246295824,11800472.174051687,null,null,null,{"$f":"'Life Cycle Analysis Tool'!EF49","v":"P5"},{"$f":"'Life Cycle Analysis Tool'!EG49","v":0},{"$f":"'Life Cycle Analysis Tool'!EH49","v":47880.929847372281},{"$f":"'Life Cycle Analysis Tool'!EI49","v":351142},{"$f":"'Life Cycle Analysis Tool'!EJ49","v":0},{"$f":"'Life Cycle Analysis Tool'!EK49","v":33.364992629629654},{"$f":"'Life Cycle Analysis Tool'!EL49","v":0},{"$f":"'Life Cycle Analysis Tool'!EM49","v":33.364992629629654},{"$f":"'Life Cycle Analysis Tool'!EN49","v":1198146.2403147074},{"$f":"'Life Cycle Analysis Tool'!EO49","v":65719.401774347658},{"$f":"'Life Cycle Analysis Tool'!EP49","v":0},{"$f":"'Life Cycle Analysis Tool'!EQ49","v":884.64602755725741},{"$f":"'Life Cycle Analysis Tool'!ER49","v":65719.401774347658},{"$f":"'Life Cycle Analysis Tool'!ES49","v":66604.047801904919},{"$f":"'Life Cycle Analysis Tool'!ET49","v":114484.97764927719},2151801.5602224064,1393943.4524888443,739853.55470932415,18004.553024238325,805.52625062962352,15575901.124091195,null,null,null,{"$f":"'Life Cycle Analysis Tool'!EY49","v":"P6"},{"$f":"'Life Cycle Analysis Tool'!EZ49","v":0},{"$f":"'Life Cycle Analysis Tool'!FA49","v":47880.929847372281},{"$f":"'Life Cycle Analysis Tool'!FB49","v":291618},{"$f":"'Life Cycle Analysis Tool'!FC49","v":0},{"$f":"'Life Cycle Analysis Tool'!FD49","v":27.709110333333353},{"$f":"'Life Cycle Analysis Tool'!FE49","v":0},{"$f":"'Life Cycle Analysis Tool'!FF49","v":27.709110333333353},{"$f":"'Life Cycle Analysis Tool'!FG49","v":995041.9212401089},{"$f":"'Life Cycle Analysis Tool'!FH49","v":54578.946712816229},{"$f":"'Life Cycle Analysis Tool'!FI49","v":0},{"$f":"'Life Cycle Analysis Tool'!FJ49","v":734.68484335167057},{"$f":"'Life Cycle Analysis Tool'!FK49","v":54578.946712816229},{"$f":"'Life Cycle Analysis Tool'!FL49","v":55313.6315561679},{"$f":"'Life Cycle Analysis Tool'!FM49","v":103194.56140354018},1153877.3336897774,524487.89676384442,614436.9341099147,14952.502816018394,668.97709233332796,12935544.976121413]
[null,null,null,null,null,null,null,null,null,null,null,null,null,null,"A",null,null,null,null,null,null,null,null,null,null,null,null,null,{"$f":"'Life Cycle Analysis Tool'!AM50","v":1},{"$f":"'Life Cycle Analysis Tool'!AW50","v":1},{"$f":"'Life Cycle Analysis Tool'!AX50","v":14},{"$f":"'Life Cycle Analysis Tool'!AJ50*AD21","v":2039},2218340.3343816521,1677958.6545378505,1724770.9242322503,1842983.2909075245,2269258.5295081171,1259783.5849255808,null,1321540.9671270114,1443260.8102316377,799867.63369201135,1217198.4310462642,1443260.8102316377,573805.25450663781,null,850280.7945697211,229361.21607234731,903872.5689821305,611555.58067323314,807215.94152803044,670380.35449055128,null,46518.572684919185,5336.628233865601,21030.721558108387,14229.279188027142,18781.777748449331,15597.975928391636,null,2018.0174933565809,237.00706620370181,934.00353148147406,631.94203657406899,834.12481574073411,692.72775833332753,null,38771820.964552924,4766154.512102996,18782584.068883896,12708200.802824894,16774047.364405902,13930586.897361521,null,null,null,{"$f":"'Life Cycle Analysis Tool'!BH50","v":"P1"},{"$f":"'Life Cycle Analysis Tool'!BI50","v":0},{"$f":"'Life Cycle Analysis Tool'!BJ50","v":43837.651326927509},{"$f":"'Life Cycle Analysis Tool'!BK50","v":239795.37461366304},{"$f":"'Life Cycle Analysis Tool'!BL50","v":19512},{"$f":"'Life Cycle Analysis Tool'!BM50","v":19.530001065756881},{"$f":"'Life Cycle Analysis Tool'!BN50","v":103.45660444799999},{"$f":"'Life Cycle Analysis Tool'!BO50","v":122.98660551375687},{"$f":"'Life Cycle Analysis Tool'!BP50","v":2769415.7831823514},{"$f":"'Life Cycle Analysis Tool'!BQ50","v":46001.870417273261},{"$f":"'Life Cycle Analysis Tool'!BR50","v":24954.289937909231},{"$f":"'Life Cycle Analysis Tool'!BS50","v":3342.41351552778},{"$f":"'Life Cycle Analysis Tool'!BT50","v":70956.160355182496},{"$f":"'Life Cycle Analysis Tool'!BU50","v":74298.573870710272},{"$f":"'Life Cycle Analysis Tool'!BV50","v":118136.22519763777},2218340.3343816521,1321540.9671270114,850280.7945697211,46518.572684919185,2018.0174933565809,38771820.964552924,null,null,null,{"$f":"'Life Cycle Analysis Tool'!CA50","v":"P2"},{"$f":"'Life Cycle Analysis Tool'!CB50","v":0},{"$f":"'Life Cycle Analysis Tool'!CC50","v":49317.357742793443},{"$f":"'Life Cycle Analysis Tool'!CD50","v":99773},{"$f":"'Life Cycle Analysis Tool'!CE50","v":0},{"$f":"'Life Cycle Analysis Tool'!CF50","v":8.1259565555554136},{"$f":"'Life Cycle Analysis Tool'!CG50","v":0},{"$f":"'Life Cycle Analysis Tool'!CH50","v":8.1259565555554136},{"$f":"'Life Cycle Analysis Tool'!CI50","v":340439.60800735682},{"$f":"'Life Cycle Analysis Tool'!CJ50","v":19140.254996732914},{"$f":"'Life Cycle Analysis Tool'!CK50","v":0},{"$f":"'Life Cycle Analysis Tool'!CL50","v":220.83955325396732},{"$f":"'Life Cycle Analysis Tool'!CM50","v":19140.254996732914},{"$f":"'Life Cycle Analysis Tool'!CN50","v":19361.094549986883},{"$f":"'Life Cycle Analysis Tool'!CO50","v":68678.452292780334},1677958.6545378505,1443260.8102316377,229361.21607234731,5336.628233865601,237.00706620370181,4766154.512102996,null,null,null,null,{"$f":"'Life Cycle Analysis Tool'!CT50","v":"P3"},{"$f":"'Life Cycle Analysis Tool'!CU50","v":0},{"$f":"'Life Cycle Analysis Tool'!CV50","v":43837.651326927509},{"$f":"'Life Cycle Analysis Tool'!CW50","v":393188},{"$f":"'Life Cycle Analysis Tool'!CX50","v":0},{"$f":"'Life Cycle Analysis Tool'!CY50","v":32.02297822222166},{"$f":"'Life Cycle Analysis Tool'!CZ50","v":0},{"$f":"'Life Cycle Analysis Tool'!DA50","v":32.02297822222166},{"$f":"'Life Cycle Analysis Tool'!DB50","v":1341613.1477774209},{"$f":"'Life Cycle Analysis Tool'!DC50","v":75428.408303402932},{"$f":"'Life Cycle Analysis Tool'!DD50","v":0},{"$f":"'Life Cycle Analysis Tool'!DE50","v":870.29018135989588},{"$f":"'Life Cycle Analysis Tool'!DF50","v":75428.408303402932},{"$f":"'Life Cycle Analysis Tool'!DG50","v":76298.698484762834},{"$f":"'Life Cycle Analysis Tool'!DH50","v":120136.34981169034},1724770.9242322503,799867.63369201135,903872.5689821305,21030.721558108387,934.00353148147406,18782584.068883896,null,null,null,{"$f":"'Life Cycle Analysis Tool'!DM50","v":"P4"},{"$f":"'Life Cycle Analysis Tool'!DN50","v":0},{"$f":"'Life Cycle Analysis Tool'!DO50","v":54797.064158659385},{"$f":"'Life Cycle Analysis Tool'!DP50","v":266029},{"$f":"'Life Cycle Analysis Tool'!DQ50","v":0},{"$f":"'Life Cycle Analysis Tool'!DR50","v":21.66658411111073},{"$f":"'Life Cycle Analysis Tool'!DS50","v":0},{"$f":"'Life Cycle Analysis Tool'!DT50","v":21.66658411111073},{"$f":"'Life Cycle Analysis Tool'!DU50","v":907728.6287732065},{"$f":"'Life Cycle Analysis Tool'!DV50","v":51034.477228567455},{"$f":"'Life Cycle Analysis Tool'!DW50","v":0},{"$f":"'Life Cycle Analysis Tool'!DX50","v":588.83390809737773},{"$f":"'Life Cycle Analysis Tool'!DY50","v":51034.477228567455},{"$f":"'Life Cycle Analysis Tool'!DZ50","v":51623.31113666483},{"$f":"'Life Cycle Analysis Tool'!EA50","v":106420.37529532422},1842983.2909075245,1217198.4310462642,611555.58067323314,14229.279188027142,631.94203657406899,12708200.802824894,null,null,null,{"$f":"'Life Cycle Analysis Tool'!EF50","v":"P5"},{"$f":"'Life Cycle Analysis Tool'!EG50","v":0},{"$f":"'Life Cycle Analysis Tool'!EH50","v":49317.357742793443},{"$f":"'Life Cycle Analysis Tool'!EI50","v":351142},{"$f":"'Life Cycle Analysis Tool'!EJ50","v":0},{"$f":"'Life Cycle Analysis Tool'!EK50","v":28.598565111110609},{"$f":"'Life Cycle Analysis Tool'!EL50","v":0},{"$f":"'Life Cycle Analysis Tool'!EM50","v":28.598565111110609},{"$f":"'Life Cycle Analysis Tool'!EN50","v":1198146.2403147074},{"$f":"'Life Cycle Analysis Tool'!EO50","v":67362.386818706349},{"$f":"'Life Cycle Analysis Tool'!EP50","v":0},{"$f":"'Life Cycle Analysis Tool'!EQ50","v":777.22472421100485},{"$f":"'Life Cycle Analysis Tool'!ER50","v":67362.386818706349},{"$f":"'Life Cycle Analysis Tool'!ES50","v":68139.611542917351},{"$f":"'Life Cycle Analysis Tool'!ET50","v":117456.9692857108},2269258.5295081171,1443260.8102316377,807215.94152803044,18781.777748449331,834.12481574073411,16774047.364405902,null,null,null,{"$f":"'Life Cycle Analysis Tool'!EY50","v":"P6"},{"$f":"'Life Cycle Analysis Tool'!EZ50","v":0},{"$f":"'Life Cycle Analysis Tool'!FA50","v":49317.357742793443},{"$f":"'Life Cycle Analysis Tool'!FB50","v":291618},{"$f":"'Life Cycle Analysis Tool'!FC50","v":0},{"$f":"'Life Cycle Analysis Tool'!FD50","v":23.750665999999583},{"$f":"'Life Cycle Analysis Tool'!FE50","v":0},{"$f":"'Life Cycle Analysis Tool'!FF50","v":23.750665999999583},{"$f":"'Life Cycle Analysis Tool'!FG50","v":995041.9212401089},{"$f":"'Life Cycle Analysis Tool'!FH50","v":55943.420380636635},{"$f":"'Life Cycle Analysis Tool'!FI50","v":0},{"$f":"'Life Cycle Analysis Tool'!FJ50","v":645.47311237324163},{"$f":"'Life Cycle Analysis Tool'!FK50","v":55943.420380636635},{"$f":"'Life Cycle Analysis Tool'!FL50","v":56588.893493009877},{"$f":"'Life Cycle Analysis Tool'!FM50","v":105906.25123580333},1259783.5849255808,573805.25450663781,670380.35449055128,15597.975928391636,692.72775833332753,13930586.897361521]
[null,null,null,null,null,null,null,null,null,null,null,null,null,null,"A",null,null,null,null,null,null,null,null,null,null,null,null,null,{"$f":"'Life Cycle Analysis Tool'!AM51","v":1},{"$f":"'Life Cycle Analysis Tool'!AW51","v":1},{"$f":"'Life Cycle Analysis Tool'!AX51","v":15},{"$f":"'Life Cycle Analysis Tool'!AJ51*AD22","v":2040},2339558.4806201938,1748562.92816965,1847981.1964732185,1952237.5684467251,2389765.7339242985,1368473.8109076293,null,1366693.7479937468,1494057.6887067149,845020.41455874674,1273639.4071296833,1494057.6887067149,624602.13298171503,null,923010.85893378314,248979.97744399853,981186.68749311846,663865.91983251483,876262.38801720447,727722.36038070382,null,49853.873692663641,5525.2620189366935,21774.094421353278,14732.241484526972,19445.657200379548,16149.317545210431,null,2137.7490986927114,243.77869666666447,960.68934666665814,649.99752333332742,857.95695333332571,712.51997999999332,null,41541236.747735277,5106594.1201103525,20124197.216661315,13615929.431598101,17972193.604720611,14925628.818601629,null,null,null,{"$f":"'Life Cycle Analysis Tool'!BH51","v":"P1"},{"$f":"'Life Cycle Analysis Tool'!BI51","v":0},{"$f":"'Life Cycle Analysis Tool'!BJ51","v":45152.780866735331},{"$f":"'Life Cycle Analysis Tool'!BK51","v":239795.37461366304},{"$f":"'Life Cycle Analysis Tool'!BL51","v":19512},{"$f":"'Life Cycle Analysis Tool'!BM51","v":16.275000888130318},{"$f":"'Life Cycle Analysis Tool'!BN51","v":103.45660444799999},{"$f":"'Life Cycle Analysis Tool'!BO51","v":119.73160533613031},{"$f":"'Life Cycle Analysis Tool'!BP51","v":2769415.7831823514},{"$f":"'Life Cycle Analysis Tool'!BQ51","v":47151.917177705087},{"$f":"'Life Cycle Analysis Tool'!BR51","v":25578.14718635696},{"$f":"'Life Cycle Analysis Tool'!BS51","v":3335.3010077444546},{"$f":"'Life Cycle Analysis Tool'!BT51","v":72730.06436406204},{"$f":"'Life Cycle Analysis Tool'!BU51","v":76065.365371806489},{"$f":"'Life Cycle Analysis Tool'!BV51","v":121218.14623854181},2339558.4806201938,1366693.7479937468,923010.85893378314,49853.873692663641,2137.7490986927114,41541236.747735277,null,null,null,{"$f":"'Life Cycle Analysis Tool'!CA51","v":"P2"},{"$f":"'Life Cycle Analysis Tool'!CB51","v":0},{"$f":"'Life Cycle Analysis Tool'!CC51","v":50796.878475077247},{"$f":"'Life Cycle Analysis Tool'!CD51","v":99773},{"$f":"'Life Cycle Analysis Tool'!CE51","v":0},{"$f":"'Life Cycle Analysis Tool'!CF51","v":6.7716304629626709},{"$f":"'Life Cycle Analysis Tool'!CG51","v":0},{"$f":"'Life Cycle Analysis Tool'!CH51","v":6.7716304629626709},{"$f":"'Life Cycle Analysis Tool'!CI51","v":340439.60800735682},{"$f":"'Life Cycle Analysis Tool'!CJ51","v":19618.761371651235},{"$f":"'Life Cycle Analysis Tool'!CK51","v":0},{"$f":"'Life Cycle Analysis Tool'!CL51","v":188.63378507109221},{"$f":"'Life Cycle Analysis Tool'!CM51","v":19618.761371651235},{"$f":"'Life Cycle Analysis Tool'!CN51","v":19807.395156722327},{"$f":"'Life Cycle Analysis Tool'!CO51","v":70604.273631799573},1748562.92816965,1494057.6887067149,248979.97744399853,5525.2620189366935,243.77869666666447,5106594.1201103525,null,null,null,null,{"$f":"'Life Cycle Analysis Tool'!CT51","v":"P3"},{"$f":"'Life Cycle Analysis Tool'!CU51","v":0},{"$f":"'Life Cycle Analysis Tool'!CV51","v":45152.780866735331},{"$f":"'Life Cycle Analysis Tool'!CW51","v":393188},{"$f":"'Life Cycle Analysis Tool'!CX51","v":0},{"$f":"'Life Cycle Analysis Tool'!CY51","v":26.685815185184033},{"$f":"'Life Cycle Analysis Tool'!CZ51","v":0},{"$f":"'Life Cycle Analysis Tool'!DA51","v":26.685815185184033},{"$f":"'Life Cycle Analysis Tool'!DB51","v":1341613.1477774209},{"$f":"'Life Cycle Analysis Tool'!DC51","v":77314.118510988003},{"$f":"'Life Cycle Analysis Tool'!DD51","v":0},{"$f":"'Life Cycle Analysis Tool'!DE51","v":743.37286324489196},{"$f":"'Life Cycle Analysis Tool'!DF51","v":77314.118510988003},{"$f":"'Life Cycle Analysis Tool'!DG51","v":78057.491374232894},{"$f":"'Life Cycle Analysis Tool'!DH51","v":123210.27224096822},1847981.1964732185,845020.41455874674,981186.68749311846,21774.094421353278,960.68934666665814,20124197.216661315,null,null,null,{"$f":"'Life Cycle Analysis Tool'!DM51","v":"P4"},{"$f":"'Life Cycle Analysis Tool'!DN51","v":0},{"$f":"'Life Cycle Analysis Tool'!DO51","v":56440.976083419162},{"$f":"'Life Cycle Analysis Tool'!DP51","v":266029},{"$f":"'Life Cycle Analysis Tool'!DQ51","v":0},{"$f":"'Life Cycle Analysis Tool'!DR51","v":18.055486759258482},{"$f":"'Life Cycle Analysis Tool'!DS51","v":0},{"$f":"'Life Cycle Analysis Tool'!DT51","v":18.055486759258482},{"$f":"'Life Cycle Analysis Tool'!DU51","v":907728.6287732065},{"$f":"'Life Cycle Analysis Tool'!DV51","v":52310.339159281633},{"$f":"'Life Cycle Analysis Tool'!DW51","v":0},{"$f":"'Life Cycle Analysis Tool'!DX51","v":502.96229649983053},{"$f":"'Life Cycle Analysis Tool'!DY51","v":52310.339159281633},{"$f":"'Life Cycle Analysis Tool'!DZ51","v":52813.30145578146},{"$f":"'Life Cycle Analysis Tool'!EA51","v":109254.27753920062},1952237.5684467251,1273639.4071296833,663865.91983251483,14732.241484526972,649.99752333332742,13615929.431598101,null,null,null,{"$f":"'Life Cycle Analysis Tool'!EF51","v":"P5"},{"$f":"'Life Cycle Analysis Tool'!EG51","v":0},{"$f":"'Life Cycle Analysis Tool'!EH51","v":50796.878475077247},{"$f":"'Life Cycle Analysis Tool'!EI51","v":351142},{"$f":"'Life Cycle Analysis Tool'!EJ51","v":0},{"$f":"'Life Cycle Analysis Tool'!EK51","v":23.832137592591565},{"$f":"'Life Cycle Analysis Tool'!EL51","v":0},{"$f":"'Life Cycle Analysis Tool'!EM51","v":23.832137592591565},{"$f":"'Life Cycle Analysis Tool'!EN51","v":1198146.2403147074},{"$f":"'Life Cycle Analysis Tool'!EO51","v":69046.446489174006},{"$f":"'Life Cycle Analysis Tool'!EP51","v":0},{"$f":"'Life Cycle Analysis Tool'!EQ51","v":663.87945193021619},{"$f":"'Life Cycle Analysis Tool'!ER51","v":69046.446489174006},{"$f":"'Life Cycle Analysis Tool'!ES51","v":69710.325941104224},{"$f":"'Life Cycle Analysis Tool'!ET51","v":120507.20441618147},2389765.7339242985,1494057.6887067149,876262.38801720447,19445.657200379548,857.95695333332571,17972193.604720611,null,null,null,{"$f":"'Life Cycle Analysis Tool'!EY51","v":"P6"},{"$f":"'Life Cycle Analysis Tool'!EZ51","v":0},{"$f":"'Life Cycle Analysis Tool'!FA51","v":50796.878475077247},{"$f":"'Life Cycle Analysis Tool'!FB51","v":291618},{"$f":"'Life Cycle Analysis Tool'!FC51","v":0},{"$f":"'Life Cycle Analysis Tool'!FD51","v":19.792221666665814},{"$f":"'Life Cycle Analysis Tool'!FE51","v":0},{"$f":"'Life Cycle Analysis Tool'!FF51","v":19.792221666665814},{"$f":"'Life Cycle Analysis Tool'!FG51","v":995041.9212401089},{"$f":"'Life Cycle Analysis Tool'!FH51","v":57342.005890152548},{"$f":"'Life Cycle Analysis Tool'!FI51","v":0},{"$f":"'Life Cycle Analysis Tool'!FJ51","v":551.34161681879641},{"$f":"'Life Cycle Analysis Tool'!FK51","v":57342.005890152548},{"$f":"'Life Cycle Analysis Tool'!FL51","v":57893.347506971346},{"$f":"'Life Cycle Analysis Tool'!FM51","v":108690.22598204859},1368473.8109076293,624602.13298171503,727722.36038070382,16149.317545210431,712.51997999999332,14925628.818601629]
[null,null,null,null,null,null,null,null,null,null,null,null,null,null,"A",null,null,null,null,null,null,null,null,"LC1",null,null,null,null,{"$f":"'Life Cycle Analysis Tool'!AM52","v":1},{"$f":"'Life Cycle Analysis Tool'!AW52","v":1},{"$f":"'Life Cycle Analysis Tool'!AX52","v":16},{"$f":"'Life Cycle Analysis Tool'!AJ52*AD23","v":2041},2463939.9047522196,1821147.6231086804,1974345.0979875794,2064402.3005340404,2513403.5075556142,1480022.2519001567,null,1413201.1122864841,1546378.4735360444,891527.77885148418,1331773.6124956051,1546378.4735360444,676922.91781104461,null,997559.17490694672,269089.20784994104,1060433.6589668812,717484.01747077855,947034.99566860776,786497.91641811014,null,53179.617558788421,5679.9417226949927,22383.660169214105,15144.670567656844,19990.038350962339,16601.417671001855,null,2254.2257038512162,249.19600103703476,982.03799881480586,664.44191274073455,877.02266340739948,728.35375733332637,null,44310652.53091763,5447033.728117709,21465810.364438735,14523658.060371308,19170339.845035318,15920670.739841737,null,null,null,{"$f":"'Life Cycle Analysis Tool'!BH52","v":"P1"},{"$f":"'Life Cycle Analysis Tool'!BI52","v":0},{"$f":"'Life Cycle Analysis Tool'!BJ52","v":46507.364292737388},{"$f":"'Life Cycle Analysis Tool'!BK52","v":239795.37461366304},{"$f":"'Life Cycle Analysis Tool'!BL52","v":19512},{"$f":"'Life Cycle Analysis Tool'!BM52","v":13.020000710504586},{"$f":"'Life Cycle Analysis Tool'!BN52","v":103.45660444799999},{"$f":"'Life Cycle Analysis Tool'!BO52","v":116.47660515850458},{"$f":"'Life Cycle Analysis Tool'!BP52","v":2769415.7831823514},{"$f":"'Life Cycle Analysis Tool'!BQ52","v":48330.715107147706},{"$f":"'Life Cycle Analysis Tool'!BR52","v":26217.60086601588},{"$f":"'Life Cycle Analysis Tool'!BS52","v":3325.7438661247816},{"$f":"'Life Cycle Analysis Tool'!BT52","v":74548.315973163582},{"$f":"'Life Cycle Analysis Tool'!BU52","v":77874.059839288369},{"$f":"'Life Cycle Analysis Tool'!BV52","v":124381.42413202576},2463939.9047522196,1413201.1122864841,997559.17490694672,53179.617558788421,2254.2257038512162,44310652.53091763,null,null,null,{"$f":"'Life Cycle Analysis Tool'!CA52","v":"P2"},{"$f":"'Life Cycle Analysis Tool'!CB52","v":0},{"$f":"'Life Cycle Analysis Tool'!CC52","v":52320.784829329561},{"$f":"'Life Cycle Analysis Tool'!CD52","v":99773},{"$f":"'Life Cycle Analysis Tool'!CE52","v":0},{"$f":"'Life Cycle Analysis Tool'!CF52","v":5.4173043703702755},{"$f":"'Life Cycle Analysis Tool'!CG52","v":0},{"$f":"'Life Cycle Analysis Tool'!CH52","v":5.4173043703702755},{"$f":"'Life Cycle Analysis Tool'!CI52","v":340439.60800735682},{"$f":"'Life Cycle Analysis Tool'!CJ52","v":20109.230405942515},{"$f":"'Life Cycle Analysis Tool'!CK52","v":0},{"$f":"'Life Cycle Analysis Tool'!CL52","v":154.67970375829955},{"$f":"'Life Cycle Analysis Tool'!CM52","v":20109.230405942515},{"$f":"'Life Cycle Analysis Tool'!CN52","v":20263.910109700813},{"$f":"'Life Cycle Analysis Tool'!CO52","v":72584.694939030378},1821147.6231086804,1546378.4735360444,269089.20784994104,5679.9417226949927,249.19600103703476,5447033.728117709,null,null,null,null,{"$f":"'Life Cycle Analysis Tool'!CT52","v":"P3"},{"$f":"'Life Cycle Analysis Tool'!CU52","v":0},{"$f":"'Life Cycle Analysis Tool'!CV52","v":46507.364292737388},{"$f":"'Life Cycle Analysis Tool'!CW52","v":393188},{"$f":"'Life Cycle Analysis Tool'!CX52","v":0},{"$f":"'Life Cycle Analysis Tool'!CY52","v":21.348652148147774},{"$f":"'Life Cycle Analysis Tool'!CZ52","v":0},{"$f":"'Life Cycle Analysis Tool'!DA52","v":21.348652148147774},{"$f":"'Life Cycle Analysis Tool'!DB52","v":1341613.1477774209},{"$f":"'Life Cycle Analysis Tool'!DC52","v":79246.971473762693},{"$f":"'Life Cycle Analysis Tool'!DD52","v":0},{"$f":"'Life Cycle Analysis Tool'!DE52","v":609.56574786082695},{"$f":"'Life Cycle Analysis Tool'!DF52","v":79246.971473762693},{"$f":"'Life Cycle Analysis Tool'!DG52","v":79856.537221623526},{"$f":"'Life Cycle Analysis Tool'!DH52","v":126363.90151436091},1974345.0979875794,891527.77885148418,1060433.6589668812,22383.660169214105,982.03799881480586,21465810.364438735,null,null,null,{"$f":"'Life Cycle Analysis Tool'!DM52","v":"P4"},{"$f":"'Life Cycle Analysis Tool'!DN52","v":0},{"$f":"'Life Cycle Analysis Tool'!DO52","v":58134.205365921734},{"$f":"'Life Cycle Analysis Tool'!DP52","v":266029},{"$f":"'Life Cycle Analysis Tool'!DQ52","v":0},{"$f":"'Life Cycle Analysis Tool'!DR52","v":14.444389407407154},{"$f":"'Life Cycle Analysis Tool'!DS52","v":0},{"$f":"'Life Cycle Analysis Tool'!DT52","v":14.444389407407154},{"$f":"'Life Cycle Analysis Tool'!DU52","v":907728.6287732065},{"$f":"'Life Cycle Analysis Tool'!DV52","v":53618.097638263673},{"$f":"'Life Cycle Analysis Tool'!DW52","v":0},{"$f":"'Life Cycle Analysis Tool'!DX52","v":412.42908312987157},{"$f":"'Life Cycle Analysis Tool'!DY52","v":53618.097638263673},{"$f":"'Life Cycle Analysis Tool'!DZ52","v":54030.526721393544},{"$f":"'Life Cycle Analysis Tool'!EA52","v":112164.73208731528},2064402.3005340404,1331773.6124956051,717484.01747077855,15144.670567656844,664.44191274073455,14523658.060371308,null,null,null,{"$f":"'Life Cycle Analysis Tool'!EF52","v":"P5"},{"$f":"'Life Cycle Analysis Tool'!EG52","v":0},{"$f":"'Life Cycle Analysis Tool'!EH52","v":52320.784829329561},{"$f":"'Life Cycle Analysis Tool'!EI52","v":351142},{"$f":"'Life Cycle Analysis Tool'!EJ52","v":0},{"$f":"'Life Cycle Analysis Tool'!EK52","v":19.065710074073738},{"$f":"'Life Cycle Analysis Tool'!EL52","v":0},{"$f":"'Life Cycle Analysis Tool'!EM52","v":19.065710074073738},{"$f":"'Life Cycle Analysis Tool'!EN52","v":1198146.2403147074},{"$f":"'Life Cycle Analysis Tool'!EO52","v":70772.607651403348},{"$f":"'Life Cycle Analysis Tool'!EP52","v":0},{"$f":"'Life Cycle Analysis Tool'!EQ52","v":544.38115058279118},{"$f":"'Life Cycle Analysis Tool'!ER52","v":70772.607651403348},{"$f":"'Life Cycle Analysis Tool'!ES52","v":71316.988801986139},{"$f":"'Life Cycle Analysis Tool'!ET52","v":123637.77363131571},2513403.5075556142,1546378.4735360444,947034.99566860776,19990.038350962339,877.02266340739948,19170339.845035318,null,null,null,{"$f":"'Life Cycle Analysis Tool'!EY52","v":"P6"},{"$f":"'Life Cycle Analysis Tool'!EZ52","v":0},{"$f":"'Life Cycle Analysis Tool'!FA52","v":52320.784829329561},{"$f":"'Life Cycle Analysis Tool'!FB52","v":291618},{"$f":"'Life Cycle Analysis Tool'!FC52","v":0},{"$f":"'Life Cycle Analysis Tool'!FD52","v":15.833777333333055},{"$f":"'Life Cycle Analysis Tool'!FE52","v":0},{"$f":"'Life Cycle Analysis Tool'!FF52","v":15.833777333333055},{"$f":"'Life Cycle Analysis Tool'!FG52","v":995041.9212401089},{"$f":"'Life Cycle Analysis Tool'!FH52","v":58775.55603740635},{"$f":"'Life Cycle Analysis Tool'!FI52","v":0},{"$f":"'Life Cycle Analysis Tool'!FJ52","v":452.10012579142449},{"$f":"'Life Cycle Analysis Tool'!FK52","v":58775.55603740635},{"$f":"'Life Cycle Analysis Tool'!FL52","v":59227.656163197775},{"$f":"'Life Cycle Analysis Tool'!FM52","v":111548.44099252734},1480022.2519001567,676922.91781104461,786497.91641811014,16601.417671001855,728.35375733332637,15920670.739841737]
[null,null,null,null,null,null,null,null,null,null,null,null,null,null,"A",null,null,null,null,null,null,null,null,null,null,null,null,null,{"$f":"'Life Cycle Analysis Tool'!AM53","v":1},{"$f":"'Life Cycle Analysis Tool'!AW53","v":1},{"$f":"'Life Cycle Analysis Tool'!AX53","v":17},{"$f":"'Life Cycle Analysis Tool'!AJ53*AD24","v":2042},{"$f":"INDEX($BY24:$HJ24,1,MATCH(AG$2,$BY$5:$HJ$5,0))*AG$5*$AD24","v":2591568.1381505262},1895768.9026712452,2103944.4326383737,2179556.1369978162,2640254.3317820225,1594505.1571844099,null,{"$f":"INDEX($BY24:$HJ24,1,MATCH(AN$2,$BY$5:$HJ$5,0))*AN$5*$AD24","v":1461103.6975080036},1600268.8819102538,939430.36407300364,1391651.8440225045,1600268.8819102538,730813.32618525403,null,{"$f":"INDEX($BY24:$HJ24,1,MATCH(AU$2,$BY$5:$HJ$5,0))*AU$5*$AD24","v":1073971.1987794393},289701.16901603213,1141661.804727488,772442.56754999887,1019576.9185112962,846742.86135645164,null,{"$f":"INDEX($BY24:$HJ24,1,MATCH(BB$2,$BY$5:$HJ$5,0))*BB$5*$AD24","v":56493.24186308268},5798.85174495918,22852.263837882096,15461.725425312919,20408.531360472844,16948.969642703996,null,{"$f":"INDEX($BY24:$HJ24,1,MATCH(BI$2,$BY$5:$HJ$5,0))*BI$5*$AD24","v":2367.4473088320942},253.25897931481231,998.04948792591597,675.27520479628947,891.32194596295415,740.22909033332564,null,{"$f":"INDEX($BY24:$HJ24,1,MATCH(BP$2,$BY$5:$HJ$5,0))*BP$5*$AD24","v":47080068.314099982},5787473.3361250656,22807423.512216154,15431386.689144515,20368486.085350025,16915712.661081847,null,null,null,{"$f":"'Life Cycle Analysis Tool'!BH53","v":"P1"},{"$f":"'Life Cycle Analysis Tool'!BI53","v":0},{"$f":"'Life Cycle Analysis Tool'!BJ53","v":47902.585221519512},{"$f":"'Life Cycle Analysis Tool'!BK53","v":239795.37461366304},{"$f":"'Life Cycle Analysis Tool'!BL53","v":19512},{"$f":"'Life Cycle Analysis Tool'!BM53","v":9.7650005328780232},{"$f":"'Life Cycle Analysis Tool'!BN53","v":103.45660444799999},{"$f":"'Life Cycle Analysis Tool'!BO53","v":113.22160498087801},{"$f":"'Life Cycle Analysis Tool'!BP53","v":2769415.7831823514},{"$f":"'Life Cycle Analysis Tool'!BQ53","v":49538.982984826405},{"$f":"'Life Cycle Analysis Tool'!BR53","v":26873.040887666277},{"$f":"'Life Cycle Analysis Tool'!BS53","v":3313.6243042942601},{"$f":"'Life Cycle Analysis Tool'!BT53","v":76412.023872492689},{"$f":"'Life Cycle Analysis Tool'!BU53","v":79725.648176786955},{"$f":"'Life Cycle Analysis Tool'!BV53","v":127628.23339830647},2591568.1381505262,1461103.6975080036,1073971.1987794393,56493.24186308268,2367.4473088320942,47080068.314099982,null,null,null,{"$f":"'Life Cycle Analysis Tool'!CA53","v":"P2"},{"$f":"'Life Cycle Analysis Tool'!CB53","v":0},{"$f":"'Life Cycle Analysis Tool'!CC53","v":53890.408374209452},{"$f":"'Life Cycle Analysis Tool'!CD53","v":99773},{"$f":"'Life Cycle Analysis Tool'!CE53","v":0},{"$f":"'Life Cycle Analysis Tool'!CF53","v":4.0629782777775336},{"$f":"'Life Cycle Analysis Tool'!CG53","v":0},{"$f":"'Life Cycle Analysis Tool'!CH53","v":4.0629782777775336},{"$f":"'Life Cycle Analysis Tool'!CI53","v":340439.60800735682},{"$f":"'Life Cycle Analysis Tool'!CJ53","v":20611.961166091078},{"$f":"'Life Cycle Analysis Tool'!CK53","v":0},{"$f":"'Life Cycle Analysis Tool'!CL53","v":118.91002226418772},{"$f":"'Life Cycle Analysis Tool'!CM53","v":20611.961166091078},{"$f":"'Life Cycle Analysis Tool'!CN53","v":20730.871188355264},{"$f":"'Life Cycle Analysis Tool'!CO53","v":74621.279562564712},1895768.9026712452,1600268.8819102538,289701.16901603213,5798.85174495918,253.25897931481231,5787473.3361250656,null,null,null,null,{"$f":"'Life Cycle Analysis Tool'!CT53","v":"P3"},{"$f":"'Life Cycle Analysis Tool'!CU53","v":0},{"$f":"'Life Cycle Analysis Tool'!CV53","v":47902.585221519512},{"$f":"'Life Cycle Analysis Tool'!CW53","v":393188},{"$f":"'Life Cycle Analysis Tool'!CX53","v":0},{"$f":"'Life Cycle Analysis Tool'!CY53","v":16.011489111110148},{"$f":"'Life Cycle Analysis Tool'!CZ53","v":0},{"$f":"'Life Cycle Analysis Tool'!DA53","v":16.011489111110148},{"$f":"'Life Cycle Analysis Tool'!DB53","v":1341613.1477774209},{"$f":"'Life Cycle Analysis Tool'!DC53","v":81228.145760606756},{"$f":"'Life Cycle Analysis Tool'!DD53","v":0},{"$f":"'Life Cycle Analysis Tool'!DE53","v":468.60366866799069},{"$f":"'Life Cycle Analysis Tool'!DF53","v":81228.145760606756},{"$f":"'Life Cycle Analysis Tool'!DG53","v":81696.749429274743},{"$f":"'Life Cycle Analysis Tool'!DH53","v":129599.33465079425},2103944.4326383737,939430.36407300364,1141661.804727488,22852.263837882096,998.04948792591597,22807423.512216154,null,null,null,{"$f":"'Life Cycle Analysis Tool'!DM53","v":"P4"},{"$f":"'Life Cycle Analysis Tool'!DN53","v":0},{"$f":"'Life Cycle Analysis Tool'!DO53","v":59878.231526899392},{"$f":"'Life Cycle Analysis Tool'!DP53","v":266029},{"$f":"'Life Cycle Analysis Tool'!DQ53","v":0},{"$f":"'Life Cycle Analysis Tool'!DR53","v":10.833292055554903},{"$f":"'Life Cycle Analysis Tool'!DS53","v":0},{"$f":"'Life Cycle Analysis Tool'!DT53","v":10.833292055554903},{"$f":"'Life Cycle Analysis Tool'!DU53","v":907728.6287732065},{"$f":"'Life Cycle Analysis Tool'!DV53","v":54958.550079220266},{"$f":"'Life Cycle Analysis Tool'!DW53","v":0},{"$f":"'Life Cycle Analysis Tool'!DX53","v":317.05485765607517},{"$f":"'Life Cycle Analysis Tool'!DY53","v":54958.550079220266},{"$f":"'Life Cycle Analysis Tool'!DZ53","v":55275.604936876342},{"$f":"'Life Cycle Analysis Tool'!EA53","v":115153.83646377573},2179556.1369978162,1391651.8440225045,772442.56754999887,15461.725425312919,675.27520479628947,15431386.689144515,null,null,null,{"$f":"'Life Cycle Analysis Tool'!EF53","v":"P5"},{"$f":"'Life Cycle Analysis Tool'!EG53","v":0},{"$f":"'Life Cycle Analysis Tool'!EH53","v":53890.408374209452},{"$f":"'Life Cycle Analysis Tool'!EI53","v":351142},{"$f":"'Life Cycle Analysis Tool'!EJ53","v":0},{"$f":"'Life Cycle Analysis Tool'!EK53","v":14.299282555554695},{"$f":"'Life Cycle Analysis Tool'!EL53","v":0},{"$f":"'Life Cycle Analysis Tool'!EM53","v":14.299282555554695},{"$f":"'Life Cycle Analysis Tool'!EN53","v":1198146.2403147074},{"$f":"'Life Cycle Analysis Tool'!EO53","v":72541.922842688437},{"$f":"'Life Cycle Analysis Tool'!EP53","v":0},{"$f":"'Life Cycle Analysis Tool'!EQ53","v":418.49300951050287},{"$f":"'Life Cycle Analysis Tool'!ER53","v":72541.922842688437},{"$f":"'Life Cycle Analysis Tool'!ES53","v":72960.415852198945},{"$f":"'Life Cycle Analysis Tool'!ET53","v":126850.8242264084},2640254.3317820225,1600268.8819102538,1019576.9185112962,20408.531360472844,891.32194596295415,20368486.085350025,null,null,null,{"$f":"'Life Cycle Analysis Tool'!EY53","v":"P6"},{"$f":"'Life Cycle Analysis Tool'!EZ53","v":0},{"$f":"'Life Cycle Analysis Tool'!FA53","v":53890.408374209452},{"$f":"'Life Cycle Analysis Tool'!FB53","v":291618},{"$f":"'Life Cycle Analysis Tool'!FC53","v":0},{"$f":"'Life Cycle Analysis Tool'!FD53","v":11.875332999999285},{"$f":"'Life Cycle Analysis Tool'!FE53","v":0},{"$f":"'Life Cycle Analysis Tool'!FF53","v":11.875332999999285},{"$f":"'Life Cycle Analysis Tool'!FG53","v":995041.9212401089},{"$f":"'Life Cycle Analysis Tool'!FH53","v":60244.944938341512},{"$f":"'Life Cycle Analysis Tool'!FI53","v":0},{"$f":"'Life Cycle Analysis Tool'!FJ53","v":347.55197170214279},{"$f":"'Life Cycle Analysis Tool'!FK53","v":60244.944938341512},{"$f":"'Life Cycle Analysis Tool'!FL53","v":60592.496910043657},{"$f":"'Life Cycle Analysis Tool'!FM53","v":114482.90528425311},1594505.1571844099,730813.32618525403,846742.86135645164,16948.969642703996,740.22909033332564,16915712.661081847]
[null,null,null,null,null,null,null,null,null,null,null,null,null,null,"A",null,null,null,null,null,null,null,null,null,null,null,null,null,{"$f":"'Life Cycle Analysis Tool'!AM54","v":1},{"$f":"'Life Cycle Analysis Tool'!AW54","v":1},{"$f":"'Life Cycle Analysis Tool'!AX54","v":18},{"$f":"'Life Cycle Analysis Tool'!AJ54*AD25","v":2043},2722528.9455724522,1972484.5386738048,2236863.1573280836,2297779.8834544551,2770402.8935443796,1712000.8402189754,null,1510443.3602861688,1655776.0025356896,988770.02685116872,1453326.422495211,1655776.0025356896,786320.44681068975,null,1152293.5232487442,310828.42921127548,1224920.6541321098,828775.08138119965,1093932.3894250519,908493.9299182517,null,59792.062037538592,5880.1069268397114,23172.476344805236,15678.37957804458,20694.501583638365,17186.463490033802,null,2477.4139136353465,255.96763149999745,1008.7238139999898,682.49739949999309,900.85480099999097,748.14597899999217,null,49849484.097282335,6127912.9441324221,24149036.659993574,16339115.317917721,21566632.325664733,17910754.582321957,null,null,null,{"$f":"'Life Cycle Analysis Tool'!BH54","v":"P1"},{"$f":"'Life Cycle Analysis Tool'!BI54","v":0},{"$f":"'Life Cycle Analysis Tool'!BJ54","v":49339.662778165097},{"$f":"'Life Cycle Analysis Tool'!BK54","v":239795.37461366304},{"$f":"'Life Cycle Analysis Tool'!BL54","v":19512},{"$f":"'Life Cycle Analysis Tool'!BM54","v":6.5100003552522931},{"$f":"'Life Cycle Analysis Tool'!BN54","v":103.45660444799999},{"$f":"'Life Cycle Analysis Tool'!BO54","v":109.96660480325228},{"$f":"'Life Cycle Analysis Tool'!BP54","v":2769415.7831823514},{"$f":"'Life Cycle Analysis Tool'!BQ54","v":50777.457559447059},{"$f":"'Life Cycle Analysis Tool'!BR54","v":27544.866909857938},{"$f":"'Life Cycle Analysis Tool'!BS54","v":3298.8201744559105},{"$f":"'Life Cycle Analysis Tool'!BT54","v":78322.324469304993},{"$f":"'Life Cycle Analysis Tool'!BU54","v":81621.144643760897},{"$f":"'Life Cycle Analysis Tool'!BV54","v":130960.807421926},2722528.9455724522,1510443.3602861688,1152293.5232487442,59792.062037538592,2477.4139136353465,49849484.097282335,null,null,null,{"$f":"'Life Cycle Analysis Tool'!CA54","v":"P2"},{"$f":"'Life Cycle Analysis Tool'!CB54","v":0},{"$f":"'Life Cycle Analysis Tool'!CC54","v":55507.120625435738},{"$f":"'Life Cycle Analysis Tool'!CD54","v":99773},{"$f":"'Life Cycle Analysis Tool'!CE54","v":0},{"$f":"'Life Cycle Analysis Tool'!CF54","v":2.7086521851851377},{"$f":"'Life Cycle Analysis Tool'!CG54","v":0},{"$f":"'Life Cycle Analysis Tool'!CH54","v":2.7086521851851377},{"$f":"'Life Cycle Analysis Tool'!CI54","v":340439.60800735682},{"$f":"'Life Cycle Analysis Tool'!CJ54","v":21127.260195243354},{"$f":"'Life Cycle Analysis Tool'!CK54","v":0},{"$f":"'Life Cycle Analysis Tool'!CL54","v":81.255181880531737},{"$f":"'Life Cycle Analysis Tool'!CM54","v":21127.260195243354},{"$f":"'Life Cycle Analysis Tool'!CN54","v":21208.515377123887},{"$f":"'Life Cycle Analysis Tool'!CO54","v":76715.636002559622},1972484.5386738048,1655776.0025356896,310828.42921127548,5880.1069268397114,255.96763149999745,6127912.9441324221,null,null,null,null,{"$f":"'Life Cycle Analysis Tool'!CT54","v":"P3"},{"$f":"'Life Cycle Analysis Tool'!CU54","v":0},{"$f":"'Life Cycle Analysis Tool'!CV54","v":49339.662778165097},{"$f":"'Life Cycle Analysis Tool'!CW54","v":393188},{"$f":"'Life Cycle Analysis Tool'!CX54","v":0},{"$f":"'Life Cycle Analysis Tool'!CY54","v":10.674326074073887},{"$f":"'Life Cycle Analysis Tool'!CZ54","v":0},{"$f":"'Life Cycle Analysis Tool'!DA54","v":10.674326074073887},{"$f":"'Life Cycle Analysis Tool'!DB54","v":1341613.1477774209},{"$f":"'Life Cycle Analysis Tool'!DC54","v":83258.849404621928},{"$f":"'Life Cycle Analysis Tool'!DD54","v":0},{"$f":"'Life Cycle Analysis Tool'!DE54","v":320.21250692314067},{"$f":"'Life Cycle Analysis Tool'!DF54","v":83258.849404621928},{"$f":"'Life Cycle Analysis Tool'!DG54","v":83579.061911545068},{"$f":"'Life Cycle Analysis Tool'!DH54","v":132918.72468971016},2236863.1573280836,988770.02685116872,1224920.6541321098,23172.476344805236,1008.7238139999898,24149036.659993574,null,null,null,{"$f":"'Life Cycle Analysis Tool'!DM54","v":"P4"},{"$f":"'Life Cycle Analysis Tool'!DN54","v":0},{"$f":"'Life Cycle Analysis Tool'!DO54","v":61674.578472706373},{"$f":"'Life Cycle Analysis Tool'!DP54","v":266029},{"$f":"'Life Cycle Analysis Tool'!DQ54","v":0},{"$f":"'Life Cycle Analysis Tool'!DR54","v":7.2221947037035772},{"$f":"'Life Cycle Analysis Tool'!DS54","v":0},{"$f":"'Life Cycle Analysis Tool'!DT54","v":7.2221947037035772},{"$f":"'Life Cycle Analysis Tool'!DU54","v":907728.6287732065},{"$f":"'Life Cycle Analysis Tool'!DV54","v":56332.513831200769},{"$f":"'Life Cycle Analysis Tool'!DW54","v":0},{"$f":"'Life Cycle Analysis Tool'!DX54","v":216.65415273166064},{"$f":"'Life Cycle Analysis Tool'!DY54","v":56332.513831200769},{"$f":"'Life Cycle Analysis Tool'!DZ54","v":56549.167983932428},{"$f":"'Life Cycle Analysis Tool'!EA54","v":118223.74645663879},2297779.8834544551,1453326.422495211,828775.08138119965,15678.37957804458,682.49739949999309,16339115.317917721,null,null,null,{"$f":"'Life Cycle Analysis Tool'!EF54","v":"P5"},{"$f":"'Life Cycle Analysis Tool'!EG54","v":0},{"$f":"'Life Cycle Analysis Tool'!EH54","v":55507.120625435738},{"$f":"'Life Cycle Analysis Tool'!EI54","v":351142},{"$f":"'Life Cycle Analysis Tool'!EJ54","v":0},{"$f":"'Life Cycle Analysis Tool'!EK54","v":9.5328550370368692},{"$f":"'Life Cycle Analysis Tool'!EL54","v":0},{"$f":"'Life Cycle Analysis Tool'!EM54","v":9.5328550370368692},{"$f":"'Life Cycle Analysis Tool'!EN54","v":1198146.2403147074},{"$f":"'Life Cycle Analysis Tool'!EO54","v":74355.470913755649},{"$f":"'Life Cycle Analysis Tool'!EP54","v":0},{"$f":"'Life Cycle Analysis Tool'!EQ54","v":285.9702231655225},{"$f":"'Life Cycle Analysis Tool'!ER54","v":74355.470913755649},{"$f":"'Life Cycle Analysis Tool'!ES54","v":74641.441136921174},{"$f":"'Life Cycle Analysis Tool'!ET54","v":130148.56176235691},2770402.8935443796,1655776.0025356896,1093932.3894250519,20694.501583638365,900.85480099999097,21566632.325664733,null,null,null,{"$f":"'Life Cycle Analysis Tool'!EY54","v":"P6"},{"$f":"'Life Cycle Analysis Tool'!EZ54","v":0},{"$f":"'Life Cycle Analysis Tool'!FA54","v":55507.120625435738},{"$f":"'Life Cycle Analysis Tool'!FB54","v":291618},{"$f":"'Life Cycle Analysis Tool'!FC54","v":0},{"$f":"'Life Cycle Analysis Tool'!FD54","v":7.9168886666665275},{"$f":"'Life Cycle Analysis Tool'!FE54","v":0},{"$f":"'Life Cycle Analysis Tool'!FF54","v":7.9168886666665275},{"$f":"'Life Cycle Analysis Tool'!FG54","v":995041.9212401089},{"$f":"'Life Cycle Analysis Tool'!FH54","v":61751.06856180005},{"$f":"'Life Cycle Analysis Tool'!FI54","v":0},{"$f":"'Life Cycle Analysis Tool'!FJ54","v":237.49384732980769},{"$f":"'Life Cycle Analysis Tool'!FK54","v":61751.06856180005},{"$f":"'Life Cycle Analysis Tool'!FL54","v":61988.56240912986},{"$f":"'Life Cycle Analysis Tool'!FM54","v":117495.68303456559},1712000.8402189754,786320.44681068975,908493.9299182517,17186.463490033802,748.14597899999217,17910754.582321957]
[null,null,null,null,null,null,null,null,null,null,null,null,null,null,"A",null,null,null,null,null,null,null,null,null,null,null,null,null,{"$f":"'Life Cycle Analysis Tool'!AM55","v":1},{"$f":"'Life Cycle Analysis Tool'!AW55","v":1},{"$f":"'Life Cycle Analysis Tool'!AX55","v":19},{"$f":"'Life Cycle Analysis Tool'!AJ55*AD26","v":2044},2856910.3856379353,2051353.9578988419,2373187.4395391294,2419156.5612115986,2903936.1452145502,1832589.7353357759,null,1561263.2129476788,1712948.3367798885,1039589.8795126787,1516851.2383220985,1712948.3367798885,843492.7810548885,null,1232573.9058297819,332483.87091139989,1310260.9747718472,886515.90805818047,1170146.7471116513,971788.77519409673,null,63073.266860474025,5921.7502075534785,23336.585254603324,15789.414831319542,20841.061323010676,17308.179086790315,null,2584.1255182609721,257.32195759258985,1014.0609770370261,686.10849685184439,905.62122851850881,752.10442333332492,null,52618899.880464688,6468352.5521397786,25490649.807770994,17246843.946690928,22764778.56597944,18905796.503562067,null,null,null,{"$f":"'Life Cycle Analysis Tool'!BH55","v":"P1"},{"$f":"'Life Cycle Analysis Tool'!BI55","v":0},{"$f":"'Life Cycle Analysis Tool'!BJ55","v":50819.852661510042},{"$f":"'Life Cycle Analysis Tool'!BK55","v":239795.37461366304},{"$f":"'Life Cycle Analysis Tool'!BL55","v":19512},{"$f":"'Life Cycle Analysis Tool'!BM55","v":3.2550001776257309},{"$f":"'Life Cycle Analysis Tool'!BN55","v":103.45660444799999},{"$f":"'Life Cycle Analysis Tool'!BO55","v":106.71160462562572},{"$f":"'Life Cycle Analysis Tool'!BP55","v":2769415.7831823514},{"$f":"'Life Cycle Analysis Tool'!BQ55","v":52046.893998433239},{"$f":"'Life Cycle Analysis Tool'!BR55","v":28233.488582604383},{"$f":"'Life Cycle Analysis Tool'!BS55","v":3281.2048229354332},{"$f":"'Life Cycle Analysis Tool'!BT55","v":80280.382581037615},{"$f":"'Life Cycle Analysis Tool'!BU55","v":83561.587403973041},{"$f":"'Life Cycle Analysis Tool'!BV55","v":134381.4400654831},2856910.3856379353,1561263.2129476788,1232573.9058297819,63073.266860474025,2584.1255182609721,52618899.880464688,null,null,null,{"$f":"'Life Cycle Analysis Tool'!CA55","v":"P2"},{"$f":"'Life Cycle Analysis Tool'!CB55","v":0},{"$f":"'Life Cycle Analysis Tool'!CC55","v":57172.334244198799},{"$f":"'Life Cycle Analysis Tool'!CD55","v":99773},{"$f":"'Life Cycle Analysis Tool'!CE55","v":0},{"$f":"'Life Cycle Analysis Tool'!CF55","v":1.3543260925923957},{"$f":"'Life Cycle Analysis Tool'!CG55","v":0},{"$f":"'Life Cycle Analysis Tool'!CH55","v":1.3543260925923957},{"$f":"'Life Cycle Analysis Tool'!CI55","v":340439.60800735682},{"$f":"'Life Cycle Analysis Tool'!CJ55","v":21655.441700124436},{"$f":"'Life Cycle Analysis Tool'!CK55","v":0},{"$f":"'Life Cycle Analysis Tool'!CL55","v":41.643280713767183},{"$f":"'Life Cycle Analysis Tool'!CM55","v":21655.441700124436},{"$f":"'Life Cycle Analysis Tool'!CN55","v":21697.084980838205},{"$f":"'Life Cycle Analysis Tool'!CO55","v":78869.419225037011},2051353.9578988419,1712948.3367798885,332483.87091139989,5921.7502075534785,257.32195759258985,6468352.5521397786,null,null,null,null,{"$f":"'Life Cycle Analysis Tool'!CT55","v":"P3"},{"$f":"'Life Cycle Analysis Tool'!CU55","v":0},{"$f":"'Life Cycle Analysis Tool'!CV55","v":50819.852661510042},{"$f":"'Life Cycle Analysis Tool'!CW55","v":393188},{"$f":"'Life Cycle Analysis Tool'!CX55","v":0},{"$f":"'Life Cycle Analysis Tool'!CY55","v":5.3371630370362615},{"$f":"'Life Cycle Analysis Tool'!CZ55","v":0},{"$f":"'Life Cycle Analysis Tool'!DA55","v":5.3371630370362615},{"$f":"'Life Cycle Analysis Tool'!DB55","v":1341613.1477774209},{"$f":"'Life Cycle Analysis Tool'!DC55","v":85340.320639737474},{"$f":"'Life Cycle Analysis Tool'!DD55","v":0},{"$f":"'Life Cycle Analysis Tool'!DE55","v":164.1089097980886},{"$f":"'Life Cycle Analysis Tool'!DF55","v":85340.320639737474},{"$f":"'Life Cycle Analysis Tool'!DG55","v":85504.429549535562},{"$f":"'Life Cycle Analysis Tool'!DH55","v":136324.28221104562},2373187.4395391294,1039589.8795126787,1310260.9747718472,23336.585254603324,1014.0609770370261,25490649.807770994,null,null,null,{"$f":"'Life Cycle Analysis Tool'!DM55","v":"P4"},{"$f":"'Life Cycle Analysis Tool'!DN55","v":0},{"$f":"'Life Cycle Analysis Tool'!DO55","v":63524.815826887556},{"$f":"'Life Cycle Analysis Tool'!DP55","v":266029},{"$f":"'Life Cycle Analysis Tool'!DQ55","v":0},{"$f":"'Life Cycle Analysis Tool'!DR55","v":3.6110973518513272},{"$f":"'Life Cycle Analysis Tool'!DS55","v":0},{"$f":"'Life Cycle Analysis Tool'!DT55","v":3.6110973518513272},{"$f":"'Life Cycle Analysis Tool'!DU55","v":907728.6287732065},{"$f":"'Life Cycle Analysis Tool'!DV55","v":57740.826676980781},{"$f":"'Life Cycle Analysis Tool'!DW55","v":0},{"$f":"'Life Cycle Analysis Tool'!DX55","v":111.03525327496189},{"$f":"'Life Cycle Analysis Tool'!DY55","v":57740.826676980781},{"$f":"'Life Cycle Analysis Tool'!DZ55","v":57851.861930255742},{"$f":"'Life Cycle Analysis Tool'!EA55","v":121376.6777571433},2419156.5612115986,1516851.2383220985,886515.90805818047,15789.414831319542,686.10849685184439,17246843.946690928,null,null,null,{"$f":"'Life Cycle Analysis Tool'!EF55","v":"P5"},{"$f":"'Life Cycle Analysis Tool'!EG55","v":0},{"$f":"'Life Cycle Analysis Tool'!EH55","v":57172.334244198799},{"$f":"'Life Cycle Analysis Tool'!EI55","v":351142},{"$f":"'Life Cycle Analysis Tool'!EJ55","v":0},{"$f":"'Life Cycle Analysis Tool'!EK55","v":4.7664275185178253},{"$f":"'Life Cycle Analysis Tool'!EL55","v":0},{"$f":"'Life Cycle Analysis Tool'!EM55","v":4.7664275185178253},{"$f":"'Life Cycle Analysis Tool'!EN55","v":1198146.2403147074},{"$f":"'Life Cycle Analysis Tool'!EO55","v":76214.357686599527},{"$f":"'Life Cycle Analysis Tool'!EP55","v":0},{"$f":"'Life Cycle Analysis Tool'!EQ55","v":146.55973937231153},{"$f":"'Life Cycle Analysis Tool'!ER55","v":76214.357686599527},{"$f":"'Life Cycle Analysis Tool'!ES55","v":76360.917425971842},{"$f":"'Life Cycle Analysis Tool'!ET55","v":133533.25167017063},2903936.1452145502,1712948.3367798885,1170146.7471116513,20841.061323010676,905.62122851850881,22764778.56597944,null,null,null,{"$f":"'Life Cycle Analysis Tool'!EY55","v":"P6"},{"$f":"'Life Cycle Analysis Tool'!EZ55","v":0},{"$f":"'Life Cycle Analysis Tool'!FA55","v":57172.334244198799},{"$f":"'Life Cycle Analysis Tool'!FB55","v":291618},{"$f":"'Life Cycle Analysis Tool'!FC55","v":0},{"$f":"'Life Cycle Analysis Tool'!FD55","v":3.9584443333327579},{"$f":"'Life Cycle Analysis Tool'!FE55","v":0},{"$f":"'Life Cycle Analysis Tool'!FF55","v":3.9584443333327579},{"$f":"'Life Cycle Analysis Tool'!FG55","v":995041.9212401089},{"$f":"'Life Cycle Analysis Tool'!FH55","v":63294.845275845051},{"$f":"'Life Cycle Analysis Tool'!FI55","v":0},{"$f":"'Life Cycle Analysis Tool'!FJ55","v":121.71559675651088},{"$f":"'Life Cycle Analysis Tool'!FK55","v":63294.845275845051},{"$f":"'Life Cycle Analysis Tool'!FL55","v":63416.560872601563},{"$f":"'Life Cycle Analysis Tool'!FM55","v":120588.89511680036},1832589.7353357759,843492.7810548885,971788.77519409673,17308.179086790315,752.10442333332492,18905796.503562067]
[null,null,null,null,null,null,null,null,null,null,null,null,null,null,"A",null,null,null,null,null,null,null,null,null,null,null,null,null,{"$f":"'Life Cycle Analysis Tool'!AM56","v":1},{"$f":"'Life Cycle Analysis Tool'!AW56","v":1},{"$f":"'Life Cycle Analysis Tool'!AX56","v":20},{"$f":"'Life Cycle Analysis Tool'!AJ56*AD27","v":2045},2994802.8729660842,2132438.289912994,2513005.7164362157,2543771.468857198,3040943.3661148394,1956354.4560150418,null,1613607.6611890341,1771835.8410514132,1091934.327754034,1582281.7986237926,1771835.8410514132,902380.28532641323,null,1314861.2979753455,354680.69865402742,1397734.8034275782,945700.25540208572,1248266.4637404159,1036665.9916018379,null,66333.913801703951,5921.7502075534785,23336.585254603324,15789.414831319542,20841.061323010676,17308.179086790315,null,2687.5821227089718,257.32195759258985,1014.0609770370261,686.10849685184439,905.62122851850881,752.10442333332492,null,55388315.663647041,6808792.1601471351,26832262.955548413,18154572.575464133,23962924.806294147,19900838.424802177,null,null,null,{"$f":"'Life Cycle Analysis Tool'!BH56","v":"P1"},{"$f":"'Life Cycle Analysis Tool'!BI56","v":0},{"$f":"'Life Cycle Analysis Tool'!BJ56","v":52344.448241355349},{"$f":"'Life Cycle Analysis Tool'!BK56","v":239795.37461366304},{"$f":"'Life Cycle Analysis Tool'!BL56","v":19512},{"$f":"'Life Cycle Analysis Tool'!BM56","v":0},{"$f":"'Life Cycle Analysis Tool'!BN56","v":103.45660444799999},{"$f":"'Life Cycle Analysis Tool'!BO56","v":103.45660444799999},{"$f":"'Life Cycle Analysis Tool'!BP56","v":2769415.7831823514},{"$f":"'Life Cycle Analysis Tool'!BQ56","v":53348.066348394059},{"$f":"'Life Cycle Analysis Tool'!BR56","v":28939.325797169484},{"$f":"'Life Cycle Analysis Tool'!BS56","v":3260.6469412299234},{"$f":"'Life Cycle Analysis Tool'!BT56","v":82287.392145563543},{"$f":"'Life Cycle Analysis Tool'!BU56","v":85548.039086793462},{"$f":"'Life Cycle Analysis Tool'!BV56","v":137892.4873281488},2994802.8729660842,1613607.6611890341,1314861.2979753455,66333.913801703951,2687.5821227089718,55388315.663647041,null,null,null,{"$f":"'Life Cycle Analysis Tool'!CA56","v":"P2"},{"$f":"'Life Cycle Analysis Tool'!CB56","v":0},{"$f":"'Life Cycle Analysis Tool'!CC56","v":58887.504271524762},{"$f":"'Life Cycle Analysis Tool'!CD56","v":99773},{"$f":"'Life Cycle Analysis Tool'!CE56","v":0},{"$f":"'Life Cycle Analysis Tool'!CF56","v":0},{"$f":"'Life Cycle Analysis Tool'!CG56","v":0},{"$f":"'Life Cycle Analysis Tool'!CH56","v":0},{"$f":"'Life Cycle Analysis Tool'!CI56","v":340439.60800735682},{"$f":"'Life Cycle Analysis Tool'!CJ56","v":22196.827742627545},{"$f":"'Life Cycle Analysis Tool'!CK56","v":0},{"$f":"'Life Cycle Analysis Tool'!CL56","v":0},{"$f":"'Life Cycle Analysis Tool'!CM56","v":22196.827742627545},{"$f":"'Life Cycle Analysis Tool'!CN56","v":22196.827742627545},{"$f":"'Life Cycle Analysis Tool'!CO56","v":81084.332014152315},2132438.289912994,1771835.8410514132,354680.69865402742,5921.7502075534785,257.32195759258985,6808792.1601471351,null,null,null,null,{"$f":"'Life Cycle Analysis Tool'!CT56","v":"P3"},{"$f":"'Life Cycle Analysis Tool'!CU56","v":0},{"$f":"'Life Cycle Analysis Tool'!CV56","v":52344.448241355349},{"$f":"'Life Cycle Analysis Tool'!CW56","v":393188},{"$f":"'Life Cycle Analysis Tool'!CX56","v":0},{"$f":"'Life Cycle Analysis Tool'!CY56","v":0},{"$f":"'Life Cycle Analysis Tool'!CZ56","v":0},{"$f":"'Life Cycle Analysis Tool'!DA56","v":0},{"$f":"'Life Cycle Analysis Tool'!DB56","v":1341613.1477774209},{"$f":"'Life Cycle Analysis Tool'!DC56","v":87473.828655730904},{"$f":"'Life Cycle Analysis Tool'!DD56","v":0},{"$f":"'Life Cycle Analysis Tool'!DE56","v":0},{"$f":"'Life Cycle Analysis Tool'!DF56","v":87473.828655730904},{"$f":"'Life Cycle Analysis Tool'!DG56","v":87473.828655730904},{"$f":"'Life Cycle Analysis Tool'!DH56","v":139818.27689708624},2513005.7164362157,1091934.327754034,1397734.8034275782,23336.585254603324,1014.0609770370261,26832262.955548413,null,null,null,{"$f":"'Life Cycle Analysis Tool'!DM56","v":"P4"},{"$f":"'Life Cycle Analysis Tool'!DN56","v":0},{"$f":"'Life Cycle Analysis Tool'!DO56","v":65430.560301694182},{"$f":"'Life Cycle Analysis Tool'!DP56","v":266029},{"$f":"'Life Cycle Analysis Tool'!DQ56","v":0},{"$f":"'Life Cycle Analysis Tool'!DR56","v":0},{"$f":"'Life Cycle Analysis Tool'!DS56","v":0},{"$f":"'Life Cycle Analysis Tool'!DT56","v":0},{"$f":"'Life Cycle Analysis Tool'!DU56","v":907728.6287732065},{"$f":"'Life Cycle Analysis Tool'!DV56","v":59184.347343905298},{"$f":"'Life Cycle Analysis Tool'!DW56","v":0},{"$f":"'Life Cycle Analysis Tool'!DX56","v":0},{"$f":"'Life Cycle Analysis Tool'!DY56","v":59184.347343905298},{"$f":"'Life Cycle Analysis Tool'!DZ56","v":59184.347343905298},{"$f":"'Life Cycle Analysis Tool'!EA56","v":124614.90764559948},2543771.468857198,1582281.7986237926,945700.25540208572,15789.414831319542,686.10849685184439,18154572.575464133,null,null,null,{"$f":"'Life Cycle Analysis Tool'!EF56","v":"P5"},{"$f":"'Life Cycle Analysis Tool'!EG56","v":0},{"$f":"'Life Cycle Analysis Tool'!EH56","v":58887.504271524762},{"$f":"'Life Cycle Analysis Tool'!EI56","v":351142},{"$f":"'Life Cycle Analysis Tool'!EJ56","v":0},{"$f":"'Life Cycle Analysis Tool'!EK56","v":0},{"$f":"'Life Cycle Analysis Tool'!EL56","v":0},{"$f":"'Life Cycle Analysis Tool'!EM56","v":0},{"$f":"'Life Cycle Analysis Tool'!EN56","v":1198146.2403147074},{"$f":"'Life Cycle Analysis Tool'!EO56","v":78119.716628764509},{"$f":"'Life Cycle Analysis Tool'!EP56","v":0},{"$f":"'Life Cycle Analysis Tool'!EQ56","v":0},{"$f":"'Life Cycle Analysis Tool'!ER56","v":78119.716628764509},{"$f":"'Life Cycle Analysis Tool'!ES56","v":78119.716628764509},{"$f":"'Life Cycle Analysis Tool'!ET56","v":137007.22090028928},3040943.3661148394,1771835.8410514132,1248266.4637404159,20841.061323010676,905.62122851850881,23962924.806294147,null,null,null,{"$f":"'Life Cycle Analysis Tool'!EY56","v":"P6"},{"$f":"'Life Cycle Analysis Tool'!EZ56","v":0},{"$f":"'Life Cycle Analysis Tool'!FA56","v":58887.504271524762},{"$f":"'Life Cycle Analysis Tool'!FB56","v":291618},{"$f":"'Life Cycle Analysis Tool'!FC56","v":0},{"$f":"'Life Cycle Analysis Tool'!FD56","v":0},{"$f":"'Life Cycle Analysis Tool'!FE56","v":0},{"$f":"'Life Cycle Analysis Tool'!FF56","v":0},{"$f":"'Life Cycle Analysis Tool'!FG56","v":995041.9212401089},{"$f":"'Life Cycle Analysis Tool'!FH56","v":64877.216407741165},{"$f":"'Life Cycle Analysis Tool'!FI56","v":0},{"$f":"'Life Cycle Analysis Tool'!FJ56","v":0},{"$f":"'Life Cycle Analysis Tool'!FK56","v":64877.216407741165},{"$f":"'Life Cycle Analysis Tool'!FL56","v":64877.216407741165},{"$f":"'Life Cycle Analysis Tool'!FM56","v":123764.72067926593},1956354.4560150418,902380.28532641323,1036665.9916018379,17308.179086790315,752.10442333332492,19900838.424802177]
[null,null,null,null,null,null,null,null,null,null,null,null,null,null,"A",null,null,null,null,null,null,null,null,null,null,null,null,null,{"$f":"'Life Cycle Analysis Tool'!AM57","v":0},{"$f":"'Life Cycle Analysis Tool'!AW57","v":{"$error":"#N/A"}},{"$f":"'Life Cycle Analysis Tool'!AX57","v":{"$error":"#N/A"}},{"$f":"'Life Cycle Analysis Tool'!AJ57*AD28","v":{"$error":"#N/A"}},{"$error":"#N/A"},{"$error":"#N/A"},{"$error":"#N/A"},{"$error":"#N/A"},{"$error":"#N/A"},{"$error":"#N/A"},null,{"$error":"#N/A"},{"$error":"#N/A"},{"$error":"#N/A"},{"$error":"#N/A"},{"$error":"#N/A"},{"$error":"#N/A"},null,{"$error":"#N/A"},{"$error":"#N/A"},{"$error":"#N/A"},{"$error":"#N/A"},{"$error":"#N/A"},{"$error":"#N/A"},null,{"$error":"#N/A"},{"$error":"#N/A"},{"$error":"#N/A"},{"$error":"#N/A"},{"$error":"#N/A"},{"$error":"#N/A"},null,{"$error":"#N/A"},{"$error":"#N/A"},{"$error":"#N/A"},{"$error":"#N/A"},{"$error":"#N/A"},{"$error":"#N/A"},null,{"$error":"#N/A"},{"$error":"#N/A"},{"$error":"#N/A"},{"$error":"#N/A"},{"$error":"#N/A"},{"$error":"#N/A"},null,null,null,{"$f":"'Life Cycle Analysis Tool'!BH57","v":"P1"},{"$f":"'Life Cycle Analysis Tool'!BI57","v":0},{"$f":"'Life Cycle Analysis Tool'!BJ57","v":0},{"$f":"'Life Cycle Analysis Tool'!BK57","v":0},{"$f":"'Life Cycle Analysis Tool'!BL57","v":0},{"$f":"'Life Cycle Analysis Tool'!BM57","v":0},{"$f":"'Life Cycle Analysis Tool'!BN57","v":0},{"$f":"'Life Cycle Analysis Tool'!BO57","v":0},{"$f":"'Life Cycle Analysis Tool'!BP57","v":0},{"$f":"'Life Cycle Analysis Tool'!BQ57","v":0},{"$f":"'Life Cycle Analysis Tool'!BR57","v":0},{"$f":"'Life Cycle Analysis Tool'!BS57","v":0},{"$f":"'Life Cycle Analysis Tool'!BT57","v":0},{"$f":"'Life Cycle Analysis Tool'!BU57","v":0},{"$f":"'Life Cycle Analysis Tool'!BV57","v":0},2994802.8729660842,1613607.6611890341,1314861.2979753455,66333.913801703951,2687.5821227089718,55388315.663647041,null,null,null,{"$f":"'Life Cycle Analysis Tool'!CA57","v":"P2"},{"$f":"'Life Cycle Analysis Tool'!CB57","v":0},{"$f":"'Life Cycle Analysis Tool'!CC57","v":0},{"$f":"'Life Cycle Analysis Tool'!CD57","v":0},{"$f":"'Life Cycle Analysis Tool'!CE57","v":0},{"$f":"'Life Cycle Analysis Tool'!CF57","v":0},{"$f":"'Life Cycle Analysis Tool'!CG57","v":0},{"$f":"'Life Cycle Analysis Tool'!CH57","v":0},{"$f":"'Life Cycle Analysis Tool'!CI57","v":0},{"$f":"'Life Cycle Analysis Tool'!CJ57","v":0},{"$f":"'Life Cycle Analysis Tool'!CK57","v":0},{"$f":"'Life Cycle Analysis Tool'!CL57","v":0},{"$f":"'Life Cycle Analysis Tool'!CM57","v":0},{"$f":"'Life Cycle Analysis Tool'!CN57","v":0},{"$f":"'Life Cycle Analysis Tool'!CO57","v":0},2132438.289912994,1771835.8410514132,354680.69865402742,5921.7502075534785,257.32195759258985,6808792.1601471351,null,null,null,null,{"$f":"'Life Cycle Analysis Tool'!CT57","v":"P3"},{"$f":"'Life Cycle Analysis Tool'!CU57","v":0},{"$f":"'Life Cycle Analysis Tool'!CV57","v":0},{"$f":"'Life Cycle Analysis Tool'!CW57","v":0},{"$f":"'Life Cycle Analysis Tool'!CX57","v":0},{"$f":"'Life Cycle Analysis Tool'!CY57","v":0},{"$f":"'Life Cycle Analysis Tool'!CZ57","v":0},{"$f":"'Life Cycle Analysis Tool'!DA57","v":0},{"$f":"'Life Cycle Analysis Tool'!DB57","v":0},{"$f":"'Life Cycle Analysis Tool'!DC57","v":0},{"$f":"'Life Cycle Analysis Tool'!DD57","v":0},{"$f":"'Life Cycle Analysis Tool'!DE57","v":0},{"$f":"'Life Cycle Analysis Tool'!DF57","v":0},{"$f":"'Life Cycle Analysis Tool'!DG57","v":0},{"$f":"'Life Cycle Analysis Tool'!DH57","v":0},2513005.7164362157,1091934.327754034,1397734.8034275782,23336.585254603324,1014.0609770370261,26832262.955548413,null,null,null,{"$f":"'Life Cycle Analysis Tool'!DM57","v":"P4"},{"$f":"'Life Cycle Analysis Tool'!DN57","v":0},{"$f":"'Life Cycle Analysis Tool'!DO57","v":0},{"$f":"'Life Cycle Analysis Tool'!DP57","v":0},{"$f":"'Life Cycle Analysis Tool'!DQ57","v":0},{"$f":"'Life Cycle Analysis Tool'!DR57","v":0},{"$f":"'Life Cycle Analysis Tool'!DS57","v":0},{"$f":"'Life Cycle Analysis Tool'!DT57","v":0},{"$f":"'Life Cycle Analysis Tool'!DU57","v":0},{"$f":"'Life Cycle Analysis Tool'!DV57","v":0},{"$f":"'Life Cycle Analysis Tool'!DW57","v":0},{"$f":"'Life Cycle Analysis Tool'!DX57","v":0},{"$f":"'Life Cycle Analysis Tool'!DY57","v":0},{"$f":"'Life Cycle Analysis Tool'!DZ57","v":0},{"$f":"'Life Cycle Analysis Tool'!EA57","v":0},2543771.468857198,1582281.7986237926,945700.25540208572,15789.414831319542,686.10849685184439,18154572.575464133,null,null,null,{"$f":"'Life Cycle Analysis Tool'!EF57","v":"P5"},{"$f":"'Life Cycle Analysis Tool'!EG57","v":0},{"$f":"'Life Cycle Analysis Tool'!EH57","v":0},{"$f":"'Life Cycle Analysis Tool'!EI57","v":0},{"$f":"'Life Cycle Analysis Tool'!EJ57","v":0},{"$f":"'Life Cycle Analysis Tool'!EK57","v":0},{"$f":"'Life Cycle Analysis Tool'!EL57","v":0},{"$f":"'Life Cycle Analysis Tool'!EM57","v":0},{"$f":"'Life Cycle Analysis Tool'!EN57","v":0},{"$f":"'Life Cycle Analysis Tool'!EO57","v":0},{"$f":"'Life Cycle Analysis Tool'!EP57","v":0},{"$f":"'Life Cycle Analysis Tool'!EQ57","v":0},{"$f":"'Life Cycle Analysis Tool'!ER57","v":0},{"$f":"'Life Cycle Analysis Tool'!ES57","v":0},{"$f":"'Life Cycle Analysis Tool'!ET57","v":0},3040943.3661148394,1771835.8410514132,1248266.4637404159,20841.061323010676,905.62122851850881,23962924.806294147,null,null,null,{"$f":"'Life Cycle Analysis Tool'!EY57","v":"P6"},{"$f":"'Life Cycle Analysis Tool'!EZ57","v":0},{"$f":"'Life Cycle Analysis Tool'!FA57","v":0},{"$f":"'Life Cycle Analysis Tool'!FB57","v":0},{"$f":"'Life Cycle Analysis Tool'!FC57","v":0},{"$f":"'Life Cycle Analysis Tool'!FD57","v":0},{"$f":"'Life Cycle Analysis Tool'!FE57","v":0},{"$f":"'Life Cycle Analysis Tool'!FF57","v":0},{"$f":"'Life Cycle Analysis Tool'!FG57","v":0},{"$f":"'Life Cycle Analysis Tool'!FH57","v":0},{"$f":"'Life Cycle Analysis Tool'!FI57","v":0},{"$f":"'Life Cycle Analysis Tool'!FJ57","v":0},{"$f":"'Life Cycle Analysis Tool'!FK57","v":0},{"$f":"'Life Cycle Analysis Tool'!FL57","v":0},{"$f":"'Life Cycle Analysis Tool'!FM57","v":0},1956354.4560150418,902380.28532641323,1036665.9916018379,17308.179086790315,752.10442333332492,19900838.424802177]
[null,null,null,null,null,null,null,null,null,null,null,null,null,null,"A",null,null,null,null,null,null,null,null,null,null,null,null,null,{"$f":"'Life Cycle Analysis Tool'!AM58","v":0},{"$f":"'Life Cycle Analysis Tool'!AW58","v":{"$error":"#N/A"}},{"$f":"'Life Cycle Analysis Tool'!AX58","v":{"$error":"#N/A"}},{"$f":"'Life Cycle Analysis Tool'!AJ58*AD29","v":{"$error":"#N/A"}},{"$error":"#N/A"},{"$error":"#N/A"},{"$error":"#N/A"},{"$error":"#N/A"},{"$error":"#N/A"},{"$error":"#N/A"},null,{"$error":"#N/A"},{"$error":"#N/A"},{"$error":"#N/A"},{"$error":"#N/A"},{"$error":"#N/A"},{"$error":"#N/A"},null,{"$error":"#N/A"},{"$error":"#N/A"},{"$error":"#N/A"},{"$error":"#N/A"},{"$error":"#N/A"},{"$error":"#N/A"},null,{"$error":"#N/A"},{"$error":"#N/A"},{"$error":"#N/A"},{"$error":"#N/A"},{"$error":"#N/A"},{"$error":"#N/A"},null,{"$error":"#N/A"},{"$error":"#N/A"},{"$error":"#N/A"},{"$error":"#N/A"},{"$error":"#N/A"},{"$error":"#N/A"},null,{"$error":"#N/A"},{"$error":"#N/A"},{"$error":"#N/A"},{"$error":"#N/A"},{"$error":"#N/A"},{"$error":"#N/A"},null,null,null,{"$f":"'Life Cycle Analysis Tool'!BH58","v":"P1"},{"$f":"'Life Cycle Analysis Tool'!BI58","v":0},{"$f":"'Life Cycle Analysis Tool'!BJ58","v":0},{"$f":"'Life Cycle Analysis Tool'!BK58","v":0},{"$f":"'Life Cycle Analysis Tool'!BL58","v":0},{"$f":"'Life Cycle Analysis Tool'!BM58","v":0},{"$f":"'Life Cycle Analysis Tool'!BN58","v":0},{"$f":"'Life Cycle Analysis Tool'!BO58","v":0},{"$f":"'Life Cycle Analysis Tool'!BP58","v":0},{"$f":"'Life Cycle Analysis Tool'!BQ58","v":0},{"$f":"'Life Cycle Analysis Tool'!BR58","v":0},{"$f":"'Life Cycle Analysis Tool'!BS58","v":0},{"$f":"'Life Cycle Analysis Tool'!BT58","v":0},{"$f":"'Life Cycle Analysis Tool'!BU58","v":0},{"$f":"'Life Cycle Analysis Tool'!BV58","v":0},0,0,0,0,0,0,null,null,null,{"$f":"'Life Cycle Analysis Tool'!CA58","v":"P2"},{"$f":"'Life Cycle Analysis Tool'!CB58","v":0},{"$f":"'Life Cycle Analysis Tool'!CC58","v":0},{"$f":"'Life Cycle Analysis Tool'!CD58","v":0},{"$f":"'Life Cycle Analysis Tool'!CE58","v":0},{"$f":"'Life Cycle Analysis Tool'!CF58","v":0},{"$f":"'Life Cycle Analysis Tool'!CG58","v":0},{"$f":"'Life Cycle Analysis Tool'!CH58","v":0},{"$f":"'Life Cycle Analysis Tool'!CI58","v":0},{"$f":"'Life Cycle Analysis Tool'!CJ58","v":0},{"$f":"'Life Cycle Analysis Tool'!CK58","v":0},{"$f":"'Life Cycle Analysis Tool'!CL58","v":0},{"$f":"'Life Cycle Analysis Tool'!CM58","v":0},{"$f":"'Life Cycle Analysis Tool'!CN58","v":0},{"$f":"'Life Cycle Analysis Tool'!CO58","v":0},0,0,0,0,0,0,null,null,null,null,{"$f":"'Life Cycle Analysis Tool'!CT58","v":"P3"},{"$f":"'Life Cycle Analysis Tool'!CU58","v":0},{"$f":"'Life Cycle Analysis Tool'!CV58","v":0},{"$f":"'Life Cycle Analysis Tool'!CW58","v":0},{"$f":"'Life Cycle Analysis Tool'!CX58","v":0},{"$f":"'Life Cycle Analysis Tool'!CY58","v":0},{"$f":"'Life Cycle Analysis Tool'!CZ58","v":0},{"$f":"'Life Cycle Analysis Tool'!DA58","v":0},{"$f":"'Life Cycle Analysis Tool'!DB58","v":0},{"$f":"'Life Cycle Analysis Tool'!DC58","v":0},{"$f":"'Life Cycle Analysis Tool'!DD58","v":0},{"$f":"'Life Cycle Analysis Tool'!DE58","v":0},{"$f":"'Life Cycle Analysis Tool'!DF58","v":0},{"$f":"'Life Cycle Analysis Tool'!DG58","v":0},{"$f":"'Life Cycle Analysis Tool'!DH58","v":0},0,0,0,0,0,0,null,null,null,{"$f":"'Life Cycle Analysis Tool'!DM58","v":"P4"},{"$f":"'Life Cycle Analysis Tool'!DN58","v":0},{"$f":"'Life Cycle Analysis Tool'!DO58","v":0},{"$f":"'Life Cycle Analysis Tool'!DP58","v":0},{"$f":"'Life Cycle Analysis Tool'!DQ58","v":0},{"$f":"'Life Cycle Analysis Tool'!DR58","v":0},{"$f":"'Life Cycle Analysis Tool'!DS58","v":0},{"$f":"'Life Cycle Analysis Tool'!DT58","v":0},{"$f":"'Life Cycle Analysis Tool'!DU58","v":0},{"$f":"'Life Cycle Analysis Tool'!DV58","v":0},{"$f":"'Life Cycle Analysis Tool'!DW58","v":0},{"$f":"'Life Cycle Analysis Tool'!DX58","v":0},{"$f":"'Life Cycle Analysis Tool'!DY58","v":0},{"$f":"'Life Cycle Analysis Tool'!DZ58","v":0},{"$f":"'Life Cycle Analysis Tool'!EA58","v":0},0,0,0,0,0,0,null,null,null,{"$f":"'Life Cycle Analysis Tool'!EF58","v":"P5"},{"$f":"'Life Cycle Analysis Tool'!EG58","v":0},{"$f":"'Life Cycle Analysis Tool'!EH58","v":0},{"$f":"'Life Cycle Analysis Tool'!EI58","v":0},{"$f":"'Life Cycle Analysis Tool'!EJ58","v":0},{"$f":"'Life Cycle Analysis Tool'!EK58","v":0},{"$f":"'Life Cycle Analysis Tool'!EL58","v":0},{"$f":"'Life Cycle Analysis Tool'!EM58","v":0},{"$f":"'Life Cycle Analysis Tool'!EN58","v":0},{"$f":"'Life Cycle Analysis Tool'!EO58","v":0},{"$f":"'Life Cycle Analysis Tool'!EP58","v":0},{"$f":"'Life Cycle Analysis Tool'!EQ58","v":0},{"$f":"'Life Cycle Analysis Tool'!ER58","v":0},{"$f":"'Life Cycle Analysis Tool'!ES58","v":0},{"$f":"'Life Cycle Analysis Tool'!ET58","v":0},0,0,0,0,0,0,null,null,null,{"$f":"'Life Cycle Analysis Tool'!EY58","v":"P6"},{"$f":"'Life Cycle Analysis Tool'!EZ58","v":0},{"$f":"'Life Cycle Analysis Tool'!FA58","v":0},{"$f":"'Life Cycle Analysis Tool'!FB58","v":0},{"$f":"'Life Cycle Analysis Tool'!FC58","v":0},{"$f":"'Life Cycle Analysis Tool'!FD58","v":0},{"$f":"'Life Cycle Analysis Tool'!FE58","v":0},{"$f":"'Life Cycle Analysis Tool'!FF58","v":0},{"$f":"'Life Cycle Analysis Tool'!FG58","v":0},{"$f":"'Life Cycle Analysis Tool'!FH58","v":0},{"$f":"'Life Cycle Analysis Tool'!FI58","v":0},{"$f":"'Life Cycle Analysis Tool'!FJ58","v":0},{"$f":"'Life Cycle Analysis Tool'!FK58","v":0},{"$f":"'Life Cycle Analysis Tool'!FL58","v":0},{"$f":"'Life Cycle Analysis Tool'!FM58","v":0},0,0,0,0,0,0]
[null,null,null,null,null,null,null,null,null,null,null,null,null,null,"A",null,null,null,null,null,null,null,null,null,null,null,null,null,{"$f":"'Life Cycle Analysis Tool'!AM59","v":0},{"$f":"'Life Cycle Analysis Tool'!AW59","v":{"$error":"#N/A"}},{"$f":"'Life Cycle Analysis Tool'!AX59","v":{"$error":"#N/A"}},{"$f":"'Life Cycle Analysis Tool'!AJ59*AD30","v":{"$error":"#N/A"}},{"$error":"#N/A"},{"$error":"#N/A"},{"$error":"#N/A"},{"$error":"#N/A"},{"$error":"#N/A"},{"$error":"#N/A"},null,{"$error":"#N/A"},{"$error":"#N/A"},{"$error":"#N/A"},{"$error":"#N/A"},{"$error":"#N/A"},{"$error":"#N/A"},null,{"$error":"#N/A"},{"$error":"#N/A"},{"$error":"#N/A"},{"$error":"#N/A"},{"$error":"#N/A"},{"$error":"#N/A"},null,{"$error":"#N/A"},{"$error":"#N/A"},{"$error":"#N/A"},{"$error":"#N/A"},{"$error":"#N/A"},{"$error":"#N/A"},null,{"$error":"#N/A"},{"$error":"#N/A"},{"$error":"#N/A"},{"$error":"#N/A"},{"$error":"#N/A"},{"$error":"#N/A"},null,{"$error":"#N/A"},{"$error":"#N/A"},{"$error":"#N/A"},{"$error":"#N/A"},{"$error":"#N/A"},{"$error":"#N/A"},null,null,null,{"$f":"'Life Cycle Analysis Tool'!BH59","v":"P1"},{"$f":"'Life Cycle Analysis Tool'!BI59","v":0},{"$f":"'Life Cycle Analysis Tool'!BJ59","v":0},{"$f":"'Life Cycle Analysis Tool'!BK59","v":0},{"$f":"'Life Cycle Analysis Tool'!BL59","v":0},{"$f":"'Life Cycle Analysis Tool'!BM59","v":0},{"$f":"'Life Cycle Analysis Tool'!BN59","v":0},{"$f":"'Life Cycle Analysis Tool'!BO59","v":0},{"$f":"'Life Cycle Analysis Tool'!BP59","v":0},{"$f":"'Life Cycle Analysis Tool'!BQ59","v":0},{"$f":"'Life Cycle Analysis Tool'!BR59","v":0},{"$f":"'Life Cycle Analysis Tool'!BS59","v":0},{"$f":"'Life Cycle Analysis Tool'!BT59","v":0},{"$f":"'Life Cycle Analysis Tool'!BU59","v":0},{"$f":"'Life Cycle Analysis Tool'!BV59","v":0},0,0,0,0,0,0,null,null,null,{"$f":"'Life Cycle Analysis Tool'!CA59","v":"P2"},{"$f":"'Life Cycle Analysis Tool'!CB59","v":0},{"$f":"'Life Cycle Analysis Tool'!CC59","v":0},{"$f":"'Life Cycle Analysis Tool'!CD59","v":0},{"$f":"'Life Cycle Analysis Tool'!CE59","v":0},{"$f":"'Life Cycle Analysis Tool'!CF59","v":0},{"$f":"'Life Cycle Analysis Tool'!CG59","v":0},{"$f":"'Life Cycle Analysis Tool'!CH59","v":0},{"$f":"'Life Cycle Analysis Tool'!CI59","v":0},{"$f":"'Life Cycle Analysis Tool'!CJ59","v":0},{"$f":"'Life Cycle Analysis Tool'!CK59","v":0},{"$f":"'Life Cycle Analysis Tool'!CL59","v":0},{"$f":"'Life Cycle Analysis Tool'!CM59","v":0},{"$f":"'Life Cycle Analysis Tool'!CN59","v":0},{"$f":"'Life Cycle Analysis Tool'!CO59","v":0},0,0,0,0,0,0,null,null,null,null,{"$f":"'Life Cycle Analysis Tool'!CT59","v":"P3"},{"$f":"'Life Cycle Analysis Tool'!CU59","v":0},{"$f":"'Life Cycle Analysis Tool'!CV59","v":0},{"$f":"'Life Cycle Analysis Tool'!CW59","v":0},{"$f":"'Life Cycle Analysis Tool'!CX59","v":0},{"$f":"'Life Cycle Analysis Tool'!CY59","v":0},{"$f":"'Life Cycle Analysis Tool'!CZ59","v":0},{"$f":"'Life Cycle Analysis Tool'!DA59","v":0},{"$f":"'Life Cycle Analysis Tool'!DB59","v":0},{"$f":"'Life Cycle Analysis Tool'!DC59","v":0},{"$f":"'Life Cycle Analysis Tool'!DD59","v":0},{"$f":"'Life Cycle Analysis Tool'!DE59","v":0},{"$f":"'Life Cycle Analysis Tool'!DF59","v":0},{"$f":"'Life Cycle Analysis Tool'!DG59","v":0},{"$f":"'Life Cycle Analysis Tool'!DH59","v":0},0,0,0,0,0,0,null,null,null,{"$f":"'Life Cycle Analysis Tool'!DM59","v":"P4"},{"$f":"'Life Cycle Analysis Tool'!DN59","v":0},{"$f":"'Life Cycle Analysis Tool'!DO59","v":0},{"$f":"'Life Cycle Analysis Tool'!DP59","v":0},{"$f":"'Life Cycle Analysis Tool'!DQ59","v":0},{"$f":"'Life Cycle Analysis Tool'!DR59","v":0},{"$f":"'Life Cycle Analysis Tool'!DS59","v":0},{"$f":"'Life Cycle Analysis Tool'!DT59","v":0},{"$f":"'Life Cycle Analysis Tool'!DU59","v":0},{"$f":"'Life Cycle Analysis Tool'!DV59","v":0},{"$f":"'Life Cycle Analysis Tool'!DW59","v":0},{"$f":"'Life Cycle Analysis Tool'!DX59","v":0},{"$f":"'Life Cycle Analysis Tool'!DY59","v":0},{"$f":"'Life Cycle Analysis Tool'!DZ59","v":0},{"$f":"'Life Cycle Analysis Tool'!EA59","v":0},0,0,0,0,0,0,null,null,null,{"$f":"'Life Cycle Analysis Tool'!EF59","v":"P5"},{"$f":"'Life Cycle Analysis Tool'!EG59","v":0},{"$f":"'Life Cycle Analysis Tool'!EH59","v":0},{"$f":"'Life Cycle Analysis Tool'!EI59","v":0},{"$f":"'Life Cycle Analysis Tool'!EJ59","v":0},{"$f":"'Life Cycle Analysis Tool'!EK59","v":0},{"$f":"'Life Cycle Analysis Tool'!EL59","v":0},{"$f":"'Life Cycle Analysis Tool'!EM59","v":0},{"$f":"'Life Cycle Analysis Tool'!EN59","v":0},{"$f":"'Life Cycle Analysis Tool'!EO59","v":0},{"$f":"'Life Cycle Analysis Tool'!EP59","v":0},{"$f":"'Life Cycle Analysis Tool'!EQ59","v":0},{"$f":"'Life Cycle Analysis Tool'!ER59","v":0},{"$f":"'Life Cycle Analysis Tool'!ES59","v":0},{"$f":"'Life Cycle Analysis Tool'!ET59","v":0},0,0,0,0,0,0,null,null,null,{"$f":"'Life Cycle Analysis Tool'!EY59","v":"P6"},{"$f":"'Life Cycle Analysis Tool'!EZ59","v":0},{"$f":"'Life Cycle Analysis Tool'!FA59","v":0},{"$f":"'Life Cycle Analysis Tool'!FB59","v":0},{"$f":"'Life Cycle Analysis Tool'!FC59","v":0},{"$f":"'Life Cycle Analysis Tool'!FD59","v":0},{"$f":"'Life Cycle Analysis Tool'!FE59","v":0},{"$f":"'Life Cycle Analysis Tool'!FF59","v":0},{"$f":"'Life Cycle Analysis Tool'!FG59","v":0},{"$f":"'Life Cycle Analysis Tool'!FH59","v":0},{"$f":"'Life Cycle Analysis Tool'!FI59","v":0},{"$f":"'Life Cycle Analysis Tool'!FJ59","v":0},{"$f":"'Life Cycle Analysis Tool'!FK59","v":0},{"$f":"'Life Cycle Analysis Tool'!FL59","v":0},{"$f":"'Life Cycle Analysis Tool'!FM59","v":0},0,0,0,0,0,0]
[null,null,null,null,null,null,null,null,null,null,null,null,null,null,"A",null,null,null,null,null,null,null,null,null,null,null,null,null,{"$f":"'Life Cycle Analysis Tool'!AM60","v":0},{"$f":"'Life Cycle Analysis Tool'!AW60","v":{"$error":"#N/A"}},{"$f":"'Life Cycle Analysis Tool'!AX60","v":{"$error":"#N/A"}},{"$f":"'Life Cycle Analysis Tool'!AJ60*AD31","v":{"$error":"#N/A"}},{"$error":"#N/A"},{"$error":"#N/A"},{"$error":"#N/A"},{"$error":"#N/A"},{"$error":"#N/A"},{"$error":"#N/A"},null,{"$error":"#N/A"},{"$error":"#N/A"},{"$error":"#N/A"},{"$error":"#N/A"},{"$error":"#N/A"},{"$error":"#N/A"},null,{"$error":"#N/A"},{"$error":"#N/A"},{"$error":"#N/A"},{"$error":"#N/A"},{"$error":"#N/A"},{"$error":"#N/A"},null,{"$error":"#N/A"},{"$error":"#N/A"},{"$error":"#N/A"},{"$error":"#N/A"},{"$error":"#N/A"},{"$error":"#N/A"},null,{"$error":"#N/A"},{"$error":"#N/A"},{"$error":"#N/A"},{"$error":"#N/A"},{"$error":"#N/A"},{"$error":"#N/A"},null,{"$error":"#N/A"},{"$error":"#N/A"},{"$error":"#N/A"},{"$error":"#N/A"},{"$error":"#N/A"},{"$error":"#N/A"},null,null,null,{"$f":"'Life Cycle Analysis Tool'!BH60","v":"P1"},{"$f":"'Life Cycle Analysis Tool'!BI60","v":0},{"$f":"'Life Cycle Analysis Tool'!BJ60","v":0},{"$f":"'Life Cycle Analysis Tool'!BK60","v":0},{"$f":"'Life Cycle Analysis Tool'!BL60","v":0},{"$f":"'Life Cycle Analysis Tool'!BM60","v":0},{"$f":"'Life Cycle Analysis Tool'!BN60","v":0},{"$f":"'Life Cycle Analysis Tool'!BO60","v":0},{"$f":"'Life Cycle Analysis Tool'!BP60","v":0},{"$f":"'Life Cycle Analysis Tool'!BQ60","v":0},{"$f":"'Life Cycle Analysis Tool'!BR60","v":0},{"$f":"'Life Cycle Analysis Tool'!BS60","v":0},{"$f":"'Life Cycle Analysis Tool'!BT60","v":0},{"$f":"'Life Cycle Analysis Tool'!BU60","v":0},{"$f":"'Life Cycle Analysis Tool'!BV60","v":0},0,0,0,0,0,0,null,null,null,{"$f":"'Life Cycle Analysis Tool'!CA60","v":"P2"},{"$f":"'Life Cycle Analysis Tool'!CB60","v":0},{"$f":"'Life Cycle Analysis Tool'!CC60","v":0},{"$f":"'Life Cycle Analysis Tool'!CD60","v":0},{"$f":"'Life Cycle Analysis Tool'!CE60","v":0},{"$f":"'Life Cycle Analysis Tool'!CF60","v":0},{"$f":"'Life Cycle Analysis Tool'!CG60","v":0},{"$f":"'Life Cycle Analysis Tool'!CH60","v":0},{"$f":"'Life Cycle Analysis Tool'!CI60","v":0},{"$f":"'Life Cycle Analysis Tool'!CJ60","v":0},{"$f":"'Life Cycle Analysis Tool'!CK60","v":0},{"$f":"'Life Cycle Analysis Tool'!CL60","v":0},{"$f":"'Life Cycle Analysis Tool'!CM60","v":0},{"$f":"'Life Cycle Analysis Tool'!CN60","v":0},{"$f":"'Life Cycle Analysis Tool'!CO60","v":0},0,0,0,0,0,0,null,null,null,null,{"$f":"'Life Cycle Analysis Tool'!CT60","v":"P3"},{"$f":"'Life Cycle Analysis Tool'!CU60","v":0},{"$f":"'Life Cycle Analysis Tool'!CV60","v":0},{"$f":"'Life Cycle Analysis Tool'!CW60","v":0},{"$f":"'Life Cycle Analysis Tool'!CX60","v":0},{"$f":"'Life Cycle Analysis Tool'!CY60","v":0},{"$f":"'Life Cycle Analysis Tool'!CZ60","v":0},{"$f":"'Life Cycle Analysis Tool'!DA60","v":0},{"$f":"'Life Cycle Analysis Tool'!DB60","v":0},{"$f":"'Life Cycle Analysis Tool'!DC60","v":0},{"$f":"'Life Cycle Analysis Tool'!DD60","v":0},{"$f":"'Life Cycle Analysis Tool'!DE60","v":0},{"$f":"'Life Cycle Analysis Tool'!DF60","v":0},{"$f":"'Life Cycle Analysis Tool'!DG60","v":0},{"$f":"'Life Cycle Analysis Tool'!DH60","v":0},0,0,0,0,0,0,null,null,null,{"$f":"'Life Cycle Analysis Tool'!DM60","v":"P4"},{"$f":"'Life Cycle Analysis Tool'!DN60","v":0},{"$f":"'Life Cycle Analysis Tool'!DO60","v":0},{"$f":"'Life Cycle Analysis Tool'!DP60","v":0},{"$f":"'Life Cycle Analysis Tool'!DQ60","v":0},{"$f":"'Life Cycle Analysis Tool'!DR60","v":0},{"$f":"'Life Cycle Analysis Tool'!DS60","v":0},{"$f":"'Life Cycle Analysis Tool'!DT60","v":0},{"$f":"'Life Cycle Analysis Tool'!DU60","v":0},{"$f":"'Life Cycle Analysis Tool'!DV60","v":0},{"$f":"'Life Cycle Analysis Tool'!DW60","v":0},{"$f":"'Life Cycle Analysis Tool'!DX60","v":0},{"$f":"'Life Cycle Analysis Tool'!DY60","v":0},{"$f":"'Life Cycle Analysis Tool'!DZ60","v":0},{"$f":"'Life Cycle Analysis Tool'!EA60","v":0},0,0,0,0,0,0,null,null,null,{"$f":"'Life Cycle Analysis Tool'!EF60","v":"P5"},{"$f":"'Life Cycle Analysis Tool'!EG60","v":0},{"$f":"'Life Cycle Analysis Tool'!EH60","v":0},{"$f":"'Life Cycle Analysis Tool'!EI60","v":0},{"$f":"'Life Cycle Analysis Tool'!EJ60","v":0},{"$f":"'Life Cycle Analysis Tool'!EK60","v":0},{"$f":"'Life Cycle Analysis Tool'!EL60","v":0},{"$f":"'Life Cycle Analysis Tool'!EM60","v":0},{"$f":"'Life Cycle Analysis Tool'!EN60","v":0},{"$f":"'Life Cycle Analysis Tool'!EO60","v":0},{"$f":"'Life Cycle Analysis Tool'!EP60","v":0},{"$f":"'Life Cycle Analysis Tool'!EQ60","v":0},{"$f":"'Life Cycle Analysis Tool'!ER60","v":0},{"$f":"'Life Cycle Analysis Tool'!ES60","v":0},{"$f":"'Life Cycle Analysis Tool'!ET60","v":0},0,0,0,0,0,0,null,null,null,{"$f":"'Life Cycle Analysis Tool'!EY60","v":"P6"},{"$f":"'Life Cycle Analysis Tool'!EZ60","v":0},{"$f":"'Life Cycle Analysis Tool'!FA60","v":0},{"$f":"'Life Cycle Analysis Tool'!FB60","v":0},{"$f":"'Life Cycle Analysis Tool'!FC60","v":0},{"$f":"'Life Cycle Analysis Tool'!FD60","v":0},{"$f":"'Life Cycle Analysis Tool'!FE60","v":0},{"$f":"'Life Cycle Analysis Tool'!FF60","v":0},{"$f":"'Life Cycle Analysis Tool'!FG60","v":0},{"$f":"'Life Cycle Analysis Tool'!FH60","v":0},{"$f":"'Life Cycle Analysis Tool'!FI60","v":0},{"$f":"'Life Cycle Analysis Tool'!FJ60","v":0},{"$f":"'Life Cycle Analysis Tool'!FK60","v":0},{"$f":"'Life Cycle Analysis Tool'!FL60","v":0},{"$f":"'Life Cycle Analysis Tool'!FM60","v":0},0,0,0,0,0,0]
[null,null,null,null,null,null,null,null,null,null,null,null,null,null,"A",null,null,null,null,null,null,null,null,null,null,null,null,null,{"$f":"'Life Cycle Analysis Tool'!AM61","v":0},{"$f":"'Life Cycle Analysis Tool'!AW61","v":{"$error":"#N/A"}},{"$f":"'Life Cycle Analysis Tool'!AX61","v":{"$error":"#N/A"}},{"$f":"'Life Cycle Analysis Tool'!AJ61*AD32","v":{"$error":"#N/A"}},{"$error":"#N/A"},{"$error":"#N/A"},{"$error":"#N/A"},{"$error":"#N/A"},{"$error":"#N/A"},{"$error":"#N/A"},null,{"$error":"#N/A"},{"$error":"#N/A"},{"$error":"#N/A"},{"$error":"#N/A"},{"$error":"#N/A"},{"$error":"#N/A"},null,{"$error":"#N/A"},{"$error":"#N/A"},{"$error":"#N/A"},{"$error":"#N/A"},{"$error":"#N/A"},{"$error":"#N/A"},null,{"$error":"#N/A"},{"$error":"#N/A"},{"$error":"#N/A"},{"$error":"#N/A"},{"$error":"#N/A"},{"$error":"#N/A"},null,{"$error":"#N/A"},{"$error":"#N/A"},{"$error":"#N/A"},{"$error":"#N/A"},{"$error":"#N/A"},{"$error":"#N/A"},null,{"$error":"#N/A"},{"$error":"#N/A"},{"$error":"#N/A"},{"$error":"#N/A"},{"$error":"#N/A"},{"$error":"#N/A"},null,null,null,{"$f":"'Life Cycle Analysis Tool'!BH61","v":"P1"},{"$f":"'Life Cycle Analysis Tool'!BI61","v":0},{"$f":"'Life Cycle Analysis Tool'!BJ61","v":0},{"$f":"'Life Cycle Analysis Tool'!BK61","v":0},{"$f":"'Life Cycle Analysis Tool'!BL61","v":0},{"$f":"'Life Cycle Analysis Tool'!BM61","v":0},{"$f":"'Life Cycle Analysis Tool'!BN61","v":0},{"$f":"'Life Cycle Analysis Tool'!BO61","v":0},{"$f":"'Life Cycle Analysis Tool'!BP61","v":0},{"$f":"'Life Cycle Analysis Tool'!BQ61","v":0},{"$f":"'Life Cycle Analysis Tool'!BR61","v":0},{"$f":"'Life Cycle Analysis Tool'!BS61","v":0},{"$f":"'Life Cycle Analysis Tool'!BT61","v":0},{"$f":"'Life Cycle Analysis Tool'!BU61","v":0},{"$f":"'Life Cycle Analysis Tool'!BV61","v":0},0,0,0,0,0,0,null,null,null,{"$f":"'Life Cycle Analysis Tool'!CA61","v":"P2"},{"$f":"'Life Cycle Analysis Tool'!CB61","v":0},{"$f":"'Life Cycle Analysis Tool'!CC61","v":0},{"$f":"'Life Cycle Analysis Tool'!CD61","v":0},{"$f":"'Life Cycle Analysis Tool'!CE61","v":0},{"$f":"'Life Cycle Analysis Tool'!CF61","v":0},{"$f":"'Life Cycle Analysis Tool'!CG61","v":0},{"$f":"'Life Cycle Analysis Tool'!CH61","v":0},{"$f":"'Life Cycle Analysis Tool'!CI61","v":0},{"$f":"'Life Cycle Analysis Tool'!CJ61","v":0},{"$f":"'Life Cycle Analysis Tool'!CK61","v":0},{"$f":"'Life Cycle Analysis Tool'!CL61","v":0},{"$f":"'Life Cycle Analysis Tool'!CM61","v":0},{"$f":"'Life Cycle Analysis Tool'!CN61","v":0},{"$f":"'Life Cycle Analysis Tool'!CO61","v":0},0,0,0,0,0,0,null,null,null,null,{"$f":"'Life Cycle Analysis Tool'!CT61","v":"P3"},{"$f":"'Life Cycle Analysis Tool'!CU61","v":0},{"$f":"'Life Cycle Analysis Tool'!CV61","v":0},{"$f":"'Life Cycle Analysis Tool'!CW61","v":0},{"$f":"'Life Cycle Analysis Tool'!CX61","v":0},{"$f":"'Life Cycle Analysis Tool'!CY61","v":0},{"$f":"'Life Cycle Analysis Tool'!CZ61","v":0},{"$f":"'Life Cycle Analysis Tool'!DA61","v":0},{"$f":"'Life Cycle Analysis Tool'!DB61","v":0},{"$f":"'Life Cycle Analysis Tool'!DC61","v":0},{"$f":"'Life Cycle Analysis Tool'!DD61","v":0},{"$f":"'Life Cycle Analysis Tool'!DE61","v":0},{"$f":"'Life Cycle Analysis Tool'!DF61","v":0},{"$f":"'Life Cycle Analysis Tool'!DG61","v":0},{"$f":"'Life Cycle Analysis Tool'!DH61","v":0},0,0,0,0,0,0,null,null,null,{"$f":"'Life Cycle Analysis Tool'!DM61","v":"P4"},{"$f":"'Life Cycle Analysis Tool'!DN61","v":0},{"$f":"'Life Cycle Analysis Tool'!DO61","v":0},{"$f":"'Life Cycle Analysis Tool'!DP61","v":0},{"$f":"'Life Cycle Analysis Tool'!DQ61","v":0},{"$f":"'Life Cycle Analysis Tool'!DR61","v":0},{"$f":"'Life Cycle Analysis Tool'!DS61","v":0},{"$f":"'Life Cycle Analysis Tool'!DT61","v":0},{"$f":"'Life Cycle Analysis Tool'!DU61","v":0},{"$f":"'Life Cycle Analysis Tool'!DV61","v":0},{"$f":"'Life Cycle Analysis Tool'!DW61","v":0},{"$f":"'Life Cycle Analysis Tool'!DX61","v":0},{"$f":"'Life Cycle Analysis Tool'!DY61","v":0},{"$f":"'Life Cycle Analysis Tool'!DZ61","v":0},{"$f":"'Life Cycle Analysis Tool'!EA61","v":0},0,0,0,0,0,0,null,null,null,{"$f":"'Life Cycle Analysis Tool'!EF61","v":"P5"},{"$f":"'Life Cycle Analysis Tool'!EG61","v":0},{"$f":"'Life Cycle Analysis Tool'!EH61","v":0},{"$f":"'Life Cycle Analysis Tool'!EI61","v":0},{"$f":"'Life Cycle Analysis Tool'!EJ61","v":0},{"$f":"'Life Cycle Analysis Tool'!EK61","v":0},{"$f":"'Life Cycle Analysis Tool'!EL61","v":0},{"$f":"'Life Cycle Analysis Tool'!EM61","v":0},{"$f":"'Life Cycle Analysis Tool'!EN61","v":0},{"$f":"'Life Cycle Analysis Tool'!EO61","v":0},{"$f":"'Life Cycle Analysis Tool'!EP61","v":0},{"$f":"'Life Cycle Analysis Tool'!EQ61","v":0},{"$f":"'Life Cycle Analysis Tool'!ER61","v":0},{"$f":"'Life Cycle Analysis Tool'!ES61","v":0},{"$f":"'Life Cycle Analysis Tool'!ET61","v":0},0,0,0,0,0,0,null,null,null,{"$f":"'Life Cycle Analysis Tool'!EY61","v":"P6"},{"$f":"'Life Cycle Analysis Tool'!EZ61","v":0},{"$f":"'Life Cycle Analysis Tool'!FA61","v":0},{"$f":"'Life Cycle Analysis Tool'!FB61","v":0},{"$f":"'Life Cycle Analysis Tool'!FC61","v":0},{"$f":"'Life Cycle Analysis Tool'!FD61","v":0},{"$f":"'Life Cycle Analysis Tool'!FE61","v":0},{"$f":"'Life Cycle Analysis Tool'!FF61","v":0},{"$f":"'Life Cycle Analysis Tool'!FG61","v":0},{"$f":"'Life Cycle Analysis Tool'!FH61","v":0},{"$f":"'Life Cycle Analysis Tool'!FI61","v":0},{"$f":"'Life Cycle Analysis Tool'!FJ61","v":0},{"$f":"'Life Cycle Analysis Tool'!FK61","v":0},{"$f":"'Life Cycle Analysis Tool'!FL61","v":0},{"$f":"'Life Cycle Analysis Tool'!FM61","v":0},0,0,0,0,0,0]
[null,null,null,null,null,null,null,null,null,null,null,null,null,null,"A",null,null,null,null,null,null,null,null,null,null,null,null,null,{"$f":"'Life Cycle Analysis Tool'!AM62","v":0},{"$f":"'Life Cycle Analysis Tool'!AW62","v":{"$error":"#N/A"}},{"$f":"'Life Cycle Analysis Tool'!AX62","v":{"$error":"#N/A"}},{"$f":"'Life Cycle Analysis Tool'!AJ62*AD33","v":{"$error":"#N/A"}},{"$error":"#N/A"},{"$error":"#N/A"},{"$error":"#N/A"},{"$error":"#N/A"},{"$error":"#N/A"},{"$error":"#N/A"},null,{"$error":"#N/A"},{"$error":"#N/A"},{"$error":"#N/A"},{"$error":"#N/A"},{"$error":"#N/A"},{"$error":"#N/A"},null,{"$error":"#N/A"},{"$error":"#N/A"},{"$error":"#N/A"},{"$error":"#N/A"},{"$error":"#N/A"},{"$error":"#N/A"},null,{"$error":"#N/A"},{"$error":"#N/A"},{"$error":"#N/A"},{"$error":"#N/A"},{"$error":"#N/A"},{"$error":"#N/A"},null,{"$error":"#N/A"},{"$error":"#N/A"},{"$error":"#N/A"},{"$error":"#N/A"},{"$error":"#N/A"},{"$error":"#N/A"},null,{"$error":"#N/A"},{"$error":"#N/A"},{"$error":"#N/A"},{"$error":"#N/A"},{"$error":"#N/A"},{"$error":"#N/A"},null,null,null,{"$f":"'Life Cycle Analysis Tool'!BH62","v":"P1"},{"$f":"'Life Cycle Analysis Tool'!BI62","v":0},{"$f":"'Life Cycle Analysis Tool'!BJ62","v":0},{"$f":"'Life Cycle Analysis Tool'!BK62","v":0},{"$f":"'Life Cycle Analysis Tool'!BL62","v":0},{"$f":"'Life Cycle Analysis Tool'!BM62","v":0},{"$f":"'Life Cycle Analysis Tool'!BN62","v":0},{"$f":"'Life Cycle Analysis Tool'!BO62","v":0},{"$f":"'Life Cycle Analysis Tool'!BP62","v":0},{"$f":"'Life Cycle Analysis Tool'!BQ62","v":0},{"$f":"'Life Cycle Analysis Tool'!BR62","v":0},{"$f":"'Life Cycle Analysis Tool'!BS62","v":0},{"$f":"'Life Cycle Analysis Tool'!BT62","v":0},{"$f":"'Life Cycle Analysis Tool'!BU62","v":0},{"$f":"'Life Cycle Analysis Tool'!BV62","v":0},0,0,0,0,0,0,null,null,null,{"$f":"'Life Cycle Analysis Tool'!CA62","v":"P2"},{"$f":"'Life Cycle Analysis Tool'!CB62","v":0},{"$f":"'Life Cycle Analysis Tool'!CC62","v":0},{"$f":"'Life Cycle Analysis Tool'!CD62","v":0},{"$f":"'Life Cycle Analysis Tool'!CE62","v":0},{"$f":"'Life Cycle Analysis Tool'!CF62","v":0},{"$f":"'Life Cycle Analysis Tool'!CG62","v":0},{"$f":"'Life Cycle Analysis Tool'!CH62","v":0},{"$f":"'Life Cycle Analysis Tool'!CI62","v":0},{"$f":"'Life Cycle Analysis Tool'!CJ62","v":0},{"$f":"'Life Cycle Analysis Tool'!CK62","v":0},{"$f":"'Life Cycle Analysis Tool'!CL62","v":0},{"$f":"'Life Cycle Analysis Tool'!CM62","v":0},{"$f":"'Life Cycle Analysis Tool'!CN62","v":0},{"$f":"'Life Cycle Analysis Tool'!CO62","v":0},0,0,0,0,0,0,null,null,null,null,{"$f":"'Life Cycle Analysis Tool'!CT62","v":"P3"},{"$f":"'Life Cycle Analysis Tool'!CU62","v":0},{"$f":"'Life Cycle Analysis Tool'!CV62","v":0},{"$f":"'Life Cycle Analysis Tool'!CW62","v":0},{"$f":"'Life Cycle Analysis Tool'!CX62","v":0},{"$f":"'Life Cycle Analysis Tool'!CY62","v":0},{"$f":"'Life Cycle Analysis Tool'!CZ62","v":0},{"$f":"'Life Cycle Analysis Tool'!DA62","v":0},{"$f":"'Life Cycle Analysis Tool'!DB62","v":0},{"$f":"'Life Cycle Analysis Tool'!DC62","v":0},{"$f":"'Life Cycle Analysis Tool'!DD62","v":0},{"$f":"'Life Cycle Analysis Tool'!DE62","v":0},{"$f":"'Life Cycle Analysis Tool'!DF62","v":0},{"$f":"'Life Cycle Analysis Tool'!DG62","v":0},{"$f":"'Life Cycle Analysis Tool'!DH62","v":0},0,0,0,0,0,0,null,null,null,{"$f":"'Life Cycle Analysis Tool'!DM62","v":"P4"},{"$f":"'Life Cycle Analysis Tool'!DN62","v":0},{"$f":"'Life Cycle Analysis Tool'!DO62","v":0},{"$f":"'Life Cycle Analysis Tool'!DP62","v":0},{"$f":"'Life Cycle Analysis Tool'!DQ62","v":0},{"$f":"'Life Cycle Analysis Tool'!DR62","v":0},{"$f":"'Life Cycle Analysis Tool'!DS62","v":0},{"$f":"'Life Cycle Analysis Tool'!DT62","v":0},{"$f":"'Life Cycle Analysis Tool'!DU62","v":0},{"$f":"'Life Cycle Analysis Tool'!DV62","v":0},{"$f":"'Life Cycle Analysis Tool'!DW62","v":0},{"$f":"'Life Cycle Analysis Tool'!DX62","v":0},{"$f":"'Life Cycle Analysis Tool'!DY62","v":0},{"$f":"'Life Cycle Analysis Tool'!DZ62","v":0},{"$f":"'Life Cycle Analysis Tool'!EA62","v":0},0,0,0,0,0,0,null,null,null,{"$f":"'Life Cycle Analysis Tool'!EF62","v":"P5"},{"$f":"'Life Cycle Analysis Tool'!EG62","v":0},{"$f":"'Life Cycle Analysis Tool'!EH62","v":0},{"$f":"'Life Cycle Analysis Tool'!EI62","v":0},{"$f":"'Life Cycle Analysis Tool'!EJ62","v":0},{"$f":"'Life Cycle Analysis Tool'!EK62","v":0},{"$f":"'Life Cycle Analysis Tool'!EL62","v":0},{"$f":"'Life Cycle Analysis Tool'!EM62","v":0},{"$f":"'Life Cycle Analysis Tool'!EN62","v":0},{"$f":"'Life Cycle Analysis Tool'!EO62","v":0},{"$f":"'Life Cycle Analysis Tool'!EP62","v":0},{"$f":"'Life Cycle Analysis Tool'!EQ62","v":0},{"$f":"'Life Cycle Analysis Tool'!ER62","v":0},{"$f":"'Life Cycle Analysis Tool'!ES62","v":0},{"$f":"'Life Cycle Analysis Tool'!ET62","v":0},0,0,0,0,0,0,null,null,null,{"$f":"'Life Cycle Analysis Tool'!EY62","v":"P6"},{"$f":"'Life Cycle Analysis Tool'!EZ62","v":0},{"$f":"'Life Cycle Analysis Tool'!FA62","v":0},{"$f":"'Life Cycle Analysis Tool'!FB62","v":0},{"$f":"'Life Cycle Analysis Tool'!FC62","v":0},{"$f":"'Life Cycle Analysis Tool'!FD62","v":0},{"$f":"'Life Cycle Analysis Tool'!FE62","v":0},{"$f":"'Life Cycle Analysis Tool'!FF62","v":0},{"$f":"'Life Cycle Analysis Tool'!FG62","v":0},{"$f":"'Life Cycle Analysis Tool'!FH62","v":0},{"$f":"'Life Cycle Analysis Tool'!FI62","v":0},{"$f":"'Life Cycle Analysis Tool'!FJ62","v":0},{"$f":"'Life Cycle Analysis Tool'!FK62","v":0},{"$f":"'Life Cycle Analysis Tool'!FL62","v":0},{"$f":"'Life Cycle Analysis Tool'!FM62","v":0},0,0,0,0,0,0]
[null,{"$f":"$AG$3","v":"Cumulative Total Operating Cost ($)"},null,null,null,null,null,null,null,null,null,null,null,null,"A",null,null,null,null,null,null,null,null,null,null,null,null,null,{"$f":"'Life Cycle Analysis Tool'!AM63","v":0},{"$f":"'Life Cycle Analysis Tool'!AW63","v":{"$error":"#N/A"}},{"$f":"'Life Cycle Analysis Tool'!AX63","v":{"$error":"#N/A"}},{"$f":"'Life Cycle Analysis Tool'!AJ63*AD34","v":{"$error":"#N/A"}},{"$error":"#N/A"},{"$error":"#N/A"},{"$error":"#N/A"},{"$error":"#N/A"},{"$error":"#N/A"},{"$error":"#N/A"},null,{"$error":"#N/A"},{"$error":"#N/A"},{"$error":"#N/A"},{"$error":"#N/A"},{"$error":"#N/A"},{"$error":"#N/A"},null,{"$error":"#N/A"},{"$error":"#N/A"},{"$error":"#N/A"},{"$error":"#N/A"},{"$error":"#N/A"},{"$error":"#N/A"},null,{"$error":"#N/A"},{"$error":"#N/A"},{"$error":"#N/A"},{"$error":"#N/A"},{"$error":"#N/A"},{"$error":"#N/A"},null,{"$error":"#N/A"},{"$error":"#N/A"},{"$error":"#N/A"},{"$error":"#N/A"},{"$error":"#N/A"},{"$error":"#N/A"},null,{"$error":"#N/A"},{"$error":"#N/A"},{"$error":"#N/A"},{"$error":"#N/A"},{"$error":"#N/A"},{"$error":"#N/A"},null,null,null,{"$f":"'Life Cycle Analysis Tool'!BH63","v":"P1"},{"$f":"'Life Cycle Analysis Tool'!BI63","v":0},{"$f":"'Life Cycle Analysis Tool'!BJ63","v":0},{"$f":"'Life Cycle Analysis Tool'!BK63","v":0},{"$f":"'Life Cycle Analysis Tool'!BL63","v":0},{"$f":"'Life Cycle Analysis Tool'!BM63","v":0},{"$f":"'Life Cycle Analysis Tool'!BN63","v":0},{"$f":"'Life Cycle Analysis Tool'!BO63","v":0},{"$f":"'Life Cycle Analysis Tool'!BP63","v":0},{"$f":"'Life Cycle Analysis Tool'!BQ63","v":0},{"$f":"'Life Cycle Analysis Tool'!BR63","v":0},{"$f":"'Life Cycle Analysis Tool'!BS63","v":0},{"$f":"'Life Cycle Analysis Tool'!BT63","v":0},{"$f":"'Life Cycle Analysis Tool'!BU63","v":0},{"$f":"'Life Cycle Analysis Tool'!BV63","v":0},0,0,0,0,0,0,null,null,null,{"$f":"'Life Cycle Analysis Tool'!CA63","v":"P2"},{"$f":"'Life Cycle Analysis Tool'!CB63","v":0},{"$f":"'Life Cycle Analysis Tool'!CC63","v":0},{"$f":"'Life Cycle Analysis Tool'!CD63","v":0},{"$f":"'Life Cycle Analysis Tool'!CE63","v":0},{"$f":"'Life Cycle Analysis Tool'!CF63","v":0},{"$f":"'Life Cycle Analysis Tool'!CG63","v":0},{"$f":"'Life Cycle Analysis Tool'!CH63","v":0},{"$f":"'Life Cycle Analysis Tool'!CI63","v":0},{"$f":"'Life Cycle Analysis Tool'!CJ63","v":0},{"$f":"'Life Cycle Analysis Tool'!CK63","v":0},{"$f":"'Life Cycle Analysis Tool'!CL63","v":0},{"$f":"'Life Cycle Analysis Tool'!CM63","v":0},{"$f":"'Life Cycle Analysis Tool'!CN63","v":0},{"$f":"'Life Cycle Analysis Tool'!CO63","v":0},0,0,0,0,0,0,null,null,null,null,{"$f":"'Life Cycle Analysis Tool'!CT63","v":"P3"},{"$f":"'Life Cycle Analysis Tool'!CU63","v":0},{"$f":"'Life Cycle Analysis Tool'!CV63","v":0},{"$f":"'Life Cycle Analysis Tool'!CW63","v":0},{"$f":"'Life Cycle Analysis Tool'!CX63","v":0},{"$f":"'Life Cycle Analysis Tool'!CY63","v":0},{"$f":"'Life Cycle Analysis Tool'!CZ63","v":0},{"$f":"'Life Cycle Analysis Tool'!DA63","v":0},{"$f":"'Life Cycle Analysis Tool'!DB63","v":0},{"$f":"'Life Cycle Analysis Tool'!DC63","v":0},{"$f":"'Life Cycle Analysis Tool'!DD63","v":0},{"$f":"'Life Cycle Analysis Tool'!DE63","v":0},{"$f":"'Life Cycle Analysis Tool'!DF63","v":0},{"$f":"'Life Cycle Analysis Tool'!DG63","v":0},{"$f":"'Life Cycle Analysis Tool'!DH63","v":0},0,0,0,0,0,0,null,null,null,{"$f":"'Life Cycle Analysis Tool'!DM63","v":"P4"},{"$f":"'Life Cycle Analysis Tool'!DN63","v":0},{"$f":"'Life Cycle Analysis Tool'!DO63","v":0},{"$f":"'Life Cycle Analysis Tool'!DP63","v":0},{"$f":"'Life Cycle Analysis Tool'!DQ63","v":0},{"$f":"'Life Cycle Analysis Tool'!DR63","v":0},{"$f":"'Life Cycle Analysis Tool'!DS63","v":0},{"$f":"'Life Cycle Analysis Tool'!DT63","v":0},{"$f":"'Life Cycle Analysis Tool'!DU63","v":0},{"$f":"'Life Cycle Analysis Tool'!DV63","v":0},{"$f":"'Life Cycle Analysis Tool'!DW63","v":0},{"$f":"'Life Cycle Analysis Tool'!DX63","v":0},{"$f":"'Life Cycle Analysis Tool'!DY63","v":0},{"$f":"'Life Cycle Analysis Tool'!DZ63","v":0},{"$f":"'Life Cycle Analysis Tool'!EA63","v":0},0,0,0,0,0,0,null,null,null,{"$f":"'Life Cycle Analysis Tool'!EF63","v":"P5"},{"$f":"'Life Cycle Analysis Tool'!EG63","v":0},{"$f":"'Life Cycle Analysis Tool'!EH63","v":0},{"$f":"'Life Cycle Analysis Tool'!EI63","v":0},{"$f":"'Life Cycle Analysis Tool'!EJ63","v":0},{"$f":"'Life Cycle Analysis Tool'!EK63","v":0},{"$f":"'Life Cycle Analysis Tool'!EL63","v":0},{"$f":"'Life Cycle Analysis Tool'!EM63","v":0},{"$f":"'Life Cycle Analysis Tool'!EN63","v":0},{"$f":"'Life Cycle Analysis Tool'!EO63","v":0},{"$f":"'Life Cycle Analysis Tool'!EP63","v":0},{"$f":"'Life Cycle Analysis Tool'!EQ63","v":0},{"$f":"'Life Cycle Analysis Tool'!ER63","v":0},{"$f":"'Life Cycle Analysis Tool'!ES63","v":0},{"$f":"'Life Cycle Analysis Tool'!ET63","v":0},0,0,0,0,0,0,null,null,null,{"$f":"'Life Cycle Analysis Tool'!EY63","v":"P6"},{"$f":"'Life Cycle Analysis Tool'!EZ63","v":0},{"$f":"'Life Cycle Analysis Tool'!FA63","v":0},{"$f":"'Life Cycle Analysis Tool'!FB63","v":0},{"$f":"'Life Cycle Analysis Tool'!FC63","v":0},{"$f":"'Life Cycle Analysis Tool'!FD63","v":0},{"$f":"'Life Cycle Analysis Tool'!FE63","v":0},{"$f":"'Life Cycle Analysis Tool'!FF63","v":0},{"$f":"'Life Cycle Analysis Tool'!FG63","v":0},{"$f":"'Life Cycle Analysis Tool'!FH63","v":0},{"$f":"'Life Cycle Analysis Tool'!FI63","v":0},{"$f":"'Life Cycle Analysis Tool'!FJ63","v":0},{"$f":"'Life Cycle Analysis Tool'!FK63","v":0},{"$f":"'Life Cycle Analysis Tool'!FL63","v":0},{"$f":"'Life Cycle Analysis Tool'!FM63","v":0},0,0,0,0,0,0]
[null,null,null,null,null,null,null,null,null,null,null,null,null,null,"A",null,null,null,null,null,null,null,null,null,null,null,null,null,{"$f":"'Life Cycle Analysis Tool'!AM64","v":0},{"$f":"'Life Cycle Analysis Tool'!AW64","v":{"$error":"#N/A"}},{"$f":"'Life Cycle Analysis Tool'!AX64","v":{"$error":"#N/A"}},{"$f":"'Life Cycle Analysis Tool'!AJ64*AD35","v":{"$error":"#N/A"}},{"$error":"#N/A"},{"$error":"#N/A"},{"$error":"#N/A"},{"$error":"#N/A"},{"$error":"#N/A"},{"$error":"#N/A"},null,{"$error":"#N/A"},{"$error":"#N/A"},{"$error":"#N/A"},{"$error":"#N/A"},{"$error":"#N/A"},{"$error":"#N/A"},null,{"$error":"#N/A"},{"$error":"#N/A"},{"$error":"#N/A"},{"$error":"#N/A"},{"$error":"#N/A"},{"$error":"#N/A"},null,{"$error":"#N/A"},{"$error":"#N/A"},{"$error":"#N/A"},{"$error":"#N/A"},{"$error":"#N/A"},{"$error":"#N/A"},null,{"$error":"#N/A"},{"$error":"#N/A"},{"$error":"#N/A"},{"$error":"#N/A"},{"$error":"#N/A"},{"$error":"#N/A"},null,{"$error":"#N/A"},{"$error":"#N/A"},{"$error":"#N/A"},{"$error":"#N/A"},{"$error":"#N/A"},{"$error":"#N/A"},null,null,null,{"$f":"'Life Cycle Analysis Tool'!BH64","v":"P1"},{"$f":"'Life Cycle Analysis Tool'!BI64","v":0},{"$f":"'Life Cycle Analysis Tool'!BJ64","v":0},{"$f":"'Life Cycle Analysis Tool'!BK64","v":0},{"$f":"'Life Cycle Analysis Tool'!BL64","v":0},{"$f":"'Life Cycle Analysis Tool'!BM64","v":0},{"$f":"'Life Cycle Analysis Tool'!BN64","v":0},{"$f":"'Life Cycle Analysis Tool'!BO64","v":0},{"$f":"'Life Cycle Analysis Tool'!BP64","v":0},{"$f":"'Life Cycle Analysis Tool'!BQ64","v":0},{"$f":"'Life Cycle Analysis Tool'!BR64","v":0},{"$f":"'Life Cycle Analysis Tool'!BS64","v":0},{"$f":"'Life Cycle Analysis Tool'!BT64","v":0},{"$f":"'Life Cycle Analysis Tool'!BU64","v":0},{"$f":"'Life Cycle Analysis Tool'!BV64","v":0},0,0,0,0,0,0,null,null,null,{"$f":"'Life Cycle Analysis Tool'!CA64","v":"P2"},{"$f":"'Life Cycle Analysis Tool'!CB64","v":0},{"$f":"'Life Cycle Analysis Tool'!CC64","v":0},{"$f":"'Life Cycle Analysis Tool'!CD64","v":0},{"$f":"'Life Cycle Analysis Tool'!CE64","v":0},{"$f":"'Life Cycle Analysis Tool'!CF64","v":0},{"$f":"'Life Cycle Analysis Tool'!CG64","v":0},{"$f":"'Life Cycle Analysis Tool'!CH64","v":0},{"$f":"'Life Cycle Analysis Tool'!CI64","v":0},{"$f":"'Life Cycle Analysis Tool'!CJ64","v":0},{"$f":"'Life Cycle Analysis Tool'!CK64","v":0},{"$f":"'Life Cycle Analysis Tool'!CL64","v":0},{"$f":"'Life Cycle Analysis Tool'!CM64","v":0},{"$f":"'Life Cycle Analysis Tool'!CN64","v":0},{"$f":"'Life Cycle Analysis Tool'!CO64","v":0},0,0,0,0,0,0,null,null,null,null,{"$f":"'Life Cycle Analysis Tool'!CT64","v":"P3"},{"$f":"'Life Cycle Analysis Tool'!CU64","v":0},{"$f":"'Life Cycle Analysis Tool'!CV64","v":0},{"$f":"'Life Cycle Analysis Tool'!CW64","v":0},{"$f":"'Life Cycle Analysis Tool'!CX64","v":0},{"$f":"'Life Cycle Analysis Tool'!CY64","v":0},{"$f":"'Life Cycle Analysis Tool'!CZ64","v":0},{"$f":"'Life Cycle Analysis Tool'!DA64","v":0},{"$f":"'Life Cycle Analysis Tool'!DB64","v":0},{"$f":"'Life Cycle Analysis Tool'!DC64","v":0},{"$f":"'Life Cycle Analysis Tool'!DD64","v":0},{"$f":"'Life Cycle Analysis Tool'!DE64","v":0},{"$f":"'Life Cycle Analysis Tool'!DF64","v":0},{"$f":"'Life Cycle Analysis Tool'!DG64","v":0},{"$f":"'Life Cycle Analysis Tool'!DH64","v":0},0,0,0,0,0,0,null,null,null,{"$f":"'Life Cycle Analysis Tool'!DM64","v":"P4"},{"$f":"'Life Cycle Analysis Tool'!DN64","v":0},{"$f":"'Life Cycle Analysis Tool'!DO64","v":0},{"$f":"'Life Cycle Analysis Tool'!DP64","v":0},{"$f":"'Life Cycle Analysis Tool'!DQ64","v":0},{"$f":"'Life Cycle Analysis Tool'!DR64","v":0},{"$f":"'Life Cycle Analysis Tool'!DS64","v":0},{"$f":"'Life Cycle Analysis Tool'!DT64","v":0},{"$f":"'Life Cycle Analysis Tool'!DU64","v":0},{"$f":"'Life Cycle Analysis Tool'!DV64","v":0},{"$f":"'Life Cycle Analysis Tool'!DW64","v":0},{"$f":"'Life Cycle Analysis Tool'!DX64","v":0},{"$f":"'Life Cycle Analysis Tool'!DY64","v":0},{"$f":"'Life Cycle Analysis Tool'!DZ64","v":0},{"$f":"'Life Cycle Analysis Tool'!EA64","v":0},0,0,0,0,0,0,null,null,null,{"$f":"'Life Cycle Analysis Tool'!EF64","v":"P5"},{"$f":"'Life Cycle Analysis Tool'!EG64","v":0},{"$f":"'Life Cycle Analysis Tool'!EH64","v":0},{"$f":"'Life Cycle Analysis Tool'!EI64","v":0},{"$f":"'Life Cycle Analysis Tool'!EJ64","v":0},{"$f":"'Life Cycle Analysis Tool'!EK64","v":0},{"$f":"'Life Cycle Analysis Tool'!EL64","v":0},{"$f":"'Life Cycle Analysis Tool'!EM64","v":0},{"$f":"'Life Cycle Analysis Tool'!EN64","v":0},{"$f":"'Life Cycle Analysis Tool'!EO64","v":0},{"$f":"'Life Cycle Analysis Tool'!EP64","v":0},{"$f":"'Life Cycle Analysis Tool'!EQ64","v":0},{"$f":"'Life Cycle Analysis Tool'!ER64","v":0},{"$f":"'Life Cycle Analysis Tool'!ES64","v":0},{"$f":"'Life Cycle Analysis Tool'!ET64","v":0},0,0,0,0,0,0,null,null,null,{"$f":"'Life Cycle Analysis Tool'!EY64","v":"P6"},{"$f":"'Life Cycle Analysis Tool'!EZ64","v":0},{"$f":"'Life Cycle Analysis Tool'!FA64","v":0},{"$f":"'Life Cycle Analysis Tool'!FB64","v":0},{"$f":"'Life Cycle Analysis Tool'!FC64","v":0},{"$f":"'Life Cycle Analysis Tool'!FD64","v":0},{"$f":"'Life Cycle Analysis Tool'!FE64","v":0},{"$f":"'Life Cycle Analysis Tool'!FF64","v":0},{"$f":"'Life Cycle Analysis Tool'!FG64","v":0},{"$f":"'Life Cycle Analysis Tool'!FH64","v":0},{"$f":"'Life Cycle Analysis Tool'!FI64","v":0},{"$f":"'Life Cycle Analysis Tool'!FJ64","v":0},{"$f":"'Life Cycle Analysis Tool'!FK64","v":0},{"$f":"'Life Cycle Analysis Tool'!FL64","v":0},{"$f":"'Life Cycle Analysis Tool'!FM64","v":0},0,0,0,0,0,0]
[null,null,null,null,null,null,null,null,null,null,null,null,null,null,"A",null,null,null,null,null,null,null,null,null,null,null,null,null,{"$f":"'Life Cycle Analysis Tool'!AM65","v":0},{"$f":"'Life Cycle Analysis Tool'!AW65","v":{"$error":"#N/A"}},{"$f":"'Life Cycle Analysis Tool'!AX65","v":{"$error":"#N/A"}},{"$f":"'Life Cycle Analysis Tool'!AJ65*AD36","v":{"$error":"#N/A"}},{"$error":"#N/A"},{"$error":"#N/A"},{"$error":"#N/A"},{"$error":"#N/A"},{"$error":"#N/A"},{"$error":"#N/A"},null,{"$error":"#N/A"},{"$error":"#N/A"},{"$error":"#N/A"},{"$error":"#N/A"},{"$error":"#N/A"},{"$error":"#N/A"},null,{"$error":"#N/A"},{"$error":"#N/A"},{"$error":"#N/A"},{"$error":"#N/A"},{"$error":"#N/A"},{"$error":"#N/A"},null,{"$error":"#N/A"},{"$error":"#N/A"},{"$error":"#N/A"},{"$error":"#N/A"},{"$error":"#N/A"},{"$error":"#N/A"},null,{"$error":"#N/A"},{"$error":"#N/A"},{"$error":"#N/A"},{"$error":"#N/A"},{"$error":"#N/A"},{"$error":"#N/A"},null,{"$error":"#N/A"},{"$error":"#N/A"},{"$error":"#N/A"},{"$error":"#N/A"},{"$error":"#N/A"},{"$error":"#N/A"},null,null,null,{"$f":"'Life Cycle Analysis Tool'!BH65","v":"P1"},{"$f":"'Life Cycle Analysis Tool'!BI65","v":0},{"$f":"'Life Cycle Analysis Tool'!BJ65","v":0},{"$f":"'Life Cycle Analysis Tool'!BK65","v":0},{"$f":"'Life Cycle Analysis Tool'!BL65","v":0},{"$f":"'Life Cycle Analysis Tool'!BM65","v":0},{"$f":"'Life Cycle Analysis Tool'!BN65","v":0},{"$f":"'Life Cycle Analysis Tool'!BO65","v":0},{"$f":"'Life Cycle Analysis Tool'!BP65","v":0},{"$f":"'Life Cycle Analysis Tool'!BQ65","v":0},{"$f":"'Life Cycle Analysis Tool'!BR65","v":0},{"$f":"'Life Cycle Analysis Tool'!BS65","v":0},{"$f":"'Life Cycle Analysis Tool'!BT65","v":0},{"$f":"'Life Cycle Analysis Tool'!BU65","v":0},{"$f":"'Life Cycle Analysis Tool'!BV65","v":0},0,0,0,0,0,0,null,null,null,{"$f":"'Life Cycle Analysis Tool'!CA65","v":"P2"},{"$f":"'Life Cycle Analysis Tool'!CB65","v":0},{"$f":"'Life Cycle Analysis Tool'!CC65","v":0},{"$f":"'Life Cycle Analysis Tool'!CD65","v":0},{"$f":"'Life Cycle Analysis Tool'!CE65","v":0},{"$f":"'Life Cycle Analysis Tool'!CF65","v":0},{"$f":"'Life Cycle Analysis Tool'!CG65","v":0},{"$f":"'Life Cycle Analysis Tool'!CH65","v":0},{"$f":"'Life Cycle Analysis Tool'!CI65","v":0},{"$f":"'Life Cycle Analysis Tool'!CJ65","v":0},{"$f":"'Life Cycle Analysis Tool'!CK65","v":0},{"$f":"'Life Cycle Analysis Tool'!CL65","v":0},{"$f":"'Life Cycle Analysis Tool'!CM65","v":0},{"$f":"'Life Cycle Analysis Tool'!CN65","v":0},{"$f":"'Life Cycle Analysis Tool'!CO65","v":0},0,0,0,0,0,0,null,null,null,null,{"$f":"'Life Cycle Analysis Tool'!CT65","v":"P3"},{"$f":"'Life Cycle Analysis Tool'!CU65","v":0},{"$f":"'Life Cycle Analysis Tool'!CV65","v":0},{"$f":"'Life Cycle Analysis Tool'!CW65","v":0},{"$f":"'Life Cycle Analysis Tool'!CX65","v":0},{"$f":"'Life Cycle Analysis Tool'!CY65","v":0},{"$f":"'Life Cycle Analysis Tool'!CZ65","v":0},{"$f":"'Life Cycle Analysis Tool'!DA65","v":0},{"$f":"'Life Cycle Analysis Tool'!DB65","v":0},{"$f":"'Life Cycle Analysis Tool'!DC65","v":0},{"$f":"'Life Cycle Analysis Tool'!DD65","v":0},{"$f":"'Life Cycle Analysis Tool'!DE65","v":0},{"$f":"'Life Cycle Analysis Tool'!DF65","v":0},{"$f":"'Life Cycle Analysis Tool'!DG65","v":0},{"$f":"'Life Cycle Analysis Tool'!DH65","v":0},0,0,0,0,0,0,null,null,null,{"$f":"'Life Cycle Analysis Tool'!DM65","v":"P4"},{"$f":"'Life Cycle Analysis Tool'!DN65","v":0},{"$f":"'Life Cycle Analysis Tool'!DO65","v":0},{"$f":"'Life Cycle Analysis Tool'!DP65","v":0},{"$f":"'Life Cycle Analysis Tool'!DQ65","v":0},{"$f":"'Life Cycle Analysis Tool'!DR65","v":0},{"$f":"'Life Cycle Analysis Tool'!DS65","v":0},{"$f":"'Life Cycle Analysis Tool'!DT65","v":0},{"$f":"'Life Cycle Analysis Tool'!DU65","v":0},{"$f":"'Life Cycle Analysis Tool'!DV65","v":0},{"$f":"'Life Cycle Analysis Tool'!DW65","v":0},{"$f":"'Life Cycle Analysis Tool'!DX65","v":0},{"$f":"'Life Cycle Analysis Tool'!DY65","v":0},{"$f":"'Life Cycle Analysis Tool'!DZ65","v":0},{"$f":"'Life Cycle Analysis Tool'!EA65","v":0},0,0,0,0,0,0,null,null,null,{"$f":"'Life Cycle Analysis Tool'!EF65","v":"P5"},{"$f":"'Life Cycle Analysis Tool'!EG65","v":0},{"$f":"'Life Cycle Analysis Tool'!EH65","v":0},{"$f":"'Life Cycle Analysis Tool'!EI65","v":0},{"$f":"'Life Cycle Analysis Tool'!EJ65","v":0},{"$f":"'Life Cycle Analysis Tool'!EK65","v":0},{"$f":"'Life Cycle Analysis Tool'!EL65","v":0},{"$f":"'Life Cycle Analysis Tool'!EM65","v":0},{"$f":"'Life Cycle Analysis Tool'!EN65","v":0},{"$f":"'Life Cycle Analysis Tool'!EO65","v":0},{"$f":"'Life Cycle Analysis Tool'!EP65","v":0},{"$f":"'Life Cycle Analysis Tool'!EQ65","v":0},{"$f":"'Life Cycle Analysis Tool'!ER65","v":0},{"$f":"'Life Cycle Analysis Tool'!ES65","v":0},{"$f":"'Life Cycle Analysis Tool'!ET65","v":0},0,0,0,0,0,0,null,null,null,{"$f":"'Life Cycle Analysis Tool'!EY65","v":"P6"},{"$f":"'Life Cycle Analysis Tool'!EZ65","v":0},{"$f":"'Life Cycle Analysis Tool'!FA65","v":0},{"$f":"'Life Cycle Analysis Tool'!FB65","v":0},{"$f":"'Life Cycle Analysis Tool'!FC65","v":0},{"$f":"'Life Cycle Analysis Tool'!FD65","v":0},{"$f":"'Life Cycle Analysis Tool'!FE65","v":0},{"$f":"'Life Cycle Analysis Tool'!FF65","v":0},{"$f":"'Life Cycle Analysis Tool'!FG65","v":0},{"$f":"'Life Cycle Analysis Tool'!FH65","v":0},{"$f":"'Life Cycle Analysis Tool'!FI65","v":0},{"$f":"'Life Cycle Analysis Tool'!FJ65","v":0},{"$f":"'Life Cycle Analysis Tool'!FK65","v":0},{"$f":"'Life Cycle Analysis Tool'!FL65","v":0},{"$f":"'Life Cycle Analysis Tool'!FM65","v":0},0,0,0,0,0,0]
[null,null,null,null,null,null,null,null,null,null,null,null,null,null,"A",null,null,null,null,null,null,null,null,null,null,null,null,null,{"$f":"'Life Cycle Analysis Tool'!AM66","v":0},{"$f":"'Life Cycle Analysis Tool'!AW66","v":{"$error":"#N/A"}},{"$f":"'Life Cycle Analysis Tool'!AX66","v":{"$error":"#N/A"}},{"$f":"'Life Cycle Analysis Tool'!AJ66*AD37","v":{"$error":"#N/A"}},{"$error":"#N/A"},{"$error":"#N/A"},{"$error":"#N/A"},{"$error":"#N/A"},{"$error":"#N/A"},{"$error":"#N/A"},null,{"$error":"#N/A"},{"$error":"#N/A"},{"$error":"#N/A"},{"$error":"#N/A"},{"$error":"#N/A"},{"$error":"#N/A"},null,{"$error":"#N/A"},{"$error":"#N/A"},{"$error":"#N/A"},{"$error":"#N/A"},{"$error":"#N/A"},{"$error":"#N/A"},null,{"$error":"#N/A"},{"$error":"#N/A"},{"$error":"#N/A"},{"$error":"#N/A"},{"$error":"#N/A"},{"$error":"#N/A"},null,{"$error":"#N/A"},{"$error":"#N/A"},{"$error":"#N/A"},{"$error":"#N/A"},{"$error":"#N/A"},{"$error":"#N/A"},null,{"$error":"#N/A"},{"$error":"#N/A"},{"$error":"#N/A"},{"$error":"#N/A"},{"$error":"#N/A"},{"$error":"#N/A"},null,null,null,{"$f":"'Life Cycle Analysis Tool'!BH66","v":"P1"},{"$f":"'Life Cycle Analysis Tool'!BI66","v":0},{"$f":"'Life Cycle Analysis Tool'!BJ66","v":0},{"$f":"'Life Cycle Analysis Tool'!BK66","v":0},{"$f":"'Life Cycle Analysis Tool'!BL66","v":0},{"$f":"'Life Cycle Analysis Tool'!BM66","v":0},{"$f":"'Life Cycle Analysis Tool'!BN66","v":0},{"$f":"'Life Cycle Analysis Tool'!BO66","v":0},{"$f":"'Life Cycle Analysis Tool'!BP66","v":0},{"$f":"'Life Cycle Analysis Tool'!BQ66","v":0},{"$f":"'Life Cycle Analysis Tool'!BR66","v":0},{"$f":"'Life Cycle Analysis Tool'!BS66","v":0},{"$f":"'Life Cycle Analysis Tool'!BT66","v":0},{"$f":"'Life Cycle Analysis Tool'!BU66","v":0},{"$f":"'Life Cycle Analysis Tool'!BV66","v":0},0,0,0,0,0,0,null,null,null,{"$f":"'Life Cycle Analysis Tool'!CA66","v":"P2"},{"$f":"'Life Cycle Analysis Tool'!CB66","v":0},{"$f":"'Life Cycle Analysis Tool'!CC66","v":0},{"$f":"'Life Cycle Analysis Tool'!CD66","v":0},{"$f":"'Life Cycle Analysis Tool'!CE66","v":0},{"$f":"'Life Cycle Analysis Tool'!CF66","v":0},{"$f":"'Life Cycle Analysis Tool'!CG66","v":0},{"$f":"'Life Cycle Analysis Tool'!CH66","v":0},{"$f":"'Life Cycle Analysis Tool'!CI66","v":0},{"$f":"'Life Cycle Analysis Tool'!CJ66","v":0},{"$f":"'Life Cycle Analysis Tool'!CK66","v":0},{"$f":"'Life Cycle Analysis Tool'!CL66","v":0},{"$f":"'Life Cycle Analysis Tool'!CM66","v":0},{"$f":"'Life Cycle Analysis Tool'!CN66","v":0},{"$f":"'Life Cycle Analysis Tool'!CO66","v":0},0,0,0,0,0,0,null,null,null,null,{"$f":"'Life Cycle Analysis Tool'!CT66","v":"P3"},{"$f":"'Life Cycle Analysis Tool'!CU66","v":0},{"$f":"'Life Cycle Analysis Tool'!CV66","v":0},{"$f":"'Life Cycle Analysis Tool'!CW66","v":0},{"$f":"'Life Cycle Analysis Tool'!CX66","v":0},{"$f":"'Life Cycle Analysis Tool'!CY66","v":0},{"$f":"'Life Cycle Analysis Tool'!CZ66","v":0},{"$f":"'Life Cycle Analysis Tool'!DA66","v":0},{"$f":"'Life Cycle Analysis Tool'!DB66","v":0},{"$f":"'Life Cycle Analysis Tool'!DC66","v":0},{"$f":"'Life Cycle Analysis Tool'!DD66","v":0},{"$f":"'Life Cycle Analysis Tool'!DE66","v":0},{"$f":"'Life Cycle Analysis Tool'!DF66","v":0},{"$f":"'Life Cycle Analysis Tool'!DG66","v":0},{"$f":"'Life Cycle Analysis Tool'!DH66","v":0},0,0,0,0,0,0,null,null,null,{"$f":"'Life Cycle Analysis Tool'!DM66","v":"P4"},{"$f":"'Life Cycle Analysis Tool'!DN66","v":0},{"$f":"'Life Cycle Analysis Tool'!DO66","v":0},{"$f":"'Life Cycle Analysis Tool'!DP66","v":0},{"$f":"'Life Cycle Analysis Tool'!DQ66","v":0},{"$f":"'Life Cycle Analysis Tool'!DR66","v":0},{"$f":"'Life Cycle Analysis Tool'!DS66","v":0},{"$f":"'Life Cycle Analysis Tool'!DT66","v":0},{"$f":"'Life Cycle Analysis Tool'!DU66","v":0},{"$f":"'Life Cycle Analysis Tool'!DV66","v":0},{"$f":"'Life Cycle Analysis Tool'!DW66","v":0},{"$f":"'Life Cycle Analysis Tool'!DX66","v":0},{"$f":"'Life Cycle Analysis Tool'!DY66","v":0},{"$f":"'Life Cycle Analysis Tool'!DZ66","v":0},{"$f":"'Life Cycle Analysis Tool'!EA66","v":0},0,0,0,0,0,0,null,null,null,{"$f":"'Life Cycle Analysis Tool'!EF66","v":"P5"},{"$f":"'Life Cycle Analysis Tool'!EG66","v":0},{"$f":"'Life Cycle Analysis Tool'!EH66","v":0},{"$f":"'Life Cycle Analysis Tool'!EI66","v":0},{"$f":"'Life Cycle Analysis Tool'!EJ66","v":0},{"$f":"'Life Cycle Analysis Tool'!EK66","v":0},{"$f":"'Life Cycle Analysis Tool'!EL66","v":0},{"$f":"'Life Cycle Analysis Tool'!EM66","v":0},{"$f":"'Life Cycle Analysis Tool'!EN66","v":0},{"$f":"'Life Cycle Analysis Tool'!EO66","v":0},{"$f":"'Life Cycle Analysis Tool'!EP66","v":0},{"$f":"'Life Cycle Analysis Tool'!EQ66","v":0},{"$f":"'Life Cycle Analysis Tool'!ER66","v":0},{"$f":"'Life Cycle Analysis Tool'!ES66","v":0},{"$f":"'Life Cycle Analysis Tool'!ET66","v":0},0,0,0,0,0,0,null,null,null,{"$f":"'Life Cycle Analysis Tool'!EY66","v":"P6"},{"$f":"'Life Cycle Analysis Tool'!EZ66","v":0},{"$f":"'Life Cycle Analysis Tool'!FA66","v":0},{"$f":"'Life Cycle Analysis Tool'!FB66","v":0},{"$f":"'Life Cycle Analysis Tool'!FC66","v":0},{"$f":"'Life Cycle Analysis Tool'!FD66","v":0},{"$f":"'Life Cycle Analysis Tool'!FE66","v":0},{"$f":"'Life Cycle Analysis Tool'!FF66","v":0},{"$f":"'Life Cycle Analysis Tool'!FG66","v":0},{"$f":"'Life Cycle Analysis Tool'!FH66","v":0},{"$f":"'Life Cycle Analysis Tool'!FI66","v":0},{"$f":"'Life Cycle Analysis Tool'!FJ66","v":0},{"$f":"'Life Cycle Analysis Tool'!FK66","v":0},{"$f":"'Life Cycle Analysis Tool'!FL66","v":0},{"$f":"'Life Cycle Analysis Tool'!FM66","v":0},0,0,0,0,0,0]
[null,null,null,null,null,null,null,null,null,null,null,null,null,null,"A",null,null,null,null,null,null,null,null,null,null,null,null,null,{"$f":"'Life Cycle Analysis Tool'!AM67","v":0},{"$f":"'Life Cycle Analysis Tool'!AW67","v":{"$error":"#N/A"}},{"$f":"'Life Cycle Analysis Tool'!AX67","v":{"$error":"#N/A"}},{"$f":"'Life Cycle Analysis Tool'!AJ67*AD38","v":{"$error":"#N/A"}},{"$error":"#N/A"},{"$error":"#N/A"},{"$error":"#N/A"},{"$error":"#N/A"},{"$error":"#N/A"},{"$error":"#N/A"},null,{"$error":"#N/A"},{"$error":"#N/A"},{"$error":"#N/A"},{"$error":"#N/A"},{"$error":"#N/A"},{"$error":"#N/A"},null,{"$error":"#N/A"},{"$error":"#N/A"},{"$error":"#N/A"},{"$error":"#N/A"},{"$error":"#N/A"},{"$error":"#N/A"},null,{"$error":"#N/A"},{"$error":"#N/A"},{"$error":"#N/A"},{"$error":"#N/A"},{"$error":"#N/A"},{"$error":"#N/A"},null,{"$error":"#N/A"},{"$error":"#N/A"},{"$error":"#N/A"},{"$error":"#N/A"},{"$error":"#N/A"},{"$error":"#N/A"},null,{"$error":"#N/A"},{"$error":"#N/A"},{"$error":"#N/A"},{"$error":"#N/A"},{"$error":"#N/A"},{"$error":"#N/A"},null,null,null,{"$f":"'Life Cycle Analysis Tool'!BH67","v":"P1"},{"$f":"'Life Cycle Analysis Tool'!BI67","v":0},{"$f":"'Life Cycle Analysis Tool'!BJ67","v":0},{"$f":"'Life Cycle Analysis Tool'!BK67","v":0},{"$f":"'Life Cycle Analysis Tool'!BL67","v":0},{"$f":"'Life Cycle Analysis Tool'!BM67","v":0},{"$f":"'Life Cycle Analysis Tool'!BN67","v":0},{"$f":"'Life Cycle Analysis Tool'!BO67","v":0},{"$f":"'Life Cycle Analysis Tool'!BP67","v":0},{"$f":"'Life Cycle Analysis Tool'!BQ67","v":0},{"$f":"'Life Cycle Analysis Tool'!BR67","v":0},{"$f":"'Life Cycle Analysis Tool'!BS67","v":0},{"$f":"'Life Cycle Analysis Tool'!BT67","v":0},{"$f":"'Life Cycle Analysis Tool'!BU67","v":0},{"$f":"'Life Cycle Analysis Tool'!BV67","v":0},0,0,0,0,0,0,null,null,null,{"$f":"'Life Cycle Analysis Tool'!CA67","v":"P2"},{"$f":"'Life Cycle Analysis Tool'!CB67","v":0},{"$f":"'Life Cycle Analysis Tool'!CC67","v":0},{"$f":"'Life Cycle Analysis Tool'!CD67","v":0},{"$f":"'Life Cycle Analysis Tool'!CE67","v":0},{"$f":"'Life Cycle Analysis Tool'!CF67","v":0},{"$f":"'Life Cycle Analysis Tool'!CG67","v":0},{"$f":"'Life Cycle Analysis Tool'!CH67","v":0},{"$f":"'Life Cycle Analysis Tool'!CI67","v":0},{"$f":"'Life Cycle Analysis Tool'!CJ67","v":0},{"$f":"'Life Cycle Analysis Tool'!CK67","v":0},{"$f":"'Life Cycle Analysis Tool'!CL67","v":0},{"$f":"'Life Cycle Analysis Tool'!CM67","v":0},{"$f":"'Life Cycle Analysis Tool'!CN67","v":0},{"$f":"'Life Cycle Analysis Tool'!CO67","v":0},0,0,0,0,0,0,null,null,null,null,{"$f":"'Life Cycle Analysis Tool'!CT67","v":"P3"},{"$f":"'Life Cycle Analysis Tool'!CU67","v":0},{"$f":"'Life Cycle Analysis Tool'!CV67","v":0},{"$f":"'Life Cycle Analysis Tool'!CW67","v":0},{"$f":"'Life Cycle Analysis Tool'!CX67","v":0},{"$f":"'Life Cycle Analysis Tool'!CY67","v":0},{"$f":"'Life Cycle Analysis Tool'!CZ67","v":0},{"$f":"'Life Cycle Analysis Tool'!DA67","v":0},{"$f":"'Life Cycle Analysis Tool'!DB67","v":0},{"$f":"'Life Cycle Analysis Tool'!DC67","v":0},{"$f":"'Life Cycle Analysis Tool'!DD67","v":0},{"$f":"'Life Cycle Analysis Tool'!DE67","v":0},{"$f":"'Life Cycle Analysis Tool'!DF67","v":0},{"$f":"'Life Cycle Analysis Tool'!DG67","v":0},{"$f":"'Life Cycle Analysis Tool'!DH67","v":0},0,0,0,0,0,0,null,null,null,{"$f":"'Life Cycle Analysis Tool'!DM67","v":"P4"},{"$f":"'Life Cycle Analysis Tool'!DN67","v":0},{"$f":"'Life Cycle Analysis Tool'!DO67","v":0},{"$f":"'Life Cycle Analysis Tool'!DP67","v":0},{"$f":"'Life Cycle Analysis Tool'!DQ67","v":0},{"$f":"'Life Cycle Analysis Tool'!DR67","v":0},{"$f":"'Life Cycle Analysis Tool'!DS67","v":0},{"$f":"'Life Cycle Analysis Tool'!DT67","v":0},{"$f":"'Life Cycle Analysis Tool'!DU67","v":0},{"$f":"'Life Cycle Analysis Tool'!DV67","v":0},{"$f":"'Life Cycle Analysis Tool'!DW67","v":0},{"$f":"'Life Cycle Analysis Tool'!DX67","v":0},{"$f":"'Life Cycle Analysis Tool'!DY67","v":0},{"$f":"'Life Cycle Analysis Tool'!DZ67","v":0},{"$f":"'Life Cycle Analysis Tool'!EA67","v":0},0,0,0,0,0,0,null,null,null,{"$f":"'Life Cycle Analysis Tool'!EF67","v":"P5"},{"$f":"'Life Cycle Analysis Tool'!EG67","v":0},{"$f":"'Life Cycle Analysis Tool'!EH67","v":0},{"$f":"'Life Cycle Analysis Tool'!EI67","v":0},{"$f":"'Life Cycle Analysis Tool'!EJ67","v":0},{"$f":"'Life Cycle Analysis Tool'!EK67","v":0},{"$f":"'Life Cycle Analysis Tool'!EL67","v":0},{"$f":"'Life Cycle Analysis Tool'!EM67","v":0},{"$f":"'Life Cycle Analysis Tool'!EN67","v":0},{"$f":"'Life Cycle Analysis Tool'!EO67","v":0},{"$f":"'Life Cycle Analysis Tool'!EP67","v":0},{"$f":"'Life Cycle Analysis Tool'!EQ67","v":0},{"$f":"'Life Cycle Analysis Tool'!ER67","v":0},{"$f":"'Life Cycle Analysis Tool'!ES67","v":0},{"$f":"'Life Cycle Analysis Tool'!ET67","v":0},0,0,0,0,0,0,null,null,null,{"$f":"'Life Cycle Analysis Tool'!EY67","v":"P6"},{"$f":"'Life Cycle Analysis Tool'!EZ67","v":0},{"$f":"'Life Cycle Analysis Tool'!FA67","v":0},{"$f":"'Life Cycle Analysis Tool'!FB67","v":0},{"$f":"'Life Cycle Analysis Tool'!FC67","v":0},{"$f":"'Life Cycle Analysis Tool'!FD67","v":0},{"$f":"'Life Cycle Analysis Tool'!FE67","v":0},{"$f":"'Life Cycle Analysis Tool'!FF67","v":0},{"$f":"'Life Cycle Analysis Tool'!FG67","v":0},{"$f":"'Life Cycle Analysis Tool'!FH67","v":0},{"$f":"'Life Cycle Analysis Tool'!FI67","v":0},{"$f":"'Life Cycle Analysis Tool'!FJ67","v":0},{"$f":"'Life Cycle Analysis Tool'!FK67","v":0},{"$f":"'Life Cycle Analysis Tool'!FL67","v":0},{"$f":"'Life Cycle Analysis Tool'!FM67","v":0},0,0,0,0,0,0]
[null,null,null,null,null,null,null,null,null,null,null,null,null,null,"A",null,null,null,null,null,null,null,null,null,null,null,null,null,{"$f":"'Life Cycle Analysis Tool'!AM68","v":0},{"$f":"'Life Cycle Analysis Tool'!AW68","v":{"$error":"#N/A"}},{"$f":"'Life Cycle Analysis Tool'!AX68","v":{"$error":"#N/A"}},{"$f":"'Life Cycle Analysis Tool'!AJ68*AD39","v":{"$error":"#N/A"}},{"$error":"#N/A"},{"$error":"#N/A"},{"$error":"#N/A"},{"$error":"#N/A"},{"$error":"#N/A"},{"$error":"#N/A"},null,{"$error":"#N/A"},{"$error":"#N/A"},{"$error":"#N/A"},{"$error":"#N/A"},{"$error":"#N/A"},{"$error":"#N/A"},null,{"$error":"#N/A"},{"$error":"#N/A"},{"$error":"#N/A"},{"$error":"#N/A"},{"$error":"#N/A"},{"$error":"#N/A"},null,{"$error":"#N/A"},{"$error":"#N/A"},{"$error":"#N/A"},{"$error":"#N/A"},{"$error":"#N/A"},{"$error":"#N/A"},null,{"$error":"#N/A"},{"$error":"#N/A"},{"$error":"#N/A"},{"$error":"#N/A"},{"$error":"#N/A"},{"$error":"#N/A"},null,{"$error":"#N/A"},{"$error":"#N/A"},{"$error":"#N/A"},{"$error":"#N/A"},{"$error":"#N/A"},{"$error":"#N/A"},null,null,null,{"$f":"'Life Cycle Analysis Tool'!BH68","v":"P1"},{"$f":"'Life Cycle Analysis Tool'!BI68","v":0},{"$f":"'Life Cycle Analysis Tool'!BJ68","v":0},{"$f":"'Life Cycle Analysis Tool'!BK68","v":0},{"$f":"'Life Cycle Analysis Tool'!BL68","v":0},{"$f":"'Life Cycle Analysis Tool'!BM68","v":0},{"$f":"'Life Cycle Analysis Tool'!BN68","v":0},{"$f":"'Life Cycle Analysis Tool'!BO68","v":0},{"$f":"'Life Cycle Analysis Tool'!BP68","v":0},{"$f":"'Life Cycle Analysis Tool'!BQ68","v":0},{"$f":"'Life Cycle Analysis Tool'!BR68","v":0},{"$f":"'Life Cycle Analysis Tool'!BS68","v":0},{"$f":"'Life Cycle Analysis Tool'!BT68","v":0},{"$f":"'Life Cycle Analysis Tool'!BU68","v":0},{"$f":"'Life Cycle Analysis Tool'!BV68","v":0},0,0,0,0,0,0,null,null,null,{"$f":"'Life Cycle Analysis Tool'!CA68","v":"P2"},{"$f":"'Life Cycle Analysis Tool'!CB68","v":0},{"$f":"'Life Cycle Analysis Tool'!CC68","v":0},{"$f":"'Life Cycle Analysis Tool'!CD68","v":0},{"$f":"'Life Cycle Analysis Tool'!CE68","v":0},{"$f":"'Life Cycle Analysis Tool'!CF68","v":0},{"$f":"'Life Cycle Analysis Tool'!CG68","v":0},{"$f":"'Life Cycle Analysis Tool'!CH68","v":0},{"$f":"'Life Cycle Analysis Tool'!CI68","v":0},{"$f":"'Life Cycle Analysis Tool'!CJ68","v":0},{"$f":"'Life Cycle Analysis Tool'!CK68","v":0},{"$f":"'Life Cycle Analysis Tool'!CL68","v":0},{"$f":"'Life Cycle Analysis Tool'!CM68","v":0},{"$f":"'Life Cycle Analysis Tool'!CN68","v":0},{"$f":"'Life Cycle Analysis Tool'!CO68","v":0},0,0,0,0,0,0,null,null,null,null,{"$f":"'Life Cycle Analysis Tool'!CT68","v":"P3"},{"$f":"'Life Cycle Analysis Tool'!CU68","v":0},{"$f":"'Life Cycle Analysis Tool'!CV68","v":0},{"$f":"'Life Cycle Analysis Tool'!CW68","v":0},{"$f":"'Life Cycle Analysis Tool'!CX68","v":0},{"$f":"'Life Cycle Analysis Tool'!CY68","v":0},{"$f":"'Life Cycle Analysis Tool'!CZ68","v":0},{"$f":"'Life Cycle Analysis Tool'!DA68","v":0},{"$f":"'Life Cycle Analysis Tool'!DB68","v":0},{"$f":"'Life Cycle Analysis Tool'!DC68","v":0},{"$f":"'Life Cycle Analysis Tool'!DD68","v":0},{"$f":"'Life Cycle Analysis Tool'!DE68","v":0},{"$f":"'Life Cycle Analysis Tool'!DF68","v":0},{"$f":"'Life Cycle Analysis Tool'!DG68","v":0},{"$f":"'Life Cycle Analysis Tool'!DH68","v":0},0,0,0,0,0,0,null,null,null,{"$f":"'Life Cycle Analysis Tool'!DM68","v":"P4"},{"$f":"'Life Cycle Analysis Tool'!DN68","v":0},{"$f":"'Life Cycle Analysis Tool'!DO68","v":0},{"$f":"'Life Cycle Analysis Tool'!DP68","v":0},{"$f":"'Life Cycle Analysis Tool'!DQ68","v":0},{"$f":"'Life Cycle Analysis Tool'!DR68","v":0},{"$f":"'Life Cycle Analysis Tool'!DS68","v":0},{"$f":"'Life Cycle Analysis Tool'!DT68","v":0},{"$f":"'Life Cycle Analysis Tool'!DU68","v":0},{"$f":"'Life Cycle Analysis Tool'!DV68","v":0},{"$f":"'Life Cycle Analysis Tool'!DW68","v":0},{"$f":"'Life Cycle Analysis Tool'!DX68","v":0},{"$f":"'Life Cycle Analysis Tool'!DY68","v":0},{"$f":"'Life Cycle Analysis Tool'!DZ68","v":0},{"$f":"'Life Cycle Analysis Tool'!EA68","v":0},0,0,0,0,0,0,null,null,null,{"$f":"'Life Cycle Analysis Tool'!EF68","v":"P5"},{"$f":"'Life Cycle Analysis Tool'!EG68","v":0},{"$f":"'Life Cycle Analysis Tool'!EH68","v":0},{"$f":"'Life Cycle Analysis Tool'!EI68","v":0},{"$f":"'Life Cycle Analysis Tool'!EJ68","v":0},{"$f":"'Life Cycle Analysis Tool'!EK68","v":0},{"$f":"'Life Cycle Analysis Tool'!EL68","v":0},{"$f":"'Life Cycle Analysis Tool'!EM68","v":0},{"$f":"'Life Cycle Analysis Tool'!EN68","v":0},{"$f":"'Life Cycle Analysis Tool'!EO68","v":0},{"$f":"'Life Cycle Analysis Tool'!EP68","v":0},{"$f":"'Life Cycle Analysis Tool'!EQ68","v":0},{"$f":"'Life Cycle Analysis Tool'!ER68","v":0},{"$f":"'Life Cycle Analysis Tool'!ES68","v":0},{"$f":"'Life Cycle Analysis Tool'!ET68","v":0},0,0,0,0,0,0,null,null,null,{"$f":"'Life Cycle Analysis Tool'!EY68","v":"P6"},{"$f":"'Life Cycle Analysis Tool'!EZ68","v":0},{"$f":"'Life Cycle Analysis Tool'!FA68","v":0},{"$f":"'Life Cycle Analysis Tool'!FB68","v":0},{"$f":"'Life Cycle Analysis Tool'!FC68","v":0},{"$f":"'Life Cycle Analysis Tool'!FD68","v":0},{"$f":"'Life Cycle Analysis Tool'!FE68","v":0},{"$f":"'Life Cycle Analysis Tool'!FF68","v":0},{"$f":"'Life Cycle Analysis Tool'!FG68","v":0},{"$f":"'Life Cycle Analysis Tool'!FH68","v":0},{"$f":"'Life Cycle Analysis Tool'!FI68","v":0},{"$f":"'Life Cycle Analysis Tool'!FJ68","v":0},{"$f":"'Life Cycle Analysis Tool'!FK68","v":0},{"$f":"'Life Cycle Analysis Tool'!FL68","v":0},{"$f":"'Life Cycle Analysis Tool'!FM68","v":0},0,0,0,0,0,0]
[null,null,null,null,null,null,null,null,null,null,null,null,null,null,"A",null,null,null,null,null,null,null,null,null,null,null,null,null,{"$f":"'Life Cycle Analysis Tool'!AM69","v":0},{"$f":"'Life Cycle Analysis Tool'!AW69","v":{"$error":"#N/A"}},{"$f":"'Life Cycle Analysis Tool'!AX69","v":{"$error":"#N/A"}},{"$f":"'Life Cycle Analysis Tool'!AJ69*AD40","v":{"$error":"#N/A"}},{"$f":"INDEX($BY40:$HJ40,1,MATCH(AG$2,$BY$5:$HJ$5,0))*AG$5*$AD40","v":{"$error":"#N/A"}},{"$error":"#N/A"},{"$error":"#N/A"},{"$error":"#N/A"},{"$error":"#N/A"},{"$error":"#N/A"},null,{"$f":"INDEX($BY40:$HJ40,1,MATCH(AN$2,$BY$5:$HJ$5,0))*AN$5*$AD40","v":{"$error":"#N/A"}},{"$error":"#N/A"},{"$error":"#N/A"},{"$error":"#N/A"},{"$error":"#N/A"},{"$error":"#N/A"},null,{"$f":"INDEX($BY40:$HJ40,1,MATCH(AU$2,$BY$5:$HJ$5,0))*AU$5*$AD40","v":{"$error":"#N/A"}},{"$error":"#N/A"},{"$error":"#N/A"},{"$error":"#N/A"},{"$error":"#N/A"},{"$error":"#N/A"},null,{"$f":"INDEX($BY40:$HJ40,1,MATCH(BB$2,$BY$5:$HJ$5,0))*BB$5*$AD40","v":{"$error":"#N/A"}},{"$error":"#N/A"},{"$error":"#N/A"},{"$error":"#N/A"},{"$error":"#N/A"},{"$error":"#N/A"},null,{"$f":"INDEX($BY40:$HJ40,1,MATCH(BI$2,$BY$5:$HJ$5,0))*BI$5*$AD40","v":{"$error":"#N/A"}},{"$error":"#N/A"},{"$error":"#N/A"},{"$error":"#N/A"},{"$error":"#N/A"},{"$error":"#N/A"},null,{"$f":"INDEX($BY40:$HJ40,1,MATCH(BP$2,$BY$5:$HJ$5,0))*BP$5*$AD40","v":{"$error":"#N/A"}},{"$error":"#N/A"},{"$error":"#N/A"},{"$error":"#N/A"},{"$error":"#N/A"},{"$error":"#N/A"},null,null,null,{"$f":"'Life Cycle Analysis Tool'!BH69","v":"P1"},{"$f":"'Life Cycle Analysis Tool'!BI69","v":0},{"$f":"'Life Cycle Analysis Tool'!BJ69","v":0},{"$f":"'Life Cycle Analysis Tool'!BK69","v":0},{"$f":"'Life Cycle Analysis Tool'!BL69","v":0},{"$f":"'Life Cycle Analysis Tool'!BM69","v":0},{"$f":"'Life Cycle Analysis Tool'!BN69","v":0},{"$f":"'Life Cycle Analysis Tool'!BO69","v":0},{"$f":"'Life Cycle Analysis Tool'!BP69","v":0},{"$f":"'Life Cycle Analysis Tool'!BQ69","v":0},{"$f":"'Life Cycle Analysis Tool'!BR69","v":0},{"$f":"'Life Cycle Analysis Tool'!BS69","v":0},{"$f":"'Life Cycle Analysis Tool'!BT69","v":0},{"$f":"'Life Cycle Analysis Tool'!BU69","v":0},{"$f":"'Life Cycle Analysis Tool'!BV69","v":0},0,0,0,0,0,0,null,null,null,{"$f":"'Life Cycle Analysis Tool'!CA69","v":"P2"},{"$f":"'Life Cycle Analysis Tool'!CB69","v":0},{"$f":"'Life Cycle Analysis Tool'!CC69","v":0},{"$f":"'Life Cycle Analysis Tool'!CD69","v":0},{"$f":"'Life Cycle Analysis Tool'!CE69","v":0},{"$f":"'Life Cycle Analysis Tool'!CF69","v":0},{"$f":"'Life Cycle Analysis Tool'!CG69","v":0},{"$f":"'Life Cycle Analysis Tool'!CH69","v":0},{"$f":"'Life Cycle Analysis Tool'!CI69","v":0},{"$f":"'Life Cycle Analysis Tool'!CJ69","v":0},{"$f":"'Life Cycle Analysis Tool'!CK69","v":0},{"$f":"'Life Cycle Analysis Tool'!CL69","v":0},{"$f":"'Life Cycle Analysis Tool'!CM69","v":0},{"$f":"'Life Cycle Analysis Tool'!CN69","v":0},{"$f":"'Life Cycle Analysis Tool'!CO69","v":0},0,0,0,0,0,0,null,null,null,null,{"$f":"'Life Cycle Analysis Tool'!CT69","v":"P3"},{"$f":"'Life Cycle Analysis Tool'!CU69","v":0},{"$f":"'Life Cycle Analysis Tool'!CV69","v":0},{"$f":"'Life Cycle Analysis Tool'!CW69","v":0},{"$f":"'Life Cycle Analysis Tool'!CX69","v":0},{"$f":"'Life Cycle Analysis Tool'!CY69","v":0},{"$f":"'Life Cycle Analysis Tool'!CZ69","v":0},{"$f":"'Life Cycle Analysis Tool'!DA69","v":0},{"$f":"'Life Cycle Analysis Tool'!DB69","v":0},{"$f":"'Life Cycle Analysis Tool'!DC69","v":0},{"$f":"'Life Cycle Analysis Tool'!DD69","v":0},{"$f":"'Life Cycle Analysis Tool'!DE69","v":0},{"$f":"'Life Cycle Analysis Tool'!DF69","v":0},{"$f":"'Life Cycle Analysis Tool'!DG69","v":0},{"$f":"'Life Cycle Analysis Tool'!DH69","v":0},0,0,0,0,0,0,null,null,null,{"$f":"'Life Cycle Analysis Tool'!DM69","v":"P4"},{"$f":"'Life Cycle Analysis Tool'!DN69","v":0},{"$f":"'Life Cycle Analysis Tool'!DO69","v":0},{"$f":"'Life Cycle Analysis Tool'!DP69","v":0},{"$f":"'Life Cycle Analysis Tool'!DQ69","v":0},{"$f":"'Life Cycle Analysis Tool'!DR69","v":0},{"$f":"'Life Cycle Analysis Tool'!DS69","v":0},{"$f":"'Life Cycle Analysis Tool'!DT69","v":0},{"$f":"'Life Cycle Analysis Tool'!DU69","v":0},{"$f":"'Life Cycle Analysis Tool'!DV69","v":0},{"$f":"'Life Cycle Analysis Tool'!DW69","v":0},{"$f":"'Life Cycle Analysis Tool'!DX69","v":0},{"$f":"'Life Cycle Analysis Tool'!DY69","v":0},{"$f":"'Life Cycle Analysis Tool'!DZ69","v":0},{"$f":"'Life Cycle Analysis Tool'!EA69","v":0},0,0,0,0,0,0,null,null,null,{"$f":"'Life Cycle Analysis Tool'!EF69","v":"P5"},{"$f":"'Life Cycle Analysis Tool'!EG69","v":0},{"$f":"'Life Cycle Analysis Tool'!EH69","v":0},{"$f":"'Life Cycle Analysis Tool'!EI69","v":0},{"$f":"'Life Cycle Analysis Tool'!EJ69","v":0},{"$f":"'Life Cycle Analysis Tool'!EK69","v":0},{"$f":"'Life Cycle Analysis Tool'!EL69","v":0},{"$f":"'Life Cycle Analysis Tool'!EM69","v":0},{"$f":"'Life Cycle Analysis Tool'!EN69","v":0},{"$f":"'Life Cycle Analysis Tool'!EO69","v":0},{"$f":"'Life Cycle Analysis Tool'!EP69","v":0},{"$f":"'Life Cycle Analysis Tool'!EQ69","v":0},{"$f":"'Life Cycle Analysis Tool'!ER69","v":0},{"$f":"'Life Cycle Analysis Tool'!ES69","v":0},{"$f":"'Life Cycle Analysis Tool'!ET69","v":0},0,0,0,0,0,0,null,null,null,{"$f":"'Life Cycle Analysis Tool'!EY69","v":"P6"},{"$f":"'Life Cycle Analysis Tool'!EZ69","v":0},{"$f":"'Life Cycle Analysis Tool'!FA69","v":0},{"$f":"'Life Cycle Analysis Tool'!FB69","v":0},{"$f":"'Life Cycle Analysis Tool'!FC69","v":0},{"$f":"'Life Cycle Analysis Tool'!FD69","v":0},{"$f":"'Life Cycle Analysis Tool'!FE69","v":0},{"$f":"'Life Cycle Analysis Tool'!FF69","v":0},{"$f":"'Life Cycle Analysis Tool'!FG69","v":0},{"$f":"'Life Cycle Analysis Tool'!FH69","v":0},{"$f":"'Life Cycle Analysis Tool'!FI69","v":0},{"$f":"'Life Cycle Analysis Tool'!FJ69","v":0},{"$f":"'Life Cycle Analysis Tool'!FK69","v":0},{"$f":"'Life Cycle Analysis Tool'!FL69","v":0},{"$f":"'Life Cycle Analysis Tool'!FM69","v":0},0,0,0,0,0,0]
[null,null,null,null,null,null,null,null,null,null,null,null,null,null,"A",null,null,null,null,null,null,null,null,null,null,null,null,null,{"$f":"'Life Cycle Analysis Tool'!AM70","v":0},{"$f":"'Life Cycle Analysis Tool'!AW70","v":{"$error":"#N/A"}},{"$f":"'Life Cycle Analysis Tool'!AX70","v":{"$error":"#N/A"}},{"$f":"'Life Cycle Analysis Tool'!AJ70*AD41","v":{"$error":"#N/A"}},{"$error":"#N/A"},{"$error":"#N/A"},{"$error":"#N/A"},{"$error":"#N/A"},{"$error":"#N/A"},{"$error":"#N/A"},null,{"$error":"#N/A"},{"$error":"#N/A"},{"$error":"#N/A"},{"$error":"#N/A"},{"$error":"#N/A"},{"$error":"#N/A"},null,{"$error":"#N/A"},{"$error":"#N/A"},{"$error":"#N/A"},{"$error":"#N/A"},{"$error":"#N/A"},{"$error":"#N/A"},null,{"$error":"#N/A"},{"$error":"#N/A"},{"$error":"#N/A"},{"$error":"#N/A"},{"$error":"#N/A"},{"$error":"#N/A"},null,{"$error":"#N/A"},{"$error":"#N/A"},{"$error":"#N/A"},{"$error":"#N/A"},{"$error":"#N/A"},{"$error":"#N/A"},null,{"$error":"#N/A"},{"$error":"#N/A"},{"$error":"#N/A"},{"$error":"#N/A"},{"$error":"#N/A"},{"$error":"#N/A"},null,null,null,{"$f":"'Life Cycle Analysis Tool'!BH70","v":"P1"},{"$f":"'Life Cycle Analysis Tool'!BI70","v":0},{"$f":"'Life Cycle Analysis Tool'!BJ70","v":0},{"$f":"'Life Cycle Analysis Tool'!BK70","v":0},{"$f":"'Life Cycle Analysis Tool'!BL70","v":0},{"$f":"'Life Cycle Analysis Tool'!BM70","v":0},{"$f":"'Life Cycle Analysis Tool'!BN70","v":0},{"$f":"'Life Cycle Analysis Tool'!BO70","v":0},{"$f":"'Life Cycle Analysis Tool'!BP70","v":0},{"$f":"'Life Cycle Analysis Tool'!BQ70","v":0},{"$f":"'Life Cycle Analysis Tool'!BR70","v":0},{"$f":"'Life Cycle Analysis Tool'!BS70","v":0},{"$f":"'Life Cycle Analysis Tool'!BT70","v":0},{"$f":"'Life Cycle Analysis Tool'!BU70","v":0},{"$f":"'Life Cycle Analysis Tool'!BV70","v":0},0,0,0,0,0,0,null,null,null,{"$f":"'Life Cycle Analysis Tool'!CA70","v":"P2"},{"$f":"'Life Cycle Analysis Tool'!CB70","v":0},{"$f":"'Life Cycle Analysis Tool'!CC70","v":0},{"$f":"'Life Cycle Analysis Tool'!CD70","v":0},{"$f":"'Life Cycle Analysis Tool'!CE70","v":0},{"$f":"'Life Cycle Analysis Tool'!CF70","v":0},{"$f":"'Life Cycle Analysis Tool'!CG70","v":0},{"$f":"'Life Cycle Analysis Tool'!CH70","v":0},{"$f":"'Life Cycle Analysis Tool'!CI70","v":0},{"$f":"'Life Cycle Analysis Tool'!CJ70","v":0},{"$f":"'Life Cycle Analysis Tool'!CK70","v":0},{"$f":"'Life Cycle Analysis Tool'!CL70","v":0},{"$f":"'Life Cycle Analysis Tool'!CM70","v":0},{"$f":"'Life Cycle Analysis Tool'!CN70","v":0},{"$f":"'Life Cycle Analysis Tool'!CO70","v":0},0,0,0,0,0,0,null,null,null,null,{"$f":"'Life Cycle Analysis Tool'!CT70","v":"P3"},{"$f":"'Life Cycle Analysis Tool'!CU70","v":0},{"$f":"'Life Cycle Analysis Tool'!CV70","v":0},{"$f":"'Life Cycle Analysis Tool'!CW70","v":0},{"$f":"'Life Cycle Analysis Tool'!CX70","v":0},{"$f":"'Life Cycle Analysis Tool'!CY70","v":0},{"$f":"'Life Cycle Analysis Tool'!CZ70","v":0},{"$f":"'Life Cycle Analysis Tool'!DA70","v":0},{"$f":"'Life Cycle Analysis Tool'!DB70","v":0},{"$f":"'Life Cycle Analysis Tool'!DC70","v":0},{"$f":"'Life Cycle Analysis Tool'!DD70","v":0},{"$f":"'Life Cycle Analysis Tool'!DE70","v":0},{"$f":"'Life Cycle Analysis Tool'!DF70","v":0},{"$f":"'Life Cycle Analysis Tool'!DG70","v":0},{"$f":"'Life Cycle Analysis Tool'!DH70","v":0},0,0,0,0,0,0,null,null,null,{"$f":"'Life Cycle Analysis Tool'!DM70","v":"P4"},{"$f":"'Life Cycle Analysis Tool'!DN70","v":0},{"$f":"'Life Cycle Analysis Tool'!DO70","v":0},{"$f":"'Life Cycle Analysis Tool'!DP70","v":0},{"$f":"'Life Cycle Analysis Tool'!DQ70","v":0},{"$f":"'Life Cycle Analysis Tool'!DR70","v":0},{"$f":"'Life Cycle Analysis Tool'!DS70","v":0},{"$f":"'Life Cycle Analysis Tool'!DT70","v":0},{"$f":"'Life Cycle Analysis Tool'!DU70","v":0},{"$f":"'Life Cycle Analysis Tool'!DV70","v":0},{"$f":"'Life Cycle Analysis Tool'!DW70","v":0},{"$f":"'Life Cycle Analysis Tool'!DX70","v":0},{"$f":"'Life Cycle Analysis Tool'!DY70","v":0},{"$f":"'Life Cycle Analysis Tool'!DZ70","v":0},{"$f":"'Life Cycle Analysis Tool'!EA70","v":0},0,0,0,0,0,0,null,null,null,{"$f":"'Life Cycle Analysis Tool'!EF70","v":"P5"},{"$f":"'Life Cycle Analysis Tool'!EG70","v":0},{"$f":"'Life Cycle Analysis Tool'!EH70","v":0},{"$f":"'Life Cycle Analysis Tool'!EI70","v":0},{"$f":"'Life Cycle Analysis Tool'!EJ70","v":0},{"$f":"'Life Cycle Analysis Tool'!EK70","v":0},{"$f":"'Life Cycle Analysis Tool'!EL70","v":0},{"$f":"'Life Cycle Analysis Tool'!EM70","v":0},{"$f":"'Life Cycle Analysis Tool'!EN70","v":0},{"$f":"'Life Cycle Analysis Tool'!EO70","v":0},{"$f":"'Life Cycle Analysis Tool'!EP70","v":0},{"$f":"'Life Cycle Analysis Tool'!EQ70","v":0},{"$f":"'Life Cycle Analysis Tool'!ER70","v":0},{"$f":"'Life Cycle Analysis Tool'!ES70","v":0},{"$f":"'Life Cycle Analysis Tool'!ET70","v":0},0,0,0,0,0,0,null,null,null,{"$f":"'Life Cycle Analysis Tool'!EY70","v":"P6"},{"$f":"'Life Cycle Analysis Tool'!EZ70","v":0},{"$f":"'Life Cycle Analysis Tool'!FA70","v":0},{"$f":"'Life Cycle Analysis Tool'!FB70","v":0},{"$f":"'Life Cycle Analysis Tool'!FC70","v":0},{"$f":"'Life Cycle Analysis Tool'!FD70","v":0},{"$f":"'Life Cycle Analysis Tool'!FE70","v":0},{"$f":"'Life Cycle Analysis Tool'!FF70","v":0},{"$f":"'Life Cycle Analysis Tool'!FG70","v":0},{"$f":"'Life Cycle Analysis Tool'!FH70","v":0},{"$f":"'Life Cycle Analysis Tool'!FI70","v":0},{"$f":"'Life Cycle Analysis Tool'!FJ70","v":0},{"$f":"'Life Cycle Analysis Tool'!FK70","v":0},{"$f":"'Life Cycle Analysis Tool'!FL70","v":0},{"$f":"'Life Cycle Analysis Tool'!FM70","v":0},0,0,0,0,0,0]
[null,null,null,null,null,null,null,null,null,null,null,null,null,null,"A",null,null,null,null,null,null,null,null,null,null,null,null,null,{"$f":"'Life Cycle Analysis Tool'!AM71","v":0},{"$f":"'Life Cycle Analysis Tool'!AW71","v":{"$error":"#N/A"}},{"$f":"'Life Cycle Analysis Tool'!AX71","v":{"$error":"#N/A"}},{"$f":"'Life Cycle Analysis Tool'!AJ71*AD42","v":{"$error":"#N/A"}},{"$error":"#N/A"},{"$error":"#N/A"},{"$error":"#N/A"},{"$error":"#N/A"},{"$error":"#N/A"},{"$error":"#N/A"},null,{"$error":"#N/A"},{"$error":"#N/A"},{"$error":"#N/A"},{"$error":"#N/A"},{"$error":"#N/A"},{"$error":"#N/A"},null,{"$error":"#N/A"},{"$error":"#N/A"},{"$error":"#N/A"},{"$error":"#N/A"},{"$error":"#N/A"},{"$error":"#N/A"},null,{"$error":"#N/A"},{"$error":"#N/A"},{"$error":"#N/A"},{"$error":"#N/A"},{"$error":"#N/A"},{"$error":"#N/A"},null,{"$error":"#N/A"},{"$error":"#N/A"},{"$error":"#N/A"},{"$error":"#N/A"},{"$error":"#N/A"},{"$error":"#N/A"},null,{"$error":"#N/A"},{"$error":"#N/A"},{"$error":"#N/A"},{"$error":"#N/A"},{"$error":"#N/A"},{"$error":"#N/A"},null,null,null,{"$f":"'Life Cycle Analysis Tool'!BH71","v":"P1"},{"$f":"'Life Cycle Analysis Tool'!BI71","v":0},{"$f":"'Life Cycle Analysis Tool'!BJ71","v":0},{"$f":"'Life Cycle Analysis Tool'!BK71","v":0},{"$f":"'Life Cycle Analysis Tool'!BL71","v":0},{"$f":"'Life Cycle Analysis Tool'!BM71","v":0},{"$f":"'Life Cycle Analysis Tool'!BN71","v":0},{"$f":"'Life Cycle Analysis Tool'!BO71","v":0},{"$f":"'Life Cycle Analysis Tool'!BP71","v":0},{"$f":"'Life Cycle Analysis Tool'!BQ71","v":0},{"$f":"'Life Cycle Analysis Tool'!BR71","v":0},{"$f":"'Life Cycle Analysis Tool'!BS71","v":0},{"$f":"'Life Cycle Analysis Tool'!BT71","v":0},{"$f":"'Life Cycle Analysis Tool'!BU71","v":0},{"$f":"'Life Cycle Analysis Tool'!BV71","v":0},0,0,0,0,0,0,null,null,null,{"$f":"'Life Cycle Analysis Tool'!CA71","v":"P2"},{"$f":"'Life Cycle Analysis Tool'!CB71","v":0},{"$f":"'Life Cycle Analysis Tool'!CC71","v":0},{"$f":"'Life Cycle Analysis Tool'!CD71","v":0},{"$f":"'Life Cycle Analysis Tool'!CE71","v":0},{"$f":"'Life Cycle Analysis Tool'!CF71","v":0},{"$f":"'Life Cycle Analysis Tool'!CG71","v":0},{"$f":"'Life Cycle Analysis Tool'!CH71","v":0},{"$f":"'Life Cycle Analysis Tool'!CI71","v":0},{"$f":"'Life Cycle Analysis Tool'!CJ71","v":0},{"$f":"'Life Cycle Analysis Tool'!CK71","v":0},{"$f":"'Life Cycle Analysis Tool'!CL71","v":0},{"$f":"'Life Cycle Analysis Tool'!CM71","v":0},{"$f":"'Life Cycle Analysis Tool'!CN71","v":0},{"$f":"'Life Cycle Analysis Tool'!CO71","v":0},0,0,0,0,0,0,null,null,null,null,{"$f":"'Life Cycle Analysis Tool'!CT71","v":"P3"},{"$f":"'Life Cycle Analysis Tool'!CU71","v":0},{"$f":"'Life Cycle Analysis Tool'!CV71","v":0},{"$f":"'Life Cycle Analysis Tool'!CW71","v":0},{"$f":"'Life Cycle Analysis Tool'!CX71","v":0},{"$f":"'Life Cycle Analysis Tool'!CY71","v":0},{"$f":"'Life Cycle Analysis Tool'!CZ71","v":0},{"$f":"'Life Cycle Analysis Tool'!DA71","v":0},{"$f":"'Life Cycle Analysis Tool'!DB71","v":0},{"$f":"'Life Cycle Analysis Tool'!DC71","v":0},{"$f":"'Life Cycle Analysis Tool'!DD71","v":0},{"$f":"'Life Cycle Analysis Tool'!DE71","v":0},{"$f":"'Life Cycle Analysis Tool'!DF71","v":0},{"$f":"'Life Cycle Analysis Tool'!DG71","v":0},{"$f":"'Life Cycle Analysis Tool'!DH71","v":0},0,0,0,0,0,0,null,null,null,{"$f":"'Life Cycle Analysis Tool'!DM71","v":"P4"},{"$f":"'Life Cycle Analysis Tool'!DN71","v":0},{"$f":"'Life Cycle Analysis Tool'!DO71","v":0},{"$f":"'Life Cycle Analysis Tool'!DP71","v":0},{"$f":"'Life Cycle Analysis Tool'!DQ71","v":0},{"$f":"'Life Cycle Analysis Tool'!DR71","v":0},{"$f":"'Life Cycle Analysis Tool'!DS71","v":0},{"$f":"'Life Cycle Analysis Tool'!DT71","v":0},{"$f":"'Life Cycle Analysis Tool'!DU71","v":0},{"$f":"'Life Cycle Analysis Tool'!DV71","v":0},{"$f":"'Life Cycle Analysis Tool'!DW71","v":0},{"$f":"'Life Cycle Analysis Tool'!DX71","v":0},{"$f":"'Life Cycle Analysis Tool'!DY71","v":0},{"$f":"'Life Cycle Analysis Tool'!DZ71","v":0},{"$f":"'Life Cycle Analysis Tool'!EA71","v":0},0,0,0,0,0,0,null,null,null,{"$f":"'Life Cycle Analysis Tool'!EF71","v":"P5"},{"$f":"'Life Cycle Analysis Tool'!EG71","v":0},{"$f":"'Life Cycle Analysis Tool'!EH71","v":0},{"$f":"'Life Cycle Analysis Tool'!EI71","v":0},{"$f":"'Life Cycle Analysis Tool'!EJ71","v":0},{"$f":"'Life Cycle Analysis Tool'!EK71","v":0},{"$f":"'Life Cycle Analysis Tool'!EL71","v":0},{"$f":"'Life Cycle Analysis Tool'!EM71","v":0},{"$f":"'Life Cycle Analysis Tool'!EN71","v":0},{"$f":"'Life Cycle Analysis Tool'!EO71","v":0},{"$f":"'Life Cycle Analysis Tool'!EP71","v":0},{"$f":"'Life Cycle Analysis Tool'!EQ71","v":0},{"$f":"'Life Cycle Analysis Tool'!ER71","v":0},{"$f":"'Life Cycle Analysis Tool'!ES71","v":0},{"$f":"'Life Cycle Analysis Tool'!ET71","v":0},0,0,0,0,0,0,null,null,null,{"$f":"'Life Cycle Analysis Tool'!EY71","v":"P6"},{"$f":"'Life Cycle Analysis Tool'!EZ71","v":0},{"$f":"'Life Cycle Analysis Tool'!FA71","v":0},{"$f":"'Life Cycle Analysis Tool'!FB71","v":0},{"$f":"'Life Cycle Analysis Tool'!FC71","v":0},{"$f":"'Life Cycle Analysis Tool'!FD71","v":0},{"$f":"'Life Cycle Analysis Tool'!FE71","v":0},{"$f":"'Life Cycle Analysis Tool'!FF71","v":0},{"$f":"'Life Cycle Analysis Tool'!FG71","v":0},{"$f":"'Life Cycle Analysis Tool'!FH71","v":0},{"$f":"'Life Cycle Analysis Tool'!FI71","v":0},{"$f":"'Life Cycle Analysis Tool'!FJ71","v":0},{"$f":"'Life Cycle Analysis Tool'!FK71","v":0},{"$f":"'Life Cycle Analysis Tool'!FL71","v":0},{"$f":"'Life Cycle Analysis Tool'!FM71","v":0},0,0,0,0,0,0]
[null,null,null,null,null,null,null,null,null,null,null,null,null,null,"A",null,null,null,null,null,null,null,null,null,null,null,null,null,{"$f":"'Life Cycle Analysis Tool'!AM72","v":0},{"$f":"'Life Cycle Analysis Tool'!AW72","v":{"$error":"#N/A"}},{"$f":"'Life Cycle Analysis Tool'!AX72","v":{"$error":"#N/A"}},{"$f":"'Life Cycle Analysis Tool'!AJ72*AD43","v":{"$error":"#N/A"}},{"$error":"#N/A"},{"$error":"#N/A"},{"$error":"#N/A"},{"$error":"#N/A"},{"$error":"#N/A"},{"$error":"#N/A"},null,{"$error":"#N/A"},{"$error":"#N/A"},{"$error":"#N/A"},{"$error":"#N/A"},{"$error":"#N/A"},{"$error":"#N/A"},null,{"$error":"#N/A"},{"$error":"#N/A"},{"$error":"#N/A"},{"$error":"#N/A"},{"$error":"#N/A"},{"$error":"#N/A"},null,{"$error":"#N/A"},{"$error":"#N/A"},{"$error":"#N/A"},{"$error":"#N/A"},{"$error":"#N/A"},{"$error":"#N/A"},null,{"$error":"#N/A"},{"$error":"#N/A"},{"$error":"#N/A"},{"$error":"#N/A"},{"$error":"#N/A"},{"$error":"#N/A"},null,{"$error":"#N/A"},{"$error":"#N/A"},{"$error":"#N/A"},{"$error":"#N/A"},{"$error":"#N/A"},{"$error":"#N/A"},null,null,null,{"$f":"'Life Cycle Analysis Tool'!BH72","v":"P1"},{"$f":"'Life Cycle Analysis Tool'!BI72","v":0},{"$f":"'Life Cycle Analysis Tool'!BJ72","v":0},{"$f":"'Life Cycle Analysis Tool'!BK72","v":0},{"$f":"'Life Cycle Analysis Tool'!BL72","v":0},{"$f":"'Life Cycle Analysis Tool'!BM72","v":0},{"$f":"'Life Cycle Analysis Tool'!BN72","v":0},{"$f":"'Life Cycle Analysis Tool'!BO72","v":0},{"$f":"'Life Cycle Analysis Tool'!BP72","v":0},{"$f":"'Life Cycle Analysis Tool'!BQ72","v":0},{"$f":"'Life Cycle Analysis Tool'!BR72","v":0},{"$f":"'Life Cycle Analysis Tool'!BS72","v":0},{"$f":"'Life Cycle Analysis Tool'!BT72","v":0},{"$f":"'Life Cycle Analysis Tool'!BU72","v":0},{"$f":"'Life Cycle Analysis Tool'!BV72","v":0},0,0,0,0,0,0,null,null,null,{"$f":"'Life Cycle Analysis Tool'!CA72","v":"P2"},{"$f":"'Life Cycle Analysis Tool'!CB72","v":0},{"$f":"'Life Cycle Analysis Tool'!CC72","v":0},{"$f":"'Life Cycle Analysis Tool'!CD72","v":0},{"$f":"'Life Cycle Analysis Tool'!CE72","v":0},{"$f":"'Life Cycle Analysis Tool'!CF72","v":0},{"$f":"'Life Cycle Analysis Tool'!CG72","v":0},{"$f":"'Life Cycle Analysis Tool'!CH72","v":0},{"$f":"'Life Cycle Analysis Tool'!CI72","v":0},{"$f":"'Life Cycle Analysis Tool'!CJ72","v":0},{"$f":"'Life Cycle Analysis Tool'!CK72","v":0},{"$f":"'Life Cycle Analysis Tool'!CL72","v":0},{"$f":"'Life Cycle Analysis Tool'!CM72","v":0},{"$f":"'Life Cycle Analysis Tool'!CN72","v":0},{"$f":"'Life Cycle Analysis Tool'!CO72","v":0},0,0,0,0,0,0,null,null,null,null,{"$f":"'Life Cycle Analysis Tool'!CT72","v":"P3"},{"$f":"'Life Cycle Analysis Tool'!CU72","v":0},{"$f":"'Life Cycle Analysis Tool'!CV72","v":0},{"$f":"'Life Cycle Analysis Tool'!CW72","v":0},{"$f":"'Life Cycle Analysis Tool'!CX72","v":0},{"$f":"'Life Cycle Analysis Tool'!CY72","v":0},{"$f":"'Life Cycle Analysis Tool'!CZ72","v":0},{"$f":"'Life Cycle Analysis Tool'!DA72","v":0},{"$f":"'Life Cycle Analysis Tool'!DB72","v":0},{"$f":"'Life Cycle Analysis Tool'!DC72","v":0},{"$f":"'Life Cycle Analysis Tool'!DD72","v":0},{"$f":"'Life Cycle Analysis Tool'!DE72","v":0},{"$f":"'Life Cycle Analysis Tool'!DF72","v":0},{"$f":"'Life Cycle Analysis Tool'!DG72","v":0},{"$f":"'Life Cycle Analysis Tool'!DH72","v":0},0,0,0,0,0,0,null,null,null,{"$f":"'Life Cycle Analysis Tool'!DM72","v":"P4"},{"$f":"'Life Cycle Analysis Tool'!DN72","v":0},{"$f":"'Life Cycle Analysis Tool'!DO72","v":0},{"$f":"'Life Cycle Analysis Tool'!DP72","v":0},{"$f":"'Life Cycle Analysis Tool'!DQ72","v":0},{"$f":"'Life Cycle Analysis Tool'!DR72","v":0},{"$f":"'Life Cycle Analysis Tool'!DS72","v":0},{"$f":"'Life Cycle Analysis Tool'!DT72","v":0},{"$f":"'Life Cycle Analysis Tool'!DU72","v":0},{"$f":"'Life Cycle Analysis Tool'!DV72","v":0},{"$f":"'Life Cycle Analysis Tool'!DW72","v":0},{"$f":"'Life Cycle Analysis Tool'!DX72","v":0},{"$f":"'Life Cycle Analysis Tool'!DY72","v":0},{"$f":"'Life Cycle Analysis Tool'!DZ72","v":0},{"$f":"'Life Cycle Analysis Tool'!EA72","v":0},0,0,0,0,0,0,null,null,null,{"$f":"'Life Cycle Analysis Tool'!EF72","v":"P5"},{"$f":"'Life Cycle Analysis Tool'!EG72","v":0},{"$f":"'Life Cycle Analysis Tool'!EH72","v":0},{"$f":"'Life Cycle Analysis Tool'!EI72","v":0},{"$f":"'Life Cycle Analysis Tool'!EJ72","v":0},{"$f":"'Life Cycle Analysis Tool'!EK72","v":0},{"$f":"'Life Cycle Analysis Tool'!EL72","v":0},{"$f":"'Life Cycle Analysis Tool'!EM72","v":0},{"$f":"'Life Cycle Analysis Tool'!EN72","v":0},{"$f":"'Life Cycle Analysis Tool'!EO72","v":0},{"$f":"'Life Cycle Analysis Tool'!EP72","v":0},{"$f":"'Life Cycle Analysis Tool'!EQ72","v":0},{"$f":"'Life Cycle Analysis Tool'!ER72","v":0},{"$f":"'Life Cycle Analysis Tool'!ES72","v":0},{"$f":"'Life Cycle Analysis Tool'!ET72","v":0},0,0,0,0,0,0,null,null,null,{"$f":"'Life Cycle Analysis Tool'!EY72","v":"P6"},{"$f":"'Life Cycle Analysis Tool'!EZ72","v":0},{"$f":"'Life Cycle Analysis Tool'!FA72","v":0},{"$f":"'Life Cycle Analysis Tool'!FB72","v":0},{"$f":"'Life Cycle Analysis Tool'!FC72","v":0},{"$f":"'Life Cycle Analysis Tool'!FD72","v":0},{"$f":"'Life Cycle Analysis Tool'!FE72","v":0},{"$f":"'Life Cycle Analysis Tool'!FF72","v":0},{"$f":"'Life Cycle Analysis Tool'!FG72","v":0},{"$f":"'Life Cycle Analysis Tool'!FH72","v":0},{"$f":"'Life Cycle Analysis Tool'!FI72","v":0},{"$f":"'Life Cycle Analysis Tool'!FJ72","v":0},{"$f":"'Life Cycle Analysis Tool'!FK72","v":0},{"$f":"'Life Cycle Analysis Tool'!FL72","v":0},{"$f":"'Life Cycle Analysis Tool'!FM72","v":0},0,0,0,0,0,0]
[null,null,null,null,null,null,null,null,null,null,null,null,null,null,"A",null,null,null,null,null,null,null,null,null,null,null,null,null,{"$f":"'Life Cycle Analysis Tool'!AM73","v":0},{"$f":"'Life Cycle Analysis Tool'!AW73","v":{"$error":"#N/A"}},{"$f":"'Life Cycle Analysis Tool'!AX73","v":{"$error":"#N/A"}},{"$f":"'Life Cycle Analysis Tool'!AJ73*AD44","v":{"$error":"#N/A"}},{"$error":"#N/A"},{"$error":"#N/A"},{"$error":"#N/A"},{"$error":"#N/A"},{"$error":"#N/A"},{"$error":"#N/A"},null,{"$error":"#N/A"},{"$error":"#N/A"},{"$error":"#N/A"},{"$error":"#N/A"},{"$error":"#N/A"},{"$error":"#N/A"},null,{"$error":"#N/A"},{"$error":"#N/A"},{"$error":"#N/A"},{"$error":"#N/A"},{"$error":"#N/A"},{"$error":"#N/A"},null,{"$error":"#N/A"},{"$error":"#N/A"},{"$error":"#N/A"},{"$error":"#N/A"},{"$error":"#N/A"},{"$error":"#N/A"},null,{"$error":"#N/A"},{"$error":"#N/A"},{"$error":"#N/A"},{"$error":"#N/A"},{"$error":"#N/A"},{"$error":"#N/A"},null,{"$error":"#N/A"},{"$error":"#N/A"},{"$error":"#N/A"},{"$error":"#N/A"},{"$error":"#N/A"},{"$error":"#N/A"},null,null,null,{"$f":"'Life Cycle Analysis Tool'!BH73","v":"P1"},{"$f":"'Life Cycle Analysis Tool'!BI73","v":0},{"$f":"'Life Cycle Analysis Tool'!BJ73","v":0},{"$f":"'Life Cycle Analysis Tool'!BK73","v":0},{"$f":"'Life Cycle Analysis Tool'!BL73","v":0},{"$f":"'Life Cycle Analysis Tool'!BM73","v":0},{"$f":"'Life Cycle Analysis Tool'!BN73","v":0},{"$f":"'Life Cycle Analysis Tool'!BO73","v":0},{"$f":"'Life Cycle Analysis Tool'!BP73","v":0},{"$f":"'Life Cycle Analysis Tool'!BQ73","v":0},{"$f":"'Life Cycle Analysis Tool'!BR73","v":0},{"$f":"'Life Cycle Analysis Tool'!BS73","v":0},{"$f":"'Life Cycle Analysis Tool'!BT73","v":0},{"$f":"'Life Cycle Analysis Tool'!BU73","v":0},{"$f":"'Life Cycle Analysis Tool'!BV73","v":0},0,0,0,0,0,0,null,null,null,{"$f":"'Life Cycle Analysis Tool'!CA73","v":"P2"},{"$f":"'Life Cycle Analysis Tool'!CB73","v":0},{"$f":"'Life Cycle Analysis Tool'!CC73","v":0},{"$f":"'Life Cycle Analysis Tool'!CD73","v":0},{"$f":"'Life Cycle Analysis Tool'!CE73","v":0},{"$f":"'Life Cycle Analysis Tool'!CF73","v":0},{"$f":"'Life Cycle Analysis Tool'!CG73","v":0},{"$f":"'Life Cycle Analysis Tool'!CH73","v":0},{"$f":"'Life Cycle Analysis Tool'!CI73","v":0},{"$f":"'Life Cycle Analysis Tool'!CJ73","v":0},{"$f":"'Life Cycle Analysis Tool'!CK73","v":0},{"$f":"'Life Cycle Analysis Tool'!CL73","v":0},{"$f":"'Life Cycle Analysis Tool'!CM73","v":0},{"$f":"'Life Cycle Analysis Tool'!CN73","v":0},{"$f":"'Life Cycle Analysis Tool'!CO73","v":0},0,0,0,0,0,0,null,null,null,null,{"$f":"'Life Cycle Analysis Tool'!CT73","v":"P3"},{"$f":"'Life Cycle Analysis Tool'!CU73","v":0},{"$f":"'Life Cycle Analysis Tool'!CV73","v":0},{"$f":"'Life Cycle Analysis Tool'!CW73","v":0},{"$f":"'Life Cycle Analysis Tool'!CX73","v":0},{"$f":"'Life Cycle Analysis Tool'!CY73","v":0},{"$f":"'Life Cycle Analysis Tool'!CZ73","v":0},{"$f":"'Life Cycle Analysis Tool'!DA73","v":0},{"$f":"'Life Cycle Analysis Tool'!DB73","v":0},{"$f":"'Life Cycle Analysis Tool'!DC73","v":0},{"$f":"'Life Cycle Analysis Tool'!DD73","v":0},{"$f":"'Life Cycle Analysis Tool'!DE73","v":0},{"$f":"'Life Cycle Analysis Tool'!DF73","v":0},{"$f":"'Life Cycle Analysis Tool'!DG73","v":0},{"$f":"'Life Cycle Analysis Tool'!DH73","v":0},0,0,0,0,0,0,null,null,null,{"$f":"'Life Cycle Analysis Tool'!DM73","v":"P4"},{"$f":"'Life Cycle Analysis Tool'!DN73","v":0},{"$f":"'Life Cycle Analysis Tool'!DO73","v":0},{"$f":"'Life Cycle Analysis Tool'!DP73","v":0},{"$f":"'Life Cycle Analysis Tool'!DQ73","v":0},{"$f":"'Life Cycle Analysis Tool'!DR73","v":0},{"$f":"'Life Cycle Analysis Tool'!DS73","v":0},{"$f":"'Life Cycle Analysis Tool'!DT73","v":0},{"$f":"'Life Cycle Analysis Tool'!DU73","v":0},{"$f":"'Life Cycle Analysis Tool'!DV73","v":0},{"$f":"'Life Cycle Analysis Tool'!DW73","v":0},{"$f":"'Life Cycle Analysis Tool'!DX73","v":0},{"$f":"'Life Cycle Analysis Tool'!DY73","v":0},{"$f":"'Life Cycle Analysis Tool'!DZ73","v":0},{"$f":"'Life Cycle Analysis Tool'!EA73","v":0},0,0,0,0,0,0,null,null,null,{"$f":"'Life Cycle Analysis Tool'!EF73","v":"P5"},{"$f":"'Life Cycle Analysis Tool'!EG73","v":0},{"$f":"'Life Cycle Analysis Tool'!EH73","v":0},{"$f":"'Life Cycle Analysis Tool'!EI73","v":0},{"$f":"'Life Cycle Analysis Tool'!EJ73","v":0},{"$f":"'Life Cycle Analysis Tool'!EK73","v":0},{"$f":"'Life Cycle Analysis Tool'!EL73","v":0},{"$f":"'Life Cycle Analysis Tool'!EM73","v":0},{"$f":"'Life Cycle Analysis Tool'!EN73","v":0},{"$f":"'Life Cycle Analysis Tool'!EO73","v":0},{"$f":"'Life Cycle Analysis Tool'!EP73","v":0},{"$f":"'Life Cycle Analysis Tool'!EQ73","v":0},{"$f":"'Life Cycle Analysis Tool'!ER73","v":0},{"$f":"'Life Cycle Analysis Tool'!ES73","v":0},{"$f":"'Life Cycle Analysis Tool'!ET73","v":0},0,0,0,0,0,0,null,null,null,{"$f":"'Life Cycle Analysis Tool'!EY73","v":"P6"},{"$f":"'Life Cycle Analysis Tool'!EZ73","v":0},{"$f":"'Life Cycle Analysis Tool'!FA73","v":0},{"$f":"'Life Cycle Analysis Tool'!FB73","v":0},{"$f":"'Life Cycle Analysis Tool'!FC73","v":0},{"$f":"'Life Cycle Analysis Tool'!FD73","v":0},{"$f":"'Life Cycle Analysis Tool'!FE73","v":0},{"$f":"'Life Cycle Analysis Tool'!FF73","v":0},{"$f":"'Life Cycle Analysis Tool'!FG73","v":0},{"$f":"'Life Cycle Analysis Tool'!FH73","v":0},{"$f":"'Life Cycle Analysis Tool'!FI73","v":0},{"$f":"'Life Cycle Analysis Tool'!FJ73","v":0},{"$f":"'Life Cycle Analysis Tool'!FK73","v":0},{"$f":"'Life Cycle Analysis Tool'!FL73","v":0},{"$f":"'Life Cycle Analysis Tool'!FM73","v":0},0,0,0,0,0,0]
[null,null,null,null,null,null,null,null,null,null,null,null,null,null,"A",null,null,null,null,null,null,null,null,null,null,null,null,null,{"$f":"'Life Cycle Analysis Tool'!AM74","v":0},{"$f":"'Life Cycle Analysis Tool'!AW74","v":{"$error":"#N/A"}},{"$f":"'Life Cycle Analysis Tool'!AX74","v":{"$error":"#N/A"}},{"$f":"'Life Cycle Analysis Tool'!AJ74*AD45","v":{"$error":"#N/A"}},{"$error":"#N/A"},{"$error":"#N/A"},{"$error":"#N/A"},{"$error":"#N/A"},{"$error":"#N/A"},{"$error":"#N/A"},null,{"$error":"#N/A"},{"$error":"#N/A"},{"$error":"#N/A"},{"$error":"#N/A"},{"$error":"#N/A"},{"$error":"#N/A"},null,{"$error":"#N/A"},{"$error":"#N/A"},{"$error":"#N/A"},{"$error":"#N/A"},{"$error":"#N/A"},{"$error":"#N/A"},null,{"$error":"#N/A"},{"$error":"#N/A"},{"$error":"#N/A"},{"$error":"#N/A"},{"$error":"#N/A"},{"$error":"#N/A"},null,{"$error":"#N/A"},{"$error":"#N/A"},{"$error":"#N/A"},{"$error":"#N/A"},{"$error":"#N/A"},{"$error":"#N/A"},null,{"$error":"#N/A"},{"$error":"#N/A"},{"$error":"#N/A"},{"$error":"#N/A"},{"$error":"#N/A"},{"$error":"#N/A"},null,null,null,{"$f":"'Life Cycle Analysis Tool'!BH74","v":"P1"},{"$f":"'Life Cycle Analysis Tool'!BI74","v":0},{"$f":"'Life Cycle Analysis Tool'!BJ74","v":0},{"$f":"'Life Cycle Analysis Tool'!BK74","v":0},{"$f":"'Life Cycle Analysis Tool'!BL74","v":0},{"$f":"'Life Cycle Analysis Tool'!BM74","v":0},{"$f":"'Life Cycle Analysis Tool'!BN74","v":0},{"$f":"'Life Cycle Analysis Tool'!BO74","v":0},{"$f":"'Life Cycle Analysis Tool'!BP74","v":0},{"$f":"'Life Cycle Analysis Tool'!BQ74","v":0},{"$f":"'Life Cycle Analysis Tool'!BR74","v":0},{"$f":"'Life Cycle Analysis Tool'!BS74","v":0},{"$f":"'Life Cycle Analysis Tool'!BT74","v":0},{"$f":"'Life Cycle Analysis Tool'!BU74","v":0},{"$f":"'Life Cycle Analysis Tool'!BV74","v":0},0,0,0,0,0,0,null,null,null,{"$f":"'Life Cycle Analysis Tool'!CA74","v":"P2"},{"$f":"'Life Cycle Analysis Tool'!CB74","v":0},{"$f":"'Life Cycle Analysis Tool'!CC74","v":0},{"$f":"'Life Cycle Analysis Tool'!CD74","v":0},{"$f":"'Life Cycle Analysis Tool'!CE74","v":0},{"$f":"'Life Cycle Analysis Tool'!CF74","v":0},{"$f":"'Life Cycle Analysis Tool'!CG74","v":0},{"$f":"'Life Cycle Analysis Tool'!CH74","v":0},{"$f":"'Life Cycle Analysis Tool'!CI74","v":0},{"$f":"'Life Cycle Analysis Tool'!CJ74","v":0},{"$f":"'Life Cycle Analysis Tool'!CK74","v":0},{"$f":"'Life Cycle Analysis Tool'!CL74","v":0},{"$f":"'Life Cycle Analysis Tool'!CM74","v":0},{"$f":"'Life Cycle Analysis Tool'!CN74","v":0},{"$f":"'Life Cycle Analysis Tool'!CO74","v":0},0,0,0,0,0,0,null,null,null,null,{"$f":"'Life Cycle Analysis Tool'!CT74","v":"P3"},{"$f":"'Life Cycle Analysis Tool'!CU74","v":0},{"$f":"'Life Cycle Analysis Tool'!CV74","v":0},{"$f":"'Life Cycle Analysis Tool'!CW74","v":0},{"$f":"'Life Cycle Analysis Tool'!CX74","v":0},{"$f":"'Life Cycle Analysis Tool'!CY74","v":0},{"$f":"'Life Cycle Analysis Tool'!CZ74","v":0},{"$f":"'Life Cycle Analysis Tool'!DA74","v":0},{"$f":"'Life Cycle Analysis Tool'!DB74","v":0},{"$f":"'Life Cycle Analysis Tool'!DC74","v":0},{"$f":"'Life Cycle Analysis Tool'!DD74","v":0},{"$f":"'Life Cycle Analysis Tool'!DE74","v":0},{"$f":"'Life Cycle Analysis Tool'!DF74","v":0},{"$f":"'Life Cycle Analysis Tool'!DG74","v":0},{"$f":"'Life Cycle Analysis Tool'!DH74","v":0},0,0,0,0,0,0,null,null,null,{"$f":"'Life Cycle Analysis Tool'!DM74","v":"P4"},{"$f":"'Life Cycle Analysis Tool'!DN74","v":0},{"$f":"'Life Cycle Analysis Tool'!DO74","v":0},{"$f":"'Life Cycle Analysis Tool'!DP74","v":0},{"$f":"'Life Cycle Analysis Tool'!DQ74","v":0},{"$f":"'Life Cycle Analysis Tool'!DR74","v":0},{"$f":"'Life Cycle Analysis Tool'!DS74","v":0},{"$f":"'Life Cycle Analysis Tool'!DT74","v":0},{"$f":"'Life Cycle Analysis Tool'!DU74","v":0},{"$f":"'Life Cycle Analysis Tool'!DV74","v":0},{"$f":"'Life Cycle Analysis Tool'!DW74","v":0},{"$f":"'Life Cycle Analysis Tool'!DX74","v":0},{"$f":"'Life Cycle Analysis Tool'!DY74","v":0},{"$f":"'Life Cycle Analysis Tool'!DZ74","v":0},{"$f":"'Life Cycle Analysis Tool'!EA74","v":0},0,0,0,0,0,0,null,null,null,{"$f":"'Life Cycle Analysis Tool'!EF74","v":"P5"},{"$f":"'Life Cycle Analysis Tool'!EG74","v":0},{"$f":"'Life Cycle Analysis Tool'!EH74","v":0},{"$f":"'Life Cycle Analysis Tool'!EI74","v":0},{"$f":"'Life Cycle Analysis Tool'!EJ74","v":0},{"$f":"'Life Cycle Analysis Tool'!EK74","v":0},{"$f":"'Life Cycle Analysis Tool'!EL74","v":0},{"$f":"'Life Cycle Analysis Tool'!EM74","v":0},{"$f":"'Life Cycle Analysis Tool'!EN74","v":0},{"$f":"'Life Cycle Analysis Tool'!EO74","v":0},{"$f":"'Life Cycle Analysis Tool'!EP74","v":0},{"$f":"'Life Cycle Analysis Tool'!EQ74","v":0},{"$f":"'Life Cycle Analysis Tool'!ER74","v":0},{"$f":"'Life Cycle Analysis Tool'!ES74","v":0},{"$f":"'Life Cycle Analysis Tool'!ET74","v":0},0,0,0,0,0,0,null,null,null,{"$f":"'Life Cycle Analysis Tool'!EY74","v":"P6"},{"$f":"'Life Cycle Analysis Tool'!EZ74","v":0},{"$f":"'Life Cycle Analysis Tool'!FA74","v":0},{"$f":"'Life Cycle Analysis Tool'!FB74","v":0},{"$f":"'Life Cycle Analysis Tool'!FC74","v":0},{"$f":"'Life Cycle Analysis Tool'!FD74","v":0},{"$f":"'Life Cycle Analysis Tool'!FE74","v":0},{"$f":"'Life Cycle Analysis Tool'!FF74","v":0},{"$f":"'Life Cycle Analysis Tool'!FG74","v":0},{"$f":"'Life Cycle Analysis Tool'!FH74","v":0},{"$f":"'Life Cycle Analysis Tool'!FI74","v":0},{"$f":"'Life Cycle Analysis Tool'!FJ74","v":0},{"$f":"'Life Cycle Analysis Tool'!FK74","v":0},{"$f":"'Life Cycle Analysis Tool'!FL74","v":0},{"$f":"'Life Cycle Analysis Tool'!FM74","v":0},0,0,0,0,0,0]
[null,null,null,null,null,null,null,null,null,null,null,null,null,null,null,null,null,null,null,null,null,null,null,null,null,null,null,null,{"$f":"'Life Cycle Analysis Tool'!AM75","v":0},{"$f":"'Life Cycle Analysis Tool'!AW75","v":{"$error":"#N/A"}},{"$f":"'Life Cycle Analysis Tool'!AX75","v":{"$error":"#N/A"}},{"$f":"'Life Cycle Analysis Tool'!AJ75*AD46","v":{"$error":"#N/A"}},{"$error":"#N/A"},{"$error":"#N/A"},{"$error":"#N/A"},{"$error":"#N/A"},{"$error":"#N/A"},{"$error":"#N/A"},null,{"$error":"#N/A"},{"$error":"#N/A"},{"$error":"#N/A"},{"$error":"#N/A"},{"$error":"#N/A"},{"$error":"#N/A"},null,{"$error":"#N/A"},{"$error":"#N/A"},{"$error":"#N/A"},{"$error":"#N/A"},{"$error":"#N/A"},{"$error":"#N/A"},null,{"$error":"#N/A"},{"$error":"#N/A"},{"$error":"#N/A"},{"$error":"#N/A"},{"$error":"#N/A"},{"$error":"#N/A"},null,{"$error":"#N/A"},{"$error":"#N/A"},{"$error":"#N/A"},{"$error":"#N/A"},{"$error":"#N/A"},{"$error":"#N/A"},null,{"$error":"#N/A"},{"$error":"#N/A"},{"$error":"#N/A"},{"$error":"#N/A"},{"$error":"#N/A"},{"$error":"#N/A"},null,null,null,{"$f":"'Life Cycle Analysis Tool'!BH75","v":"P1"},{"$f":"'Life Cycle Analysis Tool'!BI75","v":0},{"$f":"'Life Cycle Analysis Tool'!BJ75","v":0},{"$f":"'Life Cycle Analysis Tool'!BK75","v":0},{"$f":"'Life Cycle Analysis Tool'!BL75","v":0},{"$f":"'Life Cycle Analysis Tool'!BM75","v":0},{"$f":"'Life Cycle Analysis Tool'!BN75","v":0},{"$f":"'Life Cycle Analysis Tool'!BO75","v":0},{"$f":"'Life Cycle Analysis Tool'!BP75","v":0},{"$f":"'Life Cycle Analysis Tool'!BQ75","v":0},{"$f":"'Life Cycle Analysis Tool'!BR75","v":0},{"$f":"'Life Cycle Analysis Tool'!BS75","v":0},{"$f":"'Life Cycle Analysis Tool'!BT75","v":0},{"$f":"'Life Cycle Analysis Tool'!BU75","v":0},{"$f":"'Life Cycle Analysis Tool'!BV75","v":0},0,0,0,0,0,0,null,null,null,{"$f":"'Life Cycle Analysis Tool'!CA75","v":"P2"},{"$f":"'Life Cycle Analysis Tool'!CB75","v":0},{"$f":"'Life Cycle Analysis Tool'!CC75","v":0},{"$f":"'Life Cycle Analysis Tool'!CD75","v":0},{"$f":"'Life Cycle Analysis Tool'!CE75","v":0},{"$f":"'Life Cycle Analysis Tool'!CF75","v":0},{"$f":"'Life Cycle Analysis Tool'!CG75","v":0},{"$f":"'Life Cycle Analysis Tool'!CH75","v":0},{"$f":"'Life Cycle Analysis Tool'!CI75","v":0},{"$f":"'Life Cycle Analysis Tool'!CJ75","v":0},{"$f":"'Life Cycle Analysis Tool'!CK75","v":0},{"$f":"'Life Cycle Analysis Tool'!CL75","v":0},{"$f":"'Life Cycle Analysis Tool'!CM75","v":0},{"$f":"'Life Cycle Analysis Tool'!CN75","v":0},{"$f":"'Life Cycle Analysis Tool'!CO75","v":0},0,0,0,0,0,0,null,null,null,null,{"$f":"'Life Cycle Analysis Tool'!CT75","v":"P3"},{"$f":"'Life Cycle Analysis Tool'!CU75","v":0},{"$f":"'Life Cycle Analysis Tool'!CV75","v":0},{"$f":"'Life Cycle Analysis Tool'!CW75","v":0},{"$f":"'Life Cycle Analysis Tool'!CX75","v":0},{"$f":"'Life Cycle Analysis Tool'!CY75","v":0},{"$f":"'Life Cycle Analysis Tool'!CZ75","v":0},{"$f":"'Life Cycle Analysis Tool'!DA75","v":0},{"$f":"'Life Cycle Analysis Tool'!DB75","v":0},{"$f":"'Life Cycle Analysis Tool'!DC75","v":0},{"$f":"'Life Cycle Analysis Tool'!DD75","v":0},{"$f":"'Life Cycle Analysis Tool'!DE75","v":0},{"$f":"'Life Cycle Analysis Tool'!DF75","v":0},{"$f":"'Life Cycle Analysis Tool'!DG75","v":0},{"$f":"'Life Cycle Analysis Tool'!DH75","v":0},0,0,0,0,0,0,null,null,null,{"$f":"'Life Cycle Analysis Tool'!DM75","v":"P4"},{"$f":"'Life Cycle Analysis Tool'!DN75","v":0},{"$f":"'Life Cycle Analysis Tool'!DO75","v":0},{"$f":"'Life Cycle Analysis Tool'!DP75","v":0},{"$f":"'Life Cycle Analysis Tool'!DQ75","v":0},{"$f":"'Life Cycle Analysis Tool'!DR75","v":0},{"$f":"'Life Cycle Analysis Tool'!DS75","v":0},{"$f":"'Life Cycle Analysis Tool'!DT75","v":0},{"$f":"'Life Cycle Analysis Tool'!DU75","v":0},{"$f":"'Life Cycle Analysis Tool'!DV75","v":0},{"$f":"'Life Cycle Analysis Tool'!DW75","v":0},{"$f":"'Life Cycle Analysis Tool'!DX75","v":0},{"$f":"'Life Cycle Analysis Tool'!DY75","v":0},{"$f":"'Life Cycle Analysis Tool'!DZ75","v":0},{"$f":"'Life Cycle Analysis Tool'!EA75","v":0},0,0,0,0,0,0,null,null,null,{"$f":"'Life Cycle Analysis Tool'!EF75","v":"P5"},{"$f":"'Life Cycle Analysis Tool'!EG75","v":0},{"$f":"'Life Cycle Analysis Tool'!EH75","v":0},{"$f":"'Life Cycle Analysis Tool'!EI75","v":0},{"$f":"'Life Cycle Analysis Tool'!EJ75","v":0},{"$f":"'Life Cycle Analysis Tool'!EK75","v":0},{"$f":"'Life Cycle Analysis Tool'!EL75","v":0},{"$f":"'Life Cycle Analysis Tool'!EM75","v":0},{"$f":"'Life Cycle Analysis Tool'!EN75","v":0},{"$f":"'Life Cycle Analysis Tool'!EO75","v":0},{"$f":"'Life Cycle Analysis Tool'!EP75","v":0},{"$f":"'Life Cycle Analysis Tool'!EQ75","v":0},{"$f":"'Life Cycle Analysis Tool'!ER75","v":0},{"$f":"'Life Cycle Analysis Tool'!ES75","v":0},{"$f":"'Life Cycle Analysis Tool'!ET75","v":0},0,0,0,0,0,0,null,null,null,{"$f":"'Life Cycle Analysis Tool'!EY75","v":"P6"},{"$f":"'Life Cycle Analysis Tool'!EZ75","v":0},{"$f":"'Life Cycle Analysis Tool'!FA75","v":0},{"$f":"'Life Cycle Analysis Tool'!FB75","v":0},{"$f":"'Life Cycle Analysis Tool'!FC75","v":0},{"$f":"'Life Cycle Analysis Tool'!FD75","v":0},{"$f":"'Life Cycle Analysis Tool'!FE75","v":0},{"$f":"'Life Cycle Analysis Tool'!FF75","v":0},{"$f":"'Life Cycle Analysis Tool'!FG75","v":0},{"$f":"'Life Cycle Analysis Tool'!FH75","v":0},{"$f":"'Life Cycle Analysis Tool'!FI75","v":0},{"$f":"'Life Cycle Analysis Tool'!FJ75","v":0},{"$f":"'Life Cycle Analysis Tool'!FK75","v":0},{"$f":"'Life Cycle Analysis Tool'!FL75","v":0},{"$f":"'Life Cycle Analysis Tool'!FM75","v":0},0,0,0,0,0,0]
[null,null,null,null,null,null,null,null,null,null,null,null,null,null,null,null,null,null,null,null,null,null,null,null,null,null,null,null,{"$f":"'Life Cycle Analysis Tool'!AM76","v":0},{"$f":"'Life Cycle Analysis Tool'!AW76","v":{"$error":"#N/A"}},{"$f":"'Life Cycle Analysis Tool'!AX76","v":{"$error":"#N/A"}},{"$f":"'Life Cycle Analysis Tool'!AJ76*AD47","v":{"$error":"#N/A"}},{"$error":"#N/A"},{"$error":"#N/A"},{"$error":"#N/A"},{"$error":"#N/A"},{"$error":"#N/A"},{"$error":"#N/A"},null,{"$error":"#N/A"},{"$error":"#N/A"},{"$error":"#N/A"},{"$error":"#N/A"},{"$error":"#N/A"},{"$error":"#N/A"},null,{"$error":"#N/A"},{"$error":"#N/A"},{"$error":"#N/A"},{"$error":"#N/A"},{"$error":"#N/A"},{"$error":"#N/A"},null,{"$error":"#N/A"},{"$error":"#N/A"},{"$error":"#N/A"},{"$error":"#N/A"},{"$error":"#N/A"},{"$error":"#N/A"},null,{"$error":"#N/A"},{"$error":"#N/A"},{"$error":"#N/A"},{"$error":"#N/A"},{"$error":"#N/A"},{"$error":"#N/A"},null,{"$error":"#N/A"},{"$error":"#N/A"},{"$error":"#N/A"},{"$error":"#N/A"},{"$error":"#N/A"},{"$error":"#N/A"},null,null,null,{"$f":"'Life Cycle Analysis Tool'!BH76","v":"P1"},{"$f":"'Life Cycle Analysis Tool'!BI76","v":0},{"$f":"'Life Cycle Analysis Tool'!BJ76","v":0},{"$f":"'Life Cycle Analysis Tool'!BK76","v":0},{"$f":"'Life Cycle Analysis Tool'!BL76","v":0},{"$f":"'Life Cycle Analysis Tool'!BM76","v":0},{"$f":"'Life Cycle Analysis Tool'!BN76","v":0},{"$f":"'Life Cycle Analysis Tool'!BO76","v":0},{"$f":"'Life Cycle Analysis Tool'!BP76","v":0},{"$f":"'Life Cycle Analysis Tool'!BQ76","v":0},{"$f":"'Life Cycle Analysis Tool'!BR76","v":0},{"$f":"'Life Cycle Analysis Tool'!BS76","v":0},{"$f":"'Life Cycle Analysis Tool'!BT76","v":0},{"$f":"'Life Cycle Analysis Tool'!BU76","v":0},{"$f":"'Life Cycle Analysis Tool'!BV76","v":0},0,0,0,0,0,0,null,null,null,{"$f":"'Life Cycle Analysis Tool'!CA76","v":"P2"},{"$f":"'Life Cycle Analysis Tool'!CB76","v":0},{"$f":"'Life Cycle Analysis Tool'!CC76","v":0},{"$f":"'Life Cycle Analysis Tool'!CD76","v":0},{"$f":"'Life Cycle Analysis Tool'!CE76","v":0},{"$f":"'Life Cycle Analysis Tool'!CF76","v":0},{"$f":"'Life Cycle Analysis Tool'!CG76","v":0},{"$f":"'Life Cycle Analysis Tool'!CH76","v":0},{"$f":"'Life Cycle Analysis Tool'!CI76","v":0},{"$f":"'Life Cycle Analysis Tool'!CJ76","v":0},{"$f":"'Life Cycle Analysis Tool'!CK76","v":0},{"$f":"'Life Cycle Analysis Tool'!CL76","v":0},{"$f":"'Life Cycle Analysis Tool'!CM76","v":0},{"$f":"'Life Cycle Analysis Tool'!CN76","v":0},{"$f":"'Life Cycle Analysis Tool'!CO76","v":0},0,0,0,0,0,0,null,null,null,null,{"$f":"'Life Cycle Analysis Tool'!CT76","v":"P3"},{"$f":"'Life Cycle Analysis Tool'!CU76","v":0},{"$f":"'Life Cycle Analysis Tool'!CV76","v":0},{"$f":"'Life Cycle Analysis Tool'!CW76","v":0},{"$f":"'Life Cycle Analysis Tool'!CX76","v":0},{"$f":"'Life Cycle Analysis Tool'!CY76","v":0},{"$f":"'Life Cycle Analysis Tool'!CZ76","v":0},{"$f":"'Life Cycle Analysis Tool'!DA76","v":0},{"$f":"'Life Cycle Analysis Tool'!DB76","v":0},{"$f":"'Life Cycle Analysis Tool'!DC76","v":0},{"$f":"'Life Cycle Analysis Tool'!DD76","v":0},{"$f":"'Life Cycle Analysis Tool'!DE76","v":0},{"$f":"'Life Cycle Analysis Tool'!DF76","v":0},{"$f":"'Life Cycle Analysis Tool'!DG76","v":0},{"$f":"'Life Cycle Analysis Tool'!DH76","v":0},0,0,0,0,0,0,null,null,null,{"$f":"'Life Cycle Analysis Tool'!DM76","v":"P4"},{"$f":"'Life Cycle Analysis Tool'!DN76","v":0},{"$f":"'Life Cycle Analysis Tool'!DO76","v":0},{"$f":"'Life Cycle Analysis Tool'!DP76","v":0},{"$f":"'Life Cycle Analysis Tool'!DQ76","v":0},{"$f":"'Life Cycle Analysis Tool'!DR76","v":0},{"$f":"'Life Cycle Analysis Tool'!DS76","v":0},{"$f":"'Life Cycle Analysis Tool'!DT76","v":0},{"$f":"'Life Cycle Analysis Tool'!DU76","v":0},{"$f":"'Life Cycle Analysis Tool'!DV76","v":0},{"$f":"'Life Cycle Analysis Tool'!DW76","v":0},{"$f":"'Life Cycle Analysis Tool'!DX76","v":0},{"$f":"'Life Cycle Analysis Tool'!DY76","v":0},{"$f":"'Life Cycle Analysis Tool'!DZ76","v":0},{"$f":"'Life Cycle Analysis Tool'!EA76","v":0},0,0,0,0,0,0,null,null,null,{"$f":"'Life Cycle Analysis Tool'!EF76","v":"P5"},{"$f":"'Life Cycle Analysis Tool'!EG76","v":0},{"$f":"'Life Cycle Analysis Tool'!EH76","v":0},{"$f":"'Life Cycle Analysis Tool'!EI76","v":0},{"$f":"'Life Cycle Analysis Tool'!EJ76","v":0},{"$f":"'Life Cycle Analysis Tool'!EK76","v":0},{"$f":"'Life Cycle Analysis Tool'!EL76","v":0},{"$f":"'Life Cycle Analysis Tool'!EM76","v":0},{"$f":"'Life Cycle Analysis Tool'!EN76","v":0},{"$f":"'Life Cycle Analysis Tool'!EO76","v":0},{"$f":"'Life Cycle Analysis Tool'!EP76","v":0},{"$f":"'Life Cycle Analysis Tool'!EQ76","v":0},{"$f":"'Life Cycle Analysis Tool'!ER76","v":0},{"$f":"'Life Cycle Analysis Tool'!ES76","v":0},{"$f":"'Life Cycle Analysis Tool'!ET76","v":0},0,0,0,0,0,0,null,null,null,{"$f":"'Life Cycle Analysis Tool'!EY76","v":"P6"},{"$f":"'Life Cycle Analysis Tool'!EZ76","v":0},{"$f":"'Life Cycle Analysis Tool'!FA76","v":0},{"$f":"'Life Cycle Analysis Tool'!FB76","v":0},{"$f":"'Life Cycle Analysis Tool'!FC76","v":0},{"$f":"'Life Cycle Analysis Tool'!FD76","v":0},{"$f":"'Life Cycle Analysis Tool'!FE76","v":0},{"$f":"'Life Cycle Analysis Tool'!FF76","v":0},{"$f":"'Life Cycle Analysis Tool'!FG76","v":0},{"$f":"'Life Cycle Analysis Tool'!FH76","v":0},{"$f":"'Life Cycle Analysis Tool'!FI76","v":0},{"$f":"'Life Cycle Analysis Tool'!FJ76","v":0},{"$f":"'Life Cycle Analysis Tool'!FK76","v":0},{"$f":"'Life Cycle Analysis Tool'!FL76","v":0},{"$f":"'Life Cycle Analysis Tool'!FM76","v":0},0,0,0,0,0,0]
[]
[]
[]
[]
[]
[null,{"$f":"AN3","v":"Cumulative Capital and Maintenance Costs ($)"}]
[]
[]
[]
[]
[]
[]
[]
[]
[]
[]
[]
[]
[]
[]
[]
[]
[]
[]
[null,{"$f":"AU3","v":"Cumulative Energy Costs ($)"}]
[]
[]
[]
[]
[]
[]
[]
[]
[]
[]
[]
[]
[]
[]
[]
[]
[]
[]
[null,{"$f":"BB3","v":"Cumulative GHG Costs ($)"}]
[]
[]
[]
[]
[]
[]
[]
[]
[]
[]
[]
[]
[]
[]
[]
[]
[]
[]
[null,{"$f":"BI3","v":"Cumulative GHG Emissions (MT)"}]
[]
[]
[]
[]
[]
[]
[]
[]
[]
[]
[]
[]
[]
[]
[]
[]
[]
[]
[null,{"$f":"BP3","v":"Cumulative Energy Use (kBtu)"}]

{"sheet":"Input Descriptions","index":3,"n_rows":49,"n_cols":6,"rows_kept":49,"cut":false,"hidden":false,"merged":[]}
[]
[null,"Input Field","Entry Type","Units","Fundamental or Override","Description"]
[null,"1. Life Cycle Assumptions"]
[null,"Pre-project Planning Years","Integer","Years","Fundamental","Useful life of equipment being considered"]
[null,"Project EUL","Integer","Year","Fundamental","Useful life of equipment being considered"]
[null,"Campus Selection","Dropdown Select",null,"Fundamental","Re-sets the default electric emissions source selection"]
[null,"Project's Primary Electric Energy Source","Dropdown Select",null,"Fundamental","Determines the life cycle GHG emissions factors for electric use"]
[null,"Electric Emissions Factor Source","Dropdown Select",null,"Fundamental","Determines the default electric source emissions factor"]
[null,"Electric Emissions Factor, Current Year Emissions (MT/kWh)","Value","MT/kWh","Override","Overrides the source default"]
[null,"Electric Emissions Factor, Year Source Reaches Zero Emissions","Integer","Year","Override","Overrides the source default"]
[null,"Natural Gas Emissions Factor","Value","MT/kWh","Override"]
[null,"Discount Rate","Value","%/year","Fundamental","Used to calculate Net Present Value of financial metrics"]
[null,"Maintenance Cost Escalation Rate","Value","%/year","Fundamental","Annual escalator for maintenance costs"]
[null,"Capital Cost Escalation Rate","Value","%/year","Fundamental","Annual escalator for equipment costs associated with phases in future years. Becomes impactful if multiple installation phases are considered"]
[null,"Electric Rate","Value","$/kWh","Fundamental","Starting blended electric rate. Detailed TOU analysis using hourly energy data can be completed to determine a more specific rate based on various types of utility purchases."]
[null,"Electric Escalation","Value","%/year","Fundamental","Annual escalation of electric rates"]
[null,"Natural Gas Rate","Value","$/therm","Fundamental","Starting natural gas rate."]
[null,"Natural Gas Escalation","Value","%/year","Fundamental","Annual escalation of natural gas rate"]
[null,"GHG Rate","Value","$/MT","Fundamental","Starting cost of GHG emissions"]
[null,"GHG Escalation","Value","%/year","Fundamental","Annual escalation of GHG emissions costs"]
[null,"2. Strategy and Technology Set-up"]
[null,"Strategy Selection","Dropdown Select",null,"Fundamental","Re-sets the technology selection order to match those that most applicable to the strategy"]
[null,"Alternate Name","Text",null,"Fundamental","Custom name for each project alternate. Can be used to better distinguish the alternates being considered."]
[null,"Technology Type","Dropdown Select",null,"Fundamental","The technology being considered for the alternate. All starting assumptions are based on this look-up. The custom option allows users to define all parameters on their own with no input from the reference tables"]
[null,"Status-quo Included in results","Dropdown Select","Yes/No","Fundamental","Excludes project line from results"]
[null,"3. Existing System Load Calculations"]
[null,"Existing Heating Capacity (kBTU)","Value","kBTU","Fundamental","If known, the heating capacity of the existing system"]
[null,"Existing Heating EFLH","Value","Hours/year","Fundamental","Approximate annual heating full load hours for the system. Full load hours can be adjusted based on Campus analysis to accommodate for future changes in conditioning requirements. Alternatively, the percent multiplier input could be used to scale loads. Guidance for accommodating changing climates impacts on facility loads can be found in the Design Guidelines."]
[null,"Existing Cooling Capacity (tons)","Value","Tons","Fundamental","If known, the cooling capacity of the existing system"]
[null,"Existing Cooling EFLH","Value","Hours/year","Fundamental","Approximate annual cooling full load hours for the system. Full load hours can be adjusted based on Campus analysis to accommodate for future changes in conditioning requirements. Alternatively, the percent multiplier input could be used to scale loads. Guidance for accommodating changing climates impacts on facility loads can be found in the Design Guidelines."]
[null,"User Override Annual Heating Load (kBTU/yr.)","Value","kBTU/yr.","Override","Overrides full load hour heating load calculation"]
[null,"User Override Annual Cooling Load (kBTU/yr.)","Value","kBTU/yr.","Override","Overrides full load hour cooling load calculation"]
[null,"Future Heating Load % Multiplier","Value","%","Override","Scales annual heating load based on a percent multiplier (e.g. 100% + user entry). This field can be used to scale (up or down) the existing load based to accommodate known or anticipated changes to the system load. Positive percent entries scale the load up, negative entries scale the load down."]
[null,"Future Cooling Load % multiplier","Value","%","Override","Scales annual cooling load based on a percent multiplier (e.g. 100% + user entry). This field can be used to scale (up or down) the existing load based to accommodate known or anticipated changes to the system load. Positive percent entries scale the load up, negative entries scale the load down."]
[null,"Override HHW Temperature","Value","°F","Override","When applicable, used to calculate heat recovery efficiencies, defaults to 140°F"]
[null,"4. Energy Usage Calculations"]
[null,"User Override Cooling Efficiency (COP)","Value","COP","Override","Overrides technology default"]
[null,"User Override Heating Efficiency (%)","Value","%","Override","Overrides technology default"]
[null,"User Override Heat Recovery Operation (% heating load)","Value","%","Override","Overrides technology default"]
[null,"User Override Heating Only Efficiency (COP)","Value","COP","Override","Overrides technology default"]
[null,"User Override Heat Recover Mode (COP)","Value","COP","Override","Overrides technology default"]
[null,"User Override Cooling Only (COP)","Value","COP","Override","Overrides technology default"]
[null,"5. Project Costs"]
[null,"User Override Project Cost ($)","Value","$","Override","Overrides technology default"]
[null,"Additional Required Infrastructure Costs ($)","Value","$","Fundamental","Costs associated with required infrastructure improvements. Technology costs are for equipment only."]
[null,"Existing Annual Maintenance Costs","Value","$","Fundamental","Cost of annual maintenance for the existing system in new condition."]
[null,"User Override Annual Maintenance Cost ($)","Value","$","Override","Overrides technology default"]
[null,"6. Analysis Results"]
[null,"Lifecycle Comparison","Dropdown Select",null,"Fundamental","Toggles between the various life cycle results."]

{"sheet":"TOU Evaluation","index":4,"n_rows":8768,"n_cols":54,"rows_kept":8768,"cut":false,"hidden":false,"merged":[]}
[]
[null,null,"Blended Rate","Total Annual Cost","Gross Annual "]
[null,"Blended Total",{"$f":"D3/E3","v":6.1728942464357797E-2},{"$f":"SUM(K11:K28,K31:K48,K51:K68)","v":648629.85917417996},{"$f":"SUM(AB11:AB18,AB31:AB38,AB51:AB58)","v":10507710.537058009}]
[]
[]
[]
[]
[null,"Date/Time","Month","Hour","Bin","Net Grid Purchases","On-Site Solar Production","Other On-site Generation",null,null,null,null,null,null,null,{"$f":"EOMONTH($B$9,-1)+1","v":"2020-01-01"},{"$f":"P9","v":"2020-02-01"},{"$f":"Q9","v":"2020-03-01"},"2020-04-01","2020-05-01","2020-06-01","2020-07-01","2020-08-01","2020-09-01","2020-10-01","2020-11-01","2020-12-01",null,null,"Bin Definitions"]
[null,"2020-01-01",{"$f":"MONTH(B9)","v":1},{"$f":"HOUR(B9)","v":0},{"$f":"INDEX($AE$11:$BB$22,MATCH(C9,$AD$11:$AD$22,0),MATCH(D9,$AE$10:$BB$10,0))","v":2},-1.9336,-2.7E-2,-2.1436999999999999,null,null,null,null,null,null,null,{"$f":"EOMONTH(P8,0)+1","v":"2020-02-01"},{"$f":"EOMONTH(Q8,0)+1","v":"2020-03-01"},{"$f":"EOMONTH(R8,0)+1","v":"2020-04-01"},"2020-05-01","2020-06-01","2020-07-01","2020-08-01","2020-09-01","2020-10-01","2020-11-01","2020-12-01","2021-01-01",null,null,null,"12am - 1am","1am - 2am","2am - 3am","3am - 4am","4am - 5am","5am - 6am","6am - 7am","7am - 8am","8am - 9am","9am - 10am","10am - 11am","11am - 12pm","12pm - 1pm","1pm - 2pm","2pm - 3pm","3pm - 4pm","4pm - 5pm","5pm - 6pm","6pm - 7pm","7pm - 8pm","8pm - 9pm","9pm - 10pm","10pm - 11pm","11pm - 12am"]
[null,{"$f":"B9+1/24","v":"2020-01-01T01:00:00"},{"$f":"MONTH(B10)","v":1},{"$f":"HOUR(B10)","v":1},2,-1.9336,-2.7E-2,-2.1436999999999999,null,"Rate ($/kWh)","Annual Cost ($)","Net Grid Purchases","Season","Measurement","Bin Number",1,2,3,4,5,6,7,8,9,10,11,12,"Total",null,"Month",{"$f":"0","v":0},1,2,3,{"$f":"AH10+1","v":4},{"$f":"AI10+1","v":5},6,7,8,9,10,11,12,13,14,15,16,17,18,19,20,21,22,23]
[null,{"$f":"B10+1/24","v":"2020-01-01T02:00:00"},1,2,2,-1.9336,-2.7E-2,-2.1436999999999999,null,0.06,{"$f":"J11*AB11","v":8103.7557112200029},"Peak","Summer","Energy",8,{"$f":"SUMIFS($F$9:$F$8768,$E$9:$E$8768,$O11,$B$9:$B$8768,\">=\"&P$8,$B$9:$B$8768,\"<\"&P$9)","v":0},0,0,0,0,39558.685307000014,40490.375520000045,34746.403800000015,20267.130559999969,0,0,0,{"$f":"SUM(P11:AA11)","v":135062.59518700006},null,1,2,2,2,2,2,2,2,2,2,2,2,2,2,2,2,2,4,4,4,4,4,2,2,2]
[null,"2020-01-01T03:00:00",1,3,2,-1.9336,-2.7E-2,-2.1436999999999999,null,0.06,{"$f":"J12*AB12","v":17752.424136000016},"Part Peak","Summer","Energy",7,0,0,0,0,0,76937.291000000027,76907.006800000076,76996.10380000007,65033.334000000097,0,0,0,{"$f":"SUM(P12:AA12)","v":295873.73560000031},null,2,2,2,2,2,2,2,2,2,2,2,2,2,2,2,2,2,4,4,4,4,4,2,2,2]
[null,"2020-01-01T04:00:00",1,4,2,-1.9336,-2.7E-2,-2.1436999999999999,null,0.06,63585.050869200211,"Off Peak","Summer","Energy",6,0,0,0,0,-1.9336,266187.74700000067,275182.16354000097,270388.91518000094,247993.95570000092,0,0,0,1059750.8478200035,null,3,2,2,2,2,2,2,2,2,2,1,1,1,1,1,2,2,4,4,4,4,4,2,2,2]
[null,"2020-01-01T05:00:00",1,5,2,-1.9336,-2.7E-2,-2.1436999999999999,null,0.06,0,"Super Off Peak","Summer","Energy",5,0,0,0,0,0,0,0,0,0,0,0,0,0,null,4,2,2,2,2,2,2,2,2,2,1,1,1,1,1,2,2,4,4,4,4,4,2,2,2]
[null,"2020-01-01T06:00:00",1,6,2,-1.9336,-2.7E-2,-2.1436999999999999,null,0.06,6888.0183029999962,"Peak","Winter","Energy",4,4871.8589600000041,12868.768469999981,22664.603899999973,26674.119499999993,34502.076499999996,0,0,0,0,9482.5232899999774,2284.9615300000014,1451.3928999999998,114800.30504999994,null,5,2,2,2,2,2,2,2,2,2,1,1,1,1,1,2,2,4,4,4,4,4,2,2,2]
[null,"2020-01-01T07:00:00",1,7,2,-1.9336,-2.7E-2,-2.1436999999999999,null,0.06,0,"Part Peak","Winter","Energy",3,0,0,0,0,0,0,0,0,0,0,0,0,0,null,6,6,6,6,6,6,6,6,6,6,6,6,6,6,6,7,7,8,8,8,8,8,7,7,6]
[null,"2020-01-01T08:00:00",1,8,2,127.557,166.16,215.292,null,0.06,77208.019912320204,"Off Peak","Winter","Energy",2,158472.87188000049,194638.31550000072,90697.828670000061,107225.03364999981,123477.83849999969,0,0,0,-1.9336,266077.05497200141,198943.98300000108,147269.33930000002,1286800.3318720034,null,7,6,6,6,6,6,6,6,6,6,6,6,6,6,6,7,7,8,8,8,8,8,7,7,6]
[null,"2020-01-01T09:00:00",1,9,2,772.36199999999997,860.64,690.50199999999995,null,0.06,35963.703299999994,"Super Off Peak","Winter","Energy",1,0,0,183392.13000000003,197882.67299999992,218120.25200000001,0,0,0,0,0,0,0,599395.05499999993,null,8,6,6,6,6,6,6,6,6,6,6,6,6,6,6,7,7,8,8,8,8,8,7,7,6]
[null,"2020-01-01T10:00:00",1,10,2,1174.1959999999999,1134.5,1266.0250000000001,null,0,0,"Peak","Summer","Demand",8,{"$f":"_xlfn.MAXIFS($F$9:$F$8768,$E$9:$E$8768,$O19,$B$9:$B$8768,\">=\"&P$8,$B$9:$B$8768,\"<\"&P$9)","v":0},0,0,0,0,844.91800000000001,849.80700000000002,840.79300000000001,702.66899999999998,0,0,0,3238.1869999999999,null,9,6,6,6,6,6,6,6,6,6,6,6,6,6,6,7,7,8,8,8,8,8,7,7,6]
[null,"2020-01-01T11:00:00",1,11,2,1369.491,1280.4000000000001,1302.3019999999999,null,0,0,"Part Peak","Summer","Demand",7,0,0,0,0,0,1453.7570000000001,1439.9469999999999,1456.489,1353.36,0,0,0,5703.552999999999,null,10,2,2,2,2,2,2,2,2,2,2,2,2,2,2,2,2,4,4,4,4,4,2,2,2]
[null,"2020-01-01T12:00:00",1,12,2,1415.6690000000001,1294.8,1202.328,null,0,0,"Off Peak","Summer","Demand",6,0,0,0,0,-1.9336,1610.2929999999999,1584.9480000000001,1609.0160000000001,1578.204,0,0,0,6380.527399999999,null,11,2,2,2,2,2,2,2,2,2,2,2,2,2,2,2,2,4,4,4,4,4,2,2,2]
[null,"2020-01-01T13:00:00",1,13,2,1312.579,1192.8,992.35699999999997,null,0,0,"Super Off Peak","Summer","Demand",5,0,0,0,0,0,0,0,0,0,0,0,0,0,null,12,2,2,2,2,2,2,2,2,2,2,2,2,2,2,2,2,4,4,4,4,4,2,2,2]
[null,"2020-01-01T14:00:00",1,14,2,1099.9590000000001,951.03,650.21,null,0,0,"Peak","Winter","Demand",4,426.30200000000002,690.80899999999997,768.77700000000004,796.64499999999998,811.36900000000003,0,0,0,0,468.86399999999998,198.98699999999999,144.608,4306.3609999999999]
[null,"2020-01-01T15:00:00",1,15,2,676.77499999999998,488.15,243.92500000000001,null,0,0,"Part Peak","Winter","Demand",3,0,0,0,0,0,0,0,0,0,0,0,0,0]
[null,"2020-01-01T16:00:00",1,16,4,147.24199999999999,75.751999999999995,45.219000000000001,null,0,0,"Off Peak","Winter","Demand",2,1521.2729999999999,1591.85,1486.722,1496.4349999999999,1468.2860000000001,0,0,0,-1.9336,1567.91,1500.269,1411.4349999999999,12042.246399999998]
[null,"2020-01-01T17:00:00",1,17,4,-1.9336,-2.7E-2,-2.1436999999999999,null,0,0,"Super Off Peak","Winter","Demand",1,0,0,1612.89,1611.885,1613.306,0,0,0,0,0,0,0,4838.0810000000001]
[null,"2020-01-01T18:00:00",1,18,4,-1.9336,-2.7E-2,-2.1436999999999999,null,0,0,"Maximum","Summer","Demand","NA",{"$f":"MAX(P19:P22)","v":0},{"$f":"MAX(Q19:Q22)","v":0},0,0,0,1610.2929999999999,1584.9480000000001,1609.0160000000001,1578.204,0,0,0,6382.4609999999993]
[null,"2020-01-01T19:00:00",1,19,4,-1.9336,-2.7E-2,-2.1436999999999999,null,0,0,"Maximum","Winter","Demand","NA",{"$f":"MAX(P23:P26)","v":1521.2729999999999},{"$f":"MAX(Q23:Q26)","v":1591.85},1612.89,1611.885,1613.306,0,0,0,0,1567.91,1500.269,1411.4349999999999,12430.817999999999]
[null,"2020-01-01T20:00:00",1,20,4,-1.9336,-2.7E-2,-2.1436999999999999]
[null,"2020-01-01T21:00:00",1,21,2,-1.9336,-2.7E-2,-2.1436999999999999,null,"Rate ($/kWh)","Annual Cost ($)","On-Site Solar Production","Season","Measurement","Bin Number",1,2,3,4,5,6,7,8,9,10,11,12,"Total"]
[null,"2020-01-01T22:00:00",1,22,2,-1.9336,-2.7E-2,-2.1436999999999999,null,0.12,{"$f":"J31*AB31","v":16349.973720000005},"Peak","Summer","Energy",8,{"$f":"SUMIFS($G$9:$G$8768,$E$9:$E$8768,$O31,$B$9:$B$8768,\">=\"&P$8,$B$9:$B$8768,\"<\"&P$9)","v":0},0,0,0,0,41985.063000000009,42570.119999999981,33844.28200000005,17850.316000000017,0,0,0,{"$f":"SUM(P31:AA31)","v":136249.78100000005}]
[null,"2020-01-01T23:00:00",1,23,2,-1.9336,-2.7E-2,-2.1436999999999999,null,0.12,{"$f":"J32*AB32","v":35742.770639999973},"Part Peak","Summer","Energy",7,0,0,0,0,0,80071.979999999938,79831.205999999933,76095.425999999949,61857.809999999969,0,0,0,{"$f":"SUM(P32:AA32)","v":297856.42199999979}]
[null,"2020-01-02",1,{"$f":"HOUR(B33)","v":0},2,-1.9336,-2.7E-2,-2.1436999999999999,null,0.12,132583.65095999985,"Off Peak","Summer","Energy",6,0,0,0,0,-2.7E-2,282599.56999999966,294030.38699999976,279218.26799999957,249015.55999999974,0,0,0,1104863.7579999988]
[null,"2020-01-02T01:00:00",1,1,2,-1.9336,-2.7E-2,-2.1436999999999999,null,0.12,0,"Super Off Peak","Summer","Energy",5,0,0,0,0,0,0,0,0,0,0,0,0,0]
[null,"2020-01-02T02:00:00",1,2,2,-1.9336,-2.7E-2,-2.1436999999999999,null,0.12,12568.861800000008,"Peak","Winter","Energy",4,2932.9709999999982,10051.404999999997,19871.094000000019,25852.67500000005,36703.246000000036,0,0,0,0,6649.9369999999963,1578.5579999999961,1100.6289999999981,104740.51500000007]
[null,"2020-01-02T03:00:00",1,3,2,-1.9336,-2.7E-2,-2.1436999999999999,null,0.12,0,"Part Peak","Winter","Energy",3,0,0,0,0,0,0,0,0,0,0,0,0,0]
[null,"2020-01-02T04:00:00",1,4,2,-1.9336,-2.7E-2,-2.1436999999999999,null,0.12,152505.73559999967,"Off Peak","Winter","Energy",2,152263.32199999958,191397.20499999952,90519.019999999786,111246.01499999978,136981.03099999973,0,0,0,-2.7E-2,260570.90799999968,188902.9429999998,139000.71299999946,1270881.1299999973]
[null,"2020-01-02T05:00:00",1,5,2,-1.9336,-2.7E-2,-2.1436999999999999,null,0.12,73170.382800000021,"Super Off Peak","Winter","Energy",1,0,0,183741.01000000004,200154.06999999995,225858.11000000019,0,0,0,0,0,0,0,609753.19000000018]
[null,"2020-01-02T06:00:00",1,6,2,-1.9336,-2.7E-2,-2.1436999999999999,null,0,0,"Peak","Summer","Demand",8,{"$f":"_xlfn.MAXIFS($G$9:$G$8768,$E$9:$E$8768,$O39,$B$9:$B$8768,\">=\"&P$8,$B$9:$B$8768,\"<\"&P$9)","v":0},0,0,0,0,878.88,885.78,829.27,653.49,0,0,0,3247.42]
[null,"2020-01-02T07:00:00",1,7,2,8.7094000000000005,15.355,15.02,null,0,0,"Part Peak","Summer","Demand",7,0,0,0,0,0,1513.6,1501.5,1465.9,1318.8,0,0,0,5799.8]
[null,"2020-01-02T08:00:00",1,8,2,215.04,306.98,440.17399999999998,null,0,0,"Off Peak","Summer","Demand",6,0,0,0,0,-2.7E-2,1600.2,1599.8,1599.6,1588.1,0,0,0,6387.6730000000007]
[null,"2020-01-02T09:00:00",1,9,2,767.95,851.26,689.11500000000001,null,0,0,"Super Off Peak","Summer","Demand",5,0,0,0,0,0,0,0,0,0,0,0,0,0]
[null,"2020-01-02T10:00:00",1,10,2,1185.251,1142.4000000000001,1277.3710000000001,null,0,0,"Peak","Winter","Demand",4,219.63,585.85,713.51,778.35,856.1,0,0,0,0,402.99,97.308999999999997,81.063999999999993,3734.8030000000003]
[null,"2020-01-02T11:00:00",1,11,2,1382.4179999999999,1292.5,1315.799,null,0,0,"Part Peak","Winter","Demand",3,0,0,0,0,0,0,0,0,0,0,0,0,0]
[null,"2020-01-02T12:00:00",1,12,2,1417.48,1297.7,1206.7329999999999,null,0,0,"Off Peak","Winter","Demand",2,1439.7,1587.4,1455.9,1476.6,1532.7,0,0,0,-2.7E-2,1585,1429.9,1300.4000000000001,11807.573]
[null,"2020-01-02T13:00:00",1,13,2,1318.6379999999999,1196.5999999999999,995.49099999999999,null,0,0,"Super Off Peak","Winter","Demand",1,0,0,1600.4,1600.2,1600.2,0,0,0,0,0,0,0,4800.8]
[null,"2020-01-02T14:00:00",1,14,2,1121.7829999999999,971.21,666.57600000000002,null,0,0,"Maximum","Summer","Demand","NA",{"$f":"MAX(P39:P42)","v":0},{"$f":"MAX(Q39:Q42)","v":0},0,0,0,1600.2,1599.8,1599.6,1588.1,0,0,0,6387.7000000000007]
[null,"2020-01-02T15:00:00",1,15,2,709.14800000000002,521.30999999999995,260.09399999999999,null,0,0,"Maximum","Winter","Demand","NA",{"$f":"MAX(P43:P46)","v":1439.7},{"$f":"MAX(Q43:Q46)","v":1587.4},1600.4,1600.2,1600.2,0,0,0,0,1585,1429.9,1300.4000000000001,12143.199999999999]
[null,"2020-01-02T16:00:00",1,16,4,149.51400000000001,81.353999999999999,48.32]
[null,"2020-01-02T17:00:00",1,17,4,-1.9336,-2.7E-2,-2.1436999999999999,null,"Rate ($/kWh)","Annual Cost ($)","Other On-site Generation","Season","Measurement","Bin Number",1,2,3,4,5,6,7,8,9,10,11,12,"Total"]
[null,"2020-01-02T18:00:00",1,18,4,-1.9336,-2.7E-2,-2.1436999999999999,null,0.12,{"$f":"J51*AB51","v":16207.511422440006},"Peak","Summer","Energy",8,{"$f":"SUMIFS($H$9:$H$8768,$E$9:$E$8768,$O51,$B$9:$B$8768,\">=\"&P$8,$B$9:$B$8768,\"<\"&P$9)","v":0},{"$f":"SUMIFS($F$9:$F$8768,$E$9:$E$8768,$O51,$B$9:$B$8768,\">=\"&Q$8,$B$9:$B$8768,\"<\"&Q$9)","v":0},0,0,0,39558.685307000014,40490.375520000045,34746.403800000015,20267.130559999969,0,0,0,{"$f":"SUM(P51:AA51)","v":135062.59518700006}]
[null,"2020-01-02T19:00:00",1,19,4,-1.9336,-2.7E-2,-2.1436999999999999,null,null,{"$f":"J52*AB52","v":0},"Part Peak","Summer","Energy",7,{"$f":"SUMIFS($F$9:$F$8768,$E$9:$E$8768,$O52,$B$9:$B$8768,\">=\"&P$8,$B$9:$B$8768,\"<\"&P$9)","v":0},0,0,0,0,76937.291000000027,76907.006800000076,76996.10380000007,65033.334000000097,0,0,0,{"$f":"SUM(P52:AA52)","v":295873.73560000031}]
[null,"2020-01-02T20:00:00",1,20,4,-1.9336,-2.7E-2,-2.1436999999999999,null,null,0,"Off Peak","Summer","Energy",6,0,0,0,0,-1.9336,266187.74700000067,275182.16354000097,270388.91518000094,247993.95570000092,0,0,0,1059750.8478200035]
[null,"2020-01-02T21:00:00",1,21,2,-1.9336,-2.7E-2,-2.1436999999999999,null,null,0,"Super Off Peak","Summer","Energy",5,0,0,0,0,0,0,0,0,0,0,0,0,0]
[null,"2020-01-02T22:00:00",1,22,2,-1.9336,-2.7E-2,-2.1436999999999999,null,null,0,"Peak","Winter","Energy",4,4871.8589600000041,12868.768469999981,22664.603899999973,26674.119499999993,34502.076499999996,0,0,0,0,9482.5232899999774,2284.9615300000014,1451.3928999999998,114800.30504999994]
[null,"2020-01-02T23:00:00",1,23,2,-1.9336,-2.7E-2,-2.1436999999999999,null,null,0,"Part Peak","Winter","Energy",3,0,0,0,0,0,0,0,0,0,0,0,0,0]
[null,"2020-01-03",1,0,2,-1.9336,-2.7E-2,-2.1436999999999999,null,null,0,"Off Peak","Winter","Energy",2,158472.87188000049,194638.31550000072,90697.828670000061,107225.03364999981,123477.83849999969,0,0,0,-1.9336,266077.05497200141,198943.98300000108,147269.33930000002,1286800.3318720034]
[null,"2020-01-03T01:00:00",1,1,2,-1.9336,-2.7E-2,-2.1436999999999999,null,null,0,"Super Off Peak","Winter","Energy",1,0,0,183392.13000000003,197882.67299999992,218120.25200000001,0,0,0,0,0,0,0,599395.05499999993]
[null,"2020-01-03T02:00:00",1,2,2,-1.9336,-2.7E-2,-2.1436999999999999,null,null,0,"Peak","Summer","Demand",8,{"$f":"_xlfn.MAXIFS($F$9:$F$8768,$E$9:$E$8768,$O59,$B$9:$B$8768,\">=\"&P$8,$B$9:$B$8768,\"<\"&P$9)","v":0},0,0,0,0,844.91800000000001,849.80700000000002,840.79300000000001,702.66899999999998,0,0,0,3238.1869999999999]
[null,"2020-01-03T03:00:00",1,3,2,-1.9336,-2.7E-2,-2.1436999999999999,null,null,0,"Part Peak","Summer","Demand",7,0,0,0,0,0,1453.7570000000001,1439.9469999999999,1456.489,1353.36,0,0,0,5703.552999999999]
[null,"2020-01-03T04:00:00",1,4,2,-1.9336,-2.7E-2,-2.1436999999999999,null,null,0,"Off Peak","Summer","Demand",6,0,0,0,0,-1.9336,1610.2929999999999,1584.9480000000001,1609.0160000000001,1578.204,0,0,0,6380.527399999999]
[null,"2020-01-03T05:00:00",1,5,2,-1.9336,-2.7E-2,-2.1436999999999999,null,null,0,"Super Off Peak","Summer","Demand",5,0,0,0,0,0,0,0,0,0,0,0,0,0]
[null,"2020-01-03T06:00:00",1,6,2,-1.9336,-2.7E-2,-2.1436999999999999,null,null,0,"Peak","Winter","Demand",4,426.30200000000002,690.80899999999997,768.77700000000004,796.64499999999998,811.36900000000003,0,0,0,0,468.86399999999998,198.98699999999999,144.608,4306.3609999999999]
[null,"2020-01-03T07:00:00",1,7,2,4.9095000000000004,11.635,10.865,null,null,0,"Part Peak","Winter","Demand",3,0,0,0,0,0,0,0,0,0,0,0,0,0]
[null,"2020-01-03T08:00:00",1,8,2,220.601,305.86,426.45699999999999,null,null,0,"Off Peak","Winter","Demand",2,1521.2729999999999,1591.85,1486.722,1496.4349999999999,1468.2860000000001,0,0,0,-1.9336,1567.91,1500.269,1411.4349999999999,12042.246399999998]
[null,"2020-01-03T09:00:00",1,9,2,661.91300000000001,717.45,613.07000000000005,null,null,0,"Super Off Peak","Winter","Demand",1,0,0,1612.89,1611.885,1613.306,0,0,0,0,0,0,0,4838.0810000000001]
[null,"2020-01-03T10:00:00",1,10,2,1052.143,1012.2,1125.6780000000001,null,null,0,"Maximum","Summer","Demand","NA",{"$f":"MAX(P59:P62)","v":0},{"$f":"MAX(Q59:Q62)","v":0},0,0,0,1610.2929999999999,1584.9480000000001,1609.0160000000001,1578.204,0,0,0,6382.4609999999993]
[null,"2020-01-03T11:00:00",1,11,2,1337.3050000000001,1248,1271.9880000000001,null,null,0,"Maximum","Winter","Demand","NA",{"$f":"MAX(P63:P66)","v":1521.2729999999999},{"$f":"MAX(Q63:Q66)","v":1591.85},1612.89,1611.885,1613.306,0,0,0,0,1567.91,1500.269,1411.4349999999999,12430.817999999999]
[null,"2020-01-03T12:00:00",1,12,2,1217.124,1123.4000000000001,1052.588]
[null,"2020-01-03T13:00:00",1,13,2,776.75199999999995,729.26,640.48900000000003]
[null,"2020-01-03T14:00:00",1,14,2,691.15700000000004,625.35,476.63900000000001]
[null,"2020-01-03T15:00:00",1,15,2,545.33399999999995,430.09,243.56899999999999]
[null,"2020-01-03T16:00:00",1,16,{"$f":"INDEX($AE$11:$BB$22,MATCH(C73,$AD$11:$AD$22,0),MATCH(D73,$AE$10:$BB$10,0))","v":4},97.674999999999997,67.581000000000003,47.368000000000002]
[null,"2020-01-03T17:00:00",{"$f":"MONTH(B74)","v":1},{"$f":"HOUR(B74)","v":17},4,-1.9336,-2.7E-2,-2.1436999999999999]
[null,{"$f":"B74+1/24","v":"2020-01-03T18:00:00"},1,18,4,-1.9336,-2.7E-2,-2.1436999999999999]
[null,"2020-01-03T19:00:00",1,19,4,-1.9336,-2.7E-2,-2.1436999999999999]
[null,"2020-01-03T20:00:00",1,20,4,-1.9336,-2.7E-2,-2.1436999999999999]
[null,"2020-01-03T21:00:00",1,21,2,-1.9336,-2.7E-2,-2.1436999999999999]
[null,"2020-01-03T22:00:00",1,22,2,-1.9336,-2.7E-2,-2.1436999999999999]
[null,"2020-01-03T23:00:00",1,23,2,-1.9336,-2.7E-2,-2.1436999999999999]
[null,"2020-01-04",1,0,2,-1.9336,-2.7E-2,-2.1436999999999999]
[null,"2020-01-04T01:00:00",1,1,2,-1.9336,-2.7E-2,-2.1436999999999999]
[null,"2020-01-04T02:00:00",1,2,2,-1.9336,-2.7E-2,-2.1436999999999999]
[null,"2020-01-04T03:00:00",1,3,2,-1.9336,-2.7E-2,-2.1436999999999999]
[null,"2020-01-04T04:00:00",1,4,2,-1.9336,-2.7E-2,-2.1436999999999999]
[null,"2020-01-04T05:00:00",1,5,2,-1.9336,-2.7E-2,-2.1436999999999999]
[null,"2020-01-04T06:00:00",1,6,2,-1.9336,-2.7E-2,-2.1436999999999999]
[null,"2020-01-04T07:00:00",1,7,2,-0.58052000000000004,-2.7E-2,-2.1436999999999999]
[null,"2020-01-04T08:00:00",1,8,2,149.46700000000001,185.65,227.148]
[null,"2020-01-04T09:00:00",1,9,2,611.03599999999994,653.72,579.34400000000005]
[null,"2020-01-04T10:00:00",1,10,2,599.39400000000001,585.91999999999996,634.303]
[null,"2020-01-04T11:00:00",1,11,2,1124.0309999999999,1057.5,1075.867]
[null,"2020-01-04T12:00:00",1,12,2,1390.1959999999999,1275.0999999999999,1189.998]
[null,"2020-01-04T13:00:00",1,13,2,1304.962,1184.9000000000001,988.33100000000002]
[null,"2020-01-04T14:00:00",1,14,2,1102.393,957.13,662.58600000000001]
[null,"2020-01-04T15:00:00",1,15,2,708.75599999999997,539.28,262.61700000000002]
[null,"2020-01-04T16:00:00",1,16,4,175.18100000000001,82.045000000000002,48.531999999999996]
[null,"2020-01-04T17:00:00",1,17,4,-1.9336,-2.7E-2,-2.1436999999999999]
[null,"2020-01-04T18:00:00",1,18,4,-1.9336,-2.7E-2,-2.1436999999999999]
[null,"2020-01-04T19:00:00",1,19,4,-1.9336,-2.7E-2,-2.1436999999999999]
[null,"2020-01-04T20:00:00",1,20,4,-1.9336,-2.7E-2,-2.1436999999999999]
[null,"2020-01-04T21:00:00",1,21,2,-1.9336,-2.7E-2,-2.1436999999999999]
[null,"2020-01-04T22:00:00",1,22,2,-1.9336,-2.7E-2,-2.1436999999999999]
[null,"2020-01-04T23:00:00",1,23,2,-1.9336,-2.7E-2,-2.1436999999999999]
[null,"2020-01-05",1,0,2,-1.9336,-2.7E-2,-2.1436999999999999]
[null,"2020-01-05T01:00:00",1,1,2,-1.9336,-2.7E-2,-2.1436999999999999]
[null,"2020-01-05T02:00:00",1,2,2,-1.9336,-2.7E-2,-2.1436999999999999]
[null,"2020-01-05T03:00:00",1,3,2,-1.9336,-2.7E-2,-2.1436999999999999]
[null,"2020-01-05T04:00:00",1,4,2,-1.9336,-2.7E-2,-2.1436999999999999]
[null,"2020-01-05T05:00:00",1,5,2,-1.9336,-2.7E-2,-2.1436999999999999]
[null,"2020-01-05T06:00:00",1,6,2,-1.9336,-2.7E-2,-2.1436999999999999]
[null,"2020-01-05T07:00:00",1,7,2,-1.9336,-2.7E-2,-2.1436999999999999]
[null,"2020-01-05T08:00:00",1,8,2,25.619,33.393000000000001,30.795999999999999]
[null,"2020-01-05T09:00:00",1,9,2,366.05799999999999,386.99,367.85300000000001]
[null,"2020-01-05T10:00:00",1,10,2,281.63799999999998,292.3,299.01799999999997]
[null,"2020-01-05T11:00:00",1,11,2,162.48400000000001,180.07,173.49600000000001]
[null,"2020-01-05T12:00:00",1,12,2,221.30199999999999,239.81,231.91399999999999]
[null,"2020-01-05T13:00:00",1,13,2,256.34399999999999,272.54000000000002,259.58800000000002]
[null,"2020-01-05T14:00:00",1,14,2,161.02099999999999,175.92,164.86799999999999]
[null,"2020-01-05T15:00:00",1,15,2,87.838999999999999,94.37,87.069000000000003]
[null,"2020-01-05T16:00:00",1,16,4,-0.92166999999999999,-2.7E-2,9.5347999999999988]
[null,"2020-01-05T17:00:00",1,17,4,-1.9336,-2.7E-2,-2.1436999999999999]
[null,"2020-01-05T18:00:00",1,18,4,-1.9336,-2.7E-2,-2.1436999999999999]
[null,"2020-01-05T19:00:00",1,19,4,-1.9336,-2.7E-2,-2.1436999999999999]
[null,"2020-01-05T20:00:00",1,20,4,-1.9336,-2.7E-2,-2.1436999999999999]
[null,"2020-01-05T21:00:00",1,21,2,-1.9336,-2.7E-2,-2.1436999999999999]
[null,"2020-01-05T22:00:00",1,22,2,-1.9336,-2.7E-2,-2.1436999999999999]
[null,"2020-01-05T23:00:00",1,23,2,-1.9336,-2.7E-2,-2.1436999999999999]
[null,"2020-01-06",1,0,2,-1.9336,-2.7E-2,-2.1436999999999999]
[null,"2020-01-06T01:00:00",1,1,2,-1.9336,-2.7E-2,-2.1436999999999999]
[null,"2020-01-06T02:00:00",1,2,2,-1.9336,-2.7E-2,-2.1436999999999999]
[null,"2020-01-06T03:00:00",1,3,2,-1.9336,-2.7E-2,-2.1436999999999999]
[null,"2020-01-06T04:00:00",1,4,2,-1.9336,-2.7E-2,-2.1436999999999999]
[null,"2020-01-06T05:00:00",1,5,2,-1.9336,-2.7E-2,-2.1436999999999999]
[null,"2020-01-06T06:00:00",1,6,2,-1.9336,-2.7E-2,-2.1436999999999999]
[null,"2020-01-06T07:00:00",1,7,2,-1.9336,-2.7E-2,-2.1436999999999999]
[null,"2020-01-06T08:00:00",1,8,{"$f":"INDEX($AE$11:$BB$22,MATCH(C137,$AD$11:$AD$22,0),MATCH(D137,$AE$10:$BB$10,0))","v":2},25.373999999999999,33.049999999999997,30.510999999999999]
[null,"2020-01-06T09:00:00",{"$f":"MONTH(B138)","v":1},{"$f":"HOUR(B138)","v":9},2,73.671999999999997,82.894999999999996,78.831000000000003]
[null,{"$f":"B138+1/24","v":"2020-01-06T10:00:00"},1,10,2,107.408,120.03,114.858]
[null,"2020-01-06T11:00:00",1,11,2,127.70399999999999,142.72,136.78100000000001]
[null,"2020-01-06T12:00:00",1,12,2,165.93199999999999,183.67,176.66499999999999]
[null,"2020-01-06T13:00:00",1,13,2,118.754,132.69,127.35899999999999]
[null,"2020-01-06T14:00:00",1,14,2,90.15,100.79,97.376000000000005]
[null,"2020-01-06T15:00:00",1,15,2,56.661000000000001,65.421000000000006,64.3]
[null,"2020-01-06T16:00:00",1,16,4,0.59086000000000005,-2.7E-2,11.176]
[null,"2020-01-06T17:00:00",1,17,4,-1.9336,-2.7E-2,-2.1436999999999999]
[null,"2020-01-06T18:00:00",1,18,4,-1.9336,-2.7E-2,-2.1436999999999999]
[null,"2020-01-06T19:00:00",1,19,4,-1.9336,-2.7E-2,-2.1436999999999999]
[null,"2020-01-06T20:00:00",1,20,4,-1.9336,-2.7E-2,-2.1436999999999999]
[null,"2020-01-06T21:00:00",1,21,2,-1.9336,-2.7E-2,-2.1436999999999999]
[null,"2020-01-06T22:00:00",1,22,2,-1.9336,-2.7E-2,-2.1436999999999999]
[null,"2020-01-06T23:00:00",1,23,2,-1.9336,-2.7E-2,-2.1436999999999999]
[null,"2020-01-07",1,0,2,-1.9336,-2.7E-2,-2.1436999999999999]
[null,"2020-01-07T01:00:00",1,1,2,-1.9336,-2.7E-2,-2.1436999999999999]
[null,"2020-01-07T02:00:00",1,2,2,-1.9336,-2.7E-2,-2.1436999999999999]
[null,"2020-01-07T03:00:00",1,3,2,-1.9336,-2.7E-2,-2.1436999999999999]
[null,"2020-01-07T04:00:00",1,4,2,-1.9336,-2.7E-2,-2.1436999999999999]
[null,"2020-01-07T05:00:00",1,5,2,-1.9336,-2.7E-2,-2.1436999999999999]
[null,"2020-01-07T06:00:00",1,6,2,-1.9336,-2.7E-2,-2.1436999999999999]
[null,"2020-01-07T07:00:00",1,7,2,-1.9336,-2.7E-2,-2.1436999999999999]
[null,"2020-01-07T08:00:00",1,8,2,28.826000000000001,36.551000000000002,33.923999999999999]
[null,"2020-01-07T09:00:00",1,9,2,258.28100000000001,273.41000000000003,264.84100000000001]
[null,"2020-01-07T10:00:00",1,10,2,262.84800000000001,273.37,279.85899999999998]
[null,"2020-01-07T11:00:00",1,11,2,607.26,593.97,597.54600000000005]
[null,"2020-01-07T12:00:00",1,12,2,720.52499999999998,693.4,661.00400000000002]
[null,"2020-01-07T13:00:00",1,13,2,344.73899999999998,350.3,327.20699999999999]
[null,"2020-01-07T14:00:00",1,14,2,521.90099999999995,489.72,397.75599999999997]
[null,"2020-01-07T15:00:00",1,15,2,325.92500000000001,298.17,208.21899999999999]
[null,"2020-01-07T16:00:00",1,16,4,64.980999999999995,51.006999999999998,38.604999999999997]
[null,"2020-01-07T17:00:00",1,17,4,-1.9336,-2.7E-2,-2.1436999999999999]
[null,"2020-01-07T18:00:00",1,18,4,-1.9336,-2.7E-2,-2.1436999999999999]
[null,"2020-01-07T19:00:00",1,19,4,-1.9336,-2.7E-2,-2.1436999999999999]
[null,"2020-01-07T20:00:00",1,20,4,-1.9336,-2.7E-2,-2.1436999999999999]
[null,"2020-01-07T21:00:00",1,21,2,-1.9336,-2.7E-2,-2.1436999999999999]
[null,"2020-01-07T22:00:00",1,22,2,-1.9336,-2.7E-2,-2.1436999999999999]
[null,"2020-01-07T23:00:00",1,23,2,-1.9336,-2.7E-2,-2.1436999999999999]
[null,"2020-01-08",1,0,2,-1.9336,-2.7E-2,-2.1436999999999999]
[null,"2020-01-08T01:00:00",1,1,2,-1.9336,-2.7E-2,-2.1436999999999999]
[null,"2020-01-08T02:00:00",1,2,2,-1.9336,-2.7E-2,-2.1436999999999999]
[null,"2020-01-08T03:00:00",1,3,2,-1.9336,-2.7E-2,-2.1436999999999999]
[null,"2020-01-08T04:00:00",1,4,2,-1.9336,-2.7E-2,-2.1436999999999999]
[null,"2020-01-08T05:00:00",1,5,2,-1.9336,-2.7E-2,-2.1436999999999999]
[null,"2020-01-08T06:00:00",1,6,2,-1.9336,-2.7E-2,-2.1436999999999999]
[null,"2020-01-08T07:00:00",1,7,2,-1.9336,-2.7E-2,-2.1436999999999999]
[null,"2020-01-08T08:00:00",1,8,2,25.390999999999998,33.061,30.509]
[null,"2020-01-08T09:00:00",1,9,2,76.994,86.317999999999998,82.183999999999997]
[null,"2020-01-08T10:00:00",1,10,2,110.426,123.32,118.07]
[null,"2020-01-08T11:00:00",1,11,2,128.46899999999999,143.44999999999999,137.52699999999999]
[null,"2020-01-08T12:00:00",1,12,2,129.61699999999999,144.69,138.77500000000001]
[null,"2020-01-08T13:00:00",1,13,2,159.35900000000001,176.36,168.95099999999999]
[null,"2020-01-08T14:00:00",1,14,2,101.05500000000001,112.64,108.41]
[null,"2020-01-08T15:00:00",1,15,2,56.094999999999999,64.772999999999996,63.764000000000003]
[null,"2020-01-08T16:00:00",1,16,4,49.487000000000002,34.277000000000001,28.376999999999999]
[null,"2020-01-08T17:00:00",1,17,4,-1.9336,-2.7E-2,-2.1436999999999999]
[null,"2020-01-08T18:00:00",1,18,4,-1.9336,-2.7E-2,-2.1436999999999999]
[null,"2020-01-08T19:00:00",1,19,4,-1.9336,-2.7E-2,-2.1436999999999999]
[null,"2020-01-08T20:00:00",1,20,4,-1.9336,-2.7E-2,-2.1436999999999999]
[null,"2020-01-08T21:00:00",1,21,2,-1.9336,-2.7E-2,-2.1436999999999999]
[null,"2020-01-08T22:00:00",1,22,2,-1.9336,-2.7E-2,-2.1436999999999999]
[null,"2020-01-08T23:00:00",1,23,2,-1.9336,-2.7E-2,-2.1436999999999999]
[null,"2020-01-09",1,0,{"$f":"INDEX($AE$11:$BB$22,MATCH(C201,$AD$11:$AD$22,0),MATCH(D201,$AE$10:$BB$10,0))","v":2},-1.9336,-2.7E-2,-2.1436999999999999]
[null,"2020-01-09T01:00:00",{"$f":"MONTH(B202)","v":1},{"$f":"HOUR(B202)","v":1},2,-1.9336,-2.7E-2,-2.1436999999999999]
[null,{"$f":"B202+1/24","v":"2020-01-09T02:00:00"},1,2,2,-1.9336,-2.7E-2,-2.1436999999999999]
[null,"2020-01-09T03:00:00",1,3,2,-1.9336,-2.7E-2,-2.1436999999999999]
[null,"2020-01-09T04:00:00",1,4,2,-1.9336,-2.7E-2,-2.1436999999999999]
[null,"2020-01-09T05:00:00",1,5,2,-1.9336,-2.7E-2,-2.1436999999999999]
[null,"2020-01-09T06:00:00",1,6,2,-1.9336,-2.7E-2,-2.1436999999999999]
[null,"2020-01-09T07:00:00",1,7,2,-1.9336,-2.7E-2,-2.1436999999999999]
[null,"2020-01-09T08:00:00",1,8,2,30.199000000000002,37.817999999999998,35.231000000000002]
[null,"2020-01-09T09:00:00",1,9,2,347.767,365.08,348.471]
[null,"2020-01-09T10:00:00",1,10,2,733.87699999999995,714.75,777.154]
[null,"2020-01-09T11:00:00",1,11,2,951.03,900.22,914.57399999999996]
[null,"2020-01-09T12:00:00",1,12,2,208.78100000000001,226.35,218.47499999999999]
[null,"2020-01-09T13:00:00",1,13,2,210.53399999999999,220.75,206.59399999999999]
[null,"2020-01-09T14:00:00",1,14,2,360.5,355.9,309.72300000000001]
[null,"2020-01-09T15:00:00",1,15,2,133.11099999999999,137.84,114.971]
[null,"2020-01-09T16:00:00",1,16,4,10.840999999999999,18.265000000000001,20.675999999999998]
[null,"2020-01-09T17:00:00",1,17,4,-1.9336,-2.7E-2,-2.1436999999999999]
[null,"2020-01-09T18:00:00",1,18,4,-1.9336,-2.7E-2,-2.1436999999999999]
[null,"2020-01-09T19:00:00",1,19,4,-1.9336,-2.7E-2,-2.1436999999999999]
[null,"2020-01-09T20:00:00",1,20,4,-1.9336,-2.7E-2,-2.1436999999999999]
[null,"2020-01-09T21:00:00",1,21,2,-1.9336,-2.7E-2,-2.1436999999999999]
[null,"2020-01-09T22:00:00",1,22,2,-1.9336,-2.7E-2,-2.1436999999999999]
[null,"2020-01-09T23:00:00",1,23,2,-1.9336,-2.7E-2,-2.1436999999999999]
[null,"2020-01-10",1,0,2,-1.9336,-2.7E-2,-2.1436999999999999]
[null,"2020-01-10T01:00:00",1,1,2,-1.9336,-2.7E-2,-2.1436999999999999]
[null,"2020-01-10T02:00:00",1,2,2,-1.9336,-2.7E-2,-2.1436999999999999]
[null,"2020-01-10T03:00:00",1,3,2,-1.9336,-2.7E-2,-2.1436999999999999]
[null,"2020-01-10T04:00:00",1,4,2,-1.9336,-2.7E-2,-2.1436999999999999]
[null,"2020-01-10T05:00:00",1,5,2,-1.9336,-2.7E-2,-2.1436999999999999]
[null,"2020-01-10T06:00:00",1,6,2,-1.9336,-2.7E-2,-2.1436999999999999]
[null,"2020-01-10T07:00:00",1,7,2,-1.9336,-2.7E-2,-2.1436999999999999]
[null,"2020-01-10T08:00:00",1,8,2,70.968999999999994,78.402000000000001,78.081000000000003]
[null,"2020-01-10T09:00:00",1,9,2,313.40300000000002,330.07,323.66300000000001]
[null,"2020-01-10T10:00:00",1,10,2,423.67399999999998,429.85,446.029]
[null,"2020-01-10T11:00:00",1,11,2,398.92099999999999,413.6,409.29899999999998]
[null,"2020-01-10T12:00:00",1,12,2,362.13600000000002,378.18,367.10399999999998]
[null,"2020-01-10T13:00:00",1,13,2,430.49700000000001,430.41,399.83]
[null,"2020-01-10T14:00:00",1,14,2,433.22199999999998,420.01,357.17200000000003]
[null,"2020-01-10T15:00:00",1,15,2,181.79,190.42,163.86199999999999]
[null,"2020-01-10T16:00:00",1,16,4,56.783000000000001,53.948999999999998,45.006999999999998]
[null,"2020-01-10T17:00:00",1,17,4,-1.9336,-2.7E-2,-2.1436999999999999]
[null,"2020-01-10T18:00:00",1,18,4,-1.9336,-2.7E-2,-2.1436999999999999]
[null,"2020-01-10T19:00:00",1,19,4,-1.9336,-2.7E-2,-2.1436999999999999]
[null,"2020-01-10T20:00:00",1,20,4,-1.9336,-2.7E-2,-2.1436999999999999]
[null,"2020-01-10T21:00:00",1,21,2,-1.9336,-2.7E-2,-2.1436999999999999]
[null,"2020-01-10T22:00:00",1,22,2,-1.9336,-2.7E-2,-2.1436999999999999]
[null,"2020-01-10T23:00:00",1,23,2,-1.9336,-2.7E-2,-2.1436999999999999]
[null,"2020-01-11",1,0,2,-1.9336,-2.7E-2,-2.1436999999999999]
[null,"2020-01-11T01:00:00",1,1,2,-1.9336,-2.7E-2,-2.1436999999999999]
[null,"2020-01-11T02:00:00",1,2,2,-1.9336,-2.7E-2,-2.1436999999999999]
[null,"2020-01-11T03:00:00",1,3,2,-1.9336,-2.7E-2,-2.1436999999999999]
[null,"2020-01-11T04:00:00",1,4,2,-1.9336,-2.7E-2,-2.1436999999999999]
[null,"2020-01-11T05:00:00",1,5,2,-1.9336,-2.7E-2,-2.1436999999999999]
[null,"2020-01-11T06:00:00",1,6,2,-1.9336,-2.7E-2,-2.1436999999999999]
[null,"2020-01-11T07:00:00",1,7,2,-1.9336,-2.7E-2,-2.1436999999999999]
[null,"2020-01-11T08:00:00",1,8,2,36.305999999999997,44.225999999999999,41.412999999999997]
[null,"2020-01-11T09:00:00",1,9,2,93.265000000000001,103.99,99.477999999999994]
[null,"2020-01-11T10:00:00",1,10,2,135.24600000000001,150.85,144.81399999999999]
[null,"2020-01-11T11:00:00",1,11,2,315.846,333.18,327.89299999999997]
[null,"2020-01-11T12:00:00",1,12,2,355.12099999999998,371.27,360.4]
[null,"2020-01-11T13:00:00",1,13,2,234.035,251.89,241.79499999999999]
[null,"2020-01-11T14:00:00",1,14,2,176.839,193.06,182.876]
[null,"2020-01-11T15:00:00",1,15,2,102.581,112.82,106.286]
[null,"2020-01-11T16:00:00",1,16,{"$f":"INDEX($AE$11:$BB$22,MATCH(C265,$AD$11:$AD$22,0),MATCH(D265,$AE$10:$BB$10,0))","v":4},10.901999999999999,18.451000000000001,20.98]
[null,"2020-01-11T17:00:00",{"$f":"MONTH(B266)","v":1},{"$f":"HOUR(B266)","v":17},4,-1.9336,-2.7E-2,-2.1436999999999999]
[null,{"$f":"B266+1/24","v":"2020-01-11T18:00:00"},1,18,4,-1.9336,-2.7E-2,-2.1436999999999999]
[null,"2020-01-11T19:00:00",1,19,4,-1.9336,-2.7E-2,-2.1436999999999999]
[null,"2020-01-11T20:00:00",1,20,4,-1.9336,-2.7E-2,-2.1436999999999999]
[null,"2020-01-11T21:00:00",1,21,2,-1.9336,-2.7E-2,-2.1436999999999999]
[null,"2020-01-11T22:00:00",1,22,2,-1.9336,-2.7E-2,-2.1436999999999999]
[null,"2020-01-11T23:00:00",1,23,2,-1.9336,-2.7E-2,-2.1436999999999999]
[null,"2020-01-12",1,0,2,-1.9336,-2.7E-2,-2.1436999999999999]
[null,"2020-01-12T01:00:00",1,1,2,-1.9336,-2.7E-2,-2.1436999999999999]
[null,"2020-01-12T02:00:00",1,2,2,-1.9336,-2.7E-2,-2.1436999999999999]
[null,"2020-01-12T03:00:00",1,3,2,-1.9336,-2.7E-2,-2.1436999999999999]
[null,"2020-01-12T04:00:00",1,4,2,-1.9336,-2.7E-2,-2.1436999999999999]
[null,"2020-01-12T05:00:00",1,5,2,-1.9336,-2.7E-2,-2.1436999999999999]
[null,"2020-01-12T06:00:00",1,6,2,-1.9336,-2.7E-2,-2.1436999999999999]
[null,"2020-01-12T07:00:00",1,7,2,-1.9336,-2.7E-2,-2.1436999999999999]
[null,"2020-01-12T08:00:00",1,8,2,160.33199999999999,218.74,292.19299999999998]
[null,"2020-01-12T09:00:00",1,9,2,686.09400000000005,717.67,614.61900000000003]
[null,"2020-01-12T10:00:00",1,10,2,1180.989,1135.0999999999999,1272.9259999999999]
[null,"2020-01-12T11:00:00",1,11,2,1402.277,1302.7,1334.078]
[null,"2020-01-12T12:00:00",1,12,2,1434.2909999999999,1321.4,1238.645]
[null,"2020-01-12T13:00:00",1,13,2,1356.4929999999999,1230.8,1038.463]
[null,"2020-01-12T14:00:00",1,14,2,1150.1569999999999,1009.1,714.55399999999997]
[null,"2020-01-12T15:00:00",1,15,2,773.00300000000004,663.3,321.49]
[null,"2020-01-12T16:00:00",1,16,4,191.511,97.183000000000007,58.497999999999998]
[null,"2020-01-12T17:00:00",1,17,4,-1.9336,-2.7E-2,-2.1436999999999999]
[null,"2020-01-12T18:00:00",1,18,4,-1.9336,-2.7E-2,-2.1436999999999999]
[null,"2020-01-12T19:00:00",1,19,4,-1.9336,-2.7E-2,-2.1436999999999999]
[null,"2020-01-12T20:00:00",1,20,4,-1.9336,-2.7E-2,-2.1436999999999999]
[null,"2020-01-12T21:00:00",1,21,2,-1.9336,-2.7E-2,-2.1436999999999999]
[null,"2020-01-12T22:00:00",1,22,2,-1.9336,-2.7E-2,-2.1436999999999999]
[null,"2020-01-12T23:00:00",1,23,2,-1.9336,-2.7E-2,-2.1436999999999999]
[null,"2020-01-13",1,0,2,-1.9336,-2.7E-2,-2.1436999999999999]
[null,"2020-01-13T01:00:00",1,1,2,-1.9336,-2.7E-2,-2.1436999999999999]
[null,"2020-01-13T02:00:00",1,2,2,-1.9336,-2.7E-2,-2.1436999999999999]
[null,"2020-01-13T03:00:00",1,3,2,-1.9336,-2.7E-2,-2.1436999999999999]
[null,"2020-01-13T04:00:00",1,4,2,-1.9336,-2.7E-2,-2.1436999999999999]
[null,"2020-01-13T05:00:00",1,5,2,-1.9336,-2.7E-2,-2.1436999999999999]
[null,"2020-01-13T06:00:00",1,6,2,-1.9336,-2.7E-2,-2.1436999999999999]
[null,"2020-01-13T07:00:00",1,7,2,19.971,22.103000000000002,30.231999999999999]
[null,"2020-01-13T08:00:00",1,8,2,236.40700000000001,332.02,441.93900000000002]
[null,"2020-01-13T09:00:00",1,9,2,592.14599999999996,611.98,548.23900000000003]
[null,"2020-01-13T10:00:00",1,10,2,731.12400000000002,711.7,778.57100000000003]
[null,"2020-01-13T11:00:00",1,11,2,984.36500000000001,923.87,943.77300000000002]
[null,"2020-01-13T12:00:00",1,12,2,1180.4749999999999,1095.7,1032.646]
[null,"2020-01-13T13:00:00",1,13,2,1173.3,1077.8,930.40599999999995]
[null,"2020-01-13T14:00:00",1,14,2,548.84699999999998,515.57000000000005,419.21300000000002]
[null,"2020-01-13T15:00:00",1,15,2,437.875,395.77,249.37799999999999]
[null,"2020-01-13T16:00:00",1,16,4,65.573999999999998,59.634999999999998,49.63]
[null,"2020-01-13T17:00:00",1,17,4,-1.9336,-2.7E-2,-2.1436999999999999]
[null,"2020-01-13T18:00:00",1,18,4,-1.9336,-2.7E-2,-2.1436999999999999]
[null,"2020-01-13T19:00:00",1,19,4,-1.9336,-2.7E-2,-2.1436999999999999]
[null,"2020-01-13T20:00:00",1,20,4,-1.9336,-2.7E-2,-2.1436999999999999]
[null,"2020-01-13T21:00:00",1,21,2,-1.9336,-2.7E-2,-2.1436999999999999]
[null,"2020-01-13T22:00:00",1,22,2,-1.9336,-2.7E-2,-2.1436999999999999]
[null,"2020-01-13T23:00:00",1,23,2,-1.9336,-2.7E-2,-2.1436999999999999]
[null,"2020-01-14",1,0,2,-1.9336,-2.7E-2,-2.1436999999999999]
[null,"2020-01-14T01:00:00",1,1,2,-1.9336,-2.7E-2,-2.1436999999999999]
[null,"2020-01-14T02:00:00",1,2,2,-1.9336,-2.7E-2,-2.1436999999999999]
[null,"2020-01-14T03:00:00",1,3,2,-1.9336,-2.7E-2,-2.1436999999999999]
[null,"2020-01-14T04:00:00",1,4,2,-1.9336,-2.7E-2,-2.1436999999999999]
[null,"2020-01-14T05:00:00",1,5,2,-1.9336,-2.7E-2,-2.1436999999999999]
[null,"2020-01-14T06:00:00",1,6,2,-1.9336,-2.7E-2,-2.1436999999999999]
[null,"2020-01-14T07:00:00",1,7,2,-1.9336,-2.7E-2,-2.1436999999999999]
[null,"2020-01-14T08:00:00",1,8,{"$f":"INDEX($AE$11:$BB$22,MATCH(C329,$AD$11:$AD$22,0),MATCH(D329,$AE$10:$BB$10,0))","v":2},40.045000000000002,48.027999999999999,45.161000000000001]
[null,"2020-01-14T09:00:00",{"$f":"MONTH(B330)","v":1},{"$f":"HOUR(B330)","v":9},2,77.268000000000001,86.67,82.445999999999998]
[null,{"$f":"B330+1/24","v":"2020-01-14T10:00:00"},1,10,2,162.61699999999999,180.13,174.20599999999999]
[null,"2020-01-14T11:00:00",1,11,2,179.14500000000001,197.48,190.923]
[null,"2020-01-14T12:00:00",1,12,2,189.36699999999999,207.84,200.58600000000001]
[null,"2020-01-14T13:00:00",1,13,2,214.636,232.14,222.23400000000001]
[null,"2020-01-14T14:00:00",1,14,2,431.05399999999997,408.98,336.31]
[null,"2020-01-14T15:00:00",1,15,2,135.76900000000001,146.54,131.08000000000001]
[null,"2020-01-14T16:00:00",1,16,4,54.07,54.436,48.811]
[null,"2020-01-14T17:00:00",1,17,4,-1.9336,-2.7E-2,-2.1436999999999999]
[null,"2020-01-14T18:00:00",1,18,4,-1.9336,-2.7E-2,-2.1436999999999999]
[null,"2020-01-14T19:00:00",1,19,4,-1.9336,-2.7E-2,-2.1436999999999999]
[null,"2020-01-14T20:00:00",1,20,4,-1.9336,-2.7E-2,-2.1436999999999999]
[null,"2020-01-14T21:00:00",1,21,2,-1.9336,-2.7E-2,-2.1436999999999999]
[null,"2020-01-14T22:00:00",1,22,2,-1.9336,-2.7E-2,-2.1436999999999999]
[null,"2020-01-14T23:00:00",1,23,2,-1.9336,-2.7E-2,-2.1436999999999999]
[null,"2020-01-15",1,0,2,-1.9336,-2.7E-2,-2.1436999999999999]
[null,"2020-01-15T01:00:00",1,1,2,-1.9336,-2.7E-2,-2.1436999999999999]
[null,"2020-01-15T02:00:00",1,2,2,-1.9336,-2.7E-2,-2.1436999999999999]
[null,"2020-01-15T03:00:00",1,3,2,-1.9336,-2.7E-2,-2.1436999999999999]
[null,"2020-01-15T04:00:00",1,4,2,-1.9336,-2.7E-2,-2.1436999999999999]
[null,"2020-01-15T05:00:00",1,5,2,-1.9336,-2.7E-2,-2.1436999999999999]
[null,"2020-01-15T06:00:00",1,6,2,-1.9336,-2.7E-2,-2.1436999999999999]
[null,"2020-01-15T07:00:00",1,7,2,-1.9336,-2.7E-2,-2.1436999999999999]
[null,"2020-01-15T08:00:00",1,8,2,61.045999999999999,69.129000000000005,66.831999999999994]
[null,"2020-01-15T09:00:00",1,9,2,92.494,103.05,98.566999999999993]
[null,"2020-01-15T10:00:00",1,10,2,129.39500000000001,144.37,138.49299999999999]
[null,"2020-01-15T11:00:00",1,11,2,140.94200000000001,157.37,150.88999999999999]
[null,"2020-01-15T12:00:00",1,12,2,139.107,155.37,148.93199999999999]
[null,"2020-01-15T13:00:00",1,13,2,125.529,140.25,134.53899999999999]
[null,"2020-01-15T14:00:00",1,14,2,100.267,112.05,107.953]
[null,"2020-01-15T15:00:00",1,15,2,242.381,231.42,162.49199999999999]
[null,"2020-01-15T16:00:00",1,16,4,9.1608000000000001,16.739999999999998,19.617999999999999]
[null,"2020-01-15T17:00:00",1,17,4,-1.9336,-2.7E-2,-2.1436999999999999]
[null,"2020-01-15T18:00:00",1,18,4,-1.9336,-2.7E-2,-2.1436999999999999]
[null,"2020-01-15T19:00:00",1,19,4,-1.9336,-2.7E-2,-2.1436999999999999]
[null,"2020-01-15T20:00:00",1,20,4,-1.9336,-2.7E-2,-2.1436999999999999]
[null,"2020-01-15T21:00:00",1,21,2,-1.9336,-2.7E-2,-2.1436999999999999]
[null,"2020-01-15T22:00:00",1,22,2,-1.9336,-2.7E-2,-2.1436999999999999]
[null,"2020-01-15T23:00:00",1,23,2,-1.9336,-2.7E-2,-2.1436999999999999]
[null,"2020-01-16",1,0,2,-1.9336,-2.7E-2,-2.1436999999999999]
[null,"2020-01-16T01:00:00",1,1,2,-1.9336,-2.7E-2,-2.1436999999999999]
[null,"2020-01-16T02:00:00",1,2,2,-1.9336,-2.7E-2,-2.1436999999999999]
[null,"2020-01-16T03:00:00",1,3,2,-1.9336,-2.7E-2,-2.1436999999999999]
[null,"2020-01-16T04:00:00",1,4,2,-1.9336,-2.7E-2,-2.1436999999999999]
[null,"2020-01-16T05:00:00",1,5,2,-1.9336,-2.7E-2,-2.1436999999999999]
[null,"2020-01-16T06:00:00",1,6,2,-1.9336,-2.7E-2,-2.1436999999999999]
[null,"2020-01-16T07:00:00",1,7,2,-1.9336,-2.7E-2,-2.1436999999999999]
[null,"2020-01-16T08:00:00",1,8,2,48.621000000000002,56.524999999999999,53.85]
[null,"2020-01-16T09:00:00",1,9,2,105.304,117.01,112.512]
[null,"2020-01-16T10:00:00",1,10,2,164.93700000000001,182.21,176.50700000000001]
[null,"2020-01-16T11:00:00",1,11,2,138.857,154.80000000000001,148.52000000000001]
[null,"2020-01-16T12:00:00",1,12,2,140.465,156.61000000000001,150.19499999999999]
[null,"2020-01-16T13:00:00",1,13,2,127.544,142.29,136.50700000000001]
[null,"2020-01-16T14:00:00",1,14,2,99.123000000000005,110.61,106.652]
[null,"2020-01-16T15:00:00",1,15,2,55.642000000000003,64.349000000000004,63.536999999999999]
[null,"2020-01-16T16:00:00",1,16,4,7.2333999999999996,14.574,17.628]
[null,"2020-01-16T17:00:00",1,17,4,-1.9336,-2.7E-2,-2.1436999999999999]
[null,"2020-01-16T18:00:00",1,18,4,-1.9336,-2.7E-2,-2.1436999999999999]
[null,"2020-01-16T19:00:00",1,19,4,-1.9336,-2.7E-2,-2.1436999999999999]
[null,"2020-01-16T20:00:00",1,20,4,-1.9336,-2.7E-2,-2.1436999999999999]
[null,"2020-01-16T21:00:00",1,21,2,-1.9336,-2.7E-2,-2.1436999999999999]
[null,"2020-01-16T22:00:00",1,22,2,-1.9336,-2.7E-2,-2.1436999999999999]
[null,"2020-01-16T23:00:00",1,23,2,-1.9336,-2.7E-2,-2.1436999999999999]
[null,"2020-01-17",1,0,{"$f":"INDEX($AE$11:$BB$22,MATCH(C393,$AD$11:$AD$22,0),MATCH(D393,$AE$10:$BB$10,0))","v":2},-1.9336,-2.7E-2,-2.1436999999999999]
[null,"2020-01-17T01:00:00",{"$f":"MONTH(B394)","v":1},{"$f":"HOUR(B394)","v":1},2,-1.9336,-2.7E-2,-2.1436999999999999]
[null,{"$f":"B394+1/24","v":"2020-01-17T02:00:00"},1,2,2,-1.9336,-2.7E-2,-2.1436999999999999]
[null,"2020-01-17T03:00:00",1,3,2,-1.9336,-2.7E-2,-2.1436999999999999]
[null,"2020-01-17T04:00:00",1,4,2,-1.9336,-2.7E-2,-2.1436999999999999]
[null,"2020-01-17T05:00:00",1,5,2,-1.9336,-2.7E-2,-2.1436999999999999]
[null,"2020-01-17T06:00:00",1,6,2,-1.9336,-2.7E-2,-2.1436999999999999]
[null,"2020-01-17T07:00:00",1,7,2,-1.9336,-2.7E-2,-2.1436999999999999]
[null,"2020-01-17T08:00:00",1,8,2,102.182,125.84,143.54300000000001]
[null,"2020-01-17T09:00:00",1,9,2,146.887,162.66999999999999,155.15100000000001]
[null,"2020-01-17T10:00:00",1,10,2,438.06299999999999,443.91,461.98700000000002]
[null,"2020-01-17T11:00:00",1,11,2,525.44299999999998,526.78,527.83600000000001]
[null,"2020-01-17T12:00:00",1,12,2,491.76900000000001,493.97,477.43]
[null,"2020-01-17T13:00:00",1,13,2,709.63599999999997,679.47,610.94799999999998]
[null,"2020-01-17T14:00:00",1,14,2,302.7,304.48,268.61599999999999]
[null,"2020-01-17T15:00:00",1,15,2,144.86799999999999,155.82,138.28800000000001]
[null,"2020-01-17T16:00:00",1,16,4,75.254000000000005,69.728999999999999,56.151000000000003]
[null,"2020-01-17T17:00:00",1,17,4,-1.9336,-2.7E-2,-2.1436999999999999]
[null,"2020-01-17T18:00:00",1,18,4,-1.9336,-2.7E-2,-2.1436999999999999]
[null,"2020-01-17T19:00:00",1,19,4,-1.9336,-2.7E-2,-2.1436999999999999]
[null,"2020-01-17T20:00:00",1,20,4,-1.9336,-2.7E-2,-2.1436999999999999]
[null,"2020-01-17T21:00:00",1,21,2,-1.9336,-2.7E-2,-2.1436999999999999]
[null,"2020-01-17T22:00:00",1,22,2,-1.9336,-2.7E-2,-2.1436999999999999]
[null,"2020-01-17T23:00:00",1,23,2,-1.9336,-2.7E-2,-2.1436999999999999]
[null,"2020-01-18",1,0,2,-1.9336,-2.7E-2,-2.1436999999999999]
[null,"2020-01-18T01:00:00",1,1,2,-1.9336,-2.7E-2,-2.1436999999999999]
[null,"2020-01-18T02:00:00",1,2,2,-1.9336,-2.7E-2,-2.1436999999999999]
[null,"2020-01-18T03:00:00",1,3,2,-1.9336,-2.7E-2,-2.1436999999999999]
[null,"2020-01-18T04:00:00",1,4,2,-1.9336,-2.7E-2,-2.1436999999999999]
[null,"2020-01-18T05:00:00",1,5,2,-1.9336,-2.7E-2,-2.1436999999999999]
[null,"2020-01-18T06:00:00",1,6,2,-1.9336,-2.7E-2,-2.1436999999999999]
[null,"2020-01-18T07:00:00",1,7,2,-1.9336,-2.7E-2,-2.1436999999999999]
[null,"2020-01-18T08:00:00",1,8,2,112.65600000000001,134.63,145.637]
[null,"2020-01-18T09:00:00",1,9,2,549.49599999999998,556.46,510.06099999999998]
[null,"2020-01-18T10:00:00",1,10,2,801.42499999999995,779.32,853.44100000000003]
[null,"2020-01-18T11:00:00",1,11,2,954.28099999999995,909.34,927.70600000000002]
[null,"2020-01-18T12:00:00",1,12,2,882.20799999999997,839.57,801.61400000000003]
[null,"2020-01-18T13:00:00",1,13,2,752.88400000000001,719.1,644.90300000000002]
[null,"2020-01-18T14:00:00",1,14,2,319.82900000000001,323.39,290.12200000000001]
[null,"2020-01-18T15:00:00",1,15,2,248.88900000000001,248.18,200.55199999999999]
[null,"2020-01-18T16:00:00",1,16,4,98.777000000000001,81.742000000000004,62.627000000000002]
[null,"2020-01-18T17:00:00",1,17,4,-1.9336,-2.7E-2,-2.1436999999999999]
[null,"2020-01-18T18:00:00",1,18,4,-1.9336,-2.7E-2,-2.1436999999999999]
[null,"2020-01-18T19:00:00",1,19,4,-1.9336,-2.7E-2,-2.1436999999999999]
[null,"2020-01-18T20:00:00",1,20,4,-1.9336,-2.7E-2,-2.1436999999999999]
[null,"2020-01-18T21:00:00",1,21,2,-1.9336,-2.7E-2,-2.1436999999999999]
[null,"2020-01-18T22:00:00",1,22,2,-1.9336,-2.7E-2,-2.1436999999999999]
[null,"2020-01-18T23:00:00",1,23,2,-1.9336,-2.7E-2,-2.1436999999999999]
[null,"2020-01-19",1,0,2,-1.9336,-2.7E-2,-2.1436999999999999]
[null,"2020-01-19T01:00:00",1,1,2,-1.9336,-2.7E-2,-2.1436999999999999]
[null,"2020-01-19T02:00:00",1,2,2,-1.9336,-2.7E-2,-2.1436999999999999]
[null,"2020-01-19T03:00:00",1,3,2,-1.9336,-2.7E-2,-2.1436999999999999]
[null,"2020-01-19T04:00:00",1,4,2,-1.9336,-2.7E-2,-2.1436999999999999]
[null,"2020-01-19T05:00:00",1,5,2,-1.9336,-2.7E-2,-2.1436999999999999]
[null,"2020-01-19T06:00:00",1,6,2,-1.9336,-2.7E-2,-2.1436999999999999]
[null,"2020-01-19T07:00:00",1,7,2,-1.9336,-2.7E-2,-2.1436999999999999]
[null,"2020-01-19T08:00:00",1,8,2,124.783,150.41999999999999,163.911]
[null,"2020-01-19T09:00:00",1,9,2,560.30100000000004,564.53,515.33000000000004]
[null,"2020-01-19T10:00:00",1,10,2,963.51599999999996,926.09,1031.7560000000001]
[null,"2020-01-19T11:00:00",1,11,2,1244.5809999999999,1164.0999999999999,1196.077]
[null,"2020-01-19T12:00:00",1,12,2,1339.865,1246.0999999999999,1178.646]
[null,"2020-01-19T13:00:00",1,13,2,1065.374,985.58,857.66399999999999]
[null,"2020-01-19T14:00:00",1,14,2,1038.788,929.21,692.51099999999997]
[null,"2020-01-19T15:00:00",1,15,2,730.21299999999997,630.62,330.16699999999997]
[null,"2020-01-19T16:00:00",1,16,{"$f":"INDEX($AE$11:$BB$22,MATCH(C457,$AD$11:$AD$22,0),MATCH(D457,$AE$10:$BB$10,0))","v":4},258.63799999999998,124.12,58.960999999999999]
[null,"2020-01-19T17:00:00",{"$f":"MONTH(B458)","v":1},{"$f":"HOUR(B458)","v":17},4,-1.9336,-2.7E-2,-2.1436999999999999]
[null,{"$f":"B458+1/24","v":"2020-01-19T18:00:00"},1,18,4,-1.9336,-2.7E-2,-2.1436999999999999]
[null,"2020-01-19T19:00:00",1,19,4,-1.9336,-2.7E-2,-2.1436999999999999]
[null,"2020-01-19T20:00:00",1,20,4,-1.9336,-2.7E-2,-2.1436999999999999]
[null,"2020-01-19T21:00:00",1,21,2,-1.9336,-2.7E-2,-2.1436999999999999]
[null,"2020-01-19T22:00:00",1,22,2,-1.9336,-2.7E-2,-2.1436999999999999]
[null,"2020-01-19T23:00:00",1,23,2,-1.9336,-2.7E-2,-2.1436999999999999]
[null,"2020-01-20",1,0,2,-1.9336,-2.7E-2,-2.1436999999999999]
[null,"2020-01-20T01:00:00",1,1,2,-1.9336,-2.7E-2,-2.1436999999999999]
[null,"2020-01-20T02:00:00",1,2,2,-1.9336,-2.7E-2,-2.1436999999999999]
[null,"2020-01-20T03:00:00",1,3,2,-1.9336,-2.7E-2,-2.1436999999999999]
[null,"2020-01-20T04:00:00",1,4,2,-1.9336,-2.7E-2,-2.1436999999999999]
[null,"2020-01-20T05:00:00",1,5,2,-1.9336,-2.7E-2,-2.1436999999999999]
[null,"2020-01-20T06:00:00",1,6,2,-1.9336,-2.7E-2,-2.1436999999999999]
[null,"2020-01-20T07:00:00",1,7,2,11.507,17.802,17.657]
[null,"2020-01-20T08:00:00",1,8,2,56.268999999999998,70.885999999999996,78.248999999999995]
[null,"2020-01-20T09:00:00",1,9,2,82.751000000000005,92.253,87.998000000000005]
[null,"2020-01-20T10:00:00",1,10,2,152.14599999999999,168.99,162.96899999999999]
[null,"2020-01-20T11:00:00",1,11,2,241.18100000000001,253.27,249.15199999999999]
[null,"2020-01-20T12:00:00",1,12,2,248.21100000000001,259.74,250.05099999999999]
[null,"2020-01-20T13:00:00",1,13,2,168.13200000000001,185.59,178.20400000000001]
[null,"2020-01-20T14:00:00",1,14,2,199.398,215.84,204.24799999999999]
[null,"2020-01-20T15:00:00",1,15,2,221.23099999999999,223.89,184.70699999999999]
[null,"2020-01-20T16:00:00",1,16,4,84.739000000000004,76.495000000000005,61.534999999999997]
[null,"2020-01-20T17:00:00",1,17,4,-1.9336,-2.7E-2,-2.1436999999999999]
[null,"2020-01-20T18:00:00",1,18,4,-1.9336,-2.7E-2,-2.1436999999999999]
[null,"2020-01-20T19:00:00",1,19,4,-1.9336,-2.7E-2,-2.1436999999999999]
[null,"2020-01-20T20:00:00",1,20,4,-1.9336,-2.7E-2,-2.1436999999999999]
[null,"2020-01-20T21:00:00",1,21,2,-1.9336,-2.7E-2,-2.1436999999999999]
[null,"2020-01-20T22:00:00",1,22,2,-1.9336,-2.7E-2,-2.1436999999999999]
[null,"2020-01-20T23:00:00",1,23,2,-1.9336,-2.7E-2,-2.1436999999999999]
[null,"2020-01-21",1,0,2,-1.9336,-2.7E-2,-2.1436999999999999]
[null,"2020-01-21T01:00:00",1,1,2,-1.9336,-2.7E-2,-2.1436999999999999]
[null,"2020-01-21T02:00:00",1,2,2,-1.9336,-2.7E-2,-2.1436999999999999]
[null,"2020-01-21T03:00:00",1,3,2,-1.9336,-2.7E-2,-2.1436999999999999]
[null,"2020-01-21T04:00:00",1,4,2,-1.9336,-2.7E-2,-2.1436999999999999]
[null,"2020-01-21T05:00:00",1,5,2,-1.9336,-2.7E-2,-2.1436999999999999]
[null,"2020-01-21T06:00:00",1,6,2,-1.9336,-2.7E-2,-2.1436999999999999]
[null,"2020-01-21T07:00:00",1,7,2,17.718,19.649999999999999,26.986999999999998]
[null,"2020-01-21T08:00:00",1,8,2,249.24199999999999,364.92,449.19600000000003]
[null,"2020-01-21T09:00:00",1,9,2,929.01800000000003,881.93,710.00199999999995]
[null,"2020-01-21T10:00:00",1,10,2,1238.2739999999999,1185.4000000000001,1335.9880000000001]
[null,"2020-01-21T11:00:00",1,11,2,1426.085,1335.2,1374.1780000000001]
[null,"2020-01-21T12:00:00",1,12,2,1475.3689999999999,1372.5,1295.518]
[null,"2020-01-21T13:00:00",1,13,2,1404.32,1288.5999999999999,1100.383]
[null,"2020-01-21T14:00:00",1,14,2,1216.7719999999999,1083.0999999999999,787.79100000000005]
[null,"2020-01-21T15:00:00",1,15,2,863.40700000000004,743.24,378.80700000000002]
[null,"2020-01-21T16:00:00",1,16,4,310.06799999999998,146.16999999999999,67.555000000000007]
[null,"2020-01-21T17:00:00",1,17,4,-1.9336,-2.7E-2,-2.1436999999999999]
[null,"2020-01-21T18:00:00",1,18,4,-1.9336,-2.7E-2,-2.1436999999999999]
[null,"2020-01-21T19:00:00",1,19,4,-1.9336,-2.7E-2,-2.1436999999999999]
[null,"2020-01-21T20:00:00",1,20,4,-1.9336,-2.7E-2,-2.1436999999999999]
[null,"2020-01-21T21:00:00",1,21,2,-1.9336,-2.7E-2,-2.1436999999999999]
[null,"2020-01-21T22:00:00",1,22,2,-1.9336,-2.7E-2,-2.1436999999999999]
[null,"2020-01-21T23:00:00",1,23,2,-1.9336,-2.7E-2,-2.1436999999999999]
[null,"2020-01-22",1,0,2,-1.9336,-2.7E-2,-2.1436999999999999]
[null,"2020-01-22T01:00:00",1,1,2,-1.9336,-2.7E-2,-2.1436999999999999]
[null,"2020-01-22T02:00:00",1,2,2,-1.9336,-2.7E-2,-2.1436999999999999]
[null,"2020-01-22T03:00:00",1,3,2,-1.9336,-2.7E-2,-2.1436999999999999]
[null,"2020-01-22T04:00:00",1,4,2,-1.9336,-2.7E-2,-2.1436999999999999]
[null,"2020-01-22T05:00:00",1,5,2,-1.9336,-2.7E-2,-2.1436999999999999]
[null,"2020-01-22T06:00:00",1,6,2,-1.9336,-2.7E-2,-2.1436999999999999]
[null,"2020-01-22T07:00:00",1,7,2,-1.9336,-2.7E-2,-2.1436999999999999]
[null,"2020-01-22T08:00:00",1,8,{"$f":"INDEX($AE$11:$BB$22,MATCH(C521,$AD$11:$AD$22,0),MATCH(D521,$AE$10:$BB$10,0))","v":2},204.71700000000001,271.26,321.01900000000001]
[null,"2020-01-22T09:00:00",{"$f":"MONTH(B522)","v":1},{"$f":"HOUR(B522)","v":9},2,844.75,806.02,684.02200000000005]
[null,{"$f":"B522+1/24","v":"2020-01-22T10:00:00"},1,10,2,1226.491,1174.0999999999999,1321.6669999999999]
[null,"2020-01-22T11:00:00",1,11,2,1421.605,1332.4,1371.7180000000001]
[null,"2020-01-22T12:00:00",1,12,2,1462.5719999999999,1362,1286.3520000000001]
[null,"2020-01-22T13:00:00",1,13,2,1404.2380000000001,1287.3,1098.068]
[null,"2020-01-22T14:00:00",1,14,2,1188.2280000000001,1059.9000000000001,775.36]
[null,"2020-01-22T15:00:00",1,15,2,848.55499999999995,731.28,378.98]
[null,"2020-01-22T16:00:00",1,16,4,305.50099999999998,146.11000000000001,66.194000000000003]
[null,"2020-01-22T17:00:00",1,17,4,-1.9336,-2.7E-2,-2.1436999999999999]
[null,"2020-01-22T18:00:00",1,18,4,-1.9336,-2.7E-2,-2.1436999999999999]
[null,"2020-01-22T19:00:00",1,19,4,-1.9336,-2.7E-2,-2.1436999999999999]
[null,"2020-01-22T20:00:00",1,20,4,-1.9336,-2.7E-2,-2.1436999999999999]
[null,"2020-01-22T21:00:00",1,21,2,-1.9336,-2.7E-2,-2.1436999999999999]
[null,"2020-01-22T22:00:00",1,22,2,-1.9336,-2.7E-2,-2.1436999999999999]
[null,"2020-01-22T23:00:00",1,23,2,-1.9336,-2.7E-2,-2.1436999999999999]
[null,"2020-01-23",1,0,2,-1.9336,-2.7E-2,-2.1436999999999999]
[null,"2020-01-23T01:00:00",1,1,2,-1.9336,-2.7E-2,-2.1436999999999999]
[null,"2020-01-23T02:00:00",1,2,2,-1.9336,-2.7E-2,-2.1436999999999999]
[null,"2020-01-23T03:00:00",1,3,2,-1.9336,-2.7E-2,-2.1436999999999999]
[null,"2020-01-23T04:00:00",1,4,2,-1.9336,-2.7E-2,-2.1436999999999999]
[null,"2020-01-23T05:00:00",1,5,2,-1.9336,-2.7E-2,-2.1436999999999999]
[null,"2020-01-23T06:00:00",1,6,2,-1.9336,-2.7E-2,-2.1436999999999999]
[null,"2020-01-23T07:00:00",1,7,2,19.440999999999999,21.992999999999999,30.087]
[null,"2020-01-23T08:00:00",1,8,2,263.53500000000003,374.15,447.61500000000001]
[null,"2020-01-23T09:00:00",1,9,2,938.97299999999996,890.8,741.62699999999995]
[null,"2020-01-23T10:00:00",1,10,2,1218.634,1166.2,1315.2190000000001]
[null,"2020-01-23T11:00:00",1,11,2,1441.6659999999999,1352.8,1393.4449999999999]
[null,"2020-01-23T12:00:00",1,12,2,1468.75,1369.3,1293.93]
[null,"2020-01-23T13:00:00",1,13,2,1398.71,1283.8,1096.308]
[null,"2020-01-23T14:00:00",1,14,2,1176.97,1052.5,774.97799999999995]
[null,"2020-01-23T15:00:00",1,15,2,848.72299999999996,730.34,376.32]
[null,"2020-01-23T16:00:00",1,16,4,330.5,154.44999999999999,67.091999999999999]
[null,"2020-01-23T17:00:00",1,17,4,-1.9336,-2.7E-2,-2.1436999999999999]
[null,"2020-01-23T18:00:00",1,18,4,-1.9336,-2.7E-2,-2.1436999999999999]
[null,"2020-01-23T19:00:00",1,19,4,-1.9336,-2.7E-2,-2.1436999999999999]
[null,"2020-01-23T20:00:00",1,20,4,-1.9336,-2.7E-2,-2.1436999999999999]
[null,"2020-01-23T21:00:00",1,21,2,-1.9336,-2.7E-2,-2.1436999999999999]
[null,"2020-01-23T22:00:00",1,22,2,-1.9336,-2.7E-2,-2.1436999999999999]
[null,"2020-01-23T23:00:00",1,23,2,-1.9336,-2.7E-2,-2.1436999999999999]
[null,"2020-01-24",1,0,2,-1.9336,-2.7E-2,-2.1436999999999999]
[null,"2020-01-24T01:00:00",1,1,2,-1.9336,-2.7E-2,-2.1436999999999999]
[null,"2020-01-24T02:00:00",1,2,2,-1.9336,-2.7E-2,-2.1436999999999999]
[null,"2020-01-24T03:00:00",1,3,2,-1.9336,-2.7E-2,-2.1436999999999999]
[null,"2020-01-24T04:00:00",1,4,2,-1.9336,-2.7E-2,-2.1436999999999999]
[null,"2020-01-24T05:00:00",1,5,2,-1.9336,-2.7E-2,-2.1436999999999999]
[null,"2020-01-24T06:00:00",1,6,2,-1.9336,-2.7E-2,-2.1436999999999999]
[null,"2020-01-24T07:00:00",1,7,2,19.811,21.824999999999999,29.587]
[null,"2020-01-24T08:00:00",1,8,2,255.83500000000001,388.15,461.01600000000002]
[null,"2020-01-24T09:00:00",1,9,2,923.95600000000002,877.01,760.322]
[null,"2020-01-24T10:00:00",1,10,2,1236.931,1185.5,1335.779]
[null,"2020-01-24T11:00:00",1,11,2,1429.664,1345,1385.0160000000001]
[null,"2020-01-24T12:00:00",1,12,2,1470.8009999999999,1375,1299.7929999999999]
[null,"2020-01-24T13:00:00",1,13,2,1368.059,1257.7,1076.67]
[null,"2020-01-24T14:00:00",1,14,2,1192.5930000000001,1068.5999999999999,789.73599999999999]
[null,"2020-01-24T15:00:00",1,15,2,874.73099999999999,753.57,391.88]
[null,"2020-01-24T16:00:00",1,16,4,351.10599999999999,163.47999999999999,69.010999999999996]
[null,"2020-01-24T17:00:00",1,17,4,-1.9336,-2.7E-2,-2.1436999999999999]
[null,"2020-01-24T18:00:00",1,18,4,-1.9336,-2.7E-2,-2.1436999999999999]
[null,"2020-01-24T19:00:00",1,19,4,-1.9336,-2.7E-2,-2.1436999999999999]
[null,"2020-01-24T20:00:00",1,20,4,-1.9336,-2.7E-2,-2.1436999999999999]
[null,"2020-01-24T21:00:00",1,21,2,-1.9336,-2.7E-2,-2.1436999999999999]
[null,"2020-01-24T22:00:00",1,22,2,-1.9336,-2.7E-2,-2.1436999999999999]
[null,"2020-01-24T23:00:00",1,23,2,-1.9336,-2.7E-2,-2.1436999999999999]
[null,"2020-01-25",1,0,{"$f":"INDEX($AE$11:$BB$22,MATCH(C585,$AD$11:$AD$22,0),MATCH(D585,$AE$10:$BB$10,0))","v":2},-1.9336,-2.7E-2,-2.1436999999999999]
[null,"2020-01-25T01:00:00",{"$f":"MONTH(B586)","v":1},{"$f":"HOUR(B586)","v":1},2,-1.9336,-2.7E-2,-2.1436999999999999]
[null,{"$f":"B586+1/24","v":"2020-01-25T02:00:00"},1,2,2,-1.9336,-2.7E-2,-2.1436999999999999]
[null,"2020-01-25T03:00:00",1,3,2,-1.9336,-2.7E-2,-2.1436999999999999]
[null,"2020-01-25T04:00:00",1,4,2,-1.9336,-2.7E-2,-2.1436999999999999]
[null,"2020-01-25T05:00:00",1,5,2,-1.9336,-2.7E-2,-2.1436999999999999]
[null,"2020-01-25T06:00:00",1,6,2,-1.9336,-2.7E-2,-2.1436999999999999]
[null,"2020-01-25T07:00:00",1,7,2,14.803000000000001,17.608000000000001,24.521000000000001]
[null,"2020-01-25T08:00:00",1,8,2,253.70099999999999,355.81,415.8]
[null,"2020-01-25T09:00:00",1,9,2,905.90899999999999,861.85,803.31899999999996]
[null,"2020-01-25T10:00:00",1,10,2,1241.3720000000001,1187.2,1339.1479999999999]
[null,"2020-01-25T11:00:00",1,11,2,1452.297,1368,1409.3889999999999]
[null,"2020-01-25T12:00:00",1,12,2,1492.585,1397.2,1321.8230000000001]
[null,"2020-01-25T13:00:00",1,13,2,1403.694,1294.0999999999999,1108.8]
[null,"2020-01-25T14:00:00",1,14,2,1203.1020000000001,1077.8,793.173]
[null,"2020-01-25T15:00:00",1,15,2,870.41499999999996,750.51,393.18599999999998]
[null,"2020-01-25T16:00:00",1,16,4,358.49200000000002,171.94,72.718000000000004]
[null,"2020-01-25T17:00:00",1,17,4,-1.9336,-2.7E-2,-2.1436999999999999]
[null,"2020-01-25T18:00:00",1,18,4,-1.9336,-2.7E-2,-2.1436999999999999]
[null,"2020-01-25T19:00:00",1,19,4,-1.9336,-2.7E-2,-2.1436999999999999]
[null,"2020-01-25T20:00:00",1,20,4,-1.9336,-2.7E-2,-2.1436999999999999]
[null,"2020-01-25T21:00:00",1,21,2,-1.9336,-2.7E-2,-2.1436999999999999]
[null,"2020-01-25T22:00:00",1,22,2,-1.9336,-2.7E-2,-2.1436999999999999]
[null,"2020-01-25T23:00:00",1,23,2,-1.9336,-2.7E-2,-2.1436999999999999]
[null,"2020-01-26",1,0,2,-1.9336,-2.7E-2,-2.1436999999999999]
[null,"2020-01-26T01:00:00",1,1,2,-1.9336,-2.7E-2,-2.1436999999999999]
[null,"2020-01-26T02:00:00",1,2,2,-1.9336,-2.7E-2,-2.1436999999999999]
[null,"2020-01-26T03:00:00",1,3,2,-1.9336,-2.7E-2,-2.1436999999999999]
[null,"2020-01-26T04:00:00",1,4,2,-1.9336,-2.7E-2,-2.1436999999999999]
[null,"2020-01-26T05:00:00",1,5,2,-1.9336,-2.7E-2,-2.1436999999999999]
[null,"2020-01-26T06:00:00",1,6,2,-1.9336,-2.7E-2,-2.1436999999999999]
[null,"2020-01-26T07:00:00",1,7,2,2.6635,-2.7E-2,7.8013999999999992]
[null,"2020-01-26T08:00:00",1,8,2,139.143,156.62,166.773]
[null,"2020-01-26T09:00:00",1,9,2,459.38600000000002,456.46,470.214]
[null,"2020-01-26T10:00:00",1,10,2,829.86500000000001,806.86,885.02499999999998]
[null,"2020-01-26T11:00:00",1,11,2,994.09100000000001,953.11,975.44399999999996]
[null,"2020-01-26T12:00:00",1,12,2,906.82,869.37,833.98400000000004]
[null,"2020-01-26T13:00:00",1,13,2,820.88599999999997,787.53,708.48]
[null,"2020-01-26T14:00:00",1,14,2,649.48900000000003,616,509.779]
[null,"2020-01-26T15:00:00",1,15,2,270.17,269.22000000000003,218.821]
[null,"2020-01-26T16:00:00",1,16,4,119.907,107.74,82.519000000000005]
[null,"2020-01-26T17:00:00",1,17,4,-1.9336,-2.7E-2,-2.1436999999999999]
[null,"2020-01-26T18:00:00",1,18,4,-1.9336,-2.7E-2,-2.1436999999999999]
[null,"2020-01-26T19:00:00",1,19,4,-1.9336,-2.7E-2,-2.1436999999999999]
[null,"2020-01-26T20:00:00",1,20,4,-1.9336,-2.7E-2,-2.1436999999999999]
[null,"2020-01-26T21:00:00",1,21,2,-1.9336,-2.7E-2,-2.1436999999999999]
[null,"2020-01-26T22:00:00",1,22,2,-1.9336,-2.7E-2,-2.1436999999999999]
[null,"2020-01-26T23:00:00",1,23,2,-1.9336,-2.7E-2,-2.1436999999999999]
[null,"2020-01-27",1,0,2,-1.9336,-2.7E-2,-2.1436999999999999]
[null,"2020-01-27T01:00:00",1,1,2,-1.9336,-2.7E-2,-2.1436999999999999]
[null,"2020-01-27T02:00:00",1,2,2,-1.9336,-2.7E-2,-2.1436999999999999]
[null,"2020-01-27T03:00:00",1,3,2,-1.9336,-2.7E-2,-2.1436999999999999]
[null,"2020-01-27T04:00:00",1,4,2,-1.9336,-2.7E-2,-2.1436999999999999]
[null,"2020-01-27T05:00:00",1,5,2,-1.9336,-2.7E-2,-2.1436999999999999]
[null,"2020-01-27T06:00:00",1,6,2,-1.9336,-2.7E-2,-2.1436999999999999]
[null,"2020-01-27T07:00:00",1,7,2,6.1627999999999998,12.683999999999999,11.472]
[null,"2020-01-27T08:00:00",1,8,2,239.37700000000001,318.27,359.22800000000001]
[null,"2020-01-27T09:00:00",1,9,2,818.81799999999998,785.51,815.23800000000006]
[null,"2020-01-27T10:00:00",1,10,2,993.23699999999997,954.69,1063.127]
[null,"2020-01-27T11:00:00",1,11,2,1380.981,1302.9000000000001,1343.508]
[null,"2020-01-27T12:00:00",1,12,2,1392.5719999999999,1304.9000000000001,1238.614]
[null,"2020-01-27T13:00:00",1,13,2,1351.1780000000001,1249.5,1078.614]
[null,"2020-01-27T14:00:00",1,14,2,1192.704,1076.5,808.18299999999999]
[null,"2020-01-27T15:00:00",1,15,2,796.62,690,377.22500000000002]
[null,"2020-01-27T16:00:00",1,16,{"$f":"INDEX($AE$11:$BB$22,MATCH(C649,$AD$11:$AD$22,0),MATCH(D649,$AE$10:$BB$10,0))","v":4},325.02300000000002,167.09,70.100999999999999]
[null,"2020-01-27T17:00:00",{"$f":"MONTH(B650)","v":1},{"$f":"HOUR(B650)","v":17},4,-1.9336,-2.7E-2,-2.1436999999999999]
[null,{"$f":"B650+1/24","v":"2020-01-27T18:00:00"},1,18,4,-1.9336,-2.7E-2,-2.1436999999999999]
[null,"2020-01-27T19:00:00",1,19,4,-1.9336,-2.7E-2,-2.1436999999999999]
[null,"2020-01-27T20:00:00",1,20,4,-1.9336,-2.7E-2,-2.1436999999999999]
[null,"2020-01-27T21:00:00",1,21,2,-1.9336,-2.7E-2,-2.1436999999999999]
[null,"2020-01-27T22:00:00",1,22,2,-1.9336,-2.7E-2,-2.1436999999999999]
[null,"2020-01-27T23:00:00",1,23,2,-1.9336,-2.7E-2,-2.1436999999999999]
[null,"2020-01-28",1,0,2,-1.9336,-2.7E-2,-2.1436999999999999]
[null,"2020-01-28T01:00:00",1,1,2,-1.9336,-2.7E-2,-2.1436999999999999]
[null,"2020-01-28T02:00:00",1,2,2,-1.9336,-2.7E-2,-2.1436999999999999]
[null,"2020-01-28T03:00:00",1,3,2,-1.9336,-2.7E-2,-2.1436999999999999]
[null,"2020-01-28T04:00:00",1,4,2,-1.9336,-2.7E-2,-2.1436999999999999]
[null,"2020-01-28T05:00:00",1,5,2,-1.9336,-2.7E-2,-2.1436999999999999]
[null,"2020-01-28T06:00:00",1,6,2,-1.9336,-2.7E-2,-2.1436999999999999]
[null,"2020-01-28T07:00:00",1,7,2,-1.9336,-2.7E-2,-2.1436999999999999]
[null,"2020-01-28T08:00:00",1,8,2,108.73699999999999,131.9,140.52500000000001]
[null,"2020-01-28T09:00:00",1,9,2,402.12799999999999,401.32,428.26]
[null,"2020-01-28T10:00:00",1,10,2,368.34899999999999,369.76,391.89100000000002]
[null,"2020-01-28T11:00:00",1,11,2,890.58100000000002,868.14,883.87900000000002]
[null,"2020-01-28T12:00:00",1,12,2,624.88499999999999,623.26,603.05200000000002]
[null,"2020-01-28T13:00:00",1,13,2,496.19900000000001,497.85,465.30799999999999]
[null,"2020-01-28T14:00:00",1,14,2,286.005,300.55,280.77699999999999]
[null,"2020-01-28T15:00:00",1,15,2,376.94799999999998,356.16,261.90699999999998]
[null,"2020-01-28T16:00:00",1,16,4,233.816,161.91,92.075999999999993]
[null,"2020-01-28T17:00:00",1,17,4,-1.9336,-2.7E-2,-2.1436999999999999]
[null,"2020-01-28T18:00:00",1,18,4,-1.9336,-2.7E-2,-2.1436999999999999]
[null,"2020-01-28T19:00:00",1,19,4,-1.9336,-2.7E-2,-2.1436999999999999]
[null,"2020-01-28T20:00:00",1,20,4,-1.9336,-2.7E-2,-2.1436999999999999]
[null,"2020-01-28T21:00:00",1,21,2,-1.9336,-2.7E-2,-2.1436999999999999]
[null,"2020-01-28T22:00:00",1,22,2,-1.9336,-2.7E-2,-2.1436999999999999]
[null,"2020-01-28T23:00:00",1,23,2,-1.9336,-2.7E-2,-2.1436999999999999]
[null,"2020-01-29",1,0,2,-1.9336,-2.7E-2,-2.1436999999999999]
[null,"2020-01-29T01:00:00",1,1,2,-1.9336,-2.7E-2,-2.1436999999999999]
[null,"2020-01-29T02:00:00",1,2,2,-1.9336,-2.7E-2,-2.1436999999999999]
[null,"2020-01-29T03:00:00",1,3,2,-1.9336,-2.7E-2,-2.1436999999999999]
[null,"2020-01-29T04:00:00",1,4,2,-1.9336,-2.7E-2,-2.1436999999999999]
[null,"2020-01-29T05:00:00",1,5,2,-1.9336,-2.7E-2,-2.1436999999999999]
[null,"2020-01-29T06:00:00",1,6,2,-1.9336,-2.7E-2,-2.1436999999999999]
[null,"2020-01-29T07:00:00",1,7,2,2.4089999999999998,-2.7E-2,7.3418999999999999]
[null,"2020-01-29T08:00:00",1,8,2,284.70100000000002,429.09,469.30799999999999]
[null,"2020-01-29T09:00:00",1,9,2,887.89300000000003,848.55,961.06299999999999]
[null,"2020-01-29T10:00:00",1,10,2,1210.0809999999999,1155.3,1301.0440000000001]
[null,"2020-01-29T11:00:00",1,11,2,1395.02,1320.5,1361.999]
[null,"2020-01-29T12:00:00",1,12,2,1151.1410000000001,1090.5999999999999,1042.164]
[null,"2020-01-29T13:00:00",1,13,2,1124.796,1049.4000000000001,916.86900000000003]
[null,"2020-01-29T14:00:00",1,14,2,1041.2739999999999,949.98,730.06200000000001]
[null,"2020-01-29T15:00:00",1,15,2,635.03099999999995,562.19000000000005,341.61700000000002]
[null,"2020-01-29T16:00:00",1,16,4,323.28699999999998,193.38,92.822000000000003]
[null,"2020-01-29T17:00:00",1,17,4,-1.9336,-2.7E-2,-2.1436999999999999]
[null,"2020-01-29T18:00:00",1,18,4,-1.9336,-2.7E-2,-2.1436999999999999]
[null,"2020-01-29T19:00:00",1,19,4,-1.9336,-2.7E-2,-2.1436999999999999]
[null,"2020-01-29T20:00:00",1,20,4,-1.9336,-2.7E-2,-2.1436999999999999]
[null,"2020-01-29T21:00:00",1,21,2,-1.9336,-2.7E-2,-2.1436999999999999]
[null,"2020-01-29T22:00:00",1,22,2,-1.9336,-2.7E-2,-2.1436999999999999]
[null,"2020-01-29T23:00:00",1,23,2,-1.9336,-2.7E-2,-2.1436999999999999]
[null,"2020-01-30",1,0,2,-1.9336,-2.7E-2,-2.1436999999999999]
[null,"2020-01-30T01:00:00",1,1,2,-1.9336,-2.7E-2,-2.1436999999999999]
[null,"2020-01-30T02:00:00",1,2,2,-1.9336,-2.7E-2,-2.1436999999999999]
[null,"2020-01-30T03:00:00",1,3,2,-1.9336,-2.7E-2,-2.1436999999999999]
[null,"2020-01-30T04:00:00",1,4,2,-1.9336,-2.7E-2,-2.1436999999999999]
[null,"2020-01-30T05:00:00",1,5,2,-1.9336,-2.7E-2,-2.1436999999999999]
[null,"2020-01-30T06:00:00",1,6,2,-1.9336,-2.7E-2,-2.1436999999999999]
[null,"2020-01-30T07:00:00",1,7,2,33.292999999999999,33.997,46.860999999999997]
[null,"2020-01-30T08:00:00",1,8,{"$f":"INDEX($AE$11:$BB$22,MATCH(C713,$AD$11:$AD$22,0),MATCH(D713,$AE$10:$BB$10,0))","v":2},285.14400000000001,442.89,477.67700000000002]
[null,"2020-01-30T09:00:00",{"$f":"MONTH(B714)","v":1},{"$f":"HOUR(B714)","v":9},2,922.58500000000004,881.58,1046.895]
[null,{"$f":"B714+1/24","v":"2020-01-30T10:00:00"},1,10,2,1234.5899999999999,1178.4000000000001,1329.3810000000001]
[null,"2020-01-30T11:00:00",1,11,2,1459.136,1381.2,1425.519]
[null,"2020-01-30T12:00:00",1,12,2,1521.2729999999999,1439.7,1366.32]
[null,"2020-01-30T13:00:00",1,13,2,1460.79,1356.6,1168.221]
[null,"2020-01-30T14:00:00",1,14,2,1237.2529999999999,1118.9000000000001,836.26700000000005]
[null,"2020-01-30T15:00:00",1,15,2,928.37599999999998,799.31,438.17099999999999]
[null,"2020-01-30T16:00:00",1,16,4,411.03300000000002,216.38,89.09]
[null,"2020-01-30T17:00:00",1,17,4,4.5810000000000004,10.731,11.803000000000001]
[null,"2020-01-30T18:00:00",1,18,4,-1.9336,-2.7E-2,-2.1436999999999999]
[null,"2020-01-30T19:00:00",1,19,4,-1.9336,-2.7E-2,-2.1436999999999999]
[null,"2020-01-30T20:00:00",1,20,4,-1.9336,-2.7E-2,-2.1436999999999999]
[null,"2020-01-30T21:00:00",1,21,2,-1.9336,-2.7E-2,-2.1436999999999999]
[null,"2020-01-30T22:00:00",1,22,2,-1.9336,-2.7E-2,-2.1436999999999999]
[null,"2020-01-30T23:00:00",1,23,2,-1.9336,-2.7E-2,-2.1436999999999999]
[null,"2020-01-31",1,0,2,-1.9336,-2.7E-2,-2.1436999999999999]
[null,"2020-01-31T01:00:00",1,1,2,-1.9336,-2.7E-2,-2.1436999999999999]
[null,"2020-01-31T02:00:00",1,2,2,-1.9336,-2.7E-2,-2.1436999999999999]
[null,"2020-01-31T03:00:00",1,3,2,-1.9336,-2.7E-2,-2.1436999999999999]
[null,"2020-01-31T04:00:00",1,4,2,-1.9336,-2.7E-2,-2.1436999999999999]
[null,"2020-01-31T05:00:00",1,5,2,-1.9336,-2.7E-2,-2.1436999999999999]
[null,"2020-01-31T06:00:00",1,6,2,-1.9336,-2.7E-2,-2.1436999999999999]
[null,"2020-01-31T07:00:00",1,7,2,28.27,29.459,40.86]
[null,"2020-01-31T08:00:00",1,8,2,239.66300000000001,332.68,364.13099999999997]
[null,"2020-01-31T09:00:00",1,9,2,817.05100000000004,788.65,971.60199999999998]
[null,"2020-01-31T10:00:00",1,10,2,399.322,396.56,424.10300000000001]
[null,"2020-01-31T11:00:00",1,11,2,293.06900000000002,305.32,302.43299999999999]
[null,"2020-01-31T12:00:00",1,12,2,1011.332,971.2,932.46199999999999]
[null,"2020-01-31T13:00:00",1,13,2,639.89700000000005,619.54999999999995,559.19200000000001]
[null,"2020-01-31T14:00:00",1,14,2,1191.3610000000001,1086.4000000000001,833.76199999999994]
[null,"2020-01-31T15:00:00",1,15,2,948.94100000000003,816.35,442.25200000000001]
[null,"2020-01-31T16:00:00",1,16,4,426.30200000000002,219.63,85.561000000000007]
[null,"2020-01-31T17:00:00",1,17,4,0.90976999999999997,-2.7E-2,8.7792999999999992]
[null,"2020-01-31T18:00:00",1,18,4,-1.9336,-2.7E-2,-2.1436999999999999]
[null,"2020-01-31T19:00:00",1,19,4,-1.9336,-2.7E-2,-2.1436999999999999]
[null,"2020-01-31T20:00:00",1,20,4,-1.9336,-2.7E-2,-2.1436999999999999]
[null,"2020-01-31T21:00:00",1,21,2,-1.9336,-2.7E-2,-2.1436999999999999]
[null,"2020-01-31T22:00:00",1,22,2,-1.9336,-2.7E-2,-2.1436999999999999]
[null,"2020-01-31T23:00:00",1,23,2,-1.9336,-2.7E-2,-2.1436999999999999]
[null,"2020-02-01",2,0,2,-1.9336,-2.7E-2,-2.1436999999999999]
[null,"2020-02-01T01:00:00",2,1,2,-1.9336,-2.7E-2,-2.1436999999999999]
[null,"2020-02-01T02:00:00",2,2,2,-1.9336,-2.7E-2,-2.1436999999999999]
[null,"2020-02-01T03:00:00",2,3,2,-1.9336,-2.7E-2,-2.1436999999999999]
[null,"2020-02-01T04:00:00",2,4,2,-1.9336,-2.7E-2,-2.1436999999999999]
[null,"2020-02-01T05:00:00",2,5,2,-1.9336,-2.7E-2,-2.1436999999999999]
[null,"2020-02-01T06:00:00",2,6,2,-1.9336,-2.7E-2,-2.1436999999999999]
[null,"2020-02-01T07:00:00",2,7,2,47.274999999999999,46.88,67.263000000000005]
[null,"2020-02-01T08:00:00",2,8,2,326.98500000000001,523.29999999999995,561.58000000000004]
[null,"2020-02-01T09:00:00",2,9,2,989.69899999999996,947.31,1228.6669999999999]
[null,"2020-02-01T10:00:00",2,10,2,1307.375,1241.2,1427.789]
[null,"2020-02-01T11:00:00",2,11,2,1490.309,1415.7,1490.576]
[null,"2020-02-01T12:00:00",2,12,2,1524.1990000000001,1448.4,1403.405]
[null,"2020-02-01T13:00:00",2,13,2,1446.4760000000001,1345.8,1185.875]
[null,"2020-02-01T14:00:00",2,14,2,1248.5,1131,865.07100000000003]
[null,"2020-02-01T15:00:00",2,15,2,940.77,811.01,454.12]
[null,"2020-02-01T16:00:00",2,16,4,448.512,232.82,89.247]
[null,"2020-02-01T17:00:00",2,17,4,4.5170000000000003,10.819000000000001,12.484]
[null,"2020-02-01T18:00:00",2,18,4,-1.9336,-2.7E-2,-2.1436999999999999]
[null,"2020-02-01T19:00:00",2,19,4,-1.9336,-2.7E-2,-2.1436999999999999]
[null,"2020-02-01T20:00:00",2,20,4,-1.9336,-2.7E-2,-2.1436999999999999]
[null,"2020-02-01T21:00:00",2,21,2,-1.9336,-2.7E-2,-2.1436999999999999]
[null,"2020-02-01T22:00:00",2,22,2,-1.9336,-2.7E-2,-2.1436999999999999]
[null,"2020-02-01T23:00:00",2,23,2,-1.9336,-2.7E-2,-2.1436999999999999]
[null,"2020-02-02",2,0,{"$f":"INDEX($AE$11:$BB$22,MATCH(C777,$AD$11:$AD$22,0),MATCH(D777,$AE$10:$BB$10,0))","v":2},-1.9336,-2.7E-2,-2.1436999999999999]
[null,"2020-02-02T01:00:00",{"$f":"MONTH(B778)","v":2},{"$f":"HOUR(B778)","v":1},2,-1.9336,-2.7E-2,-2.1436999999999999]
[null,{"$f":"B778+1/24","v":"2020-02-02T02:00:00"},2,2,2,-1.9336,-2.7E-2,-2.1436999999999999]
[null,"2020-02-02T03:00:00",2,3,2,-1.9336,-2.7E-2,-2.1436999999999999]
[null,"2020-02-02T04:00:00",2,4,2,-1.9336,-2.7E-2,-2.1436999999999999]
[null,"2020-02-02T05:00:00",2,5,2,-1.9336,-2.7E-2,-2.1436999999999999]
[null,"2020-02-02T06:00:00",2,6,2,-1.9336,-2.7E-2,-2.1436999999999999]
[null,"2020-02-02T07:00:00",2,7,2,-1.9336,-2.7E-2,-2.1436999999999999]
[null,"2020-02-02T08:00:00",2,8,2,40.418999999999997,48.387,46.279000000000003]
[null,"2020-02-02T09:00:00",2,9,2,90.307000000000002,100.71,98.257000000000005]
[null,"2020-02-02T10:00:00",2,10,2,125.93300000000001,140.61000000000001,137.86500000000001]
[null,"2020-02-02T11:00:00",2,11,2,189.62299999999999,208.44,206.61199999999999]
[null,"2020-02-02T12:00:00",2,12,2,290.95499999999998,311.12,309.75200000000001]
[null,"2020-02-02T13:00:00",2,13,2,208.001,226.34,222.56200000000001]
[null,"2020-02-02T14:00:00",2,14,2,246.67699999999999,262.58,252.37899999999999]
[null,"2020-02-02T15:00:00",2,15,2,250.18299999999999,250.14,207.245]
[null,"2020-02-02T16:00:00",2,16,4,63.845999999999997,53.692999999999998,40.976999999999997]
[null,"2020-02-02T17:00:00",2,17,4,1.0532999999999999,-2.7E-2,9.6341000000000001]
[null,"2020-02-02T18:00:00",2,18,4,-1.9336,-2.7E-2,-2.1436999999999999]
[null,"2020-02-02T19:00:00",2,19,4,-1.9336,-2.7E-2,-2.1436999999999999]
[null,"2020-02-02T20:00:00",2,20,4,-1.9336,-2.7E-2,-2.1436999999999999]
[null,"2020-02-02T21:00:00",2,21,2,-1.9336,-2.7E-2,-2.1436999999999999]
[null,"2020-02-02T22:00:00",2,22,2,-1.9336,-2.7E-2,-2.1436999999999999]
[null,"2020-02-02T23:00:00",2,23,2,-1.9336,-2.7E-2,-2.1436999999999999]
[null,"2020-02-03",2,0,2,-1.9336,-2.7E-2,-2.1436999999999999]
[null,"2020-02-03T01:00:00",2,1,2,-1.9336,-2.7E-2,-2.1436999999999999]
[null,"2020-02-03T02:00:00",2,2,2,-1.9336,-2.7E-2,-2.1436999999999999]
[null,"2020-02-03T03:00:00",2,3,2,-1.9336,-2.7E-2,-2.1436999999999999]
[null,"2020-02-03T04:00:00",2,4,2,-1.9336,-2.7E-2,-2.1436999999999999]
[null,"2020-02-03T05:00:00",2,5,2,-1.9336,-2.7E-2,-2.1436999999999999]
[null,"2020-02-03T06:00:00",2,6,2,-1.9336,-2.7E-2,-2.1436999999999999]
[null,"2020-02-03T07:00:00",2,7,2,53.319000000000003,51.078000000000003,80.287000000000006]
[null,"2020-02-03T08:00:00",2,8,2,345.245,539.12,575.86500000000001]
[null,"2020-02-03T09:00:00",2,9,2,1012.297,971.11,1257.847]
[null,"2020-02-03T10:00:00",2,10,2,1327.566,1264.7,1454.3920000000001]
[null,"2020-02-03T11:00:00",2,11,2,1483.3140000000001,1412.6,1487.8920000000001]
[null,"2020-02-03T12:00:00",2,12,2,1535.489,1470.3,1426.5530000000001]
[null,"2020-02-03T13:00:00",2,13,2,1456.91,1357,1197.652]
[null,"2020-02-03T14:00:00",2,14,2,1261.944,1146.8,880.88599999999997]
[null,"2020-02-03T15:00:00",2,15,2,941.54200000000003,816.09,465.45]
[null,"2020-02-03T16:00:00",2,16,4,471.03899999999999,256.81,92.358000000000004]
[null,"2020-02-03T17:00:00",2,17,4,6.3034999999999997,12.724,14.276999999999999]
[null,"2020-02-03T18:00:00",2,18,4,-1.9336,-2.7E-2,-2.1436999999999999]
[null,"2020-02-03T19:00:00",2,19,4,-1.9336,-2.7E-2,-2.1436999999999999]
[null,"2020-02-03T20:00:00",2,20,4,-1.9336,-2.7E-2,-2.1436999999999999]
[null,"2020-02-03T21:00:00",2,21,2,-1.9336,-2.7E-2,-2.1436999999999999]
[null,"2020-02-03T22:00:00",2,22,2,-1.9336,-2.7E-2,-2.1436999999999999]
[null,"2020-02-03T23:00:00",2,23,2,-1.9336,-2.7E-2,-2.1436999999999999]
[null,"2020-02-04",2,0,2,-1.9336,-2.7E-2,-2.1436999999999999]
[null,"2020-02-04T01:00:00",2,1,2,-1.9336,-2.7E-2,-2.1436999999999999]
[null,"2020-02-04T02:00:00",2,2,2,-1.9336,-2.7E-2,-2.1436999999999999]
[null,"2020-02-04T03:00:00",2,3,2,-1.9336,-2.7E-2,-2.1436999999999999]
[null,"2020-02-04T04:00:00",2,4,2,-1.9336,-2.7E-2,-2.1436999999999999]
[null,"2020-02-04T05:00:00",2,5,2,-1.9336,-2.7E-2,-2.1436999999999999]
[null,"2020-02-04T06:00:00",2,6,2,-1.9336,-2.7E-2,-2.1436999999999999]
[null,"2020-02-04T07:00:00",2,7,2,-1.9336,-2.7E-2,-2.1436999999999999]
[null,"2020-02-04T08:00:00",2,8,2,194.42599999999999,234.69,257.20400000000001]
[null,"2020-02-04T09:00:00",2,9,2,846.57299999999998,820.89,1028.809]
[null,"2020-02-04T10:00:00",2,10,2,1201.8420000000001,1146.4000000000001,1314.741]
[null,"2020-02-04T11:00:00",2,11,2,1414.1130000000001,1347.3,1420.2929999999999]
[null,"2020-02-04T12:00:00",2,12,2,1519.05,1444.1,1406.829]
[null,"2020-02-04T13:00:00",2,13,2,1161.0129999999999,1089.4000000000001,975.971]
[null,"2020-02-04T14:00:00",2,14,2,534.40899999999999,514.74,443.45800000000003]
[null,"2020-02-04T15:00:00",2,15,2,416.93799999999999,392.2,292.745]
[null,"2020-02-04T16:00:00",2,16,{"$f":"INDEX($AE$11:$BB$22,MATCH(C841,$AD$11:$AD$22,0),MATCH(D841,$AE$10:$BB$10,0))","v":4},240.58,164.75,84.980999999999995]
[null,"2020-02-04T17:00:00",{"$f":"MONTH(B842)","v":2},{"$f":"HOUR(B842)","v":17},4,-1.9336,-2.7E-2,-2.1436999999999999]
[null,{"$f":"B842+1/24","v":"2020-02-04T18:00:00"},2,18,4,-1.9336,-2.7E-2,-2.1436999999999999]
[null,"2020-02-04T19:00:00",2,19,4,-1.9336,-2.7E-2,-2.1436999999999999]
[null,"2020-02-04T20:00:00",2,20,4,-1.9336,-2.7E-2,-2.1436999999999999]
[null,"2020-02-04T21:00:00",2,21,2,-1.9336,-2.7E-2,-2.1436999999999999]
[null,"2020-02-04T22:00:00",2,22,2,-1.9336,-2.7E-2,-2.1436999999999999]
[null,"2020-02-04T23:00:00",2,23,2,-1.9336,-2.7E-2,-2.1436999999999999]
[null,"2020-02-05",2,0,2,-1.9336,-2.7E-2,-2.1436999999999999]
[null,"2020-02-05T01:00:00",2,1,2,-1.9336,-2.7E-2,-2.1436999999999999]
[null,"2020-02-05T02:00:00",2,2,2,-1.9336,-2.7E-2,-2.1436999999999999]
[null,"2020-02-05T03:00:00",2,3,2,-1.9336,-2.7E-2,-2.1436999999999999]
[null,"2020-02-05T04:00:00",2,4,2,-1.9336,-2.7E-2,-2.1436999999999999]
[null,"2020-02-05T05:00:00",2,5,2,-1.9336,-2.7E-2,-2.1436999999999999]
[null,"2020-02-05T06:00:00",2,6,2,-1.9336,-2.7E-2,-2.1436999999999999]
[null,"2020-02-05T07:00:00",2,7,2,52.029000000000003,49.851999999999997,78.748999999999995]
[null,"2020-02-05T08:00:00",2,8,2,365.964,555.26,590.33000000000004]
[null,"2020-02-05T09:00:00",2,9,2,1017.071,978.43,1261.962]
[null,"2020-02-05T10:00:00",2,10,2,1291.8140000000001,1232.4000000000001,1415.982]
[null,"2020-02-05T11:00:00",2,11,2,1376.7360000000001,1313.7,1384.835]
[null,"2020-02-05T12:00:00",2,12,2,1270.971,1210.7,1183.1199999999999]
[null,"2020-02-05T13:00:00",2,13,2,915.13599999999997,876.43,807.70899999999995]
[null,"2020-02-05T14:00:00",2,14,2,518.51,513.5,463.63799999999998]
[null,"2020-02-05T15:00:00",2,15,2,326.96300000000002,325.95999999999998,277.84800000000001]
[null,"2020-02-05T16:00:00",2,16,4,165.22200000000001,147.51,109.80500000000001]
[null,"2020-02-05T17:00:00",2,17,4,4.2608999999999995,10.829000000000001,12.807]
[null,"2020-02-05T18:00:00",2,18,4,-1.9336,-2.7E-2,-2.1436999999999999]
[null,"2020-02-05T19:00:00",2,19,4,-1.9336,-2.7E-2,-2.1436999999999999]
[null,"2020-02-05T20:00:00",2,20,4,-1.9336,-2.7E-2,-2.1436999999999999]
[null,"2020-02-05T21:00:00",2,21,2,-1.9336,-2.7E-2,-2.1436999999999999]
[null,"2020-02-05T22:00:00",2,22,2,-1.9336,-2.7E-2,-2.1436999999999999]
[null,"2020-02-05T23:00:00",2,23,2,-1.9336,-2.7E-2,-2.1436999999999999]
[null,"2020-02-06",2,0,2,-1.9336,-2.7E-2,-2.1436999999999999]
[null,"2020-02-06T01:00:00",2,1,2,-1.9336,-2.7E-2,-2.1436999999999999]
[null,"2020-02-06T02:00:00",2,2,2,-1.9336,-2.7E-2,-2.1436999999999999]
[null,"2020-02-06T03:00:00",2,3,2,-1.9336,-2.7E-2,-2.1436999999999999]
[null,"2020-02-06T04:00:00",2,4,2,-1.9336,-2.7E-2,-2.1436999999999999]
[null,"2020-02-06T05:00:00",2,5,2,-1.9336,-2.7E-2,-2.1436999999999999]
[null,"2020-02-06T06:00:00",2,6,2,-1.9336,-2.7E-2,-2.1436999999999999]
[null,"2020-02-06T07:00:00",2,7,2,26.623999999999999,27.981999999999999,37.412999999999997]
[null,"2020-02-06T08:00:00",2,8,2,162.828,194.1,204.268]
[null,"2020-02-06T09:00:00",2,9,2,258.517,276.08999999999997,288.33699999999999]
[null,"2020-02-06T10:00:00",2,10,2,367.28100000000001,385.65,397.988]
[null,"2020-02-06T11:00:00",2,11,2,333.80399999999997,353.71,356.89]
[null,"2020-02-06T12:00:00",2,12,2,290.96600000000001,311.45999999999998,310.351]
[null,"2020-02-06T13:00:00",2,13,2,475.46300000000002,480.77,461.75200000000001]
[null,"2020-02-06T14:00:00",2,14,2,511.71699999999998,496.22,431.85599999999999]
[null,"2020-02-06T15:00:00",2,15,2,457.60700000000003,433.02,329.90600000000001]
[null,"2020-02-06T16:00:00",2,16,4,338.20299999999997,240.05,123.95699999999999]
[null,"2020-02-06T17:00:00",2,17,4,18.334,24.091000000000001,23.606999999999999]
[null,"2020-02-06T18:00:00",2,18,4,-1.9336,-2.7E-2,-2.1436999999999999]
[null,"2020-02-06T19:00:00",2,19,4,-1.9336,-2.7E-2,-2.1436999999999999]
[null,"2020-02-06T20:00:00",2,20,4,-1.9336,-2.7E-2,-2.1436999999999999]
[null,"2020-02-06T21:00:00",2,21,2,-1.9336,-2.7E-2,-2.1436999999999999]
[null,"2020-02-06T22:00:00",2,22,2,-1.9336,-2.7E-2,-2.1436999999999999]
[null,"2020-02-06T23:00:00",2,23,2,-1.9336,-2.7E-2,-2.1436999999999999]
[null,"2020-02-07",2,0,2,-1.9336,-2.7E-2,-2.1436999999999999]
[null,"2020-02-07T01:00:00",2,1,2,-1.9336,-2.7E-2,-2.1436999999999999]
[null,"2020-02-07T02:00:00",2,2,2,-1.9336,-2.7E-2,-2.1436999999999999]
[null,"2020-02-07T03:00:00",2,3,2,-1.9336,-2.7E-2,-2.1436999999999999]
[null,"2020-02-07T04:00:00",2,4,2,-1.9336,-2.7E-2,-2.1436999999999999]
[null,"2020-02-07T05:00:00",2,5,2,-1.9336,-2.7E-2,-2.1436999999999999]
[null,"2020-02-07T06:00:00",2,6,2,-1.9336,-2.7E-2,-2.1436999999999999]
[null,"2020-02-07T07:00:00",2,7,2,9.2424999999999997,15.763999999999999,14.327999999999999]
[null,"2020-02-07T08:00:00",2,8,{"$f":"INDEX($AE$11:$BB$22,MATCH(C905,$AD$11:$AD$22,0),MATCH(D905,$AE$10:$BB$10,0))","v":2},52.317999999999998,60.387999999999998,58.337000000000003]
[null,"2020-02-07T09:00:00",{"$f":"MONTH(B906)","v":2},{"$f":"HOUR(B906)","v":9},2,99.084000000000003,110.29,107.893]
[null,{"$f":"B906+1/24","v":"2020-02-07T10:00:00"},2,10,2,135.512,150.97999999999999,148.297]
[null,"2020-02-07T11:00:00",2,11,2,159.31700000000001,176.77,174.29599999999999]
[null,"2020-02-07T12:00:00",2,12,2,202.05799999999999,220.94,218.87899999999999]
[null,"2020-02-07T13:00:00",2,13,2,196.31700000000001,214.77,211.929]
[null,"2020-02-07T14:00:00",2,14,2,121.47799999999999,135.32,133.18199999999999]
[null,"2020-02-07T15:00:00",2,15,2,104.14400000000001,115.77,113.89400000000001]
[null,"2020-02-07T16:00:00",2,16,4,66.09,73.978999999999999,72.539000000000001]
[null,"2020-02-07T17:00:00",2,17,4,0.75087000000000004,-2.7E-2,9.6373999999999995]
[null,"2020-02-07T18:00:00",2,18,4,-1.9336,-2.7E-2,-2.1436999999999999]
[null,"2020-02-07T19:00:00",2,19,4,-1.9336,-2.7E-2,-2.1436999999999999]
[null,"2020-02-07T20:00:00",2,20,4,-1.9336,-2.7E-2,-2.1436999999999999]
[null,"2020-02-07T21:00:00",2,21,2,-1.9336,-2.7E-2,-2.1436999999999999]
[null,"2020-02-07T22:00:00",2,22,2,-1.9336,-2.7E-2,-2.1436999999999999]
[null,"2020-02-07T23:00:00",2,23,2,-1.9336,-2.7E-2,-2.1436999999999999]
[null,"2020-02-08",2,0,2,-1.9336,-2.7E-2,-2.1436999999999999]
[null,"2020-02-08T01:00:00",2,1,2,-1.9336,-2.7E-2,-2.1436999999999999]
[null,"2020-02-08T02:00:00",2,2,2,-1.9336,-2.7E-2,-2.1436999999999999]
[null,"2020-02-08T03:00:00",2,3,2,-1.9336,-2.7E-2,-2.1436999999999999]
[null,"2020-02-08T04:00:00",2,4,2,-1.9336,-2.7E-2,-2.1436999999999999]
[null,"2020-02-08T05:00:00",2,5,2,-1.9336,-2.7E-2,-2.1436999999999999]
[null,"2020-02-08T06:00:00",2,6,2,-1.9336,-2.7E-2,-2.1436999999999999]
[null,"2020-02-08T07:00:00",2,7,2,-1.9336,-2.7E-2,-2.1436999999999999]
[null,"2020-02-08T08:00:00",2,8,2,51.85,59.816000000000003,57.8]
[null,"2020-02-08T09:00:00",2,9,2,104.72799999999999,116.4,114.123]
[null,"2020-02-08T10:00:00",2,10,2,136.191,151.61000000000001,148.98599999999999]
[null,"2020-02-08T11:00:00",2,11,2,152.35499999999999,169.24,166.68799999999999]
[null,"2020-02-08T12:00:00",2,12,2,173.107,190.99,188.62899999999999]
[null,"2020-02-08T13:00:00",2,13,2,187.61600000000001,205.76,202.97200000000001]
[null,"2020-02-08T14:00:00",2,14,2,134.15899999999999,149.21,146.488]
[null,"2020-02-08T15:00:00",2,15,2,99.471999999999994,110.48,109.011]
[null,"2020-02-08T16:00:00",2,16,4,106.75700000000001,89.353999999999999,60.972999999999999]
[null,"2020-02-08T17:00:00",2,17,4,29.356000000000002,28.210999999999999,26.225999999999999]
[null,"2020-02-08T18:00:00",2,18,4,-1.9336,-2.7E-2,-2.1436999999999999]
[null,"2020-02-08T19:00:00",2,19,4,-1.9336,-2.7E-2,-2.1436999999999999]
[null,"2020-02-08T20:00:00",2,20,4,-1.9336,-2.7E-2,-2.1436999999999999]
[null,"2020-02-08T21:00:00",2,21,2,-1.9336,-2.7E-2,-2.1436999999999999]
[null,"2020-02-08T22:00:00",2,22,2,-1.9336,-2.7E-2,-2.1436999999999999]
[null,"2020-02-08T23:00:00",2,23,2,-1.9336,-2.7E-2,-2.1436999999999999]
[null,"2020-02-09",2,0,2,-1.9336,-2.7E-2,-2.1436999999999999]
[null,"2020-02-09T01:00:00",2,1,2,-1.9336,-2.7E-2,-2.1436999999999999]
[null,"2020-02-09T02:00:00",2,2,2,-1.9336,-2.7E-2,-2.1436999999999999]
[null,"2020-02-09T03:00:00",2,3,2,-1.9336,-2.7E-2,-2.1436999999999999]
[null,"2020-02-09T04:00:00",2,4,2,-1.9336,-2.7E-2,-2.1436999999999999]
[null,"2020-02-09T05:00:00",2,5,2,-1.9336,-2.7E-2,-2.1436999999999999]
[null,"2020-02-09T06:00:00",2,6,2,-1.9336,-2.7E-2,-2.1436999999999999]
[null,"2020-02-09T07:00:00",2,7,2,-1.0084,-2.7E-2,-2.1436999999999999]
[null,"2020-02-09T08:00:00",2,8,2,46.261000000000003,54.040999999999997,52.02]
[null,"2020-02-09T09:00:00",2,9,2,117.83499999999999,130.9,128.77199999999999]
[null,"2020-02-09T10:00:00",2,10,2,152.68299999999999,169.49,167.20099999999999]
[null,"2020-02-09T11:00:00",2,11,2,155.78100000000001,172.86,170.38800000000001]
[null,"2020-02-09T12:00:00",2,12,2,169.59800000000001,187.34,184.94300000000001]
[null,"2020-02-09T13:00:00",2,13,2,212.75200000000001,231.45,228.614]
[null,"2020-02-09T14:00:00",2,14,2,214.709,232.06,226.03700000000001]
[null,"2020-02-09T15:00:00",2,15,2,223.107,235.42,216.82599999999999]
[null,"2020-02-09T16:00:00",2,16,4,97.796000000000006,81.375,54.552999999999997]
[null,"2020-02-09T17:00:00",2,17,4,36.356000000000002,34.35,30.492000000000001]
[null,"2020-02-09T18:00:00",2,18,4,-1.9336,-2.7E-2,-2.1436999999999999]
[null,"2020-02-09T19:00:00",2,19,4,-1.9336,-2.7E-2,-2.1436999999999999]
[null,"2020-02-09T20:00:00",2,20,4,-1.9336,-2.7E-2,-2.1436999999999999]
[null,"2020-02-09T21:00:00",2,21,2,-1.9336,-2.7E-2,-2.1436999999999999]
[null,"2020-02-09T22:00:00",2,22,2,-1.9336,-2.7E-2,-2.1436999999999999]
[null,"2020-02-09T23:00:00",2,23,2,-1.9336,-2.7E-2,-2.1436999999999999]
[null,"2020-02-10",2,0,{"$f":"INDEX($AE$11:$BB$22,MATCH(C969,$AD$11:$AD$22,0),MATCH(D969,$AE$10:$BB$10,0))","v":2},-1.9336,-2.7E-2,-2.1436999999999999]
[null,"2020-02-10T01:00:00",{"$f":"MONTH(B970)","v":2},{"$f":"HOUR(B970)","v":1},2,-1.9336,-2.7E-2,-2.1436999999999999]
[null,{"$f":"B970+1/24","v":"2020-02-10T02:00:00"},2,2,2,-1.9336,-2.7E-2,-2.1436999999999999]
[null,"2020-02-10T03:00:00",2,3,2,-1.9336,-2.7E-2,-2.1436999999999999]
[null,"2020-02-10T04:00:00",2,4,2,-1.9336,-2.7E-2,-2.1436999999999999]
[null,"2020-02-10T05:00:00",2,5,2,-1.9336,-2.7E-2,-2.1436999999999999]
[null,"2020-02-10T06:00:00",2,6,2,-1.9336,-2.7E-2,-2.1436999999999999]
[null,"2020-02-10T07:00:00",2,7,2,22.088999999999999,28.716000000000001,28.978000000000002]
[null,"2020-02-10T08:00:00",2,8,2,285.53399999999999,342.69,379.10300000000001]
[null,"2020-02-10T09:00:00",2,9,2,287.58999999999997,300.95999999999998,325.80399999999997]
[null,"2020-02-10T10:00:00",2,10,2,317.78300000000002,337.09,345.22]
[null,"2020-02-10T11:00:00",2,11,2,834.97,822.5,856.13300000000004]
[null,"2020-02-10T12:00:00",2,12,2,1368.0830000000001,1309.4000000000001,1280.145]
[null,"2020-02-10T13:00:00",2,13,2,1040.6980000000001,995.75,908.74300000000005]
[null,"2020-02-10T14:00:00",2,14,2,1123.854,1043.5999999999999,839.43799999999999]
[null,"2020-02-10T15:00:00",2,15,2,984.06799999999998,870.89,523.82600000000002]
[null,"2020-02-10T16:00:00",2,16,4,585.90700000000004,370.76,108.05200000000001]
[null,"2020-02-10T17:00:00",2,17,4,44.188000000000002,36.4,30.736000000000001]
[null,"2020-02-10T18:00:00",2,18,4,-1.9336,-2.7E-2,-2.1436999999999999]
[null,"2020-02-10T19:00:00",2,19,4,-1.9336,-2.7E-2,-2.1436999999999999]
[null,"2020-02-10T20:00:00",2,20,4,-1.9336,-2.7E-2,-2.1436999999999999]
[null,"2020-02-10T21:00:00",2,21,2,-1.9336,-2.7E-2,-2.1436999999999999]
[null,"2020-02-10T22:00:00",2,22,2,-1.9336,-2.7E-2,-2.1436999999999999]
[null,"2020-02-10T23:00:00",2,23,2,-1.9336,-2.7E-2,-2.1436999999999999]
[null,"2020-02-11",2,0,2,-1.9336,-2.7E-2,-2.1436999999999999]
[null,"2020-02-11T01:00:00",2,1,2,-1.9336,-2.7E-2,-2.1436999999999999]
[null,"2020-02-11T02:00:00",2,2,2,-1.9336,-2.7E-2,-2.1436999999999999]
[null,"2020-02-11T03:00:00",2,3,2,-1.9336,-2.7E-2,-2.1436999999999999]
[null,"2020-02-11T04:00:00",2,4,2,-1.9336,-2.7E-2,-2.1436999999999999]
[null,"2020-02-11T05:00:00",2,5,2,-1.9336,-2.7E-2,-2.1436999999999999]
[null,"2020-02-11T06:00:00",2,6,2,-1.9336,-2.7E-2,-2.1436999999999999]
[null,"2020-02-11T07:00:00",2,7,2,30.62,37.517000000000003,39.326000000000001]
[null,"2020-02-11T08:00:00",2,8,2,186.58799999999999,208.5,224.702]
[null,"2020-02-11T09:00:00",2,9,2,559.41200000000003,560.42999999999995,660.62]
[null,"2020-02-11T10:00:00",2,10,2,1123.2840000000001,1087.5,1234.164]
[null,"2020-02-11T11:00:00",2,11,2,1517.0170000000001,1460.2,1538.2760000000001]
[null,"2020-02-11T12:00:00",2,12,2,1544.63,1502.9,1463.46]
[null,"2020-02-11T13:00:00",2,13,2,1276.7570000000001,1210.5999999999999,1091.8330000000001]
[null,"2020-02-11T14:00:00",2,14,2,582.17600000000004,553.98,466.36]
[null,"2020-02-11T15:00:00",2,15,2,911.76400000000001,818.7,522.28]
[null,"2020-02-11T16:00:00",2,16,4,489.37400000000002,334.96,120.512]
[null,"2020-02-11T17:00:00",2,17,4,36.637999999999998,30.26,26.594000000000001]
[null,"2020-02-11T18:00:00",2,18,4,-1.9336,-2.7E-2,-2.1436999999999999]
[null,"2020-02-11T19:00:00",2,19,4,-1.9336,-2.7E-2,-2.1436999999999999]
[null,"2020-02-11T20:00:00",2,20,4,-1.9336,-2.7E-2,-2.1436999999999999]
[null,"2020-02-11T21:00:00",2,21,2,-1.9336,-2.7E-2,-2.1436999999999999]
[null,"2020-02-11T22:00:00",2,22,2,-1.9336,-2.7E-2,-2.1436999999999999]
[null,"2020-02-11T23:00:00",2,23,2,-1.9336,-2.7E-2,-2.1436999999999999]
[null,"2020-02-12",2,0,2,-1.9336,-2.7E-2,-2.1436999999999999]
[null,"2020-02-12T01:00:00",2,1,2,-1.9336,-2.7E-2,-2.1436999999999999]
[null,"2020-02-12T02:00:00",2,2,2,-1.9336,-2.7E-2,-2.1436999999999999]
[null,"2020-02-12T03:00:00",2,3,2,-1.9336,-2.7E-2,-2.1436999999999999]
[null,"2020-02-12T04:00:00",2,4,2,-1.9336,-2.7E-2,-2.1436999999999999]
[null,"2020-02-12T05:00:00",2,5,2,-1.9336,-2.7E-2,-2.1436999999999999]
[null,"2020-02-12T06:00:00",2,6,2,-1.9336,-2.7E-2,-2.1436999999999999]
[null,"2020-02-12T07:00:00",2,7,2,10.965,17.559000000000001,15.811]
[null,"2020-02-12T08:00:00",2,8,2,163.166,183.61,194.31700000000001]
[null,"2020-02-12T09:00:00",2,9,2,788.65899999999999,776.97,954.08799999999997]
[null,"2020-02-12T10:00:00",2,10,2,1071.797,1039.5999999999999,1177.6420000000001]
[null,"2020-02-12T11:00:00",2,11,2,855.01700000000005,844.97,879.32899999999995]
[null,"2020-02-12T12:00:00",2,12,2,1330.816,1278.0999999999999,1252.248]
[null,"2020-02-12T13:00:00",2,13,2,1029.03,988.73,907.74099999999999]
[null,"2020-02-12T14:00:00",2,14,2,1032.3879999999999,967.11,795.11099999999999]
[null,"2020-02-12T15:00:00",2,15,2,710.22199999999998,651.65,447.70499999999998]
[null,"2020-02-12T16:00:00",2,16,{"$f":"INDEX($AE$11:$BB$22,MATCH(C1033,$AD$11:$AD$22,0),MATCH(D1033,$AE$10:$BB$10,0))","v":4},504.48099999999999,365.84,150.89500000000001]
[null,"2020-02-12T17:00:00",{"$f":"MONTH(B1034)","v":2},{"$f":"HOUR(B1034)","v":17},4,45.831000000000003,38.232999999999997,32.252000000000002]
[null,{"$f":"B1034+1/24","v":"2020-02-12T18:00:00"},2,18,4,-1.9336,-2.7E-2,-2.1436999999999999]
[null,"2020-02-12T19:00:00",2,19,4,-1.9336,-2.7E-2,-2.1436999999999999]
[null,"2020-02-12T20:00:00",2,20,4,-1.9336,-2.7E-2,-2.1436999999999999]
[null,"2020-02-12T21:00:00",2,21,2,-1.9336,-2.7E-2,-2.1436999999999999]
[null,"2020-02-12T22:00:00",2,22,2,-1.9336,-2.7E-2,-2.1436999999999999]
[null,"2020-02-12T23:00:00",2,23,2,-1.9336,-2.7E-2,-2.1436999999999999]
[null,"2020-02-13",2,0,2,-1.9336,-2.7E-2,-2.1436999999999999]
[null,"2020-02-13T01:00:00",2,1,2,-1.9336,-2.7E-2,-2.1436999999999999]
[null,"2020-02-13T02:00:00",2,2,2,-1.9336,-2.7E-2,-2.1436999999999999]
[null,"2020-02-13T03:00:00",2,3,2,-1.9336,-2.7E-2,-2.1436999999999999]
[null,"2020-02-13T04:00:00",2,4,2,-1.9336,-2.7E-2,-2.1436999999999999]
[null,"2020-02-13T05:00:00",2,5,2,-1.9336,-2.7E-2,-2.1436999999999999]
[null,"2020-02-13T06:00:00",2,6,2,-1.9336,-2.7E-2,-2.1436999999999999]
[null,"2020-02-13T07:00:00",2,7,2,58.698999999999998,56.448999999999998,96.668000000000006]
[null,"2020-02-13T08:00:00",2,8,2,270.55700000000002,327.45999999999998,353.5]
[null,"2020-02-13T09:00:00",2,9,2,324.834,337.51,372.01900000000001]
[null,"2020-02-13T10:00:00",2,10,2,1042.722,1014.1,1145.703]
[null,"2020-02-13T11:00:00",2,11,2,1247.47,1208.8,1269.96]
[null,"2020-02-13T12:00:00",2,12,2,777.68499999999995,757.24,745.26900000000001]
[null,"2020-02-13T13:00:00",2,13,2,1412.4639999999999,1338.2,1202.9390000000001]
[null,"2020-02-13T14:00:00",2,14,2,1299.395,1203.5999999999999,952.51900000000001]
[null,"2020-02-13T15:00:00",2,15,2,827.69200000000001,750.36,496.28]
[null,"2020-02-13T16:00:00",2,16,4,340.411,268.70999999999998,134.99299999999999]
[null,"2020-02-13T17:00:00",2,17,4,52.524999999999999,45.786000000000001,38.591000000000001]
[null,"2020-02-13T18:00:00",2,18,4,-1.9336,-2.7E-2,-2.1436999999999999]
[null,"2020-02-13T19:00:00",2,19,4,-1.9336,-2.7E-2,-2.1436999999999999]
[null,"2020-02-13T20:00:00",2,20,4,-1.9336,-2.7E-2,-2.1436999999999999]
[null,"2020-02-13T21:00:00",2,21,2,-1.9336,-2.7E-2,-2.1436999999999999]
[null,"2020-02-13T22:00:00",2,22,2,-1.9336,-2.7E-2,-2.1436999999999999]
[null,"2020-02-13T23:00:00",2,23,2,-1.9336,-2.7E-2,-2.1436999999999999]
[null,"2020-02-14",2,0,2,-1.9336,-2.7E-2,-2.1436999999999999]
[null,"2020-02-14T01:00:00",2,1,2,-1.9336,-2.7E-2,-2.1436999999999999]
[null,"2020-02-14T02:00:00",2,2,2,-1.9336,-2.7E-2,-2.1436999999999999]
[null,"2020-02-14T03:00:00",2,3,2,-1.9336,-2.7E-2,-2.1436999999999999]
[null,"2020-02-14T04:00:00",2,4,2,-1.9336,-2.7E-2,-2.1436999999999999]
[null,"2020-02-14T05:00:00",2,5,2,-1.9336,-2.7E-2,-2.1436999999999999]
[null,"2020-02-14T06:00:00",2,6,2,-1.9336,-2.7E-2,-2.1436999999999999]
[null,"2020-02-14T07:00:00",2,7,2,7.2462,13.558,11.754]
[null,"2020-02-14T08:00:00",2,8,2,197.93100000000001,221.79,237.357]
[null,"2020-02-14T09:00:00",2,9,2,304.78699999999998,322.74,342.25099999999998]
[null,"2020-02-14T10:00:00",2,10,2,312.44499999999999,332.33,339.57499999999999]
[null,"2020-02-14T11:00:00",2,11,2,265.98899999999998,286.08999999999997,286.74200000000002]
[null,"2020-02-14T12:00:00",2,12,2,432.67700000000002,441.12,436.90800000000002]
[null,"2020-02-14T13:00:00",2,13,2,793.26599999999996,776.66,726.98400000000004]
[null,"2020-02-14T14:00:00",2,14,2,775.25699999999995,739.73,629.42399999999998]
[null,"2020-02-14T15:00:00",2,15,2,684.57299999999998,632.16,441.97]
[null,"2020-02-14T16:00:00",2,16,4,466.19900000000001,352.25,145.33199999999999]
[null,"2020-02-14T17:00:00",2,17,4,55.268000000000001,48.5,40.802]
[null,"2020-02-14T18:00:00",2,18,4,-1.9336,-2.7E-2,-2.1436999999999999]
[null,"2020-02-14T19:00:00",2,19,4,-1.9336,-2.7E-2,-2.1436999999999999]
[null,"2020-02-14T20:00:00",2,20,4,-1.9336,-2.7E-2,-2.1436999999999999]
[null,"2020-02-14T21:00:00",2,21,2,-1.9336,-2.7E-2,-2.1436999999999999]
[null,"2020-02-14T22:00:00",2,22,2,-1.9336,-2.7E-2,-2.1436999999999999]
[null,"2020-02-14T23:00:00",2,23,2,-1.9336,-2.7E-2,-2.1436999999999999]
[null,"2020-02-15",2,0,2,-1.9336,-2.7E-2,-2.1436999999999999]
[null,"2020-02-15T01:00:00",2,1,2,-1.9336,-2.7E-2,-2.1436999999999999]
[null,"2020-02-15T02:00:00",2,2,2,-1.9336,-2.7E-2,-2.1436999999999999]
[null,"2020-02-15T03:00:00",2,3,2,-1.9336,-2.7E-2,-2.1436999999999999]
[null,"2020-02-15T04:00:00",2,4,2,-1.9336,-2.7E-2,-2.1436999999999999]
[null,"2020-02-15T05:00:00",2,5,2,-1.9336,-2.7E-2,-2.1436999999999999]
[null,"2020-02-15T06:00:00",2,6,2,-1.9336,-2.7E-2,-2.1436999999999999]
[null,"2020-02-15T07:00:00",2,7,2,2.4079999999999999,-2.7E-2,6.9461000000000004]
[null,"2020-02-15T08:00:00",2,8,{"$f":"INDEX($AE$11:$BB$22,MATCH(C1097,$AD$11:$AD$22,0),MATCH(D1097,$AE$10:$BB$10,0))","v":2},68.679000000000002,77.138000000000005,75.067999999999998]
[null,"2020-02-15T09:00:00",{"$f":"MONTH(B1098)","v":2},{"$f":"HOUR(B1098)","v":9},2,212.87299999999999,231.27,235.226]
[null,{"$f":"B1098+1/24","v":"2020-02-15T10:00:00"},2,10,2,224.124,243.38,244.33099999999999]
[null,"2020-02-15T11:00:00",2,11,2,272.50599999999997,293.11,293.858]
[null,"2020-02-15T12:00:00",2,12,2,257.80700000000002,278.02999999999997,276.83]
[null,"2020-02-15T13:00:00",2,13,2,273.01900000000001,292.81,289.51900000000001]
[null,"2020-02-15T14:00:00",2,14,2,155.637,172.42,169.21600000000001]
[null,"2020-02-15T15:00:00",2,15,2,156.14599999999999,165.83,148.792]
[null,"2020-02-15T16:00:00",2,16,4,156.66,144.21,96.617000000000004]
[null,"2020-02-15T17:00:00",2,17,4,33.29,28.132000000000001,25.449000000000002]
[null,"2020-02-15T18:00:00",2,18,4,-1.9336,-2.7E-2,-2.1436999999999999]
[null,"2020-02-15T19:00:00",2,19,4,-1.9336,-2.7E-2,-2.1436999999999999]
[null,"2020-02-15T20:00:00",2,20,4,-1.9336,-2.7E-2,-2.1436999999999999]
[null,"2020-02-15T21:00:00",2,21,2,-1.9336,-2.7E-2,-2.1436999999999999]
[null,"2020-02-15T22:00:00",2,22,2,-1.9336,-2.7E-2,-2.1436999999999999]
[null,"2020-02-15T23:00:00",2,23,2,-1.9336,-2.7E-2,-2.1436999999999999]
[null,"2020-02-16",2,0,2,-1.9336,-2.7E-2,-2.1436999999999999]
[null,"2020-02-16T01:00:00",2,1,2,-1.9336,-2.7E-2,-2.1436999999999999]
[null,"2020-02-16T02:00:00",2,2,2,-1.9336,-2.7E-2,-2.1436999999999999]
[null,"2020-02-16T03:00:00",2,3,2,-1.9336,-2.7E-2,-2.1436999999999999]
[null,"2020-02-16T04:00:00",2,4,2,-1.9336,-2.7E-2,-2.1436999999999999]
[null,"2020-02-16T05:00:00",2,5,2,-1.9336,-2.7E-2,-2.1436999999999999]
[null,"2020-02-16T06:00:00",2,6,2,-1.9336,-2.7E-2,-2.1436999999999999]
[null,"2020-02-16T07:00:00",2,7,2,110.328,109.21,168.00899999999999]
[null,"2020-02-16T08:00:00",2,8,2,503.04599999999999,632.57000000000005,650.80399999999997]
[null,"2020-02-16T09:00:00",2,9,2,1096.1890000000001,1059.8,1355.364]
[null,"2020-02-16T10:00:00",2,10,2,1383.076,1343,1535.838]
[null,"2020-02-16T11:00:00",2,11,2,1536.76,1510.8,1588.096]
[null,"2020-02-16T12:00:00",2,12,2,1564.3040000000001,1553.1,1511.2249999999999]
[null,"2020-02-16T13:00:00",2,13,2,1526.8019999999999,1463.3,1303.155]
[null,"2020-02-16T14:00:00",2,14,2,1350.0619999999999,1254.8,985.16899999999998]
[null,"2020-02-16T15:00:00",2,15,2,1009.005,908.93,573.46699999999998]
[null,"2020-02-16T16:00:00",2,16,4,411.803,324.83999999999997,136.07900000000001]
[null,"2020-02-16T17:00:00",2,17,4,84.710999999999999,53.23,40.69]
[null,"2020-02-16T18:00:00",2,18,4,-1.9336,-2.7E-2,-2.1436999999999999]
[null,"2020-02-16T19:00:00",2,19,4,-1.9336,-2.7E-2,-2.1436999999999999]
[null,"2020-02-16T20:00:00",2,20,4,-1.9336,-2.7E-2,-2.1436999999999999]
[null,"2020-02-16T21:00:00",2,21,2,-1.9336,-2.7E-2,-2.1436999999999999]
[null,"2020-02-16T22:00:00",2,22,2,-1.9336,-2.7E-2,-2.1436999999999999]
[null,"2020-02-16T23:00:00",2,23,2,-1.9336,-2.7E-2,-2.1436999999999999]
[null,"2020-02-17",2,0,2,-1.9336,-2.7E-2,-2.1436999999999999]
[null,"2020-02-17T01:00:00",2,1,2,-1.9336,-2.7E-2,-2.1436999999999999]
[null,"2020-02-17T02:00:00",2,2,2,-1.9336,-2.7E-2,-2.1436999999999999]
[null,"2020-02-17T03:00:00",2,3,2,-1.9336,-2.7E-2,-2.1436999999999999]
[null,"2020-02-17T04:00:00",2,4,2,-1.9336,-2.7E-2,-2.1436999999999999]
[null,"2020-02-17T05:00:00",2,5,2,-1.9336,-2.7E-2,-2.1436999999999999]
[null,"2020-02-17T06:00:00",2,6,2,-1.9336,-2.7E-2,-2.1436999999999999]
[null,"2020-02-17T07:00:00",2,7,2,119.05800000000001,114.51,179.876]
[null,"2020-02-17T08:00:00",2,8,2,516.745,639.39,655.33799999999997]
[null,"2020-02-17T09:00:00",2,9,2,1072.222,1040.0999999999999,1325.248]
[null,"2020-02-17T10:00:00",2,10,2,1372.3920000000001,1332.3,1524.6769999999999]
[null,"2020-02-17T11:00:00",2,11,2,1506.729,1460.6,1536.4770000000001]
[null,"2020-02-17T12:00:00",2,12,2,1484.9739999999999,1427.9,1393.723]
[null,"2020-02-17T13:00:00",2,13,2,1403.4549999999999,1333.9,1194.5309999999999]
[null,"2020-02-17T14:00:00",2,14,2,1116.7570000000001,1047.7,849.79300000000001]
[null,"2020-02-17T15:00:00",2,15,2,901.45500000000004,818.01,526.16099999999994]
[null,"2020-02-17T16:00:00",2,16,4,542.03499999999997,417.19,143.261]
[null,"2020-02-17T17:00:00",2,17,4,102.37,57.115000000000002,41.186999999999998]
[null,"2020-02-17T18:00:00",2,18,4,-1.9336,-2.7E-2,-2.1436999999999999]
[null,"2020-02-17T19:00:00",2,19,4,-1.9336,-2.7E-2,-2.1436999999999999]
[null,"2020-02-17T20:00:00",2,20,4,-1.9336,-2.7E-2,-2.1436999999999999]
[null,"2020-02-17T21:00:00",2,21,2,-1.9336,-2.7E-2,-2.1436999999999999]
[null,"2020-02-17T22:00:00",2,22,2,-1.9336,-2.7E-2,-2.1436999999999999]
[null,"2020-02-17T23:00:00",2,23,2,-1.9336,-2.7E-2,-2.1436999999999999]
[null,"2020-02-18",2,0,{"$f":"INDEX($AE$11:$BB$22,MATCH(C1161,$AD$11:$AD$22,0),MATCH(D1161,$AE$10:$BB$10,0))","v":2},-1.9336,-2.7E-2,-2.1436999999999999]
[null,"2020-02-18T01:00:00",{"$f":"MONTH(B1162)","v":2},{"$f":"HOUR(B1162)","v":1},2,-1.9336,-2.7E-2,-2.1436999999999999]
[null,{"$f":"B1162+1/24","v":"2020-02-18T02:00:00"},2,2,2,-1.9336,-2.7E-2,-2.1436999999999999]
[null,"2020-02-18T03:00:00",2,3,2,-1.9336,-2.7E-2,-2.1436999999999999]
[null,"2020-02-18T04:00:00",2,4,2,-1.9336,-2.7E-2,-2.1436999999999999]
[null,"2020-02-18T05:00:00",2,5,2,-1.9336,-2.7E-2,-2.1436999999999999]
[null,"2020-02-18T06:00:00",2,6,2,-1.9336,-2.7E-2,-2.1436999999999999]
[null,"2020-02-18T07:00:00",2,7,2,44.034999999999997,49.805999999999997,58.424999999999997]
[null,"2020-02-18T08:00:00",2,8,2,322.12700000000001,364.24,390.464]
[null,"2020-02-18T09:00:00",2,9,2,340.262,353.3,390.56]
[null,"2020-02-18T10:00:00",2,10,2,716.94500000000005,716,787.13199999999995]
[null,"2020-02-18T11:00:00",2,11,2,1363.4459999999999,1326.2,1393.711]
[null,"2020-02-18T12:00:00",2,12,2,1402.4570000000001,1352.7,1324.8320000000001]
[null,"2020-02-18T13:00:00",2,13,2,1104.845,1056.9000000000001,959.553]
[null,"2020-02-18T14:00:00",2,14,2,1003.19,942.5,766.32399999999996]
[null,"2020-02-18T15:00:00",2,15,2,725.81299999999999,675.61,479.221]
[null,"2020-02-18T16:00:00",2,16,4,123.706,131.68,117.613]
[null,"2020-02-18T17:00:00",2,17,4,32.331000000000003,22.231999999999999,19.177]
[null,"2020-02-18T18:00:00",2,18,4,-1.9336,-2.7E-2,-2.1436999999999999]
[null,"2020-02-18T19:00:00",2,19,4,-1.9336,-2.7E-2,-2.1436999999999999]
[null,"2020-02-18T20:00:00",2,20,4,-1.9336,-2.7E-2,-2.1436999999999999]
[null,"2020-02-18T21:00:00",2,21,2,-1.9336,-2.7E-2,-2.1436999999999999]
[null,"2020-02-18T22:00:00",2,22,2,-1.9336,-2.7E-2,-2.1436999999999999]
[null,"2020-02-18T23:00:00",2,23,2,-1.9336,-2.7E-2,-2.1436999999999999]
[null,"2020-02-19",2,0,2,-1.9336,-2.7E-2,-2.1436999999999999]
[null,"2020-02-19T01:00:00",2,1,2,-1.9336,-2.7E-2,-2.1436999999999999]
[null,"2020-02-19T02:00:00",2,2,2,-1.9336,-2.7E-2,-2.1436999999999999]
[null,"2020-02-19T03:00:00",2,3,2,-1.9336,-2.7E-2,-2.1436999999999999]
[null,"2020-02-19T04:00:00",2,4,2,-1.9336,-2.7E-2,-2.1436999999999999]
[null,"2020-02-19T05:00:00",2,5,2,-1.9336,-2.7E-2,-2.1436999999999999]
[null,"2020-02-19T06:00:00",2,6,2,-1.9336,-2.7E-2,-2.1436999999999999]
[null,"2020-02-19T07:00:00",2,7,2,124.416,124.68,187.18199999999999]
[null,"2020-02-19T08:00:00",2,8,2,554.45000000000005,665.55,671.66099999999994]
[null,"2020-02-19T09:00:00",2,9,2,1102.097,1072.2,1366.1320000000001]
[null,"2020-02-19T10:00:00",2,10,2,1392.9670000000001,1358.2,1550.319]
[null,"2020-02-19T11:00:00",2,11,2,1541.9580000000001,1526.6,1603.335]
[null,"2020-02-19T12:00:00",2,12,2,1568.1880000000001,1568,1526.248]
[null,"2020-02-19T13:00:00",2,13,2,1533.9269999999999,1483.7,1323.384]
[null,"2020-02-19T14:00:00",2,14,2,1359.0930000000001,1271.5,1004.355]
[null,"2020-02-19T15:00:00",2,15,2,1064.614,958.63,582.14800000000002]
[null,"2020-02-19T16:00:00",2,16,4,633.67700000000002,495.11,135.67599999999999]
[null,"2020-02-19T17:00:00",2,17,4,112.267,61.018000000000001,43.835999999999999]
[null,"2020-02-19T18:00:00",2,18,4,-1.9336,-2.7E-2,-2.1436999999999999]
[null,"2020-02-19T19:00:00",2,19,4,-1.9336,-2.7E-2,-2.1436999999999999]
[null,"2020-02-19T20:00:00",2,20,4,-1.9336,-2.7E-2,-2.1436999999999999]
[null,"2020-02-19T21:00:00",2,21,2,-1.9336,-2.7E-2,-2.1436999999999999]
[null,"2020-02-19T22:00:00",2,22,2,-1.9336,-2.7E-2,-2.1436999999999999]
[null,"2020-02-19T23:00:00",2,23,2,-1.9336,-2.7E-2,-2.1436999999999999]
[null,"2020-02-20",2,0,2,-1.9336,-2.7E-2,-2.1436999999999999]
[null,"2020-02-20T01:00:00",2,1,2,-1.9336,-2.7E-2,-2.1436999999999999]
[null,"2020-02-20T02:00:00",2,2,2,-1.9336,-2.7E-2,-2.1436999999999999]
[null,"2020-02-20T03:00:00",2,3,2,-1.9336,-2.7E-2,-2.1436999999999999]
[null,"2020-02-20T04:00:00",2,4,2,-1.9336,-2.7E-2,-2.1436999999999999]
[null,"2020-02-20T05:00:00",2,5,2,-1.9336,-2.7E-2,-2.1436999999999999]
[null,"2020-02-20T06:00:00",2,6,2,-1.9336,-2.7E-2,-2.1436999999999999]
[null,"2020-02-20T07:00:00",2,7,2,52.585999999999999,58.99,65.893000000000001]
[null,"2020-02-20T08:00:00",2,8,2,459.18700000000001,519.16999999999996,545.02800000000002]
[null,"2020-02-20T09:00:00",2,9,2,966.84799999999996,947.6,1184.365]
[null,"2020-02-20T10:00:00",2,10,2,1183.7860000000001,1158.7,1311.2950000000001]
[null,"2020-02-20T11:00:00",2,11,2,1431.6679999999999,1392.2,1463.7329999999999]
[null,"2020-02-20T12:00:00",2,12,2,1403.9380000000001,1357.1,1328.8209999999999]
[null,"2020-02-20T13:00:00",2,13,2,1450.172,1385.2,1245.597]
[null,"2020-02-20T14:00:00",2,14,2,1295.479,1214.3,972.86300000000006]
[null,"2020-02-20T15:00:00",2,15,2,963.10599999999999,874.12,555.62099999999998]
[null,"2020-02-20T16:00:00",2,16,{"$f":"INDEX($AE$11:$BB$22,MATCH(C1225,$AD$11:$AD$22,0),MATCH(D1225,$AE$10:$BB$10,0))","v":4},601.61599999999999,485.18,147.804]
[null,"2020-02-20T17:00:00",{"$f":"MONTH(B1226)","v":2},{"$f":"HOUR(B1226)","v":17},4,115.633,62.478000000000002,44.993000000000002]
[null,{"$f":"B1226+1/24","v":"2020-02-20T18:00:00"},2,18,4,-1.9336,-2.7E-2,-2.1436999999999999]
[null,"2020-02-20T19:00:00",2,19,4,-1.9336,-2.7E-2,-2.1436999999999999]
[null,"2020-02-20T20:00:00",2,20,4,-1.9336,-2.7E-2,-2.1436999999999999]
[null,"2020-02-20T21:00:00",2,21,2,-1.9336,-2.7E-2,-2.1436999999999999]
[null,"2020-02-20T22:00:00",2,22,2,-1.9336,-2.7E-2,-2.1436999999999999]
[null,"2020-02-20T23:00:00",2,23,2,-1.9336,-2.7E-2,-2.1436999999999999]
[null,"2020-02-21",2,0,2,-1.9336,-2.7E-2,-2.1436999999999999]
[null,"2020-02-21T01:00:00",2,1,2,-1.9336,-2.7E-2,-2.1436999999999999]
[null,"2020-02-21T02:00:00",2,2,2,-1.9336,-2.7E-2,-2.1436999999999999]
[null,"2020-02-21T03:00:00",2,3,2,-1.9336,-2.7E-2,-2.1436999999999999]
[null,"2020-02-21T04:00:00",2,4,2,-1.9336,-2.7E-2,-2.1436999999999999]
[null,"2020-02-21T05:00:00",2,5,2,-1.9336,-2.7E-2,-2.1436999999999999]
[null,"2020-02-21T06:00:00",2,6,2,-1.9336,-2.7E-2,-2.1436999999999999]
[null,"2020-02-21T07:00:00",2,7,2,135.41399999999999,140.21,210.523]
[null,"2020-02-21T08:00:00",2,8,2,594.86400000000003,688.13,687.69299999999998]
[null,"2020-02-21T09:00:00",2,9,2,1123.2080000000001,1096.9000000000001,1394.3219999999999]
[null,"2020-02-21T10:00:00",2,10,2,1409.501,1378.5,1571.63]
[null,"2020-02-21T11:00:00",2,11,2,1547.4749999999999,1541.3,1617.7570000000001]
[null,"2020-02-21T12:00:00",2,12,2,1569.646,1575.3,1533.078]
[null,"2020-02-21T13:00:00",2,13,2,1526.8040000000001,1474.4,1316.4880000000001]
[null,"2020-02-21T14:00:00",2,14,2,1361.4770000000001,1277.8,1011.34]
[null,"2020-02-21T15:00:00",2,15,2,1063.857,962.34,589.476]
[null,"2020-02-21T16:00:00",2,16,4,634.18299999999999,517.08000000000004,141.773]
[null,"2020-02-21T17:00:00",2,17,4,120.08799999999999,66.808999999999997,47.747999999999998]
[null,"2020-02-21T18:00:00",2,18,4,-1.9336,-2.7E-2,-2.1436999999999999]
[null,"2020-02-21T19:00:00",2,19,4,-1.9336,-2.7E-2,-2.1436999999999999]
[null,"2020-02-21T20:00:00",2,20,4,-1.9336,-2.7E-2,-2.1436999999999999]
[null,"2020-02-21T21:00:00",2,21,2,-1.9336,-2.7E-2,-2.1436999999999999]
[null,"2020-02-21T22:00:00",2,22,2,-1.9336,-2.7E-2,-2.1436999999999999]
[null,"2020-02-21T23:00:00",2,23,2,-1.9336,-2.7E-2,-2.1436999999999999]
[null,"2020-02-22",2,0,2,-1.9336,-2.7E-2,-2.1436999999999999]
[null,"2020-02-22T01:00:00",2,1,2,-1.9336,-2.7E-2,-2.1436999999999999]
[null,"2020-02-22T02:00:00",2,2,2,-1.9336,-2.7E-2,-2.1436999999999999]
[null,"2020-02-22T03:00:00",2,3,2,-1.9336,-2.7E-2,-2.1436999999999999]
[null,"2020-02-22T04:00:00",2,4,2,-1.9336,-2.7E-2,-2.1436999999999999]
[null,"2020-02-22T05:00:00",2,5,2,-1.9336,-2.7E-2,-2.1436999999999999]
[null,"2020-02-22T06:00:00",2,6,2,-1.9336,-2.7E-2,-2.1436999999999999]
[null,"2020-02-22T07:00:00",2,7,2,135.91900000000001,143.88,239.40700000000001]
[null,"2020-02-22T08:00:00",2,8,2,614.85299999999995,696.98,695.1]
[null,"2020-02-22T09:00:00",2,9,2,1125.067,1101,1394.828]
[null,"2020-02-22T10:00:00",2,10,2,1377.99,1346.5,1534.8219999999999]
[null,"2020-02-22T11:00:00",2,11,2,1514.7070000000001,1475.8,1550.537]
[null,"2020-02-22T12:00:00",2,12,2,1559.076,1552.6,1513.7719999999999]
[null,"2020-02-22T13:00:00",2,13,2,1508.7840000000001,1444.8,1293.2940000000001]
[null,"2020-02-22T14:00:00",2,14,2,1354.4939999999999,1271.4000000000001,1008.829]
[null,"2020-02-22T15:00:00",2,15,2,1069.213,969.2,595.31500000000005]
[null,"2020-02-22T16:00:00",2,16,4,637.56600000000003,531.28,146.36199999999999]
[null,"2020-02-22T17:00:00",2,17,4,101.806,65.742999999999995,49.308999999999997]
[null,"2020-02-22T18:00:00",2,18,4,-1.9336,-2.7E-2,-2.1436999999999999]
[null,"2020-02-22T19:00:00",2,19,4,-1.9336,-2.7E-2,-2.1436999999999999]
[null,"2020-02-22T20:00:00",2,20,4,-1.9336,-2.7E-2,-2.1436999999999999]
[null,"2020-02-22T21:00:00",2,21,2,-1.9336,-2.7E-2,-2.1436999999999999]
[null,"2020-02-22T22:00:00",2,22,2,-1.9336,-2.7E-2,-2.1436999999999999]
[null,"2020-02-22T23:00:00",2,23,2,-1.9336,-2.7E-2,-2.1436999999999999]
[null,"2020-02-23",2,0,2,-1.9336,-2.7E-2,-2.1436999999999999]
[null,"2020-02-23T01:00:00",2,1,2,-1.9336,-2.7E-2,-2.1436999999999999]
[null,"2020-02-23T02:00:00",2,2,2,-1.9336,-2.7E-2,-2.1436999999999999]
[null,"2020-02-23T03:00:00",2,3,2,-1.9336,-2.7E-2,-2.1436999999999999]
[null,"2020-02-23T04:00:00",2,4,2,-1.9336,-2.7E-2,-2.1436999999999999]
[null,"2020-02-23T05:00:00",2,5,2,-1.9336,-2.7E-2,-2.1436999999999999]
[null,"2020-02-23T06:00:00",2,6,2,-1.9336,-2.7E-2,-2.1436999999999999]
[null,"2020-02-23T07:00:00",2,7,2,128.09700000000001,139.19,234.56100000000001]
[null,"2020-02-23T08:00:00",2,8,{"$f":"INDEX($AE$11:$BB$22,MATCH(C1289,$AD$11:$AD$22,0),MATCH(D1289,$AE$10:$BB$10,0))","v":2},612.93299999999999,678.66,681.71600000000001]
[null,"2020-02-23T09:00:00",{"$f":"MONTH(B1290)","v":2},{"$f":"HOUR(B1290)","v":9},2,1137.306,1114.9000000000001,1413.248]
[null,{"$f":"B1290+1/24","v":"2020-02-23T10:00:00"},2,10,2,1441.4690000000001,1414.2,1610.7750000000001]
[null,"2020-02-23T11:00:00",2,11,2,1563.663,1576.3,1653.982]
[null,"2020-02-23T12:00:00",2,12,2,1576.0650000000001,1584,1551.9480000000001]
[null,"2020-02-23T13:00:00",2,13,2,1529.607,1483.9,1326.8810000000001]
[null,"2020-02-23T14:00:00",2,14,2,1358.953,1278.5999999999999,1015.665]
[null,"2020-02-23T15:00:00",2,15,2,1067.146,970.12,600.79700000000003]
[null,"2020-02-23T16:00:00",2,16,4,643.35599999999999,540.4,150.19399999999999]
[null,"2020-02-23T17:00:00",2,17,4,116.595,70.887,52.274999999999999]
[null,"2020-02-23T18:00:00",2,18,4,-1.9336,-2.7E-2,-2.1436999999999999]
[null,"2020-02-23T19:00:00",2,19,4,-1.9336,-2.7E-2,-2.1436999999999999]
[null,"2020-02-23T20:00:00",2,20,4,-1.9336,-2.7E-2,-2.1436999999999999]
[null,"2020-02-23T21:00:00",2,21,2,-1.9336,-2.7E-2,-2.1436999999999999]
[null,"2020-02-23T22:00:00",2,22,2,-1.9336,-2.7E-2,-2.1436999999999999]
[null,"2020-02-23T23:00:00",2,23,2,-1.9336,-2.7E-2,-2.1436999999999999]
[null,"2020-02-24",2,0,2,-1.9336,-2.7E-2,-2.1436999999999999]
[null,"2020-02-24T01:00:00",2,1,2,-1.9336,-2.7E-2,-2.1436999999999999]
[null,"2020-02-24T02:00:00",2,2,2,-1.9336,-2.7E-2,-2.1436999999999999]
[null,"2020-02-24T03:00:00",2,3,2,-1.9336,-2.7E-2,-2.1436999999999999]
[null,"2020-02-24T04:00:00",2,4,2,-1.9336,-2.7E-2,-2.1436999999999999]
[null,"2020-02-24T05:00:00",2,5,2,-1.9336,-2.7E-2,-2.1436999999999999]
[null,"2020-02-24T06:00:00",2,6,2,-1.9336,-2.7E-2,-2.1436999999999999]
[null,"2020-02-24T07:00:00",2,7,2,142.92099999999999,155.81,290.48099999999999]
[null,"2020-02-24T08:00:00",2,8,2,643.505,704.78,696.15499999999997]
[null,"2020-02-24T09:00:00",2,9,2,1151.2619999999999,1130.4000000000001,1431.9359999999999]
[null,"2020-02-24T10:00:00",2,10,2,1437.4259999999999,1413.3,1608.4169999999999]
[null,"2020-02-24T11:00:00",2,11,2,1560.144,1572.9,1649.6079999999999]
[null,"2020-02-24T12:00:00",2,12,2,1572.826,1583.4,1546.2329999999999]
[null,"2020-02-24T13:00:00",2,13,2,1535.037,1492.6,1333.7059999999999]
[null,"2020-02-24T14:00:00",2,14,2,1362.6310000000001,1283.5999999999999,1019.278]
[null,"2020-02-24T15:00:00",2,15,2,1060.8599999999999,967.1,601.03599999999994]
[null,"2020-02-24T16:00:00",2,16,4,635.95299999999997,535.91,150.64599999999999]
[null,"2020-02-24T17:00:00",2,17,4,136.01400000000001,74.191000000000003,51.825000000000003]
[null,"2020-02-24T18:00:00",2,18,4,-1.9336,-2.7E-2,-2.1436999999999999]
[null,"2020-02-24T19:00:00",2,19,4,-1.9336,-2.7E-2,-2.1436999999999999]
[null,"2020-02-24T20:00:00",2,20,4,-1.9336,-2.7E-2,-2.1436999999999999]
[null,"2020-02-24T21:00:00",2,21,2,-1.9336,-2.7E-2,-2.1436999999999999]
[null,"2020-02-24T22:00:00",2,22,2,-1.9336,-2.7E-2,-2.1436999999999999]
[null,"2020-02-24T23:00:00",2,23,2,-1.9336,-2.7E-2,-2.1436999999999999]
[null,"2020-02-25",2,0,2,-1.9336,-2.7E-2,-2.1436999999999999]
[null,"2020-02-25T01:00:00",2,1,2,-1.9336,-2.7E-2,-2.1436999999999999]
[null,"2020-02-25T02:00:00",2,2,2,-1.9336,-2.7E-2,-2.1436999999999999]
[null,"2020-02-25T03:00:00",2,3,2,-1.9336,-2.7E-2,-2.1436999999999999]
[null,"2020-02-25T04:00:00",2,4,2,-1.9336,-2.7E-2,-2.1436999999999999]
[null,"2020-02-25T05:00:00",2,5,2,-1.9336,-2.7E-2,-2.1436999999999999]
[null,"2020-02-25T06:00:00",2,6,2,-1.9336,-2.7E-2,-2.1436999999999999]
[null,"2020-02-25T07:00:00",2,7,2,145.185,160.04,295.464]
[null,"2020-02-25T08:00:00",2,8,2,647.04700000000003,695.36,687.45100000000002]
[null,"2020-02-25T09:00:00",2,9,2,1133.354,1115.9000000000001,1409.1130000000001]
[null,"2020-02-25T10:00:00",2,10,2,1430.6279999999999,1405.9,1601.0730000000001]
[null,"2020-02-25T11:00:00",2,11,2,1548.4480000000001,1552.4,1627.3330000000001]
[null,"2020-02-25T12:00:00",2,12,2,1557.4490000000001,1553.7,1516.335]
[null,"2020-02-25T13:00:00",2,13,2,1219.105,1176.4000000000001,1070.5550000000001]
[null,"2020-02-25T14:00:00",2,14,2,1043.5070000000001,991.52,815.47400000000005]
[null,"2020-02-25T15:00:00",2,15,2,981.23800000000006,901.44,585.90499999999997]
[null,"2020-02-25T16:00:00",2,16,4,588.89800000000002,504.23,167.93700000000001]
[null,"2020-02-25T17:00:00",2,17,4,126.401,76.971000000000004,56.003999999999998]
[null,"2020-02-25T18:00:00",2,18,4,-1.9336,-2.7E-2,-2.1436999999999999]
[null,"2020-02-25T19:00:00",2,19,4,-1.9336,-2.7E-2,-2.1436999999999999]
[null,"2020-02-25T20:00:00",2,20,4,-1.9336,-2.7E-2,-2.1436999999999999]
[null,"2020-02-25T21:00:00",2,21,2,-1.9336,-2.7E-2,-2.1436999999999999]
[null,"2020-02-25T22:00:00",2,22,2,-1.9336,-2.7E-2,-2.1436999999999999]
[null,"2020-02-25T23:00:00",2,23,2,-1.9336,-2.7E-2,-2.1436999999999999]
[null,"2020-02-26",2,0,{"$f":"INDEX($AE$11:$BB$22,MATCH(C1353,$AD$11:$AD$22,0),MATCH(D1353,$AE$10:$BB$10,0))","v":2},-1.9336,-2.7E-2,-2.1436999999999999]
[null,"2020-02-26T01:00:00",{"$f":"MONTH(B1354)","v":2},{"$f":"HOUR(B1354)","v":1},2,-1.9336,-2.7E-2,-2.1436999999999999]
[null,{"$f":"B1354+1/24","v":"2020-02-26T02:00:00"},2,2,2,-1.9336,-2.7E-2,-2.1436999999999999]
[null,"2020-02-26T03:00:00",2,3,2,-1.9336,-2.7E-2,-2.1436999999999999]
[null,"2020-02-26T04:00:00",2,4,2,-1.9336,-2.7E-2,-2.1436999999999999]
[null,"2020-02-26T05:00:00",2,5,2,-1.9336,-2.7E-2,-2.1436999999999999]
[null,"2020-02-26T06:00:00",2,6,2,-1.9336,-2.7E-2,-2.1436999999999999]
[null,"2020-02-26T07:00:00",2,7,2,12.613,18.995999999999999,17.126000000000001]
[null,"2020-02-26T08:00:00",2,8,2,70.072999999999993,78.531999999999996,76.164000000000001]
[null,"2020-02-26T09:00:00",2,9,2,125.521,139.78,137.214]
[null,"2020-02-26T10:00:00",2,10,2,343.86200000000002,365.36,374.01400000000001]
[null,"2020-02-26T11:00:00",2,11,2,372.88400000000001,394.83,398.96100000000001]
[null,"2020-02-26T12:00:00",2,12,2,379.88400000000001,401.24,401.02600000000001]
[null,"2020-02-26T13:00:00",2,13,2,206.23099999999999,225.22,222.73699999999999]
[null,"2020-02-26T14:00:00",2,14,2,171.90299999999999,189.5,186.36600000000001]
[null,"2020-02-26T15:00:00",2,15,2,112.102,124.59,122.82]
[null,"2020-02-26T16:00:00",2,16,4,87.247,96.375,94.498999999999995]
[null,"2020-02-26T17:00:00",2,17,4,10.268000000000001,17.143999999999998,19.538]
[null,"2020-02-26T18:00:00",2,18,4,-1.9336,-2.7E-2,-2.1436999999999999]
[null,"2020-02-26T19:00:00",2,19,4,-1.9336,-2.7E-2,-2.1436999999999999]
[null,"2020-02-26T20:00:00",2,20,4,-1.9336,-2.7E-2,-2.1436999999999999]
[null,"2020-02-26T21:00:00",2,21,2,-1.9336,-2.7E-2,-2.1436999999999999]
[null,"2020-02-26T22:00:00",2,22,2,-1.9336,-2.7E-2,-2.1436999999999999]
[null,"2020-02-26T23:00:00",2,23,2,-1.9336,-2.7E-2,-2.1436999999999999]
[null,"2020-02-27",2,0,2,-1.9336,-2.7E-2,-2.1436999999999999]
[null,"2020-02-27T01:00:00",2,1,2,-1.9336,-2.7E-2,-2.1436999999999999]
[null,"2020-02-27T02:00:00",2,2,2,-1.9336,-2.7E-2,-2.1436999999999999]
[null,"2020-02-27T03:00:00",2,3,2,-1.9336,-2.7E-2,-2.1436999999999999]
[null,"2020-02-27T04:00:00",2,4,2,-1.9336,-2.7E-2,-2.1436999999999999]
[null,"2020-02-27T05:00:00",2,5,2,-1.9336,-2.7E-2,-2.1436999999999999]
[null,"2020-02-27T06:00:00",2,6,2,-1.9336,-2.7E-2,-2.1436999999999999]
[null,"2020-02-27T07:00:00",2,7,2,100.004,110.59,155.63999999999999]
[null,"2020-02-27T08:00:00",2,8,2,461.07799999999997,480.23,503.98]
[null,"2020-02-27T09:00:00",2,9,2,552.07600000000002,561.30999999999995,648.85599999999999]
[null,"2020-02-27T10:00:00",2,10,2,690.47799999999995,696.16,760.50300000000004]
[null,"2020-02-27T11:00:00",2,11,2,1211.136,1199.4000000000001,1252.636]
[null,"2020-02-27T12:00:00",2,12,2,764.75699999999995,763.64,756.51599999999996]
[null,"2020-02-27T13:00:00",2,13,2,1018.265,994.97,922.67899999999997]
[null,"2020-02-27T14:00:00",2,14,2,1131.1859999999999,1078.8,891.28]
[null,"2020-02-27T15:00:00",2,15,2,859.28399999999999,801.58,554.04399999999998]
[null,"2020-02-27T16:00:00",2,16,4,335.28199999999998,315.63,189.38399999999999]
[null,"2020-02-27T17:00:00",2,17,4,38.616999999999997,40.262999999999998,37.729999999999997]
[null,"2020-02-27T18:00:00",2,18,4,-1.9336,-2.7E-2,-2.1436999999999999]
[null,"2020-02-27T19:00:00",2,19,4,-1.9336,-2.7E-2,-2.1436999999999999]
[null,"2020-02-27T20:00:00",2,20,4,-1.9336,-2.7E-2,-2.1436999999999999]
[null,"2020-02-27T21:00:00",2,21,2,-1.9336,-2.7E-2,-2.1436999999999999]
[null,"2020-02-27T22:00:00",2,22,2,-1.9336,-2.7E-2,-2.1436999999999999]
[null,"2020-02-27T23:00:00",2,23,2,-1.9336,-2.7E-2,-2.1436999999999999]
[null,"2020-02-28",2,0,2,-1.9336,-2.7E-2,-2.1436999999999999]
[null,"2020-02-28T01:00:00",2,1,2,-1.9336,-2.7E-2,-2.1436999999999999]
[null,"2020-02-28T02:00:00",2,2,2,-1.9336,-2.7E-2,-2.1436999999999999]
[null,"2020-02-28T03:00:00",2,3,2,-1.9336,-2.7E-2,-2.1436999999999999]
[null,"2020-02-28T04:00:00",2,4,2,-1.9336,-2.7E-2,-2.1436999999999999]
[null,"2020-02-28T05:00:00",2,5,2,-1.9336,-2.7E-2,-2.1436999999999999]
[null,"2020-02-28T06:00:00",2,6,2,-1.9336,-2.7E-2,-2.1436999999999999]
[null,"2020-02-28T07:00:00",2,7,2,82.001999999999995,91.081000000000003,111.27200000000001]
[null,"2020-02-28T08:00:00",2,8,2,394.98399999999998,411.06,428.19]
[null,"2020-02-28T09:00:00",2,9,2,510.78199999999998,525.78,592.03399999999999]
[null,"2020-02-28T10:00:00",2,10,2,715.48199999999997,722.2,785.75800000000004]
[null,"2020-02-28T11:00:00",2,11,2,692.66600000000005,697.14,721.86099999999999]
[null,"2020-02-28T12:00:00",2,12,2,299.62299999999999,320.82,320.01100000000002]
[null,"2020-02-28T13:00:00",2,13,2,361.185,381.72,376.86900000000003]
[null,"2020-02-28T14:00:00",2,14,2,450.71800000000002,458.6,425.61399999999998]
[null,"2020-02-28T15:00:00",2,15,2,516.65800000000002,503.22,397.50200000000001]
[null,"2020-02-28T16:00:00",2,16,{"$f":"INDEX($AE$11:$BB$22,MATCH(C1417,$AD$11:$AD$22,0),MATCH(D1417,$AE$10:$BB$10,0))","v":4},292.34399999999999,276.61,163.72900000000001]
[null,"2020-02-28T17:00:00",{"$f":"MONTH(B1418)","v":2},{"$f":"HOUR(B1418)","v":17},4,8.6427000000000014,15.521000000000001,18.068999999999999]
[null,{"$f":"B1418+1/24","v":"2020-02-28T18:00:00"},2,18,4,-1.9336,-2.7E-2,-2.1436999999999999]
[null,"2020-02-28T19:00:00",2,19,4,-1.9336,-2.7E-2,-2.1436999999999999]
[null,"2020-02-28T20:00:00",2,20,4,-1.9336,-2.7E-2,-2.1436999999999999]
[null,"2020-02-28T21:00:00",2,21,2,-1.9336,-2.7E-2,-2.1436999999999999]
[null,"2020-02-28T22:00:00",2,22,2,-1.9336,-2.7E-2,-2.1436999999999999]
[null,"2020-02-28T23:00:00",2,23,2,-1.9336,-2.7E-2,-2.1436999999999999]
[null,"2020-02-29",2,0,2,-1.9336,-2.7E-2,-2.1436999999999999]
[null,"2020-02-29T01:00:00",2,1,2,-1.9336,-2.7E-2,-2.1436999999999999]
[null,"2020-02-29T02:00:00",2,2,2,-1.9336,-2.7E-2,-2.1436999999999999]
[null,"2020-02-29T03:00:00",2,3,2,-1.9336,-2.7E-2,-2.1436999999999999]
[null,"2020-02-29T04:00:00",2,4,2,-1.9336,-2.7E-2,-2.1436999999999999]
[null,"2020-02-29T05:00:00",2,5,2,-1.9336,-2.7E-2,-2.1436999999999999]
[null,"2020-02-29T06:00:00",2,6,2,-1.9336,-2.7E-2,-2.1436999999999999]
[null,"2020-02-29T07:00:00",2,7,2,184.15600000000001,208.78,386.39299999999997]
[null,"2020-02-29T08:00:00",2,8,2,755.17499999999995,754.02,738.43499999999995]
[null,"2020-02-29T09:00:00",2,9,2,1163.701,1141.4000000000001,1465.838]
[null,"2020-02-29T10:00:00",2,10,2,1451.0709999999999,1422.3,1644.624]
[null,"2020-02-29T11:00:00",2,11,2,1573.3520000000001,1584.2,1703.2339999999999]
[null,"2020-02-29T12:00:00",2,12,2,1591.85,1587.4,1614.433]
[null,"2020-02-29T13:00:00",2,13,2,1557.5930000000001,1534.6,1400.7180000000001]
[null,"2020-02-29T14:00:00",2,14,2,1426.454,1342.9,1092.52]
[null,"2020-02-29T15:00:00",2,15,2,1120.7429999999999,1021.3,653.54100000000005]
[null,"2020-02-29T16:00:00",2,16,4,690.80899999999997,585.85,176.88399999999999]
[null,"2020-02-29T17:00:00",2,17,4,164.958,87.462000000000003,59.936999999999998]
[null,"2020-02-29T18:00:00",2,18,4,-1.9336,-2.7E-2,-2.1436999999999999]
[null,"2020-02-29T19:00:00",2,19,4,-1.9336,-2.7E-2,-2.1436999999999999]
[null,"2020-02-29T20:00:00",2,20,4,-1.9336,-2.7E-2,-2.1436999999999999]
[null,"2020-02-29T21:00:00",2,21,2,-1.9336,-2.7E-2,-2.1436999999999999]
[null,"2020-02-29T22:00:00",2,22,2,-1.9336,-2.7E-2,-2.1436999999999999]
[null,"2020-02-29T23:00:00",2,23,2,-1.9336,-2.7E-2,-2.1436999999999999]
[null,"2020-03-01",3,0,2,-1.9336,-2.7E-2,-2.1436999999999999]
[null,"2020-03-01T01:00:00",3,1,2,-1.9336,-2.7E-2,-2.1436999999999999]
[null,"2020-03-01T02:00:00",3,2,2,-1.9336,-2.7E-2,-2.1436999999999999]
[null,"2020-03-01T03:00:00",3,3,2,-1.9336,-2.7E-2,-2.1436999999999999]
[null,"2020-03-01T04:00:00",3,4,2,-1.9336,-2.7E-2,-2.1436999999999999]
[null,"2020-03-01T05:00:00",3,5,2,-1.9336,-2.7E-2,-2.1436999999999999]
[null,"2020-03-01T06:00:00",3,6,2,-1.9336,-2.7E-2,-2.1436999999999999]
[null,"2020-03-01T07:00:00",3,7,2,186.12100000000001,212.42,378.43099999999998]
[null,"2020-03-01T08:00:00",3,8,2,780.36500000000001,764.71,743.23800000000006]
[null,"2020-03-01T09:00:00",3,9,1,1183.788,1163.2,1492.539]
[null,"2020-03-01T10:00:00",3,10,1,1457.57,1430.8,1653.107]
[null,"2020-03-01T11:00:00",3,11,1,1573.5540000000001,1584.4,1705.115]
[null,"2020-03-01T12:00:00",3,12,1,1594.424,1588.2,1621.825]
[null,"2020-03-01T13:00:00",3,13,1,1555.1120000000001,1531.8,1399.049]
[null,"2020-03-01T14:00:00",3,14,2,1407.9169999999999,1327.2,1081.1600000000001]
[null,"2020-03-01T15:00:00",3,15,2,1123.752,1025.7,656.24]
[null,"2020-03-01T16:00:00",3,16,4,690.40800000000002,589.44000000000005,187.39699999999999]
[null,"2020-03-01T17:00:00",3,17,4,156.792,93.492000000000004,64.89]
[null,"2020-03-01T18:00:00",3,18,4,-1.9336,-2.7E-2,-2.1436999999999999]
[null,"2020-03-01T19:00:00",3,19,4,-1.9336,-2.7E-2,-2.1436999999999999]
[null,"2020-03-01T20:00:00",3,20,4,-1.9336,-2.7E-2,-2.1436999999999999]
[null,"2020-03-01T21:00:00",3,21,2,-1.9336,-2.7E-2,-2.1436999999999999]
[null,"2020-03-01T22:00:00",3,22,2,-1.9336,-2.7E-2,-2.1436999999999999]
[null,"2020-03-01T23:00:00",3,23,2,-1.9336,-2.7E-2,-2.1436999999999999]
[null,"2020-03-02",3,0,2,-1.9336,-2.7E-2,-2.1436999999999999]
[null,"2020-03-02T01:00:00",3,1,2,-1.9336,-2.7E-2,-2.1436999999999999]
[null,"2020-03-02T02:00:00",3,2,2,-1.9336,-2.7E-2,-2.1436999999999999]
[null,"2020-03-02T03:00:00",3,3,2,-1.9336,-2.7E-2,-2.1436999999999999]
[null,"2020-03-02T04:00:00",3,4,2,-1.9336,-2.7E-2,-2.1436999999999999]
[null,"2020-03-02T05:00:00",3,5,2,-1.9336,-2.7E-2,-2.1436999999999999]
[null,"2020-03-02T06:00:00",3,6,2,-1.9336,-2.7E-2,-2.1436999999999999]
[null,"2020-03-02T07:00:00",3,7,2,110.88500000000001,125.06,192.49]
[null,"2020-03-02T08:00:00",3,8,{"$f":"INDEX($AE$11:$BB$22,MATCH(C1481,$AD$11:$AD$22,0),MATCH(D1481,$AE$10:$BB$10,0))","v":2},703.524,694.64,758.56899999999996]
[null,"2020-03-02T09:00:00",{"$f":"MONTH(B1482)","v":3},{"$f":"HOUR(B1482)","v":9},1,1127.6220000000001,1109.0999999999999,1416.5550000000001]
[null,{"$f":"B1482+1/24","v":"2020-03-02T10:00:00"},3,10,1,1266.7919999999999,1244.4000000000001,1428.749]
[null,"2020-03-02T11:00:00",3,11,1,1214.33,1194.3,1272.143]
[null,"2020-03-02T12:00:00",3,12,1,1444.0630000000001,1402.9,1400.8869999999999]
[null,"2020-03-02T13:00:00",3,13,1,1463.278,1403.3,1291.7729999999999]
[null,"2020-03-02T14:00:00",3,14,2,1250.088,1181.0999999999999,984.79200000000003]
[null,"2020-03-02T15:00:00",3,15,2,810.89499999999998,760.91,557.13300000000004]
[null,"2020-03-02T16:00:00",3,16,4,302.935,286.82,184.43100000000001]
[null,"2020-03-02T17:00:00",3,17,4,142.499,99.893000000000001,72.245000000000005]
[null,"2020-03-02T18:00:00",3,18,4,-1.9336,-2.7E-2,-2.1436999999999999]
[null,"2020-03-02T19:00:00",3,19,4,-1.9336,-2.7E-2,-2.1436999999999999]
[null,"2020-03-02T20:00:00",3,20,4,-1.9336,-2.7E-2,-2.1436999999999999]
[null,"2020-03-02T21:00:00",3,21,2,-1.9336,-2.7E-2,-2.1436999999999999]
[null,"2020-03-02T22:00:00",3,22,2,-1.9336,-2.7E-2,-2.1436999999999999]
[null,"2020-03-02T23:00:00",3,23,2,-1.9336,-2.7E-2,-2.1436999999999999]
[null,"2020-03-03",3,0,2,-1.9336,-2.7E-2,-2.1436999999999999]
[null,"2020-03-03T01:00:00",3,1,2,-1.9336,-2.7E-2,-2.1436999999999999]
[null,"2020-03-03T02:00:00",3,2,2,-1.9336,-2.7E-2,-2.1436999999999999]
[null,"2020-03-03T03:00:00",3,3,2,-1.9336,-2.7E-2,-2.1436999999999999]
[null,"2020-03-03T04:00:00",3,4,2,-1.9336,-2.7E-2,-2.1436999999999999]
[null,"2020-03-03T05:00:00",3,5,2,-1.9336,-2.7E-2,-2.1436999999999999]
[null,"2020-03-03T06:00:00",3,6,2,-1.9336,-2.7E-2,-2.1436999999999999]
[null,"2020-03-03T07:00:00",3,7,2,143.77000000000001,162.54,232.12200000000001]
[null,"2020-03-03T08:00:00",3,8,2,456.09699999999998,461.65,539.95699999999999]
[null,"2020-03-03T09:00:00",3,9,1,559.94200000000001,565.73,663.11500000000001]
[null,"2020-03-03T10:00:00",3,10,1,945.47400000000005,935.94,1059.414]
[null,"2020-03-03T11:00:00",3,11,1,619.79600000000005,627.28,658.60199999999998]
[null,"2020-03-03T12:00:00",3,12,1,1218.066,1191.5999999999999,1195.8679999999999]
[null,"2020-03-03T13:00:00",3,13,1,1118.203,1086,1027.547]
[null,"2020-03-03T14:00:00",3,14,2,485.67399999999998,487.79,460.42599999999999]
[null,"2020-03-03T15:00:00",3,15,2,530.43499999999995,511.45,407.62200000000001]
[null,"2020-03-03T16:00:00",3,16,4,605.69899999999996,537.38,243.24600000000001]
[null,"2020-03-03T17:00:00",3,17,4,167.01,98.97,67.765000000000001]
[null,"2020-03-03T18:00:00",3,18,4,-1.9336,-2.7E-2,-2.1436999999999999]
[null,"2020-03-03T19:00:00",3,19,4,-1.9336,-2.7E-2,-2.1436999999999999]
[null,"2020-03-03T20:00:00",3,20,4,-1.9336,-2.7E-2,-2.1436999999999999]
[null,"2020-03-03T21:00:00",3,21,2,-1.9336,-2.7E-2,-2.1436999999999999]
[null,"2020-03-03T22:00:00",3,22,2,-1.9336,-2.7E-2,-2.1436999999999999]
[null,"2020-03-03T23:00:00",3,23,2,-1.9336,-2.7E-2,-2.1436999999999999]
[null,"2020-03-04",3,0,2,-1.9336,-2.7E-2,-2.1436999999999999]
[null,"2020-03-04T01:00:00",3,1,2,-1.9336,-2.7E-2,-2.1436999999999999]
[null,"2020-03-04T02:00:00",3,2,2,-1.9336,-2.7E-2,-2.1436999999999999]
[null,"2020-03-04T03:00:00",3,3,2,-1.9336,-2.7E-2,-2.1436999999999999]
[null,"2020-03-04T04:00:00",3,4,2,-1.9336,-2.7E-2,-2.1436999999999999]
[null,"2020-03-04T05:00:00",3,5,2,-1.9336,-2.7E-2,-2.1436999999999999]
[null,"2020-03-04T06:00:00",3,6,2,-1.9336,-2.7E-2,-2.1436999999999999]
[null,"2020-03-04T07:00:00",3,7,2,121.259,140.61000000000001,216.786]
[null,"2020-03-04T08:00:00",3,8,2,768.08100000000002,761.37,975.89599999999996]
[null,"2020-03-04T09:00:00",3,9,1,1151.8309999999999,1136.8,1445.625]
[null,"2020-03-04T10:00:00",3,10,1,1304.4079999999999,1285,1471.35]
[null,"2020-03-04T11:00:00",3,11,1,1020.867,1006.4,1071.1880000000001]
[null,"2020-03-04T12:00:00",3,12,1,1305.2460000000001,1270.2,1272.248]
[null,"2020-03-04T13:00:00",3,13,1,812.91899999999998,799.79,764.49599999999998]
[null,"2020-03-04T14:00:00",3,14,2,1389.7539999999999,1318.5,1103.2460000000001]
[null,"2020-03-04T15:00:00",3,15,2,1153.9939999999999,1061.5,690.947]
[null,"2020-03-04T16:00:00",3,16,4,697.26900000000001,601.94000000000005,200.53700000000001]
[null,"2020-03-04T17:00:00",3,17,4,171.583,99.777000000000001,67.992999999999995]
[null,"2020-03-04T18:00:00",3,18,4,-1.9336,-2.7E-2,-2.1436999999999999]
[null,"2020-03-04T19:00:00",3,19,4,-1.9336,-2.7E-2,-2.1436999999999999]
[null,"2020-03-04T20:00:00",3,20,4,-1.9336,-2.7E-2,-2.1436999999999999]
[null,"2020-03-04T21:00:00",3,21,2,-1.9336,-2.7E-2,-2.1436999999999999]
[null,"2020-03-04T22:00:00",3,22,2,-1.9336,-2.7E-2,-2.1436999999999999]
[null,"2020-03-04T23:00:00",3,23,2,-1.9336,-2.7E-2,-2.1436999999999999]
[null,"2020-03-05",3,0,{"$f":"INDEX($AE$11:$BB$22,MATCH(C1545,$AD$11:$AD$22,0),MATCH(D1545,$AE$10:$BB$10,0))","v":2},-1.9336,-2.7E-2,-2.1436999999999999]
[null,"2020-03-05T01:00:00",{"$f":"MONTH(B1546)","v":3},{"$f":"HOUR(B1546)","v":1},2,-1.9336,-2.7E-2,-2.1436999999999999]
[null,{"$f":"B1546+1/24","v":"2020-03-05T02:00:00"},3,2,2,-1.9336,-2.7E-2,-2.1436999999999999]
[null,"2020-03-05T03:00:00",3,3,2,-1.9336,-2.7E-2,-2.1436999999999999]
[null,"2020-03-05T04:00:00",3,4,2,-1.9336,-2.7E-2,-2.1436999999999999]
[null,"2020-03-05T05:00:00",3,5,2,-1.9336,-2.7E-2,-2.1436999999999999]
[null,"2020-03-05T06:00:00",3,6,2,2.2816000000000001,-2.7E-2,8.1355000000000004]
[null,"2020-03-05T07:00:00",3,7,2,124.28,140.01,188.09899999999999]
[null,"2020-03-05T08:00:00",3,8,2,649.21100000000001,647.53,877.45299999999997]
[null,"2020-03-05T09:00:00",3,9,1,1140.3589999999999,1130.7,1416.3320000000001]
[null,"2020-03-05T10:00:00",3,10,1,839.23400000000004,832.97,940.98299999999995]
[null,"2020-03-05T11:00:00",3,11,1,551.39599999999996,561.29,587.85299999999995]
[null,"2020-03-05T12:00:00",3,12,1,252.03899999999999,269.41000000000003,274.22300000000001]
[null,"2020-03-05T13:00:00",3,13,1,231.90600000000001,248.88,252.13399999999999]
[null,"2020-03-05T14:00:00",3,14,2,231.75399999999999,248.29,249.98]
[null,"2020-03-05T15:00:00",3,15,2,454.601,443.51,367.226]
[null,"2020-03-05T16:00:00",3,16,4,315.21499999999997,298.33999999999997,186.44300000000001]
[null,"2020-03-05T17:00:00",3,17,4,164.98400000000001,110.17,78.287000000000006]
[null,"2020-03-05T18:00:00",3,18,4,-1.9336,-2.7E-2,-2.1436999999999999]
[null,"2020-03-05T19:00:00",3,19,4,-1.9336,-2.7E-2,-2.1436999999999999]
[null,"2020-03-05T20:00:00",3,20,4,-1.9336,-2.7E-2,-2.1436999999999999]
[null,"2020-03-05T21:00:00",3,21,2,-1.9336,-2.7E-2,-2.1436999999999999]
[null,"2020-03-05T22:00:00",3,22,2,-1.9336,-2.7E-2,-2.1436999999999999]
[null,"2020-03-05T23:00:00",3,23,2,-1.9336,-2.7E-2,-2.1436999999999999]
[null,"2020-03-06",3,0,2,-1.9336,-2.7E-2,-2.1436999999999999]
[null,"2020-03-06T01:00:00",3,1,2,-1.9336,-2.7E-2,-2.1436999999999999]
[null,"2020-03-06T02:00:00",3,2,2,-1.9336,-2.7E-2,-2.1436999999999999]
[null,"2020-03-06T03:00:00",3,3,2,-1.9336,-2.7E-2,-2.1436999999999999]
[null,"2020-03-06T04:00:00",3,4,2,-1.9336,-2.7E-2,-2.1436999999999999]
[null,"2020-03-06T05:00:00",3,5,2,-1.9336,-2.7E-2,-2.1436999999999999]
[null,"2020-03-06T06:00:00",3,6,2,-1.9336,-2.7E-2,-2.1436999999999999]
[null,"2020-03-06T07:00:00",3,7,2,179.62799999999999,207.08,305.80900000000003]
[null,"2020-03-06T08:00:00",3,8,2,704.37599999999998,703.13,1000.285]
[null,"2020-03-06T09:00:00",3,9,1,552.50699999999995,559.9,658.78599999999994]
[null,"2020-03-06T10:00:00",3,10,1,579.57600000000002,590.9,640.05799999999999]
[null,"2020-03-06T11:00:00",3,11,1,562.20600000000002,580.58000000000004,604.10900000000004]
[null,"2020-03-06T12:00:00",3,12,1,750.99199999999996,754.51,765.90099999999995]
[null,"2020-03-06T13:00:00",3,13,1,1135.652,1105.8,1045.126]
[null,"2020-03-06T14:00:00",3,14,2,1344.989,1277.9000000000001,1064.28]
[null,"2020-03-06T15:00:00",3,15,2,1057.9449999999999,980.44,664.36699999999996]
[null,"2020-03-06T16:00:00",3,16,4,619.89499999999998,545.04,208.42]
[null,"2020-03-06T17:00:00",3,17,4,192.94499999999999,109.09,72.316000000000003]
[null,"2020-03-06T18:00:00",3,18,4,-1.9336,-2.7E-2,-2.1436999999999999]
[null,"2020-03-06T19:00:00",3,19,4,-1.9336,-2.7E-2,-2.1436999999999999]
[null,"2020-03-06T20:00:00",3,20,4,-1.9336,-2.7E-2,-2.1436999999999999]
[null,"2020-03-06T21:00:00",3,21,2,-1.9336,-2.7E-2,-2.1436999999999999]
[null,"2020-03-06T22:00:00",3,22,2,-1.9336,-2.7E-2,-2.1436999999999999]
[null,"2020-03-06T23:00:00",3,23,2,-1.9336,-2.7E-2,-2.1436999999999999]
[null,"2020-03-07",3,0,2,-1.9336,-2.7E-2,-2.1436999999999999]
[null,"2020-03-07T01:00:00",3,1,2,-1.9336,-2.7E-2,-2.1436999999999999]
[null,"2020-03-07T02:00:00",3,2,2,-1.9336,-2.7E-2,-2.1436999999999999]
[null,"2020-03-07T03:00:00",3,3,2,-1.9336,-2.7E-2,-2.1436999999999999]
[null,"2020-03-07T04:00:00",3,4,2,-1.9336,-2.7E-2,-2.1436999999999999]
[null,"2020-03-07T05:00:00",3,5,2,-1.9336,-2.7E-2,-2.1436999999999999]
[null,"2020-03-07T06:00:00",3,6,2,4.0481999999999996,-2.7E-2,9.8140999999999998]
[null,"2020-03-07T07:00:00",3,7,2,233.197,276.93,434.21199999999999]
[null,"2020-03-07T08:00:00",3,8,2,809.22299999999996,803.74,1187.9659999999999]
[null,"2020-03-07T09:00:00",3,9,1,1206.5550000000001,1197.7,1523.8050000000001]
[null,"2020-03-07T10:00:00",3,10,1,1477.5050000000001,1463.5,1682.181]
[null,"2020-03-07T11:00:00",3,11,1,1576.1220000000001,1586.2,1714.789]
[null,"2020-03-07T12:00:00",3,12,1,1597.5060000000001,1590.1,1639.3140000000001]
[null,"2020-03-07T13:00:00",3,13,1,1563.23,1559.3,1425.4359999999999]
[null,"2020-03-07T14:00:00",3,14,2,1431.598,1362.7,1114.278]
[null,"2020-03-07T15:00:00",3,15,2,1134.72,1048.7,681.78499999999997]
[null,"2020-03-07T16:00:00",3,16,{"$f":"INDEX($AE$11:$BB$22,MATCH(C1609,$AD$11:$AD$22,0),MATCH(D1609,$AE$10:$BB$10,0))","v":4},707.52099999999996,615.85,207.749]
[null,"2020-03-07T17:00:00",{"$f":"MONTH(B1610)","v":3},{"$f":"HOUR(B1610)","v":17},4,187.35499999999999,112.8,75.644000000000005]
[null,{"$f":"B1610+1/24","v":"2020-03-07T18:00:00"},3,18,4,-1.9336,-2.7E-2,-2.1436999999999999]
[null,"2020-03-07T19:00:00",3,19,4,-1.9336,-2.7E-2,-2.1436999999999999]
[null,"2020-03-07T20:00:00",3,20,4,-1.9336,-2.7E-2,-2.1436999999999999]
[null,"2020-03-07T21:00:00",3,21,2,-1.9336,-2.7E-2,-2.1436999999999999]
[null,"2020-03-07T22:00:00",3,22,2,-1.9336,-2.7E-2,-2.1436999999999999]
[null,"2020-03-07T23:00:00",3,23,2,-1.9336,-2.7E-2,-2.1436999999999999]
[null,"2020-03-08",3,0,2,-1.9336,-2.7E-2,-2.1436999999999999]
[null,"2020-03-08T01:00:00",3,1,2,-1.9336,-2.7E-2,-2.1436999999999999]
[null,"2020-03-08T02:00:00",3,2,2,-1.9336,-2.7E-2,-2.1436999999999999]
[null,"2020-03-08T03:00:00",3,3,2,-1.9336,-2.7E-2,-2.1436999999999999]
[null,"2020-03-08T04:00:00",3,4,2,-1.9336,-2.7E-2,-2.1436999999999999]
[null,"2020-03-08T05:00:00",3,5,2,-1.9336,-2.7E-2,-2.1436999999999999]
[null,"2020-03-08T06:00:00",3,6,2,7.3241000000000005,13.234,13.725]
[null,"2020-03-08T07:00:00",3,7,2,240.63200000000001,288.92,445.952]
[null,"2020-03-08T08:00:00",3,8,2,813.65499999999997,809.87,1195.607]
[null,"2020-03-08T09:00:00",3,9,1,1217.71,1210.8,1538.068]
[null,"2020-03-08T10:00:00",3,10,1,1482.625,1467.3,1686.07]
[null,"2020-03-08T11:00:00",3,11,1,1554.376,1569.7,1670.0730000000001]
[null,"2020-03-08T12:00:00",3,12,1,1552.972,1553.5,1542.9059999999999]
[null,"2020-03-08T13:00:00",3,13,1,1482.08,1431.2,1315.961]
[null,"2020-03-08T14:00:00",3,14,2,1268.664,1208.8,1010.213]
[null,"2020-03-08T15:00:00",3,15,2,769.76800000000003,730.51,548.64700000000005]
[null,"2020-03-08T16:00:00",3,16,4,393.80399999999997,370.82,230.95]
[null,"2020-03-08T17:00:00",3,17,4,74.67,70.078000000000003,62.319000000000003]
[null,"2020-03-08T18:00:00",3,18,4,-1.9336,-2.7E-2,-2.1436999999999999]
[null,"2020-03-08T19:00:00",3,19,4,-1.9336,-2.7E-2,-2.1436999999999999]
[null,"2020-03-08T20:00:00",3,20,4,-1.9336,-2.7E-2,-2.1436999999999999]
[null,"2020-03-08T21:00:00",3,21,2,-1.9336,-2.7E-2,-2.1436999999999999]
[null,"2020-03-08T22:00:00",3,22,2,-1.9336,-2.7E-2,-2.1436999999999999]
[null,"2020-03-08T23:00:00",3,23,2,-1.9336,-2.7E-2,-2.1436999999999999]
[null,"2020-03-09",3,0,2,-1.9336,-2.7E-2,-2.1436999999999999]
[null,"2020-03-09T01:00:00",3,1,2,-1.9336,-2.7E-2,-2.1436999999999999]
[null,"2020-03-09T02:00:00",3,2,2,-1.9336,-2.7E-2,-2.1436999999999999]
[null,"2020-03-09T03:00:00",3,3,2,-1.9336,-2.7E-2,-2.1436999999999999]
[null,"2020-03-09T04:00:00",3,4,2,-1.9336,-2.7E-2,-2.1436999999999999]
[null,"2020-03-09T05:00:00",3,5,2,-1.9336,-2.7E-2,-2.1436999999999999]
[null,"2020-03-09T06:00:00",3,6,2,-1.9336,-2.7E-2,-2.1436999999999999]
[null,"2020-03-09T07:00:00",3,7,2,100.85899999999999,109.41,125.149]
[null,"2020-03-09T08:00:00",3,8,2,356.69400000000002,370.81,444.65]
[null,"2020-03-09T09:00:00",3,9,1,516.30600000000004,530.01,598.35]
[null,"2020-03-09T10:00:00",3,10,1,530.375,549.51,583.25099999999998]
[null,"2020-03-09T11:00:00",3,11,1,676.51499999999999,685.43,719.58399999999995]
[null,"2020-03-09T12:00:00",3,12,1,717.54700000000003,722.65,733.68399999999997]
[null,"2020-03-09T13:00:00",3,13,1,1209.1320000000001,1179.5999999999999,1107.9849999999999]
[null,"2020-03-09T14:00:00",3,14,2,929.35,898.93,789.298]
[null,"2020-03-09T15:00:00",3,15,2,1063.4749999999999,992.73,686.19500000000005]
[null,"2020-03-09T16:00:00",3,16,4,711.053,624.20000000000005,222.78]
[null,"2020-03-09T17:00:00",3,17,4,189.447,117.38,78.004999999999995]
[null,"2020-03-09T18:00:00",3,18,4,-1.9336,-2.7E-2,-2.1436999999999999]
[null,"2020-03-09T19:00:00",3,19,4,-1.9336,-2.7E-2,-2.1436999999999999]
[null,"2020-03-09T20:00:00",3,20,4,-1.9336,-2.7E-2,-2.1436999999999999]
[null,"2020-03-09T21:00:00",3,21,2,-1.9336,-2.7E-2,-2.1436999999999999]
[null,"2020-03-09T22:00:00",3,22,2,-1.9336,-2.7E-2,-2.1436999999999999]
[null,"2020-03-09T23:00:00",3,23,2,-1.9336,-2.7E-2,-2.1436999999999999]
[null,"2020-03-10",3,0,2,-1.9336,-2.7E-2,-2.1436999999999999]
[null,"2020-03-10T01:00:00",3,1,2,-1.9336,-2.7E-2,-2.1436999999999999]
[null,"2020-03-10T02:00:00",3,2,2,-1.9336,-2.7E-2,-2.1436999999999999]
[null,"2020-03-10T03:00:00",3,3,2,-1.9336,-2.7E-2,-2.1436999999999999]
[null,"2020-03-10T04:00:00",3,4,2,-1.9336,-2.7E-2,-2.1436999999999999]
[null,"2020-03-10T05:00:00",3,5,2,-1.9336,-2.7E-2,-2.1436999999999999]
[null,"2020-03-10T06:00:00",3,6,2,-1.9336,-2.7E-2,-2.1436999999999999]
[null,"2020-03-10T07:00:00",3,7,2,218.68799999999999,259.92,366.50099999999998]
[null,"2020-03-10T08:00:00",3,8,{"$f":"INDEX($AE$11:$BB$22,MATCH(C1673,$AD$11:$AD$22,0),MATCH(D1673,$AE$10:$BB$10,0))","v":2},669.79899999999998,673.32,951.39400000000001]
[null,"2020-03-10T09:00:00",{"$f":"MONTH(B1674)","v":3},{"$f":"HOUR(B1674)","v":9},1,994.71900000000005,993.12,1234.454]
[null,{"$f":"B1674+1/24","v":"2020-03-10T10:00:00"},3,10,1,1344.2339999999999,1331.7,1523.655]
[null,"2020-03-10T11:00:00",3,11,1,1298.1610000000001,1279.9000000000001,1362.779]
[null,"2020-03-10T12:00:00",3,12,1,1491.3869999999999,1457.5,1452.3389999999999]
[null,"2020-03-10T13:00:00",3,13,1,1565.924,1567.5,1435.7860000000001]
[null,"2020-03-10T14:00:00",3,14,2,1430.0419999999999,1367,1119.5319999999999]
[null,"2020-03-10T15:00:00",3,15,2,1099.7539999999999,1026.4000000000001,701.31100000000004]
[null,"2020-03-10T16:00:00",3,16,4,471.78399999999999,437.52,250.19399999999999]
[null,"2020-03-10T17:00:00",3,17,4,131.79599999999999,102.42,78.738]
[null,"2020-03-10T18:00:00",3,18,4,-1.9336,-2.7E-2,-2.1436999999999999]
[null,"2020-03-10T19:00:00",3,19,4,-1.9336,-2.7E-2,-2.1436999999999999]
[null,"2020-03-10T20:00:00",3,20,4,-1.9336,-2.7E-2,-2.1436999999999999]
[null,"2020-03-10T21:00:00",3,21,2,-1.9336,-2.7E-2,-2.1436999999999999]
[null,"2020-03-10T22:00:00",3,22,2,-1.9336,-2.7E-2,-2.1436999999999999]
[null,"2020-03-10T23:00:00",3,23,2,-1.9336,-2.7E-2,-2.1436999999999999]
[null,"2020-03-11",3,0,2,-1.9336,-2.7E-2,-2.1436999999999999]
[null,"2020-03-11T01:00:00",3,1,2,-1.9336,-2.7E-2,-2.1436999999999999]
[null,"2020-03-11T02:00:00",3,2,2,-1.9336,-2.7E-2,-2.1436999999999999]
[null,"2020-03-11T03:00:00",3,3,2,-1.9336,-2.7E-2,-2.1436999999999999]
[null,"2020-03-11T04:00:00",3,4,2,-1.9336,-2.7E-2,-2.1436999999999999]
[null,"2020-03-11T05:00:00",3,5,2,-1.9336,-2.7E-2,-2.1436999999999999]
[null,"2020-03-11T06:00:00",3,6,2,10.659000000000001,16.623000000000001,17.22]
[null,"2020-03-11T07:00:00",3,7,2,267.36500000000001,326.35000000000002,469.16800000000001]
[null,"2020-03-11T08:00:00",3,8,2,827.26400000000001,828.67,1208.3489999999999]
[null,"2020-03-11T09:00:00",3,9,1,1223.7080000000001,1222.0999999999999,1544.671]
[null,"2020-03-11T10:00:00",3,10,1,1495.1289999999999,1488.4,1704.3610000000001]
[null,"2020-03-11T11:00:00",3,11,1,1582.876,1588.7,1723.4739999999999]
[null,"2020-03-11T12:00:00",3,12,1,1598.2650000000001,1591.1,1648.182]
[null,"2020-03-11T13:00:00",3,13,1,1563.9770000000001,1568.6,1434.2329999999999]
[null,"2020-03-11T14:00:00",3,14,2,1421.607,1360.8,1114.8330000000001]
[null,"2020-03-11T15:00:00",3,15,2,1122.001,1045.5,686.13499999999999]
[null,"2020-03-11T16:00:00",3,16,4,709.25199999999995,624.91,217.64099999999999]
[null,"2020-03-11T17:00:00",3,17,4,195.517,123.71,80.978999999999999]
[null,"2020-03-11T18:00:00",3,18,4,-1.9336,-2.7E-2,-2.1436999999999999]
[null,"2020-03-11T19:00:00",3,19,4,-1.9336,-2.7E-2,-2.1436999999999999]
[null,"2020-03-11T20:00:00",3,20,4,-1.9336,-2.7E-2,-2.1436999999999999]
[null,"2020-03-11T21:00:00",3,21,2,-1.9336,-2.7E-2,-2.1436999999999999]
[null,"2020-03-11T22:00:00",3,22,2,-1.9336,-2.7E-2,-2.1436999999999999]
[null,"2020-03-11T23:00:00",3,23,2,-1.9336,-2.7E-2,-2.1436999999999999]
[null,"2020-03-12",3,0,2,-1.9336,-2.7E-2,-2.1436999999999999]
[null,"2020-03-12T01:00:00",3,1,2,-1.9336,-2.7E-2,-2.1436999999999999]
[null,"2020-03-12T02:00:00",3,2,2,-1.9336,-2.7E-2,-2.1436999999999999]
[null,"2020-03-12T03:00:00",3,3,2,-1.9336,-2.7E-2,-2.1436999999999999]
[null,"2020-03-12T04:00:00",3,4,2,-1.9336,-2.7E-2,-2.1436999999999999]
[null,"2020-03-12T05:00:00",3,5,2,-1.9336,-2.7E-2,-2.1436999999999999]
[null,"2020-03-12T06:00:00",3,6,2,14.034000000000001,20.137,21.582999999999998]
[null,"2020-03-12T07:00:00",3,7,2,283.63200000000001,352.64,497.87700000000001]
[null,"2020-03-12T08:00:00",3,8,2,844.99400000000003,848.13,1239.375]
[null,"2020-03-12T09:00:00",3,9,1,1233.915,1234.4000000000001,1559.415]
[null,"2020-03-12T10:00:00",3,10,1,1502.8219999999999,1498.2,1713.8579999999999]
[null,"2020-03-12T11:00:00",3,11,1,1585.06,1589.4,1726.077]
[null,"2020-03-12T12:00:00",3,12,1,1602.6590000000001,1592.3,1659.7370000000001]
[null,"2020-03-12T13:00:00",3,13,1,1566.749,1576.6,1441.771]
[null,"2020-03-12T14:00:00",3,14,2,1429.2650000000001,1370,1123.1479999999999]
[null,"2020-03-12T15:00:00",3,15,2,1134.046,1059,698.71500000000003]
[null,"2020-03-12T16:00:00",3,16,4,715.149,631.29,218.22300000000001]
[null,"2020-03-12T17:00:00",3,17,4,204.196,121.95,76.125]
[null,"2020-03-12T18:00:00",3,18,4,-1.9336,-2.7E-2,-2.1436999999999999]
[null,"2020-03-12T19:00:00",3,19,4,-1.9336,-2.7E-2,-2.1436999999999999]
[null,"2020-03-12T20:00:00",3,20,4,-1.9336,-2.7E-2,-2.1436999999999999]
[null,"2020-03-12T21:00:00",3,21,2,-1.9336,-2.7E-2,-2.1436999999999999]
[null,"2020-03-12T22:00:00",3,22,2,-1.9336,-2.7E-2,-2.1436999999999999]
[null,"2020-03-12T23:00:00",3,23,2,-1.9336,-2.7E-2,-2.1436999999999999]
[null,"2020-03-13",3,0,{"$f":"INDEX($AE$11:$BB$22,MATCH(C1737,$AD$11:$AD$22,0),MATCH(D1737,$AE$10:$BB$10,0))","v":2},-1.9336,-2.7E-2,-2.1436999999999999]
[null,"2020-03-13T01:00:00",{"$f":"MONTH(B1738)","v":3},{"$f":"HOUR(B1738)","v":1},2,-1.9336,-2.7E-2,-2.1436999999999999]
[null,{"$f":"B1738+1/24","v":"2020-03-13T02:00:00"},3,2,2,-1.9336,-2.7E-2,-2.1436999999999999]
[null,"2020-03-13T03:00:00",3,3,2,-1.9336,-2.7E-2,-2.1436999999999999]
[null,"2020-03-13T04:00:00",3,4,2,-1.9336,-2.7E-2,-2.1436999999999999]
[null,"2020-03-13T05:00:00",3,5,2,-1.9336,-2.7E-2,-2.1436999999999999]
[null,"2020-03-13T06:00:00",3,6,2,15.78,21.619,28.26]
[null,"2020-03-13T07:00:00",3,7,2,287.24099999999999,358.17,492.89100000000002]
[null,"2020-03-13T08:00:00",3,8,2,849.52800000000002,854.27,1244.212]
[null,"2020-03-13T09:00:00",3,9,1,1231.9480000000001,1234,1556.3340000000001]
[null,"2020-03-13T10:00:00",3,10,1,1499.259,1496.6,1711.076]
[null,"2020-03-13T11:00:00",3,11,1,1581.365,1588.7,1722.9670000000001]
[null,"2020-03-13T12:00:00",3,12,1,1595.346,1590.7,1644.364]
[null,"2020-03-13T13:00:00",3,13,1,1557.8589999999999,1560.6,1427.39]
[null,"2020-03-13T14:00:00",3,14,2,1425.8720000000001,1368.7,1122.7619999999999]
[null,"2020-03-13T15:00:00",3,15,2,1129.7059999999999,1056.5999999999999,696.51499999999999]
[null,"2020-03-13T16:00:00",3,16,4,711.79600000000005,629.17999999999995,213.83699999999999]
[null,"2020-03-13T17:00:00",3,17,4,209.57900000000001,129.66,80.988]
[null,"2020-03-13T18:00:00",3,18,4,-1.9336,-2.7E-2,-2.1436999999999999]
[null,"2020-03-13T19:00:00",3,19,4,-1.9336,-2.7E-2,-2.1436999999999999]
[null,"2020-03-13T20:00:00",3,20,4,-1.9336,-2.7E-2,-2.1436999999999999]
[null,"2020-03-13T21:00:00",3,21,2,-1.9336,-2.7E-2,-2.1436999999999999]
[null,"2020-03-13T22:00:00",3,22,2,-1.9336,-2.7E-2,-2.1436999999999999]
[null,"2020-03-13T23:00:00",3,23,2,-1.9336,-2.7E-2,-2.1436999999999999]
[null,"2020-03-14",3,0,2,-1.9336,-2.7E-2,-2.1436999999999999]
[null,"2020-03-14T01:00:00",3,1,2,-1.9336,-2.7E-2,-2.1436999999999999]
[null,"2020-03-14T02:00:00",3,2,2,-1.9336,-2.7E-2,-2.1436999999999999]
[null,"2020-03-14T03:00:00",3,3,2,-1.9336,-2.7E-2,-2.1436999999999999]
[null,"2020-03-14T04:00:00",3,4,2,-1.9336,-2.7E-2,-2.1436999999999999]
[null,"2020-03-14T05:00:00",3,5,2,-1.9336,-2.7E-2,-2.1436999999999999]
[null,"2020-03-14T06:00:00",3,6,2,-1.9336,-2.7E-2,-2.1436999999999999]
[null,"2020-03-14T07:00:00",3,7,2,226.99,269.19,351.459]
[null,"2020-03-14T08:00:00",3,8,2,581.24599999999998,592.69000000000005,798.68100000000004]
[null,"2020-03-14T09:00:00",3,9,1,998.92700000000002,1006.9,1221.386]
[null,"2020-03-14T10:00:00",3,10,1,607.85400000000004,615.44000000000005,679.89599999999996]
[null,"2020-03-14T11:00:00",3,11,1,709.03399999999999,712.19,751.5]
[null,"2020-03-14T12:00:00",3,12,1,1137.395,1122.7,1129.4090000000001]
[null,"2020-03-14T13:00:00",3,13,1,1035.816,1016.4,964.96699999999998]
[null,"2020-03-14T14:00:00",3,14,2,483.654,490.55,471.16199999999998]
[null,"2020-03-14T15:00:00",3,15,2,383.93299999999999,395.42,374.56200000000001]
[null,"2020-03-14T16:00:00",3,16,4,360.255,347,231.57400000000001]
[null,"2020-03-14T17:00:00",3,17,4,170.80099999999999,132.41999999999999,95.055999999999997]
[null,"2020-03-14T18:00:00",3,18,4,-1.9336,-2.7E-2,-2.1436999999999999]
[null,"2020-03-14T19:00:00",3,19,4,-1.9336,-2.7E-2,-2.1436999999999999]
[null,"2020-03-14T20:00:00",3,20,4,-1.9336,-2.7E-2,-2.1436999999999999]
[null,"2020-03-14T21:00:00",3,21,2,-1.9336,-2.7E-2,-2.1436999999999999]
[null,"2020-03-14T22:00:00",3,22,2,-1.9336,-2.7E-2,-2.1436999999999999]
[null,"2020-03-14T23:00:00",3,23,2,-1.9336,-2.7E-2,-2.1436999999999999]
[null,"2020-03-15",3,0,2,-1.9336,-2.7E-2,-2.1436999999999999]
[null,"2020-03-15T01:00:00",3,1,2,-1.9336,-2.7E-2,-2.1436999999999999]
[null,"2020-03-15T02:00:00",3,2,2,-1.9336,-2.7E-2,-2.1436999999999999]
[null,"2020-03-15T03:00:00",3,3,2,-1.9336,-2.7E-2,-2.1436999999999999]
[null,"2020-03-15T04:00:00",3,4,2,-1.9336,-2.7E-2,-2.1436999999999999]
[null,"2020-03-15T05:00:00",3,5,2,-1.9336,-2.7E-2,-2.1436999999999999]
[null,"2020-03-15T06:00:00",3,6,2,-1.9336,-2.7E-2,-2.1436999999999999]
[null,"2020-03-15T07:00:00",3,7,2,229.05099999999999,268.24,347.48]
[null,"2020-03-15T08:00:00",3,8,2,588.07000000000005,600.44000000000005,802.45699999999999]
[null,"2020-03-15T09:00:00",3,9,1,990.375,995.28,1221.817]
[null,"2020-03-15T10:00:00",3,10,1,1414.9349999999999,1410,1609.2349999999999]
[null,"2020-03-15T11:00:00",3,11,1,1567.271,1585.3,1705.922]
[null,"2020-03-15T12:00:00",3,12,1,1587.08,1588.7,1626.08]
[null,"2020-03-15T13:00:00",3,13,1,1549.289,1545.7,1419.2360000000001]
[null,"2020-03-15T14:00:00",3,14,2,1324.713,1272.3,1060.9079999999999]
[null,"2020-03-15T15:00:00",3,15,2,813.13599999999997,779.09,587.38800000000003]
[null,"2020-03-15T16:00:00",3,16,{"$f":"INDEX($AE$11:$BB$22,MATCH(C1801,$AD$11:$AD$22,0),MATCH(D1801,$AE$10:$BB$10,0))","v":4},600.54600000000005,551.05999999999995,274.63900000000001]
[null,"2020-03-15T17:00:00",{"$f":"MONTH(B1802)","v":3},{"$f":"HOUR(B1802)","v":17},4,133.255,112.76,88.188000000000002]
[null,{"$f":"B1802+1/24","v":"2020-03-15T18:00:00"},3,18,4,-1.9336,-2.7E-2,-2.1436999999999999]
[null,"2020-03-15T19:00:00",3,19,4,-1.9336,-2.7E-2,-2.1436999999999999]
[null,"2020-03-15T20:00:00",3,20,4,-1.9336,-2.7E-2,-2.1436999999999999]
[null,"2020-03-15T21:00:00",3,21,2,-1.9336,-2.7E-2,-2.1436999999999999]
[null,"2020-03-15T22:00:00",3,22,2,-1.9336,-2.7E-2,-2.1436999999999999]
[null,"2020-03-15T23:00:00",3,23,2,-1.9336,-2.7E-2,-2.1436999999999999]
[null,"2020-03-16",3,0,2,-1.9336,-2.7E-2,-2.1436999999999999]
[null,"2020-03-16T01:00:00",3,1,2,-1.9336,-2.7E-2,-2.1436999999999999]
[null,"2020-03-16T02:00:00",3,2,2,-1.9336,-2.7E-2,-2.1436999999999999]
[null,"2020-03-16T03:00:00",3,3,2,-1.9336,-2.7E-2,-2.1436999999999999]
[null,"2020-03-16T04:00:00",3,4,2,-1.9336,-2.7E-2,-2.1436999999999999]
[null,"2020-03-16T05:00:00",3,5,2,-1.9336,-2.7E-2,-2.1436999999999999]
[null,"2020-03-16T06:00:00",3,6,2,23.617999999999999,30.315999999999999,46.01]
[null,"2020-03-16T07:00:00",3,7,2,317.40100000000001,392.82,517.06299999999999]
[null,"2020-03-16T08:00:00",3,8,2,872.65,883.67,1276.9390000000001]
[null,"2020-03-16T09:00:00",3,9,1,1264.7280000000001,1272.5,1598.9949999999999]
[null,"2020-03-16T10:00:00",3,10,1,1520.3109999999999,1529.8,1724.751]
[null,"2020-03-16T11:00:00",3,11,1,1593.24,1592.1,1735.8820000000001]
[null,"2020-03-16T12:00:00",3,12,1,1603.1579999999999,1593.1,1667.566]
[null,"2020-03-16T13:00:00",3,13,1,1550.4639999999999,1549.7,1421.81]
[null,"2020-03-16T14:00:00",3,14,2,1379.2090000000001,1327,1096.7470000000001]
[null,"2020-03-16T15:00:00",3,15,2,1120.059,1054.3,712.97799999999995]
[null,"2020-03-16T16:00:00",3,16,4,665.71799999999996,600.32000000000005,247.429]
[null,"2020-03-16T17:00:00",3,17,4,187.65199999999999,134.62,90.537999999999997]
[null,"2020-03-16T18:00:00",3,18,4,-1.9336,-2.7E-2,-2.1436999999999999]
[null,"2020-03-16T19:00:00",3,19,4,-1.9336,-2.7E-2,-2.1436999999999999]
[null,"2020-03-16T20:00:00",3,20,4,-1.9336,-2.7E-2,-2.1436999999999999]
[null,"2020-03-16T21:00:00",3,21,2,-1.9336,-2.7E-2,-2.1436999999999999]
[null,"2020-03-16T22:00:00",3,22,2,-1.9336,-2.7E-2,-2.1436999999999999]
[null,"2020-03-16T23:00:00",3,23,2,-1.9336,-2.7E-2,-2.1436999999999999]
[null,"2020-03-17",3,0,2,-1.9336,-2.7E-2,-2.1436999999999999]
[null,"2020-03-17T01:00:00",3,1,2,-1.9336,-2.7E-2,-2.1436999999999999]
[null,"2020-03-17T02:00:00",3,2,2,-1.9336,-2.7E-2,-2.1436999999999999]
[null,"2020-03-17T03:00:00",3,3,2,-1.9336,-2.7E-2,-2.1436999999999999]
[null,"2020-03-17T04:00:00",3,4,2,-1.9336,-2.7E-2,-2.1436999999999999]
[null,"2020-03-17T05:00:00",3,5,2,-1.9336,-2.7E-2,-2.1436999999999999]
[null,"2020-03-17T06:00:00",3,6,2,3.8026,-2.7E-2,8.1311]
[null,"2020-03-17T07:00:00",3,7,2,70.777000000000001,77.885000000000005,78.498000000000005]
[null,"2020-03-17T08:00:00",3,8,2,136.81700000000001,150.27000000000001,152.18799999999999]
[null,"2020-03-17T09:00:00",3,9,1,188.63300000000001,204.85,209.05500000000001]
[null,"2020-03-17T10:00:00",3,10,1,224.267,241.27,246.792]
[null,"2020-03-17T11:00:00",3,11,1,245.33,262.7,268.42899999999997]
[null,"2020-03-17T12:00:00",3,12,1,332.64400000000001,345.06,350.40300000000002]
[null,"2020-03-17T13:00:00",3,13,1,1204.3889999999999,1177.5,1101.403]
[null,"2020-03-17T14:00:00",3,14,2,1426.269,1375.3,1146.376]
[null,"2020-03-17T15:00:00",3,15,2,1152.49,1086.0999999999999,729.80100000000004]
[null,"2020-03-17T16:00:00",3,16,4,658.83299999999997,604.25,288.529]
[null,"2020-03-17T17:00:00",3,17,4,120.22199999999999,105.27,84.787999999999997]
[null,"2020-03-17T18:00:00",3,18,4,-1.9336,-2.7E-2,-2.1436999999999999]
[null,"2020-03-17T19:00:00",3,19,4,-1.9336,-2.7E-2,-2.1436999999999999]
[null,"2020-03-17T20:00:00",3,20,4,-1.9336,-2.7E-2,-2.1436999999999999]
[null,"2020-03-17T21:00:00",3,21,2,-1.9336,-2.7E-2,-2.1436999999999999]
[null,"2020-03-17T22:00:00",3,22,2,-1.9336,-2.7E-2,-2.1436999999999999]
[null,"2020-03-17T23:00:00",3,23,2,-1.9336,-2.7E-2,-2.1436999999999999]
[null,"2020-03-18",3,0,2,-1.9336,-2.7E-2,-2.1436999999999999]
[null,"2020-03-18T01:00:00",3,1,2,-1.9336,-2.7E-2,-2.1436999999999999]
[null,"2020-03-18T02:00:00",3,2,2,-1.9336,-2.7E-2,-2.1436999999999999]
[null,"2020-03-18T03:00:00",3,3,2,-1.9336,-2.7E-2,-2.1436999999999999]
[null,"2020-03-18T04:00:00",3,4,2,-1.9336,-2.7E-2,-2.1436999999999999]
[null,"2020-03-18T05:00:00",3,5,2,-1.9336,-2.7E-2,-2.1436999999999999]
[null,"2020-03-18T06:00:00",3,6,2,-1.9336,-2.7E-2,-2.1436999999999999]
[null,"2020-03-18T07:00:00",3,7,2,76.082999999999998,83.353999999999999,84.331000000000003]
[null,"2020-03-18T08:00:00",3,8,{"$f":"INDEX($AE$11:$BB$22,MATCH(C1865,$AD$11:$AD$22,0),MATCH(D1865,$AE$10:$BB$10,0))","v":2},493.85199999999998,510.05,650.01499999999999]
[null,"2020-03-18T09:00:00",{"$f":"MONTH(B1866)","v":3},{"$f":"HOUR(B1866)","v":9},1,1051.943,1061.5999999999999,1300.607]
[null,{"$f":"B1866+1/24","v":"2020-03-18T10:00:00"},3,10,1,997.00900000000001,1000.6,1120.4929999999999]
[null,"2020-03-18T11:00:00",3,11,1,811.79700000000003,815.85,861.10599999999999]
[null,"2020-03-18T12:00:00",3,12,1,627.45500000000004,637.48,648.54100000000005]
[null,"2020-03-18T13:00:00",3,13,1,563.298,572.14,565.46]
[null,"2020-03-18T14:00:00",3,14,2,649.755,644.89,592.45000000000005]
[null,"2020-03-18T15:00:00",3,15,2,493.09199999999998,494.41,435.42500000000001]
[null,"2020-03-18T16:00:00",3,16,4,125.777,137.25,135.851]
[null,"2020-03-18T17:00:00",3,17,4,43.473999999999997,49.853000000000002,51.075000000000003]
[null,"2020-03-18T18:00:00",3,18,4,-1.9336,-2.7E-2,-2.1436999999999999]
[null,"2020-03-18T19:00:00",3,19,4,-1.9336,-2.7E-2,-2.1436999999999999]
[null,"2020-03-18T20:00:00",3,20,4,-1.9336,-2.7E-2,-2.1436999999999999]
[null,"2020-03-18T21:00:00",3,21,2,-1.9336,-2.7E-2,-2.1436999999999999]
[null,"2020-03-18T22:00:00",3,22,2,-1.9336,-2.7E-2,-2.1436999999999999]
[null,"2020-03-18T23:00:00",3,23,2,-1.9336,-2.7E-2,-2.1436999999999999]
[null,"2020-03-19",3,0,2,-1.9336,-2.7E-2,-2.1436999999999999]
[null,"2020-03-19T01:00:00",3,1,2,-1.9336,-2.7E-2,-2.1436999999999999]
[null,"2020-03-19T02:00:00",3,2,2,-1.9336,-2.7E-2,-2.1436999999999999]
[null,"2020-03-19T03:00:00",3,3,2,-1.9336,-2.7E-2,-2.1436999999999999]
[null,"2020-03-19T04:00:00",3,4,2,-1.9336,-2.7E-2,-2.1436999999999999]
[null,"2020-03-19T05:00:00",3,5,2,-1.9336,-2.7E-2,-2.1436999999999999]
[null,"2020-03-19T06:00:00",3,6,2,2.2086000000000001,-2.7E-2,-2.1436999999999999]
[null,"2020-03-19T07:00:00",3,7,2,103.054,112.96,117.431]
[null,"2020-03-19T08:00:00",3,8,2,292.52600000000001,311.3,343.762]
[null,"2020-03-19T09:00:00",3,9,1,305.94299999999998,321.64,349.22199999999998]
[null,"2020-03-19T10:00:00",3,10,1,187.78399999999999,203.89,207.209]
[null,"2020-03-19T11:00:00",3,11,1,209.65600000000001,226.15,230.149]
[null,"2020-03-19T12:00:00",3,12,1,214.946,231.48,235.12700000000001]
[null,"2020-03-19T13:00:00",3,13,1,201.82300000000001,218.09,220.72]
[null,"2020-03-19T14:00:00",3,14,2,315.12900000000002,332.5,333.21899999999999]
[null,"2020-03-19T15:00:00",3,15,2,196.321,211.82,210.84700000000001]
[null,"2020-03-19T16:00:00",3,16,4,190.36600000000001,198.33,169.464]
[null,"2020-03-19T17:00:00",3,17,4,155.23699999999999,136.83000000000001,104.88200000000001]
[null,"2020-03-19T18:00:00",3,18,4,-1.9336,-2.7E-2,-2.1436999999999999]
[null,"2020-03-19T19:00:00",3,19,4,-1.9336,-2.7E-2,-2.1436999999999999]
[null,"2020-03-19T20:00:00",3,20,4,-1.9336,-2.7E-2,-2.1436999999999999]
[null,"2020-03-19T21:00:00",3,21,2,-1.9336,-2.7E-2,-2.1436999999999999]
[null,"2020-03-19T22:00:00",3,22,2,-1.9336,-2.7E-2,-2.1436999999999999]
[null,"2020-03-19T23:00:00",3,23,2,-1.9336,-2.7E-2,-2.1436999999999999]
[null,"2020-03-20",3,0,2,-1.9336,-2.7E-2,-2.1436999999999999]
[null,"2020-03-20T01:00:00",3,1,2,-1.9336,-2.7E-2,-2.1436999999999999]
[null,"2020-03-20T02:00:00",3,2,2,-1.9336,-2.7E-2,-2.1436999999999999]
[null,"2020-03-20T03:00:00",3,3,2,-1.9336,-2.7E-2,-2.1436999999999999]
[null,"2020-03-20T04:00:00",3,4,2,-1.9336,-2.7E-2,-2.1436999999999999]
[null,"2020-03-20T05:00:00",3,5,2,-1.9336,-2.7E-2,-2.1436999999999999]
[null,"2020-03-20T06:00:00",3,6,2,25.98,33.07,49.195]
[null,"2020-03-20T07:00:00",3,7,2,99.412000000000006,111.73,121.139]
[null,"2020-03-20T08:00:00",3,8,2,462.70299999999997,479.24,607.57799999999997]
[null,"2020-03-20T09:00:00",3,9,1,1069.2180000000001,1081.4000000000001,1324.0920000000001]
[null,"2020-03-20T10:00:00",3,10,1,1255.518,1258.5,1423.069]
[null,"2020-03-20T11:00:00",3,11,1,976.86,981.32,1036.4480000000001]
[null,"2020-03-20T12:00:00",3,12,1,1095.6300000000001,1086,1092.1990000000001]
[null,"2020-03-20T13:00:00",3,13,1,1496.068,1466.7,1358.5219999999999]
[null,"2020-03-20T14:00:00",3,14,2,1428.73,1382.5,1152.106]
[null,"2020-03-20T15:00:00",3,15,2,963.90499999999997,920.15,664.24599999999998]
[null,"2020-03-20T16:00:00",3,16,4,689.27700000000004,632.52,281.07499999999999]
[null,"2020-03-20T17:00:00",3,17,4,128.01499999999999,97.841999999999999,69.691999999999993]
[null,"2020-03-20T18:00:00",3,18,4,-1.9336,-2.7E-2,-2.1436999999999999]
[null,"2020-03-20T19:00:00",3,19,4,-1.9336,-2.7E-2,-2.1436999999999999]
[null,"2020-03-20T20:00:00",3,20,4,-1.9336,-2.7E-2,-2.1436999999999999]
[null,"2020-03-20T21:00:00",3,21,2,-1.9336,-2.7E-2,-2.1436999999999999]
[null,"2020-03-20T22:00:00",3,22,2,-1.9336,-2.7E-2,-2.1436999999999999]
[null,"2020-03-20T23:00:00",3,23,2,-1.9336,-2.7E-2,-2.1436999999999999]
[null,"2020-03-21",3,0,{"$f":"INDEX($AE$11:$BB$22,MATCH(C1929,$AD$11:$AD$22,0),MATCH(D1929,$AE$10:$BB$10,0))","v":2},-1.9336,-2.7E-2,-2.1436999999999999]
[null,"2020-03-21T01:00:00",{"$f":"MONTH(B1930)","v":3},{"$f":"HOUR(B1930)","v":1},2,-1.9336,-2.7E-2,-2.1436999999999999]
[null,{"$f":"B1930+1/24","v":"2020-03-21T02:00:00"},3,2,2,-1.9336,-2.7E-2,-2.1436999999999999]
[null,"2020-03-21T03:00:00",3,3,2,-1.9336,-2.7E-2,-2.1436999999999999]
[null,"2020-03-21T04:00:00",3,4,2,-1.9336,-2.7E-2,-2.1436999999999999]
[null,"2020-03-21T05:00:00",3,5,2,-1.9336,-2.7E-2,-2.1436999999999999]
[null,"2020-03-21T06:00:00",3,6,2,7.2023000000000001,12.679,11.263]
[null,"2020-03-21T07:00:00",3,7,2,205.988,233.04,281.84100000000001]
[null,"2020-03-21T08:00:00",3,8,2,843.17600000000004,863.91,1195.855]
[null,"2020-03-21T09:00:00",3,9,1,1239.2739999999999,1254.7,1559.9870000000001]
[null,"2020-03-21T10:00:00",3,10,1,1530.374,1557.4,1735.364]
[null,"2020-03-21T11:00:00",3,11,1,1594.6679999999999,1593.3,1739.8309999999999]
[null,"2020-03-21T12:00:00",3,12,1,1612.614,1596.2,1697.7270000000001]
[null,"2020-03-21T13:00:00",3,13,1,1585.0650000000001,1588.3,1501.145]
[null,"2020-03-21T14:00:00",3,14,2,1479.7149999999999,1434.7,1182.0809999999999]
[null,"2020-03-21T15:00:00",3,15,2,1168.9259999999999,1110.7,749.56600000000003]
[null,"2020-03-21T16:00:00",3,16,4,765.43399999999997,693.36,252.03100000000001]
[null,"2020-03-21T17:00:00",3,17,4,244.54300000000001,170.31,98.518000000000001]
[null,"2020-03-21T18:00:00",3,18,4,-1.9336,-2.7E-2,-2.1436999999999999]
[null,"2020-03-21T19:00:00",3,19,4,-1.9336,-2.7E-2,-2.1436999999999999]
[null,"2020-03-21T20:00:00",3,20,4,-1.9336,-2.7E-2,-2.1436999999999999]
[null,"2020-03-21T21:00:00",3,21,2,-1.9336,-2.7E-2,-2.1436999999999999]
[null,"2020-03-21T22:00:00",3,22,2,-1.9336,-2.7E-2,-2.1436999999999999]
[null,"2020-03-21T23:00:00",3,23,2,-1.9336,-2.7E-2,-2.1436999999999999]
[null,"2020-03-22",3,0,2,-1.9336,-2.7E-2,-2.1436999999999999]
[null,"2020-03-22T01:00:00",3,1,2,-1.9336,-2.7E-2,-2.1436999999999999]
[null,"2020-03-22T02:00:00",3,2,2,-1.9336,-2.7E-2,-2.1436999999999999]
[null,"2020-03-22T03:00:00",3,3,2,-1.9336,-2.7E-2,-2.1436999999999999]
[null,"2020-03-22T04:00:00",3,4,2,-1.9336,-2.7E-2,-2.1436999999999999]
[null,"2020-03-22T05:00:00",3,5,2,-1.9336,-2.7E-2,-2.1436999999999999]
[null,"2020-03-22T06:00:00",3,6,2,48.533000000000001,58.847000000000001,104.717]
[null,"2020-03-22T07:00:00",3,7,2,373.05500000000001,443.66,557.76800000000003]
[null,"2020-03-22T08:00:00",3,8,2,871.00099999999998,892.65,1257.9580000000001]
[null,"2020-03-22T09:00:00",3,9,1,1153.8050000000001,1168.7,1442.16]
[null,"2020-03-22T10:00:00",3,10,1,1536.873,1571.4,1739.8820000000001]
[null,"2020-03-22T11:00:00",3,11,1,1612.89,1597.8,1757.732]
[null,"2020-03-22T12:00:00",3,12,1,1611.885,1600.1,1720.615]
[null,"2020-03-22T13:00:00",3,13,1,1593.3679999999999,1590.5,1518.9860000000001]
[null,"2020-03-22T14:00:00",3,14,2,1474.2249999999999,1430.3,1192.232]
[null,"2020-03-22T15:00:00",3,15,2,850.09199999999998,823.9,635.05700000000002]
[null,"2020-03-22T16:00:00",3,16,4,357.03500000000003,355.75,269.43400000000003]
[null,"2020-03-22T17:00:00",3,17,4,92.659000000000006,96.703999999999994,88.998999999999995]
[null,"2020-03-22T18:00:00",3,18,4,-1.9336,-2.7E-2,-2.1436999999999999]
[null,"2020-03-22T19:00:00",3,19,4,-1.9336,-2.7E-2,-2.1436999999999999]
[null,"2020-03-22T20:00:00",3,20,4,-1.9336,-2.7E-2,-2.1436999999999999]
[null,"2020-03-22T21:00:00",3,21,2,-1.9336,-2.7E-2,-2.1436999999999999]
[null,"2020-03-22T22:00:00",3,22,2,-1.9336,-2.7E-2,-2.1436999999999999]
[null,"2020-03-22T23:00:00",3,23,2,-1.9336,-2.7E-2,-2.1436999999999999]
[null,"2020-03-23",3,0,2,-1.9336,-2.7E-2,-2.1436999999999999]
[null,"2020-03-23T01:00:00",3,1,2,-1.9336,-2.7E-2,-2.1436999999999999]
[null,"2020-03-23T02:00:00",3,2,2,-1.9336,-2.7E-2,-2.1436999999999999]
[null,"2020-03-23T03:00:00",3,3,2,-1.9336,-2.7E-2,-2.1436999999999999]
[null,"2020-03-23T04:00:00",3,4,2,-1.9336,-2.7E-2,-2.1436999999999999]
[null,"2020-03-23T05:00:00",3,5,2,-1.9336,-2.7E-2,-2.1436999999999999]
[null,"2020-03-23T06:00:00",3,6,2,0.64187000000000005,-2.7E-2,-2.1436999999999999]
[null,"2020-03-23T07:00:00",3,7,2,51.469000000000001,58.171999999999997,57.204000000000001]
[null,"2020-03-23T08:00:00",3,8,2,140.999,155.07,156.75299999999999]
[null,"2020-03-23T09:00:00",3,9,1,187.01499999999999,203.45,207.23699999999999]
[null,"2020-03-23T10:00:00",3,10,1,201.066,217.8,221.75299999999999]
[null,"2020-03-23T11:00:00",3,11,1,510.95,525.39,548.24199999999996]
[null,"2020-03-23T12:00:00",3,12,1,354.64600000000002,373.67,382.10700000000003]
[null,"2020-03-23T13:00:00",3,13,1,343.221,361.94,367.56599999999997]
[null,"2020-03-23T14:00:00",3,14,2,350.01299999999998,367.66,367.93299999999999]
[null,"2020-03-23T15:00:00",3,15,2,278.62400000000002,295.11,291.12900000000002]
[null,"2020-03-23T16:00:00",3,16,{"$f":"INDEX($AE$11:$BB$22,MATCH(C1993,$AD$11:$AD$22,0),MATCH(D1993,$AE$10:$BB$10,0))","v":4},117.172,128.29,128.11500000000001]
[null,"2020-03-23T17:00:00",{"$f":"MONTH(B1994)","v":3},{"$f":"HOUR(B1994)","v":17},4,47.697000000000003,54.377000000000002,55.661999999999999]
[null,{"$f":"B1994+1/24","v":"2020-03-23T18:00:00"},3,18,4,-1.9336,-2.7E-2,-2.1436999999999999]
[null,"2020-03-23T19:00:00",3,19,4,-1.9336,-2.7E-2,-2.1436999999999999]
[null,"2020-03-23T20:00:00",3,20,4,-1.9336,-2.7E-2,-2.1436999999999999]
[null,"2020-03-23T21:00:00",3,21,2,-1.9336,-2.7E-2,-2.1436999999999999]
[null,"2020-03-23T22:00:00",3,22,2,-1.9336,-2.7E-2,-2.1436999999999999]
[null,"2020-03-23T23:00:00",3,23,2,-1.9336,-2.7E-2,-2.1436999999999999]
[null,"2020-03-24",3,0,2,-1.9336,-2.7E-2,-2.1436999999999999]
[null,"2020-03-24T01:00:00",3,1,2,-1.9336,-2.7E-2,-2.1436999999999999]
[null,"2020-03-24T02:00:00",3,2,2,-1.9336,-2.7E-2,-2.1436999999999999]
[null,"2020-03-24T03:00:00",3,3,2,-1.9336,-2.7E-2,-2.1436999999999999]
[null,"2020-03-24T04:00:00",3,4,2,-1.9336,-2.7E-2,-2.1436999999999999]
[null,"2020-03-24T05:00:00",3,5,2,-1.9336,-2.7E-2,-2.1436999999999999]
[null,"2020-03-24T06:00:00",3,6,2,50.08,60.639000000000003,94.975999999999999]
[null,"2020-03-24T07:00:00",3,7,2,248.04400000000001,279.06,336.15499999999997]
[null,"2020-03-24T08:00:00",3,8,2,687.79,710.87,938.63099999999997]
[null,"2020-03-24T09:00:00",3,9,1,1249.2950000000001,1269.0999999999999,1562.9269999999999]
[null,"2020-03-24T10:00:00",3,10,1,1543.03,1583.3,1746.7829999999999]
[null,"2020-03-24T11:00:00",3,11,1,1611.1579999999999,1597.9,1757.56]
[null,"2020-03-24T12:00:00",3,12,1,1611.885,1600.4,1721.4590000000001]
[null,"2020-03-24T13:00:00",3,13,1,1588.4159999999999,1589.6,1513.0650000000001]
[null,"2020-03-24T14:00:00",3,14,2,1465.7059999999999,1425.1,1182.124]
[null,"2020-03-24T15:00:00",3,15,2,1013.5839999999999,972.75,695.81299999999999]
[null,"2020-03-24T16:00:00",3,16,4,758.84400000000005,697.02,284.18799999999999]
[null,"2020-03-24T17:00:00",3,17,4,267.459,182.55,91.587000000000003]
[null,"2020-03-24T18:00:00",3,18,4,3.3727,-2.7E-2,10.157]
[null,"2020-03-24T19:00:00",3,19,4,-1.9336,-2.7E-2,-2.1436999999999999]
[null,"2020-03-24T20:00:00",3,20,4,-1.9336,-2.7E-2,-2.1436999999999999]
[null,"2020-03-24T21:00:00",3,21,2,-1.9336,-2.7E-2,-2.1436999999999999]
[null,"2020-03-24T22:00:00",3,22,2,-1.9336,-2.7E-2,-2.1436999999999999]
[null,"2020-03-24T23:00:00",3,23,2,-1.9336,-2.7E-2,-2.1436999999999999]
[null,"2020-03-25",3,0,2,-1.9336,-2.7E-2,-2.1436999999999999]
[null,"2020-03-25T01:00:00",3,1,2,-1.9336,-2.7E-2,-2.1436999999999999]
[null,"2020-03-25T02:00:00",3,2,2,-1.9336,-2.7E-2,-2.1436999999999999]
[null,"2020-03-25T03:00:00",3,3,2,-1.9336,-2.7E-2,-2.1436999999999999]
[null,"2020-03-25T04:00:00",3,4,2,-1.9336,-2.7E-2,-2.1436999999999999]
[null,"2020-03-25T05:00:00",3,5,2,-1.9336,-2.7E-2,-2.1436999999999999]
[null,"2020-03-25T06:00:00",3,6,2,2.3468,-2.7E-2,-2.1436999999999999]
[null,"2020-03-25T07:00:00",3,7,2,55.256999999999998,62.070999999999998,61.133000000000003]
[null,"2020-03-25T08:00:00",3,8,2,154.446,169.6,172.33199999999999]
[null,"2020-03-25T09:00:00",3,9,1,444.76900000000001,462.65,514.65499999999997]
[null,"2020-03-25T10:00:00",3,10,1,1218.4680000000001,1227.5999999999999,1383.107]
[null,"2020-03-25T11:00:00",3,11,1,1172.9069999999999,1176.2,1245.0830000000001]
[null,"2020-03-25T12:00:00",3,12,1,623.22400000000005,635.54,647.51800000000003]
[null,"2020-03-25T13:00:00",3,13,1,700.83,701.99,678.01400000000001]
[null,"2020-03-25T14:00:00",3,14,2,250.262,267.27999999999997,269.173]
[null,"2020-03-25T15:00:00",3,15,2,144.375,158.35,158.90299999999999]
[null,"2020-03-25T16:00:00",3,16,4,129.74700000000001,141.58000000000001,139.02699999999999]
[null,"2020-03-25T17:00:00",3,17,4,78.540000000000006,77.081999999999994,69.503]
[null,"2020-03-25T18:00:00",3,18,4,3.5370999999999997,-2.7E-2,10.845000000000001]
[null,"2020-03-25T19:00:00",3,19,4,-1.9336,-2.7E-2,-2.1436999999999999]
[null,"2020-03-25T20:00:00",3,20,4,-1.9336,-2.7E-2,-2.1436999999999999]
[null,"2020-03-25T21:00:00",3,21,2,-1.9336,-2.7E-2,-2.1436999999999999]
[null,"2020-03-25T22:00:00",3,22,2,-1.9336,-2.7E-2,-2.1436999999999999]
[null,"2020-03-25T23:00:00",3,23,2,-1.9336,-2.7E-2,-2.1436999999999999]
[null,"2020-03-26",3,0,2,-1.9336,-2.7E-2,-2.1436999999999999]
[null,"2020-03-26T01:00:00",3,1,2,-1.9336,-2.7E-2,-2.1436999999999999]
[null,"2020-03-26T02:00:00",3,2,2,-1.9336,-2.7E-2,-2.1436999999999999]
[null,"2020-03-26T03:00:00",3,3,2,-1.9336,-2.7E-2,-2.1436999999999999]
[null,"2020-03-26T04:00:00",3,4,2,-1.9336,-2.7E-2,-2.1436999999999999]
[null,"2020-03-26T05:00:00",3,5,2,-1.9336,-2.7E-2,-2.1436999999999999]
[null,"2020-03-26T06:00:00",3,6,2,62.914000000000001,80.149000000000001,150.84399999999999]
[null,"2020-03-26T07:00:00",3,7,2,448.03300000000002,504.95,612.47]
[null,"2020-03-26T08:00:00",3,8,{"$f":"INDEX($AE$11:$BB$22,MATCH(C2057,$AD$11:$AD$22,0),MATCH(D2057,$AE$10:$BB$10,0))","v":2},940.80700000000002,973.38,1375.905]
[null,"2020-03-26T09:00:00",{"$f":"MONTH(B2058)","v":3},{"$f":"HOUR(B2058)","v":9},1,1318.963,1346.6,1670.8230000000001]
[null,{"$f":"B2058+1/24","v":"2020-03-26T10:00:00"},3,10,1,1543.6479999999999,1583.4,1745.2660000000001]
[null,"2020-03-26T11:00:00",3,11,1,1313.3440000000001,1312.9,1392.079]
[null,"2020-03-26T12:00:00",3,12,1,1476.768,1466.6,1462.778]
[null,"2020-03-26T13:00:00",3,13,1,889.16899999999998,880.95,836.21699999999998]
[null,"2020-03-26T14:00:00",3,14,2,292.61900000000003,304.88,296.63400000000001]
[null,"2020-03-26T15:00:00",3,15,2,667.82799999999997,653.24,520.36400000000003]
[null,"2020-03-26T16:00:00",3,16,4,734.08399999999995,683.58,311.98200000000003]
[null,"2020-03-26T17:00:00",3,17,4,275.49200000000002,195.66,98.338999999999999]
[null,"2020-03-26T18:00:00",3,18,4,5.1451000000000002,10.779,12.353]
[null,"2020-03-26T19:00:00",3,19,4,-1.9336,-2.7E-2,-2.1436999999999999]
[null,"2020-03-26T20:00:00",3,20,4,-1.9336,-2.7E-2,-2.1436999999999999]
[null,"2020-03-26T21:00:00",3,21,2,-1.9336,-2.7E-2,-2.1436999999999999]
[null,"2020-03-26T22:00:00",3,22,2,-1.9336,-2.7E-2,-2.1436999999999999]
[null,"2020-03-26T23:00:00",3,23,2,-1.9336,-2.7E-2,-2.1436999999999999]
[null,"2020-03-27",3,0,2,-1.9336,-2.7E-2,-2.1436999999999999]
[null,"2020-03-27T01:00:00",3,1,2,-1.9336,-2.7E-2,-2.1436999999999999]
[null,"2020-03-27T02:00:00",3,2,2,-1.9336,-2.7E-2,-2.1436999999999999]
[null,"2020-03-27T03:00:00",3,3,2,-1.9336,-2.7E-2,-2.1436999999999999]
[null,"2020-03-27T04:00:00",3,4,2,-1.9336,-2.7E-2,-2.1436999999999999]
[null,"2020-03-27T05:00:00",3,5,2,-1.9336,-2.7E-2,-2.1436999999999999]
[null,"2020-03-27T06:00:00",3,6,2,66.387,83.316000000000003,158.71]
[null,"2020-03-27T07:00:00",3,7,2,437.81400000000002,511.55,614.93499999999995]
[null,"2020-03-27T08:00:00",3,8,2,939.20299999999997,973.49,1372.357]
[null,"2020-03-27T09:00:00",3,9,1,1309.3699999999999,1338.5,1658.146]
[null,"2020-03-27T10:00:00",3,10,1,1537.3420000000001,1585.1,1742.8050000000001]
[null,"2020-03-27T11:00:00",3,11,1,1602.41,1596.3,1749.8530000000001]
[null,"2020-03-27T12:00:00",3,12,1,1611.884,1597.9,1711.0219999999999]
[null,"2020-03-27T13:00:00",3,13,1,1580.884,1588.3,1500.579]
[null,"2020-03-27T14:00:00",3,14,2,1456.702,1425.9,1177.723]
[null,"2020-03-27T15:00:00",3,15,2,1164.354,1116.4000000000001,756.37199999999996]
[null,"2020-03-27T16:00:00",3,16,4,761.11900000000003,700.79,267.35399999999998]
[null,"2020-03-27T17:00:00",3,17,4,259.21899999999999,193.39,103.735]
[null,"2020-03-27T18:00:00",3,18,4,1.806,-2.7E-2,9.1147000000000009]
[null,"2020-03-27T19:00:00",3,19,4,-1.9336,-2.7E-2,-2.1436999999999999]
[null,"2020-03-27T20:00:00",3,20,4,-1.9336,-2.7E-2,-2.1436999999999999]
[null,"2020-03-27T21:00:00",3,21,2,-1.9336,-2.7E-2,-2.1436999999999999]
[null,"2020-03-27T22:00:00",3,22,2,-1.9336,-2.7E-2,-2.1436999999999999]
[null,"2020-03-27T23:00:00",3,23,2,-1.9336,-2.7E-2,-2.1436999999999999]
[null,"2020-03-28",3,0,2,-1.9336,-2.7E-2,-2.1436999999999999]
[null,"2020-03-28T01:00:00",3,1,2,-1.9336,-2.7E-2,-2.1436999999999999]
[null,"2020-03-28T02:00:00",3,2,2,-1.9336,-2.7E-2,-2.1436999999999999]
[null,"2020-03-28T03:00:00",3,3,2,-1.9336,-2.7E-2,-2.1436999999999999]
[null,"2020-03-28T04:00:00",3,4,2,-1.9336,-2.7E-2,-2.1436999999999999]
[null,"2020-03-28T05:00:00",3,5,2,-1.9336,-2.7E-2,-2.1436999999999999]
[null,"2020-03-28T06:00:00",3,6,2,68.171000000000006,87.977999999999994,192.01900000000001]
[null,"2020-03-28T07:00:00",3,7,2,445.59300000000002,519.86,619.28599999999994]
[null,"2020-03-28T08:00:00",3,8,2,944.36599999999999,980.79,1379.7750000000001]
[null,"2020-03-28T09:00:00",3,9,1,1313.5809999999999,1344.6,1663.66]
[null,"2020-03-28T10:00:00",3,10,1,1540.7809999999999,1583.5,1745.1759999999999]
[null,"2020-03-28T11:00:00",3,11,1,1546.644,1582.9,1674.393]
[null,"2020-03-28T12:00:00",3,12,1,1549.423,1575.7,1563.712]
[null,"2020-03-28T13:00:00",3,13,1,1567.7370000000001,1584.9,1477.415]
[null,"2020-03-28T14:00:00",3,14,2,1410.3589999999999,1379.5,1146.8800000000001]
[null,"2020-03-28T15:00:00",3,15,2,1147.3140000000001,1102.5999999999999,765.73099999999999]
[null,"2020-03-28T16:00:00",3,16,4,664.29200000000003,620.82000000000005,282.11]
[null,"2020-03-28T17:00:00",3,17,4,227.001,182.4,109.828]
[null,"2020-03-28T18:00:00",3,18,4,-1.9336,-2.7E-2,-2.1436999999999999]
[null,"2020-03-28T19:00:00",3,19,4,-1.9336,-2.7E-2,-2.1436999999999999]
[null,"2020-03-28T20:00:00",3,20,4,-1.9336,-2.7E-2,-2.1436999999999999]
[null,"2020-03-28T21:00:00",3,21,2,-1.9336,-2.7E-2,-2.1436999999999999]
[null,"2020-03-28T22:00:00",3,22,2,-1.9336,-2.7E-2,-2.1436999999999999]
[null,"2020-03-28T23:00:00",3,23,2,-1.9336,-2.7E-2,-2.1436999999999999]
[null,"2020-03-29",3,0,{"$f":"INDEX($AE$11:$BB$22,MATCH(C2121,$AD$11:$AD$22,0),MATCH(D2121,$AE$10:$BB$10,0))","v":2},-1.9336,-2.7E-2,-2.1436999999999999]
[null,"2020-03-29T01:00:00",{"$f":"MONTH(B2122)","v":3},{"$f":"HOUR(B2122)","v":1},2,-1.9336,-2.7E-2,-2.1436999999999999]
[null,{"$f":"B2122+1/24","v":"2020-03-29T02:00:00"},3,2,2,-1.9336,-2.7E-2,-2.1436999999999999]
[null,"2020-03-29T03:00:00",3,3,2,-1.9336,-2.7E-2,-2.1436999999999999]
[null,"2020-03-29T04:00:00",3,4,2,-1.9336,-2.7E-2,-2.1436999999999999]
[null,"2020-03-29T05:00:00",3,5,2,-1.9336,-2.7E-2,-2.1436999999999999]
[null,"2020-03-29T06:00:00",3,6,2,70.456999999999994,88.941999999999993,185.87799999999999]
[null,"2020-03-29T07:00:00",3,7,2,452.90100000000001,521.71,616.31299999999999]
[null,"2020-03-29T08:00:00",3,8,2,948.99800000000005,986.83,1382.9059999999999]
[null,"2020-03-29T09:00:00",3,9,1,1320.7149999999999,1353.8,1673.2570000000001]
[null,"2020-03-29T10:00:00",3,10,1,1544.463,1584.4,1747.8989999999999]
[null,"2020-03-29T11:00:00",3,11,1,1526.2070000000001,1543.6,1632.9259999999999]
[null,"2020-03-29T12:00:00",3,12,1,1607.42,1595.5,1694.347]
[null,"2020-03-29T13:00:00",3,13,1,1581.5039999999999,1589,1509.1420000000001]
[null,"2020-03-29T14:00:00",3,14,2,1486.722,1455.9,1203.0150000000001]
[null,"2020-03-29T15:00:00",3,15,2,1149.0070000000001,1106,759.32299999999998]
[null,"2020-03-29T16:00:00",3,16,4,751.99199999999996,697.62,282.09300000000002]
[null,"2020-03-29T17:00:00",3,17,4,266.601,207.6,112.881]
[null,"2020-03-29T18:00:00",3,18,4,2.0021,-2.7E-2,9.4084000000000003]
[null,"2020-03-29T19:00:00",3,19,4,-1.9336,-2.7E-2,-2.1436999999999999]
[null,"2020-03-29T20:00:00",3,20,4,-1.9336,-2.7E-2,-2.1436999999999999]
[null,"2020-03-29T21:00:00",3,21,2,-1.9336,-2.7E-2,-2.1436999999999999]
[null,"2020-03-29T22:00:00",3,22,2,-1.9336,-2.7E-2,-2.1436999999999999]
[null,"2020-03-29T23:00:00",3,23,2,-1.9336,-2.7E-2,-2.1436999999999999]
[null,"2020-03-30",3,0,2,-1.9336,-2.7E-2,-2.1436999999999999]
[null,"2020-03-30T01:00:00",3,1,2,-1.9336,-2.7E-2,-2.1436999999999999]
[null,"2020-03-30T02:00:00",3,2,2,-1.9336,-2.7E-2,-2.1436999999999999]
[null,"2020-03-30T03:00:00",3,3,2,-1.9336,-2.7E-2,-2.1436999999999999]
[null,"2020-03-30T04:00:00",3,4,2,-1.9336,-2.7E-2,-2.1436999999999999]
[null,"2020-03-30T05:00:00",3,5,2,-1.9336,-2.7E-2,-2.1436999999999999]
[null,"2020-03-30T06:00:00",3,6,2,69.924999999999997,88.266999999999996,185.124]
[null,"2020-03-30T07:00:00",3,7,2,451.61700000000002,518.41,608.70399999999995]
[null,"2020-03-30T08:00:00",3,8,2,952.29899999999998,992.14,1387.627]
[null,"2020-03-30T09:00:00",3,9,1,1320.9970000000001,1355.4,1673.3679999999999]
[null,"2020-03-30T10:00:00",3,10,1,1545.3969999999999,1585.2,1750.857]
[null,"2020-03-30T11:00:00",3,11,1,1611.181,1598.9,1759.405]
[null,"2020-03-30T12:00:00",3,12,1,1611.885,1600.2,1721.924]
[null,"2020-03-30T13:00:00",3,13,1,1583.086,1589.5,1512.1980000000001]
[null,"2020-03-30T14:00:00",3,14,2,1463.1,1437.6,1189.2750000000001]
[null,"2020-03-30T15:00:00",3,15,2,1165.529,1123,764.08600000000001]
[null,"2020-03-30T16:00:00",3,16,4,768.77700000000004,713.51,277.86500000000001]
[null,"2020-03-30T17:00:00",3,17,4,276.58600000000001,210.03,102.67100000000001]
[null,"2020-03-30T18:00:00",3,18,4,6.6331000000000007,12.234,13.855]
[null,"2020-03-30T19:00:00",3,19,4,-1.9336,-2.7E-2,-2.1436999999999999]
[null,"2020-03-30T20:00:00",3,20,4,-1.9336,-2.7E-2,-2.1436999999999999]
[null,"2020-03-30T21:00:00",3,21,2,-1.9336,-2.7E-2,-2.1436999999999999]
[null,"2020-03-30T22:00:00",3,22,2,-1.9336,-2.7E-2,-2.1436999999999999]
[null,"2020-03-30T23:00:00",3,23,2,-1.9336,-2.7E-2,-2.1436999999999999]
[null,"2020-03-31",3,0,2,-1.9336,-2.7E-2,-2.1436999999999999]
[null,"2020-03-31T01:00:00",3,1,2,-1.9336,-2.7E-2,-2.1436999999999999]
[null,"2020-03-31T02:00:00",3,2,2,-1.9336,-2.7E-2,-2.1436999999999999]
[null,"2020-03-31T03:00:00",3,3,2,-1.9336,-2.7E-2,-2.1436999999999999]
[null,"2020-03-31T04:00:00",3,4,2,-1.9336,-2.7E-2,-2.1436999999999999]
[null,"2020-03-31T05:00:00",3,5,2,-1.9336,-2.7E-2,-2.1436999999999999]
[null,"2020-03-31T06:00:00",3,6,2,14.45,19.736999999999998,18.716000000000001]
[null,"2020-03-31T07:00:00",3,7,2,407.625,451.63,579.07899999999995]
[null,"2020-03-31T08:00:00",3,8,2,949.55499999999995,978.39,1377.5909999999999]
[null,"2020-03-31T09:00:00",3,9,1,1307.596,1330.4,1669.4449999999999]
[null,"2020-03-31T10:00:00",3,10,1,1533.711,1565.6,1745.421]
[null,"2020-03-31T11:00:00",3,11,1,1600.32,1594.7,1754.55]
[null,"2020-03-31T12:00:00",3,12,1,1604.1890000000001,1594.3,1704.694]
[null,"2020-03-31T13:00:00",3,13,1,1560.6569999999999,1578.7,1477.704]
[null,"2020-03-31T14:00:00",3,14,2,1337.9449999999999,1298.9000000000001,1112.5889999999999]
[null,"2020-03-31T15:00:00",3,15,2,1075.6969999999999,1027.7,738.76099999999997]
[null,"2020-03-31T16:00:00",3,16,{"$f":"INDEX($AE$11:$BB$22,MATCH(C2185,$AD$11:$AD$22,0),MATCH(D2185,$AE$10:$BB$10,0))","v":4},698.98800000000006,652.75,325.43599999999998]
[null,"2020-03-31T17:00:00",{"$f":"MONTH(B2186)","v":3},{"$f":"HOUR(B2186)","v":17},4,193.505,172.92,123.57299999999999]
[null,{"$f":"B2186+1/24","v":"2020-03-31T18:00:00"},3,18,4,2.0304000000000002,-2.7E-2,9.5431000000000008]
[null,"2020-03-31T19:00:00",3,19,4,-1.9336,-2.7E-2,-2.1436999999999999]
[null,"2020-03-31T20:00:00",3,20,4,-1.9336,-2.7E-2,-2.1436999999999999]
[null,"2020-03-31T21:00:00",3,21,2,-1.9336,-2.7E-2,-2.1436999999999999]
[null,"2020-03-31T22:00:00",3,22,2,-1.9336,-2.7E-2,-2.1436999999999999]
[null,"2020-03-31T23:00:00",3,23,2,-1.9336,-2.7E-2,-2.1436999999999999]
[null,"2020-04-01",4,0,2,-1.9336,-2.7E-2,-2.1436999999999999]
[null,"2020-04-01T01:00:00",4,1,2,-1.9336,-2.7E-2,-2.1436999999999999]
[null,"2020-04-01T02:00:00",4,2,2,-1.9336,-2.7E-2,-2.1436999999999999]
[null,"2020-04-01T03:00:00",4,3,2,-1.9336,-2.7E-2,-2.1436999999999999]
[null,"2020-04-01T04:00:00",4,4,2,-1.9336,-2.7E-2,-2.1436999999999999]
[null,"2020-04-01T05:00:00",4,5,2,-1.9336,-2.7E-2,-2.1436999999999999]
[null,"2020-04-01T06:00:00",4,6,2,69.762,84.016999999999996,149.495]
[null,"2020-04-01T07:00:00",4,7,2,441.94799999999998,490.93,689.36099999999999]
[null,"2020-04-01T08:00:00",4,8,2,663.673,684.48,903.86800000000005]
[null,"2020-04-01T09:00:00",4,9,1,1067.413,1081.8,1331.752]
[null,"2020-04-01T10:00:00",4,10,1,1518.63,1532.6,1729.5360000000001]
[null,"2020-04-01T11:00:00",4,11,1,1586.8,1591,1740.751]
[null,"2020-04-01T12:00:00",4,12,1,1611.885,1597.7,1722.3320000000001]
[null,"2020-04-01T13:00:00",4,13,1,1591.2550000000001,1590.1,1544.6389999999999]
[null,"2020-04-01T14:00:00",4,14,2,1489.5740000000001,1454.2,1225.6869999999999]
[null,"2020-04-01T15:00:00",4,15,2,1190.6420000000001,1141,804.88199999999995]
[null,"2020-04-01T16:00:00",4,16,4,705.81,663.28,347.08800000000002]
[null,"2020-04-01T17:00:00",4,17,4,170.078,160.21,123.248]
[null,"2020-04-01T18:00:00",4,18,4,8.6913,14.223000000000001,16.175999999999998]
[null,"2020-04-01T19:00:00",4,19,4,-1.9336,-2.7E-2,-2.1436999999999999]
[null,"2020-04-01T20:00:00",4,20,4,-1.9336,-2.7E-2,-2.1436999999999999]
[null,"2020-04-01T21:00:00",4,21,2,-1.9336,-2.7E-2,-2.1436999999999999]
[null,"2020-04-01T22:00:00",4,22,2,-1.9336,-2.7E-2,-2.1436999999999999]
[null,"2020-04-01T23:00:00",4,23,2,-1.9336,-2.7E-2,-2.1436999999999999]
[null,"2020-04-02",4,0,2,-1.9336,-2.7E-2,-2.1436999999999999]
[null,"2020-04-02T01:00:00",4,1,2,-1.9336,-2.7E-2,-2.1436999999999999]
[null,"2020-04-02T02:00:00",4,2,2,-1.9336,-2.7E-2,-2.1436999999999999]
[null,"2020-04-02T03:00:00",4,3,2,-1.9336,-2.7E-2,-2.1436999999999999]
[null,"2020-04-02T04:00:00",4,4,2,-1.9336,-2.7E-2,-2.1436999999999999]
[null,"2020-04-02T05:00:00",4,5,2,-1.9336,-2.7E-2,-2.1436999999999999]
[null,"2020-04-02T06:00:00",4,6,2,22.792999999999999,28.181999999999999,27.925000000000001]
[null,"2020-04-02T07:00:00",4,7,2,88.677000000000007,95.625,98]
[null,"2020-04-02T08:00:00",4,8,2,234.756,250.07,271.49900000000002]
[null,"2020-04-02T09:00:00",4,9,1,448.93599999999998,462.84,519.93399999999997]
[null,"2020-04-02T10:00:00",4,10,1,417.76499999999999,429.37,465.76600000000002]
[null,"2020-04-02T11:00:00",4,11,1,263.01799999999997,277.63,289.87400000000002]
[null,"2020-04-02T12:00:00",4,12,1,333.04500000000002,347.65,362.19600000000003]
[null,"2020-04-02T13:00:00",4,13,1,742.28200000000004,745.22,744.50699999999995]
[null,"2020-04-02T14:00:00",4,14,2,801.29899999999998,792.3,735.22799999999995]
[null,"2020-04-02T15:00:00",4,15,2,198.99299999999999,212.4,216.46199999999999]
[null,"2020-04-02T16:00:00",4,16,4,110.49299999999999,119.46,122.84]
[null,"2020-04-02T17:00:00",4,17,4,37.484000000000002,43.597000000000001,47.307000000000002]
[null,"2020-04-02T18:00:00",4,18,4,-1.9336,-2.7E-2,-2.1436999999999999]
[null,"2020-04-02T19:00:00",4,19,4,-1.9336,-2.7E-2,-2.1436999999999999]
[null,"2020-04-02T20:00:00",4,20,4,-1.9336,-2.7E-2,-2.1436999999999999]
[null,"2020-04-02T21:00:00",4,21,2,-1.9336,-2.7E-2,-2.1436999999999999]
[null,"2020-04-02T22:00:00",4,22,2,-1.9336,-2.7E-2,-2.1436999999999999]
[null,"2020-04-02T23:00:00",4,23,2,-1.9336,-2.7E-2,-2.1436999999999999]
[null,"2020-04-03",4,0,2,-1.9336,-2.7E-2,-2.1436999999999999]
[null,"2020-04-03T01:00:00",4,1,2,-1.9336,-2.7E-2,-2.1436999999999999]
[null,"2020-04-03T02:00:00",4,2,2,-1.9336,-2.7E-2,-2.1436999999999999]
[null,"2020-04-03T03:00:00",4,3,2,-1.9336,-2.7E-2,-2.1436999999999999]
[null,"2020-04-03T04:00:00",4,4,2,-1.9336,-2.7E-2,-2.1436999999999999]
[null,"2020-04-03T05:00:00",4,5,2,-1.9336,-2.7E-2,-2.1436999999999999]
[null,"2020-04-03T06:00:00",4,6,2,81.804000000000002,109.92,258.98200000000003]
[null,"2020-04-03T07:00:00",4,7,2,497.46899999999999,560.99,990.69899999999996]
[null,"2020-04-03T08:00:00",4,8,{"$f":"INDEX($AE$11:$BB$22,MATCH(C2249,$AD$11:$AD$22,0),MATCH(D2249,$AE$10:$BB$10,0))","v":2},972.49199999999996,1008.8,1426.5450000000001]
[null,"2020-04-03T09:00:00",{"$f":"MONTH(B2250)","v":4},{"$f":"HOUR(B2250)","v":9},1,1331.7190000000001,1359.5,1699.729]
[null,{"$f":"B2250+1/24","v":"2020-04-03T10:00:00"},4,10,1,1558.01,1586.8,1759.4390000000001]
[null,"2020-04-03T11:00:00",4,11,1,1611.885,1600.2,1759.54]
[null,"2020-04-03T12:00:00",4,12,1,1611.885,1600.2,1744.7750000000001]
[null,"2020-04-03T13:00:00",4,13,1,1594.579,1591.3,1556.17]
[null,"2020-04-03T14:00:00",4,14,2,1494.1949999999999,1462,1233.625]
[null,"2020-04-03T15:00:00",4,15,2,1194.8869999999999,1147.8,802.19200000000001]
[null,"2020-04-03T16:00:00",4,16,4,787.48400000000004,731.04,299.745]
[null,"2020-04-03T17:00:00",4,17,4,295.464,236.38,115.018]
[null,"2020-04-03T18:00:00",4,18,4,10.196999999999999,15.654,17.611999999999998]
[null,"2020-04-03T19:00:00",4,19,4,-1.9336,-2.7E-2,-2.1436999999999999]
[null,"2020-04-03T20:00:00",4,20,4,-1.9336,-2.7E-2,-2.1436999999999999]
[null,"2020-04-03T21:00:00",4,21,2,-1.9336,-2.7E-2,-2.1436999999999999]
[null,"2020-04-03T22:00:00",4,22,2,-1.9336,-2.7E-2,-2.1436999999999999]
[null,"2020-04-03T23:00:00",4,23,2,-1.9336,-2.7E-2,-2.1436999999999999]
[null,"2020-04-04",4,0,2,-1.9336,-2.7E-2,-2.1436999999999999]
[null,"2020-04-04T01:00:00",4,1,2,-1.9336,-2.7E-2,-2.1436999999999999]
[null,"2020-04-04T02:00:00",4,2,2,-1.9336,-2.7E-2,-2.1436999999999999]
[null,"2020-04-04T03:00:00",4,3,2,-1.9336,-2.7E-2,-2.1436999999999999]
[null,"2020-04-04T04:00:00",4,4,2,-1.9336,-2.7E-2,-2.1436999999999999]
[null,"2020-04-04T05:00:00",4,5,2,-1.9336,-2.7E-2,-2.1436999999999999]
[null,"2020-04-04T06:00:00",4,6,2,84.793999999999997,118.14,287.60500000000002]
[null,"2020-04-04T07:00:00",4,7,2,514.1,578.95000000000005,1027.1849999999999]
[null,"2020-04-04T08:00:00",4,8,2,986.74,1025.2,1446.1579999999999]
[null,"2020-04-04T09:00:00",4,9,1,1343.1890000000001,1375.4,1713.079]
[null,"2020-04-04T10:00:00",4,10,1,1557.8630000000001,1587,1759.422]
[null,"2020-04-04T11:00:00",4,11,1,1611.885,1600.1,1759.539]
[null,"2020-04-04T12:00:00",4,12,1,1611.885,1600.2,1737.037]
[null,"2020-04-04T13:00:00",4,13,1,1595.373,1591.7,1558.932]
[null,"2020-04-04T14:00:00",4,14,2,1483.934,1453.7,1226.5940000000001]
[null,"2020-04-04T15:00:00",4,15,2,1180.585,1135.7,795.13800000000003]
[null,"2020-04-04T16:00:00",4,16,4,773.54399999999998,719.55,297.697]
[null,"2020-04-04T17:00:00",4,17,4,284.846,232.37,114.783]
[null,"2020-04-04T18:00:00",4,18,4,9.9001000000000001,15.215,17.213999999999999]
[null,"2020-04-04T19:00:00",4,19,4,-1.9336,-2.7E-2,-2.1436999999999999]
[null,"2020-04-04T20:00:00",4,20,4,-1.9336,-2.7E-2,-2.1436999999999999]
[null,"2020-04-04T21:00:00",4,21,2,-1.9336,-2.7E-2,-2.1436999999999999]
[null,"2020-04-04T22:00:00",4,22,2,-1.9336,-2.7E-2,-2.1436999999999999]
[null,"2020-04-04T23:00:00",4,23,2,-1.9336,-2.7E-2,-2.1436999999999999]
[null,"2020-04-05",4,0,2,-1.9336,-2.7E-2,-2.1436999999999999]
[null,"2020-04-05T01:00:00",4,1,2,-1.9336,-2.7E-2,-2.1436999999999999]
[null,"2020-04-05T02:00:00",4,2,2,-1.9336,-2.7E-2,-2.1436999999999999]
[null,"2020-04-05T03:00:00",4,3,2,-1.9336,-2.7E-2,-2.1436999999999999]
[null,"2020-04-05T04:00:00",4,4,2,-1.9336,-2.7E-2,-2.1436999999999999]
[null,"2020-04-05T05:00:00",4,5,2,-1.9336,-2.7E-2,-2.1436999999999999]
[null,"2020-04-05T06:00:00",4,6,2,85.256,118.58,280]
[null,"2020-04-05T07:00:00",4,7,2,515.81600000000003,570.52,987.83199999999999]
[null,"2020-04-05T08:00:00",4,8,2,948.60500000000002,985.95,1386.1559999999999]
[null,"2020-04-05T09:00:00",4,9,1,1289.7550000000001,1318.8,1643.058]
[null,"2020-04-05T10:00:00",4,10,1,1539.0160000000001,1583.3,1750.816]
[null,"2020-04-05T11:00:00",4,11,1,1605.681,1596.7,1758.5350000000001]
[null,"2020-04-05T12:00:00",4,12,1,1611.884,1597.8,1722.0730000000001]
[null,"2020-04-05T13:00:00",4,13,1,1576.1020000000001,1587.2,1518.472]
[null,"2020-04-05T14:00:00",4,14,2,1465.5150000000001,1434,1207.98]
[null,"2020-04-05T15:00:00",4,15,2,1131.819,1092.3,805.71100000000001]
[null,"2020-04-05T16:00:00",4,16,4,483.64400000000001,471.78,322.73899999999998]
[null,"2020-04-05T17:00:00",4,17,4,111.90600000000001,118.33,111.73]
[null,"2020-04-05T18:00:00",4,18,4,-1.9336,-2.7E-2,-2.1436999999999999]
[null,"2020-04-05T19:00:00",4,19,4,-1.9336,-2.7E-2,-2.1436999999999999]
[null,"2020-04-05T20:00:00",4,20,4,-1.9336,-2.7E-2,-2.1436999999999999]
[null,"2020-04-05T21:00:00",4,21,2,-1.9336,-2.7E-2,-2.1436999999999999]
[null,"2020-04-05T22:00:00",4,22,2,-1.9336,-2.7E-2,-2.1436999999999999]
[null,"2020-04-05T23:00:00",4,23,2,-1.9336,-2.7E-2,-2.1436999999999999]
[null,"2020-04-06",4,0,{"$f":"INDEX($AE$11:$BB$22,MATCH(C2313,$AD$11:$AD$22,0),MATCH(D2313,$AE$10:$BB$10,0))","v":2},-1.9336,-2.7E-2,-2.1436999999999999]
[null,"2020-04-06T01:00:00",{"$f":"MONTH(B2314)","v":4},{"$f":"HOUR(B2314)","v":1},2,-1.9336,-2.7E-2,-2.1436999999999999]
[null,{"$f":"B2314+1/24","v":"2020-04-06T02:00:00"},4,2,2,-1.9336,-2.7E-2,-2.1436999999999999]
[null,"2020-04-06T03:00:00",4,3,2,-1.9336,-2.7E-2,-2.1436999999999999]
[null,"2020-04-06T04:00:00",4,4,2,-1.9336,-2.7E-2,-2.1436999999999999]
[null,"2020-04-06T05:00:00",4,5,2,-1.9336,-2.7E-2,-2.1436999999999999]
[null,"2020-04-06T06:00:00",4,6,2,17.713999999999999,22.896999999999998,22.04]
[null,"2020-04-06T07:00:00",4,7,2,121.206,131.51,137.07]
[null,"2020-04-06T08:00:00",4,8,2,262.62700000000001,278.58,299.86200000000002]
[null,"2020-04-06T09:00:00",4,9,1,580.28700000000003,593.85,690.84799999999996]
[null,"2020-04-06T10:00:00",4,10,1,990.77300000000002,999.8,1133.9190000000001]
[null,"2020-04-06T11:00:00",4,11,1,1123.499,1121.9000000000001,1206.663]
[null,"2020-04-06T12:00:00",4,12,1,1468.414,1456,1479.23]
[null,"2020-04-06T13:00:00",4,13,1,866.79,857.8,821.33699999999999]
[null,"2020-04-06T14:00:00",4,14,2,1424.0219999999999,1393.6,1204.7339999999999]
[null,"2020-04-06T15:00:00",4,15,2,1174.8399999999999,1132.8,801.07299999999998]
[null,"2020-04-06T16:00:00",4,16,4,796.64499999999998,745.78,318.56]
[null,"2020-04-06T17:00:00",4,17,4,302.22500000000002,250.51,113.803]
[null,"2020-04-06T18:00:00",4,18,4,15.259,20.763000000000002,22.564]
[null,"2020-04-06T19:00:00",4,19,4,-1.9336,-2.7E-2,-2.1436999999999999]
[null,"2020-04-06T20:00:00",4,20,4,-1.9336,-2.7E-2,-2.1436999999999999]
[null,"2020-04-06T21:00:00",4,21,2,-1.9336,-2.7E-2,-2.1436999999999999]
[null,"2020-04-06T22:00:00",4,22,2,-1.9336,-2.7E-2,-2.1436999999999999]
[null,"2020-04-06T23:00:00",4,23,2,-1.9336,-2.7E-2,-2.1436999999999999]
[null,"2020-04-07",4,0,2,-1.9336,-2.7E-2,-2.1436999999999999]
[null,"2020-04-07T01:00:00",4,1,2,-1.9336,-2.7E-2,-2.1436999999999999]
[null,"2020-04-07T02:00:00",4,2,2,-1.9336,-2.7E-2,-2.1436999999999999]
[null,"2020-04-07T03:00:00",4,3,2,-1.9336,-2.7E-2,-2.1436999999999999]
[null,"2020-04-07T04:00:00",4,4,2,-1.9336,-2.7E-2,-2.1436999999999999]
[null,"2020-04-07T05:00:00",4,5,2,-1.9336,-2.7E-2,-2.1436999999999999]
[null,"2020-04-07T06:00:00",4,6,2,48.893999999999998,55.744999999999997,62.177]
[null,"2020-04-07T07:00:00",4,7,2,180.84399999999999,196.7,221.172]
[null,"2020-04-07T08:00:00",4,8,2,161.86600000000001,175.3,181.631]
[null,"2020-04-07T09:00:00",4,9,1,274.67,290.44,307.93599999999998]
[null,"2020-04-07T10:00:00",4,10,1,1000.164,1009.5,1143.085]
[null,"2020-04-07T11:00:00",4,11,1,1525.066,1536.9,1650.364]
[null,"2020-04-07T12:00:00",4,12,1,1575.9760000000001,1587.6,1647.16]
[null,"2020-04-07T13:00:00",4,13,1,1097.771,1086.0999999999999,1047.3610000000001]
[null,"2020-04-07T14:00:00",4,14,2,747.82399999999996,743.01,695.4]
[null,"2020-04-07T15:00:00",4,15,2,990.05700000000002,960.23,727.43600000000004]
[null,"2020-04-07T16:00:00",4,16,4,763.28200000000004,717.63,325.036]
[null,"2020-04-07T17:00:00",4,17,4,300.18700000000001,252.3,113.458]
[null,"2020-04-07T18:00:00",4,18,4,17.25,22.175999999999998,24.219000000000001]
[null,"2020-04-07T19:00:00",4,19,4,-1.9336,-2.7E-2,-2.1436999999999999]
[null,"2020-04-07T20:00:00",4,20,4,-1.9336,-2.7E-2,-2.1436999999999999]
[null,"2020-04-07T21:00:00",4,21,2,-1.9336,-2.7E-2,-2.1436999999999999]
[null,"2020-04-07T22:00:00",4,22,2,-1.9336,-2.7E-2,-2.1436999999999999]
[null,"2020-04-07T23:00:00",4,23,2,-1.9336,-2.7E-2,-2.1436999999999999]
[null,"2020-04-08",4,0,2,-1.9336,-2.7E-2,-2.1436999999999999]
[null,"2020-04-08T01:00:00",4,1,2,-1.9336,-2.7E-2,-2.1436999999999999]
[null,"2020-04-08T02:00:00",4,2,2,-1.9336,-2.7E-2,-2.1436999999999999]
[null,"2020-04-08T03:00:00",4,3,2,-1.9336,-2.7E-2,-2.1436999999999999]
[null,"2020-04-08T04:00:00",4,4,2,-1.9336,-2.7E-2,-2.1436999999999999]
[null,"2020-04-08T05:00:00",4,5,2,-1.9336,-2.7E-2,-2.1436999999999999]
[null,"2020-04-08T06:00:00",4,6,2,99.411000000000001,132.43,256.38099999999997]
[null,"2020-04-08T07:00:00",4,7,2,533.14300000000003,588.05999999999995,992.13599999999997]
[null,"2020-04-08T08:00:00",4,8,2,987.86599999999999,1032.7,1442.6859999999999]
[null,"2020-04-08T09:00:00",4,9,1,1359.49,1396.6,1721.96]
[null,"2020-04-08T10:00:00",4,10,1,1563.8489999999999,1588.9,1759.54]
[null,"2020-04-08T11:00:00",4,11,1,1611.885,1600.2,1759.538]
[null,"2020-04-08T12:00:00",4,12,1,1611.885,1600.2,1740.9559999999999]
[null,"2020-04-08T13:00:00",4,13,1,1592.182,1591.5,1558.71]
[null,"2020-04-08T14:00:00",4,14,2,1483.548,1456.8,1229.2639999999999]
[null,"2020-04-08T15:00:00",4,15,2,1162.1959999999999,1124.8,799.55499999999995]
[null,"2020-04-08T16:00:00",4,16,{"$f":"INDEX($AE$11:$BB$22,MATCH(C2377,$AD$11:$AD$22,0),MATCH(D2377,$AE$10:$BB$10,0))","v":4},762.80399999999997,717.2,312.80399999999997]
[null,"2020-04-08T17:00:00",{"$f":"MONTH(B2378)","v":4},{"$f":"HOUR(B2378)","v":17},4,285.86099999999999,249.29,126.56]
[null,{"$f":"B2378+1/24","v":"2020-04-08T18:00:00"},4,18,4,17.956,23.256,25.058]
[null,"2020-04-08T19:00:00",4,19,4,-1.9336,-2.7E-2,-2.1436999999999999]
[null,"2020-04-08T20:00:00",4,20,4,-1.9336,-2.7E-2,-2.1436999999999999]
[null,"2020-04-08T21:00:00",4,21,2,-1.9336,-2.7E-2,-2.1436999999999999]
[null,"2020-04-08T22:00:00",4,22,2,-1.9336,-2.7E-2,-2.1436999999999999]
[null,"2020-04-08T23:00:00",4,23,2,-1.9336,-2.7E-2,-2.1436999999999999]
[null,"2020-04-09",4,0,2,-1.9336,-2.7E-2,-2.1436999999999999]
[null,"2020-04-09T01:00:00",4,1,2,-1.9336,-2.7E-2,-2.1436999999999999]
[null,"2020-04-09T02:00:00",4,2,2,-1.9336,-2.7E-2,-2.1436999999999999]
[null,"2020-04-09T03:00:00",4,3,2,-1.9336,-2.7E-2,-2.1436999999999999]
[null,"2020-04-09T04:00:00",4,4,2,-1.9336,-2.7E-2,-2.1436999999999999]
[null,"2020-04-09T05:00:00",4,5,2,-1.9336,-2.7E-2,-2.1436999999999999]
[null,"2020-04-09T06:00:00",4,6,2,104.146,137.75,255.834]
[null,"2020-04-09T07:00:00",4,7,2,540.04600000000005,595.62,995.64200000000005]
[null,"2020-04-09T08:00:00",4,8,2,993.45799999999997,1040.2,1450.6320000000001]
[null,"2020-04-09T09:00:00",4,9,1,1355.3520000000001,1395.7,1718.6579999999999]
[null,"2020-04-09T10:00:00",4,10,1,1549.1130000000001,1586,1758.557]
[null,"2020-04-09T10:59:59.999",4,11,1,1600.037,1595.9,1757.7539999999999]
[null,"2020-04-09T11:59:59.999",4,12,1,1611.5250000000001,1596.9,1718.9580000000001]
[null,"2020-04-09T12:59:59.999",4,13,1,1578.3440000000001,1587.8,1526.0319999999999]
[null,"2020-04-09T13:59:59.999",4,14,2,1463.5150000000001,1438.6,1215.374]
[null,"2020-04-09T14:59:59.999",4,15,2,1174.095,1137.7,806.85900000000004]
[null,"2020-04-09T15:59:59.999",4,16,4,771.49699999999996,728.01,331.30799999999999]
[null,"2020-04-09T16:59:59.999",4,17,4,282.00599999999997,250.67,130.977]
[null,"2020-04-09T17:59:59.999",4,18,4,3.8558000000000003,-2.7E-2,11.395]
[null,"2020-04-09T18:59:59.999",4,19,4,-1.9336,-2.7E-2,-2.1436999999999999]
[null,"2020-04-09T19:59:59.999",4,20,4,-1.9336,-2.7E-2,-2.1436999999999999]
[null,"2020-04-09T20:59:59.999",4,21,2,-1.9336,-2.7E-2,-2.1436999999999999]
[null,"2020-04-09T21:59:59.999",4,22,2,-1.9336,-2.7E-2,-2.1436999999999999]
[null,"2020-04-09T22:59:59.999",4,23,2,-1.9336,-2.7E-2,-2.1436999999999999]
[null,"2020-04-09T23:59:59.999",4,0,2,-1.9336,-2.7E-2,-2.1436999999999999]
[null,"2020-04-10T00:59:59.999",4,1,2,-1.9336,-2.7E-2,-2.1436999999999999]
[null,"2020-04-10T01:59:59.999",4,2,2,-1.9336,-2.7E-2,-2.1436999999999999]
[null,"2020-04-10T02:59:59.999",4,3,2,-1.9336,-2.7E-2,-2.1436999999999999]
[null,"2020-04-10T03:59:59.999",4,4,2,-1.9336,-2.7E-2,-2.1436999999999999]
[null,"2020-04-10T04:59:59.999",4,5,2,-1.9336,-2.7E-2,-2.1436999999999999]
[null,"2020-04-10T05:59:59.999",4,6,2,102.336,143.51,278.755]
[null,"2020-04-10T06:59:59.999",4,7,2,529.43200000000002,586.24,973.63]
[null,"2020-04-10T07:59:59.999",4,8,2,996.63300000000004,1044.7,1455.6289999999999]
[null,"2020-04-10T08:59:59.999",4,9,1,1344.3589999999999,1383.9,1714.2550000000001]
[null,"2020-04-10T09:59:59.999",4,10,1,1539.97,1583.8,1752.4290000000001]
[null,"2020-04-10T10:59:59.999",4,11,1,1540.7329999999999,1571,1684.885]
[null,"2020-04-10T11:59:59.999",4,12,1,1593.05,1592.1,1687.625]
[null,"2020-04-10T12:59:59.999",4,13,1,1522.9870000000001,1516.2,1431.0650000000001]
[null,"2020-04-10T13:59:59.999",4,14,2,1242.9849999999999,1221,1059.5160000000001]
[null,"2020-04-10T14:59:59.999",4,15,2,931.41399999999999,906.09,686.60900000000004]
[null,"2020-04-10T15:59:59.999",4,16,4,756.00199999999995,717.67,348.459]
[null,"2020-04-10T16:59:59.999",4,17,4,283.29599999999999,253.42,126.705]
[null,"2020-04-10T17:59:59.999",4,18,4,15.491,20.547999999999998,22.681999999999999]
[null,"2020-04-10T18:59:59.999",4,19,4,-1.9336,-2.7E-2,-2.1436999999999999]
[null,"2020-04-10T19:59:59.999",4,20,4,-1.9336,-2.7E-2,-2.1436999999999999]
[null,"2020-04-10T20:59:59.999",4,21,2,-1.9336,-2.7E-2,-2.1436999999999999]
[null,"2020-04-10T21:59:59.999",4,22,2,-1.9336,-2.7E-2,-2.1436999999999999]
[null,"2020-04-10T22:59:59.999",4,23,2,-1.9336,-2.7E-2,-2.1436999999999999]
[null,"2020-04-10T23:59:59.999",4,0,2,-1.9336,-2.7E-2,-2.1436999999999999]
[null,"2020-04-11T00:59:59.999",4,1,2,-1.9336,-2.7E-2,-2.1436999999999999]
[null,"2020-04-11T01:59:59.999",4,2,2,-1.9336,-2.7E-2,-2.1436999999999999]
[null,"2020-04-11T02:59:59.999",4,3,2,-1.9336,-2.7E-2,-2.1436999999999999]
[null,"2020-04-11T03:59:59.999",4,4,2,-1.9336,-2.7E-2,-2.1436999999999999]
[null,"2020-04-11T04:59:59.999",4,5,2,-1.9336,-2.7E-2,-2.1436999999999999]
[null,"2020-04-11T05:59:59.999",4,6,2,104.589,146.91,276.81]
[null,"2020-04-11T06:59:59.999",4,7,2,526.346,583.77,964.99699999999996]
[null,"2020-04-11T07:59:59.999",4,8,{"$f":"INDEX($AE$11:$BB$22,MATCH(C2441,$AD$11:$AD$22,0),MATCH(D2441,$AE$10:$BB$10,0))","v":2},973.65800000000002,1020.6,1414.2739999999999]
[null,"2020-04-11T08:59:59.999",{"$f":"MONTH(B2442)","v":4},{"$f":"HOUR(B2442)","v":9},1,1339.2270000000001,1377.9,1704.2049999999999]
[null,{"$f":"B2442+1/24","v":"2020-04-11T09:59:59.999"},4,10,1,1562.7670000000001,1589.1,1759.54]
[null,"2020-04-11T10:59:59.999",4,11,1,1611.885,1600.2,1759.538]
[null,"2020-04-11T11:59:59.999",4,12,1,1611.885,1600.2,1734.3610000000001]
[null,"2020-04-11T12:59:59.999",4,13,1,1598.636,1593.5,1577.4770000000001]
[null,"2020-04-11T13:59:59.999",4,14,2,1495.2449999999999,1476.6,1250.3699999999999]
[null,"2020-04-11T14:59:59.999",4,15,2,1203.4949999999999,1170.0999999999999,829.35599999999999]
[null,"2020-04-11T15:59:59.999",4,16,4,790.68499999999995,749.05,327.98399999999998]
[null,"2020-04-11T16:59:59.999",4,17,4,302.12299999999999,271.54000000000002,127.465]
[null,"2020-04-11T17:59:59.999",4,18,4,20.173999999999999,25.216999999999999,27.329000000000001]
[null,"2020-04-11T18:59:59.999",4,19,4,-1.9336,-2.7E-2,-2.1436999999999999]
[null,"2020-04-11T19:59:59.999",4,20,4,-1.9336,-2.7E-2,-2.1436999999999999]
[null,"2020-04-11T20:59:59.999",4,21,2,-1.9336,-2.7E-2,-2.1436999999999999]
[null,"2020-04-11T21:59:59.999",4,22,2,-1.9336,-2.7E-2,-2.1436999999999999]
[null,"2020-04-11T22:59:59.999",4,23,2,-1.9336,-2.7E-2,-2.1436999999999999]
[null,"2020-04-11T23:59:59.999",4,0,2,-1.9336,-2.7E-2,-2.1436999999999999]
[null,"2020-04-12T00:59:59.999",4,1,2,-1.9336,-2.7E-2,-2.1436999999999999]
[null,"2020-04-12T01:59:59.999",4,2,2,-1.9336,-2.7E-2,-2.1436999999999999]
[null,"2020-04-12T02:59:59.999",4,3,2,-1.9336,-2.7E-2,-2.1436999999999999]
[null,"2020-04-12T03:59:59.999",4,4,2,-1.9336,-2.7E-2,-2.1436999999999999]
[null,"2020-04-12T04:59:59.999",4,5,2,-1.9336,-2.7E-2,-2.1436999999999999]
[null,"2020-04-12T05:59:59.999",4,6,2,107.91200000000001,163.86,330.49400000000003]
[null,"2020-04-12T06:59:59.999",4,7,2,567.13699999999994,632.51,1070.57]
[null,"2020-04-12T07:59:59.999",4,8,2,1017.7809999999999,1069.7,1482.2729999999999]
[null,"2020-04-12T08:59:59.999",4,9,1,1369.8,1412.7,1726.7429999999999]
[null,"2020-04-12T09:59:59.999",4,10,1,1566.0170000000001,1590,1759.539]
[null,"2020-04-12T10:59:59.999",4,11,1,1611.885,1600.2,1759.538]
[null,"2020-04-12T11:59:59.999",4,12,1,1611.885,1600.2,1739.6790000000001]
[null,"2020-04-12T12:59:59.999",4,13,1,1593.7560000000001,1592.5,1569.13]
[null,"2020-04-12T13:59:59.999",4,14,2,1496.4349999999999,1476.3,1246.924]
[null,"2020-04-12T14:59:59.999",4,15,2,1182.998,1151.8,821.34699999999998]
[null,"2020-04-12T15:59:59.999",4,16,4,782.55799999999999,744.92,352.84899999999999]
[null,"2020-04-12T16:59:59.999",4,17,4,293.53899999999999,271.02999999999997,140.91999999999999]
[null,"2020-04-12T17:59:59.999",4,18,4,18.71,23.832000000000001,25.963000000000001]
[null,"2020-04-12T18:59:59.999",4,19,4,-1.9336,-2.7E-2,-2.1436999999999999]
[null,"2020-04-12T19:59:59.999",4,20,4,-1.9336,-2.7E-2,-2.1436999999999999]
[null,"2020-04-12T20:59:59.999",4,21,2,-1.9336,-2.7E-2,-2.1436999999999999]
[null,"2020-04-12T21:59:59.999",4,22,2,-1.9336,-2.7E-2,-2.1436999999999999]
[null,"2020-04-12T22:59:59.999",4,23,2,-1.9336,-2.7E-2,-2.1436999999999999]
[null,"2020-04-12T23:59:59.999",4,0,2,-1.9336,-2.7E-2,-2.1436999999999999]
[null,"2020-04-13T00:59:59.999",4,1,2,-1.9336,-2.7E-2,-2.1436999999999999]
[null,"2020-04-13T01:59:59.999",4,2,2,-1.9336,-2.7E-2,-2.1436999999999999]
[null,"2020-04-13T02:59:59.999",4,3,2,-1.9336,-2.7E-2,-2.1436999999999999]
[null,"2020-04-13T03:59:59.999",4,4,2,-1.9336,-2.7E-2,-2.1436999999999999]
[null,"2020-04-13T04:59:59.999",4,5,2,-1.9336,-2.7E-2,-2.1436999999999999]
[null,"2020-04-13T05:59:59.999",4,6,2,111.801,172.93,343.358]
[null,"2020-04-13T06:59:59.999",4,7,2,563.39599999999996,629.45000000000005,1061.2460000000001]
[null,"2020-04-13T07:59:59.999",4,8,2,1019.812,1073.7,1487.1510000000001]
[null,"2020-04-13T08:59:59.999",4,9,1,1366.415,1411,1725.471]
[null,"2020-04-13T09:59:59.999",4,10,1,1558.2339999999999,1588.5,1759.5409999999999]
[null,"2020-04-13T10:59:59.999",4,11,1,1611.885,1600.2,1759.537]
[null,"2020-04-13T11:59:59.999",4,12,1,1611.885,1600.2,1743.884]
[null,"2020-04-13T12:59:59.999",4,13,1,1593.028,1592.5,1568.249]
[null,"2020-04-13T13:59:59.999",4,14,2,1485.4670000000001,1470.3,1246.0219999999999]
[null,"2020-04-13T14:59:59.999",4,15,2,1184.8499999999999,1154.7,820.34]
[null,"2020-04-13T15:59:59.999",4,16,4,787.74599999999998,748.71,322.89]
[null,"2020-04-13T16:59:59.999",4,17,4,317.51,288.26,115.789]
[null,"2020-04-13T17:59:59.999",4,18,4,25.361000000000001,29.550999999999998,32.698999999999998]
[null,"2020-04-13T18:59:59.999",4,19,4,-1.9336,-2.7E-2,-2.1436999999999999]
[null,"2020-04-13T19:59:59.999",4,20,4,-1.9336,-2.7E-2,-2.1436999999999999]
[null,"2020-04-13T20:59:59.999",4,21,2,-1.9336,-2.7E-2,-2.1436999999999999]
[null,"2020-04-13T21:59:59.999",4,22,2,-1.9336,-2.7E-2,-2.1436999999999999]
[null,"2020-04-13T22:59:59.999",4,23,2,-1.9336,-2.7E-2,-2.1436999999999999]
[null,"2020-04-13T23:59:59.999",4,0,{"$f":"INDEX($AE$11:$BB$22,MATCH(C2505,$AD$11:$AD$22,0),MATCH(D2505,$AE$10:$BB$10,0))","v":2},-1.9336,-2.7E-2,-2.1436999999999999]
[null,"2020-04-14T00:59:59.999",{"$f":"MONTH(B2506)","v":4},{"$f":"HOUR(B2506)","v":1},2,-1.9336,-2.7E-2,-2.1436999999999999]
[null,{"$f":"B2506+1/24","v":"2020-04-14T01:59:59.999"},4,2,2,-1.9336,-2.7E-2,-2.1436999999999999]
[null,"2020-04-14T02:59:59.999",4,3,2,-1.9336,-2.7E-2,-2.1436999999999999]
[null,"2020-04-14T03:59:59.999",4,4,2,-1.9336,-2.7E-2,-2.1436999999999999]
[null,"2020-04-14T04:59:59.999",4,5,2,-0.53397000000000006,-2.7E-2,-2.1436999999999999]
[null,"2020-04-14T05:59:59.999",4,6,2,116.09099999999999,182.24,355.91399999999999]
[null,"2020-04-14T06:59:59.999",4,7,2,577.16300000000001,647.98,1094.2950000000001]
[null,"2020-04-14T07:59:59.999",4,8,2,1012.78,1067.9000000000001,1477.8579999999999]
[null,"2020-04-14T08:59:59.999",4,9,1,1362.9369999999999,1408.9,1723.5519999999999]
[null,"2020-04-14T09:59:59.999",4,10,1,1554.3689999999999,1587.9,1759.4069999999999]
[null,"2020-04-14T10:59:59.999",4,11,1,1611.884,1600.2,1759.538]
[null,"2020-04-14T11:59:59.999",4,12,1,1611.885,1600.2,1739.252]
[null,"2020-04-14T12:59:59.999",4,13,1,1585.6569999999999,1590.9,1553.5989999999999]
[null,"2020-04-14T13:59:59.999",4,14,2,1470.2339999999999,1456.2,1234.27]
[null,"2020-04-14T14:59:59.999",4,15,2,1175.7670000000001,1148.4000000000001,817.81299999999999]
[null,"2020-04-14T15:59:59.999",4,16,4,780.28399999999999,744.35,343.20400000000001]
[null,"2020-04-14T16:59:59.999",4,17,4,298.01299999999998,279.77999999999997,137.53399999999999]
[null,"2020-04-14T17:59:59.999",4,18,4,8.3471000000000011,13.031000000000001,16.065999999999999]
[null,"2020-04-14T18:59:59.999",4,19,4,-1.9336,-2.7E-2,-2.1436999999999999]
[null,"2020-04-14T19:59:59.999",4,20,4,-1.9336,-2.7E-2,-2.1436999999999999]
[null,"2020-04-14T20:59:59.999",4,21,2,-1.9336,-2.7E-2,-2.1436999999999999]
[null,"2020-04-14T21:59:59.999",4,22,2,-1.9336,-2.7E-2,-2.1436999999999999]
[null,"2020-04-14T22:59:59.999",4,23,2,-1.9336,-2.7E-2,-2.1436999999999999]
[null,"2020-04-14T23:59:59.999",4,0,2,-1.9336,-2.7E-2,-2.1436999999999999]
[null,"2020-04-15T00:59:59.999",4,1,2,-1.9336,-2.7E-2,-2.1436999999999999]
[null,"2020-04-15T01:59:59.999",4,2,2,-1.9336,-2.7E-2,-2.1436999999999999]
[null,"2020-04-15T02:59:59.999",4,3,2,-1.9336,-2.7E-2,-2.1436999999999999]
[null,"2020-04-15T03:59:59.999",4,4,2,-1.9336,-2.7E-2,-2.1436999999999999]
[null,"2020-04-15T04:59:59.999",4,5,2,-0.65498000000000001,-2.7E-2,-2.1436999999999999]
[null,"2020-04-15T05:59:59.999",4,6,2,118.946,176.09,313.67500000000001]
[null,"2020-04-15T06:59:59.999",4,7,2,554.04999999999995,618.54,1007.297]
[null,"2020-04-15T07:59:59.999",4,8,2,1015.927,1072,1481.2750000000001]
[null,"2020-04-15T08:59:59.999",4,9,1,1362.4659999999999,1410.1,1723.675]
[null,"2020-04-15T09:59:59.999",4,10,1,1557.079,1588.1,1759.65]
[null,"2020-04-15T10:59:59.999",4,11,1,1598.954,1596.2,1758.4839999999999]
[null,"2020-04-15T11:59:59.999",4,12,1,1611.884,1599.7,1728.855]
[null,"2020-04-15T12:59:59.999",4,13,1,1578.953,1589.3,1541.13]
[null,"2020-04-15T13:59:59.999",4,14,2,1460.405,1444.4,1232.2170000000001]
[null,"2020-04-15T14:59:59.999",4,15,2,1060.7919999999999,1039.4000000000001,785.80100000000004]
[null,"2020-04-15T15:59:59.999",4,16,4,595.44299999999998,581.54,366.43]
[null,"2020-04-15T16:59:59.999",4,17,4,285.25900000000001,276.82,160.81700000000001]
[null,"2020-04-15T17:59:59.999",4,18,4,18.077999999999999,23.152000000000001,25.405999999999999]
[null,"2020-04-15T18:59:59.999",4,19,4,-1.9336,-2.7E-2,-2.1436999999999999]
[null,"2020-04-15T19:59:59.999",4,20,4,-1.9336,-2.7E-2,-2.1436999999999999]
[null,"2020-04-15T20:59:59.999",4,21,2,-1.9336,-2.7E-2,-2.1436999999999999]
[null,"2020-04-15T21:59:59.999",4,22,2,-1.9336,-2.7E-2,-2.1436999999999999]
[null,"2020-04-15T22:59:59.999",4,23,2,-1.9336,-2.7E-2,-2.1436999999999999]
[null,"2020-04-15T23:59:59.999",4,0,2,-1.9336,-2.7E-2,-2.1436999999999999]
[null,"2020-04-16T00:59:59.999",4,1,2,-1.9336,-2.7E-2,-2.1436999999999999]
[null,"2020-04-16T01:59:59.999",4,2,2,-1.9336,-2.7E-2,-2.1436999999999999]
[null,"2020-04-16T02:59:59.999",4,3,2,-1.9336,-2.7E-2,-2.1436999999999999]
[null,"2020-04-16T03:59:59.999",4,4,2,-1.9336,-2.7E-2,-2.1436999999999999]
[null,"2020-04-16T04:59:59.999",4,5,2,-1.9336,-2.7E-2,-2.1436999999999999]
[null,"2020-04-16T05:59:59.999",4,6,2,118.235,147.83000000000001,217.44200000000001]
[null,"2020-04-16T06:59:59.999",4,7,2,471.57799999999997,519.02,785.11400000000003]
[null,"2020-04-16T07:59:59.999",4,8,2,916.67100000000005,963.96,1302.5820000000001]
[null,"2020-04-16T08:59:59.999",4,9,1,1376.7280000000001,1424,1727.855]
[null,"2020-04-16T09:59:59.999",4,10,1,1563.6569999999999,1590,1759.539]
[null,"2020-04-16T10:59:59.999",4,11,1,1611.884,1600.2,1759.537]
[null,"2020-04-16T11:59:59.999",4,12,1,1611.885,1600.2,1736.864]
[null,"2020-04-16T12:59:59.999",4,13,1,1585.655,1591.1,1558.24]
[null,"2020-04-16T13:59:59.999",4,14,2,1432.62,1418.3,1210.3240000000001]
[null,"2020-04-16T14:59:59.999",4,15,2,1181.4659999999999,1157.0999999999999,831.74800000000005]
[null,"2020-04-16T15:59:59.999",4,16,{"$f":"INDEX($AE$11:$BB$22,MATCH(C2569,$AD$11:$AD$22,0),MATCH(D2569,$AE$10:$BB$10,0))","v":4},789.36099999999999,755.68,339.81799999999998]
[null,"2020-04-16T16:59:59.999",{"$f":"MONTH(B2570)","v":4},{"$f":"HOUR(B2570)","v":17},4,313.12299999999999,298.39,127.03400000000001]
[null,{"$f":"B2570+1/24","v":"2020-04-16T17:59:59.999"},4,18,4,25.391999999999999,29.78,33.045999999999999]
[null,"2020-04-16T18:59:59.999",4,19,4,-1.9336,-2.7E-2,-2.1436999999999999]
[null,"2020-04-16T19:59:59.999",4,20,4,-1.9336,-2.7E-2,-2.1436999999999999]
[null,"2020-04-16T20:59:59.999",4,21,2,-1.9336,-2.7E-2,-2.1436999999999999]
[null,"2020-04-16T21:59:59.999",4,22,2,-1.9336,-2.7E-2,-2.1436999999999999]
[null,"2020-04-16T22:59:59.999",4,23,2,-1.9336,-2.7E-2,-2.1436999999999999]
[null,"2020-04-16T23:59:59.999",4,0,2,-1.9336,-2.7E-2,-2.1436999999999999]
[null,"2020-04-17T00:59:59.999",4,1,2,-1.9336,-2.7E-2,-2.1436999999999999]
[null,"2020-04-17T01:59:59.999",4,2,2,-1.9336,-2.7E-2,-2.1436999999999999]
[null,"2020-04-17T02:59:59.999",4,3,2,-1.9336,-2.7E-2,-2.1436999999999999]
[null,"2020-04-17T03:59:59.999",4,4,2,-1.9336,-2.7E-2,-2.1436999999999999]
[null,"2020-04-17T04:59:59.999",4,5,2,4.3471000000000002,-2.7E-2,10.32]
[null,"2020-04-17T05:59:59.999",4,6,2,132.363,199.47,345.05900000000003]
[null,"2020-04-17T06:59:59.999",4,7,2,589.98800000000006,660.7,1083.1679999999999]
[null,"2020-04-17T07:59:59.999",4,8,2,1032.2619999999999,1092.7,1506.308]
[null,"2020-04-17T08:59:59.999",4,9,1,1375.24,1427.9,1729.154]
[null,"2020-04-17T09:59:59.999",4,10,1,1567.3009999999999,1591,1759.538]
[null,"2020-04-17T10:59:59.999",4,11,1,1611.885,1600.2,1759.537]
[null,"2020-04-17T11:59:59.999",4,12,1,1611.885,1600.2,1740.9839999999999]
[null,"2020-04-17T12:59:59.999",4,13,1,1590.2760000000001,1592.6,1569.5809999999999]
[null,"2020-04-17T13:59:59.999",4,14,2,1480.5609999999999,1473,1250.06]
[null,"2020-04-17T14:59:59.999",4,15,2,1184.6569999999999,1161.9000000000001,829.72500000000002]
[null,"2020-04-17T15:59:59.999",4,16,4,782.11800000000005,751.59,361.97699999999998]
[null,"2020-04-17T16:59:59.999",4,17,4,290.14699999999999,283.56,148.28299999999999]
[null,"2020-04-17T17:59:59.999",4,18,4,22.207000000000001,26.887,30.263000000000002]
[null,"2020-04-17T18:59:59.999",4,19,4,-1.9336,-2.7E-2,-2.1436999999999999]
[null,"2020-04-17T19:59:59.999",4,20,4,-1.9336,-2.7E-2,-2.1436999999999999]
[null,"2020-04-17T20:59:59.999",4,21,2,-1.9336,-2.7E-2,-2.1436999999999999]
[null,"2020-04-17T21:59:59.999",4,22,2,-1.9336,-2.7E-2,-2.1436999999999999]
[null,"2020-04-17T22:59:59.999",4,23,2,-1.9336,-2.7E-2,-2.1436999999999999]
[null,"2020-04-17T23:59:59.999",4,0,2,-1.9336,-2.7E-2,-2.1436999999999999]
[null,"2020-04-18T00:59:59.999",4,1,2,-1.9336,-2.7E-2,-2.1436999999999999]
[null,"2020-04-18T01:59:59.999",4,2,2,-1.9336,-2.7E-2,-2.1436999999999999]
[null,"2020-04-18T02:59:59.999",4,3,2,-1.9336,-2.7E-2,-2.1436999999999999]
[null,"2020-04-18T03:59:59.999",4,4,2,-1.9336,-2.7E-2,-2.1436999999999999]
[null,"2020-04-18T04:59:59.999",4,5,2,5.8106,11.374000000000001,12.016]
[null,"2020-04-18T05:59:59.999",4,6,2,133.61799999999999,213.17,380.65199999999999]
[null,"2020-04-18T06:59:59.999",4,7,2,594.327,668.28,1101.5160000000001]
[null,"2020-04-18T07:59:59.999",4,8,2,1026.5309999999999,1087.8,1496.367]
[null,"2020-04-18T08:59:59.999",4,9,1,1368.2339999999999,1422.1,1725.626]
[null,"2020-04-18T09:59:59.999",4,10,1,1561.6590000000001,1589.8,1759.539]
[null,"2020-04-18T10:59:59.999",4,11,1,1607.5429999999999,1598.7,1759.42]
[null,"2020-04-18T11:59:59.999",4,12,1,1607.001,1597.1,1720.2529999999999]
[null,"2020-04-18T12:59:59.999",4,13,1,1583.7840000000001,1590.7,1553.0619999999999]
[null,"2020-04-18T13:59:59.999",4,14,2,1462.377,1452.7,1233.126]
[null,"2020-04-18T14:59:59.999",4,15,2,1180.373,1159.3,832.28599999999994]
[null,"2020-04-18T15:59:59.999",4,16,4,785.78399999999999,755.43,346.96300000000002]
[null,"2020-04-18T16:59:59.999",4,17,4,307.06700000000001,300.52999999999997,128.72800000000001]
[null,"2020-04-18T17:59:59.999",4,18,4,30.73,35.194000000000003,38.527999999999999]
[null,"2020-04-18T18:59:59.999",4,19,4,-1.9336,-2.7E-2,-2.1436999999999999]
[null,"2020-04-18T19:59:59.999",4,20,4,-1.9336,-2.7E-2,-2.1436999999999999]
[null,"2020-04-18T20:59:59.999",4,21,2,-1.9336,-2.7E-2,-2.1436999999999999]
[null,"2020-04-18T21:59:59.999",4,22,2,-1.9336,-2.7E-2,-2.1436999999999999]
[null,"2020-04-18T22:59:59.999",4,23,2,-1.9336,-2.7E-2,-2.1436999999999999]
[null,"2020-04-18T23:59:59.999",4,0,2,-1.9336,-2.7E-2,-2.1436999999999999]
[null,"2020-04-19T00:59:59.999",4,1,2,-1.9336,-2.7E-2,-2.1436999999999999]
[null,"2020-04-19T01:59:59.999",4,2,2,-1.9336,-2.7E-2,-2.1436999999999999]
[null,"2020-04-19T02:59:59.999",4,3,2,-1.9336,-2.7E-2,-2.1436999999999999]
[null,"2020-04-19T03:59:59.999",4,4,2,-1.9336,-2.7E-2,-2.1436999999999999]
[null,"2020-04-19T04:59:59.999",4,5,2,4.2931000000000008,-2.7E-2,10.106999999999999]
[null,"2020-04-19T05:59:59.999",4,6,2,137.839,218.08,379.279]
[null,"2020-04-19T06:59:59.999",4,7,2,598.6,672.75,1099.5999999999999]
[null,"2020-04-19T07:59:59.999",4,8,{"$f":"INDEX($AE$11:$BB$22,MATCH(C2633,$AD$11:$AD$22,0),MATCH(D2633,$AE$10:$BB$10,0))","v":2},1040.922,1104.8,1518.7249999999999]
[null,"2020-04-19T08:59:59.999",{"$f":"MONTH(B2634)","v":4},{"$f":"HOUR(B2634)","v":9},1,1374.42,1431.4,1729.84]
[null,{"$f":"B2634+1/24","v":"2020-04-19T09:59:59.999"},4,10,1,1560.6079999999999,1589.8,1759.54]
[null,"2020-04-19T10:59:59.999",4,11,1,1608.2239999999999,1599.1,1759.625]
[null,"2020-04-19T11:59:59.999",4,12,1,1609.1949999999999,1597.8,1722.625]
[null,"2020-04-19T12:59:59.999",4,13,1,1560.7,1584.9,1505.924]
[null,"2020-04-19T13:59:59.999",4,14,2,1472.5050000000001,1463.8,1246.864]
[null,"2020-04-19T14:59:59.999",4,15,2,1160.0329999999999,1140.8,824.97199999999998]
[null,"2020-04-19T15:59:59.999",4,16,4,772.03899999999999,744.8,358.11200000000002]
[null,"2020-04-19T16:59:59.999",4,17,4,297.90100000000001,294.85000000000002,151.56700000000001]
[null,"2020-04-19T17:59:59.999",4,18,4,26.486999999999998,31.295999999999999,34.786000000000001]
[null,"2020-04-19T18:59:59.999",4,19,4,-1.9336,-2.7E-2,-2.1436999999999999]
[null,"2020-04-19T19:59:59.999",4,20,4,-1.9336,-2.7E-2,-2.1436999999999999]
[null,"2020-04-19T20:59:59.999",4,21,2,-1.9336,-2.7E-2,-2.1436999999999999]
[null,"2020-04-19T21:59:59.999",4,22,2,-1.9336,-2.7E-2,-2.1436999999999999]
[null,"2020-04-19T22:59:59.999",4,23,2,-1.9336,-2.7E-2,-2.1436999999999999]
[null,"2020-04-19T23:59:59.999",4,0,2,-1.9336,-2.7E-2,-2.1436999999999999]
[null,"2020-04-20T00:59:59.999",4,1,2,-1.9336,-2.7E-2,-2.1436999999999999]
[null,"2020-04-20T01:59:59.999",4,2,2,-1.9336,-2.7E-2,-2.1436999999999999]
[null,"2020-04-20T02:59:59.999",4,3,2,-1.9336,-2.7E-2,-2.1436999999999999]
[null,"2020-04-20T03:59:59.999",4,4,2,-1.9336,-2.7E-2,-2.1436999999999999]
[null,"2020-04-20T04:59:59.999",4,5,2,7.6201000000000008,13.28,13.842000000000001]
[null,"2020-04-20T05:59:59.999",4,6,2,125.48099999999999,173.09,268.03500000000003]
[null,"2020-04-20T06:59:59.999",4,7,2,583.78800000000001,650.27,1020.264]
[null,"2020-04-20T07:59:59.999",4,8,2,1042.4939999999999,1106.0999999999999,1515.241]
[null,"2020-04-20T08:59:59.999",4,9,1,1371.9960000000001,1427.4,1728.703]
[null,"2020-04-20T09:59:59.999",4,10,1,1527.932,1577.5,1743.9259999999999]
[null,"2020-04-20T10:59:59.999",4,11,1,1590.4,1594.3,1751.2239999999999]
[null,"2020-04-20T11:59:59.999",4,12,1,1605.5239999999999,1597.1,1719.69]
[null,"2020-04-20T12:59:59.999",4,13,1,1560.412,1585.4,1507.3409999999999]
[null,"2020-04-20T13:59:59.999",4,14,2,1452.413,1445.4,1227.3689999999999]
[null,"2020-04-20T14:59:59.999",4,15,2,1138.338,1119.2,807.577]
[null,"2020-04-20T15:59:59.999",4,16,4,750.495,728.29,377.642]
[null,"2020-04-20T16:59:59.999",4,17,4,272.108,273.13,157.35400000000001]
[null,"2020-04-20T17:59:59.999",4,18,4,17.931000000000001,23.236999999999998,25.303000000000001]
[null,"2020-04-20T18:59:59.999",4,19,4,-1.9336,-2.7E-2,-2.1436999999999999]
[null,"2020-04-20T19:59:59.999",4,20,4,-1.9336,-2.7E-2,-2.1436999999999999]
[null,"2020-04-20T20:59:59.999",4,21,2,-1.9336,-2.7E-2,-2.1436999999999999]
[null,"2020-04-20T21:59:59.999",4,22,2,-1.9336,-2.7E-2,-2.1436999999999999]
[null,"2020-04-20T22:59:59.999",4,23,2,-1.9336,-2.7E-2,-2.1436999999999999]
[null,"2020-04-20T23:59:59.999",4,0,2,-1.9336,-2.7E-2,-2.1436999999999999]
[null,"2020-04-21T00:59:59.999",4,1,2,-1.9336,-2.7E-2,-2.1436999999999999]
[null,"2020-04-21T01:59:59.999",4,2,2,-1.9336,-2.7E-2,-2.1436999999999999]
[null,"2020-04-21T02:59:59.999",4,3,2,-1.9336,-2.7E-2,-2.1436999999999999]
[null,"2020-04-21T03:59:59.999",4,4,2,-1.9336,-2.7E-2,-2.1436999999999999]
[null,"2020-04-21T04:59:59.999",4,5,2,12.04,17.600000000000001,19.622]
[null,"2020-04-21T05:59:59.999",4,6,2,132.261,229.45,398.17399999999998]
[null,"2020-04-21T06:59:59.999",4,7,2,600.90899999999999,679.44,1117.6980000000001]
[null,"2020-04-21T07:59:59.999",4,8,2,1032.9839999999999,1099.0999999999999,1506.617]
[null,"2020-04-21T08:59:59.999",4,9,1,1365.8879999999999,1425.4,1725.711]
[null,"2020-04-21T09:59:59.999",4,10,1,1560.9380000000001,1589.6,1759.538]
[null,"2020-04-21T10:59:59.999",4,11,1,1542.6579999999999,1583.4,1700.077]
[null,"2020-04-21T11:59:59.999",4,12,1,620.59900000000005,622.66,635.03499999999997]
[null,"2020-04-21T12:59:59.999",4,13,1,688.096,691.36,682.44399999999996]
[null,"2020-04-21T13:59:59.999",4,14,2,394.42500000000001,398.78,376.40199999999999]
[null,"2020-04-21T14:59:59.999",4,15,2,163.17099999999999,175.93,180.51499999999999]
[null,"2020-04-21T15:59:59.999",4,16,4,115.699,125.02,128.69900000000001]
[null,"2020-04-21T16:59:59.999",4,17,4,43.850999999999999,49.640999999999998,53.633000000000003]
[null,"2020-04-21T17:59:59.999",4,18,4,-1.9336,-2.7E-2,-2.1436999999999999]
[null,"2020-04-21T18:59:59.999",4,19,4,-1.9336,-2.7E-2,-2.1436999999999999]
[null,"2020-04-21T19:59:59.999",4,20,4,-1.9336,-2.7E-2,-2.1436999999999999]
[null,"2020-04-21T20:59:59.999",4,21,2,-1.9336,-2.7E-2,-2.1436999999999999]
[null,"2020-04-21T21:59:59.999",4,22,2,-1.9336,-2.7E-2,-2.1436999999999999]
[null,"2020-04-21T22:59:59.999",4,23,2,-1.9336,-2.7E-2,-2.1436999999999999]
[null,"2020-04-21T23:59:59.999",4,0,{"$f":"INDEX($AE$11:$BB$22,MATCH(C2697,$AD$11:$AD$22,0),MATCH(D2697,$AE$10:$BB$10,0))","v":2},-1.9336,-2.7E-2,-2.1436999999999999]
[null,"2020-04-22T00:59:59.999",{"$f":"MONTH(B2698)","v":4},{"$f":"HOUR(B2698)","v":1},2,-1.9336,-2.7E-2,-2.1436999999999999]
[null,{"$f":"B2698+1/24","v":"2020-04-22T01:59:59.999"},4,2,2,-1.9336,-2.7E-2,-2.1436999999999999]
[null,"2020-04-22T02:59:59.999",4,3,2,-1.9336,-2.7E-2,-2.1436999999999999]
[null,"2020-04-22T03:59:59.999",4,4,2,-1.9336,-2.7E-2,-2.1436999999999999]
[null,"2020-04-22T04:59:59.999",4,5,2,4.2961,-2.7E-2,9.7363999999999997]
[null,"2020-04-22T05:59:59.999",4,6,2,72.894000000000005,80.275000000000006,86.567999999999998]
[null,"2020-04-22T06:59:59.999",4,7,2,206.923,222.71,240.363]
[null,"2020-04-22T07:59:59.999",4,8,2,427.238,447.34,517.22199999999998]
[null,"2020-04-22T08:59:59.999",4,9,1,825.72900000000004,851.12,994.928]
[null,"2020-04-22T09:59:59.999",4,10,1,472.24900000000002,490.47,524.27300000000002]
[null,"2020-04-22T10:59:59.999",4,11,1,249.50700000000001,264.01,275.33300000000003]
[null,"2020-04-22T11:59:59.999",4,12,1,246.20500000000001,260.52999999999997,270.71800000000002]
[null,"2020-04-22T12:59:59.999",4,13,1,245.86500000000001,260.06,269.33600000000001]
[null,"2020-04-22T13:59:59.999",4,14,2,207.779,221.52,228.34]
[null,"2020-04-22T14:59:59.999",4,15,2,199.04599999999999,212.66,218.018]
[null,"2020-04-22T15:59:59.999",4,16,4,130.40600000000001,141.06,144.297]
[null,"2020-04-22T16:59:59.999",4,17,4,132.636,142.66999999999999,133.10400000000001]
[null,"2020-04-22T17:59:59.999",4,18,4,24.45,29.806999999999999,32.134999999999998]
[null,"2020-04-22T18:59:59.999",4,19,4,-1.9336,-2.7E-2,-2.1436999999999999]
[null,"2020-04-22T19:59:59.999",4,20,4,-1.9336,-2.7E-2,-2.1436999999999999]
[null,"2020-04-22T20:59:59.999",4,21,2,-1.9336,-2.7E-2,-2.1436999999999999]
[null,"2020-04-22T21:59:59.999",4,22,2,-1.9336,-2.7E-2,-2.1436999999999999]
[null,"2020-04-22T22:59:59.999",4,23,2,-1.9336,-2.7E-2,-2.1436999999999999]
[null,"2020-04-22T23:59:59.999",4,0,2,-1.9336,-2.7E-2,-2.1436999999999999]
[null,"2020-04-23T00:59:59.999",4,1,2,-1.9336,-2.7E-2,-2.1436999999999999]
[null,"2020-04-23T01:59:59.999",4,2,2,-1.9336,-2.7E-2,-2.1436999999999999]
[null,"2020-04-23T02:59:59.999",4,3,2,-1.9336,-2.7E-2,-2.1436999999999999]
[null,"2020-04-23T03:59:59.999",4,4,2,-1.9336,-2.7E-2,-2.1436999999999999]
[null,"2020-04-23T04:59:59.999",4,5,2,-1.9336,-2.7E-2,-2.1436999999999999]
[null,"2020-04-23T05:59:59.999",4,6,2,113.26,132.72,162.93899999999999]
[null,"2020-04-23T06:59:59.999",4,7,2,171.03200000000001,186.32,202.74100000000001]
[null,"2020-04-23T07:59:59.999",4,8,2,363.697,382.7,421.50900000000001]
[null,"2020-04-23T08:59:59.999",4,9,1,599.14400000000001,619.39,698.12699999999995]
[null,"2020-04-23T09:59:59.999",4,10,1,345.06799999999998,361.27,382.59399999999999]
[null,"2020-04-23T10:59:59.999",4,11,1,444.387,456.46,483.66899999999998]
[null,"2020-04-23T11:59:59.999",4,12,1,861.12699999999995,872.44,901.31200000000001]
[null,"2020-04-23T12:59:59.999",4,13,1,470.88,486.58,500.42899999999997]
[null,"2020-04-23T13:59:59.999",4,14,2,815.72400000000005,818.36,762.05]
[null,"2020-04-23T14:59:59.999",4,15,2,985.07600000000002,979.04,796.62400000000002]
[null,"2020-04-23T15:59:59.999",4,16,4,352.24,360.64,311.64100000000002]
[null,"2020-04-23T16:59:59.999",4,17,4,106.343,114.56,114.261]
[null,"2020-04-23T17:59:59.999",4,18,4,15.528,21.007999999999999,23.091999999999999]
[null,"2020-04-23T18:59:59.999",4,19,4,-1.9336,-2.7E-2,-2.1436999999999999]
[null,"2020-04-23T19:59:59.999",4,20,4,-1.9336,-2.7E-2,-2.1436999999999999]
[null,"2020-04-23T20:59:59.999",4,21,2,-1.9336,-2.7E-2,-2.1436999999999999]
[null,"2020-04-23T21:59:59.999",4,22,2,-1.9336,-2.7E-2,-2.1436999999999999]
[null,"2020-04-23T22:59:59.999",4,23,2,-1.9336,-2.7E-2,-2.1436999999999999]
[null,"2020-04-23T23:59:59.999",4,0,2,-1.9336,-2.7E-2,-2.1436999999999999]
[null,"2020-04-24T00:59:59.999",4,1,2,-1.9336,-2.7E-2,-2.1436999999999999]
[null,"2020-04-24T01:59:59.999",4,2,2,-1.9336,-2.7E-2,-2.1436999999999999]
[null,"2020-04-24T02:59:59.999",4,3,2,-1.9336,-2.7E-2,-2.1436999999999999]
[null,"2020-04-24T03:59:59.999",4,4,2,-1.9336,-2.7E-2,-2.1436999999999999]
[null,"2020-04-24T04:59:59.999",4,5,2,16.094000000000001,21.259,28.274000000000001]
[null,"2020-04-24T05:59:59.999",4,6,2,159.81200000000001,249.21,388.93099999999998]
[null,"2020-04-24T06:59:59.999",4,7,2,617.32000000000005,697.62,1124.876]
[null,"2020-04-24T07:59:59.999",4,8,2,1041.336,1112.2,1519.204]
[null,"2020-04-24T08:59:59.999",4,9,1,1367.1590000000001,1428.2,1727.8530000000001]
[null,"2020-04-24T09:59:59.999",4,10,1,1556.2560000000001,1589,1759.5409999999999]
[null,"2020-04-24T10:59:59.999",4,11,1,1603.835,1598.5,1759.2919999999999]
[null,"2020-04-24T11:59:59.999",4,12,1,1611.885,1600.2,1740.7329999999999]
[null,"2020-04-24T12:59:59.999",4,13,1,1581.327,1591.4,1561.165]
[null,"2020-04-24T13:59:59.999",4,14,2,1461.434,1460.6,1239.808]
[null,"2020-04-24T14:59:59.999",4,15,2,1139.5509999999999,1126.5999999999999,818.26800000000003]
[null,"2020-04-24T15:59:59.999",4,16,{"$f":"INDEX($AE$11:$BB$22,MATCH(C2761,$AD$11:$AD$22,0),MATCH(D2761,$AE$10:$BB$10,0))","v":4},766.87599999999998,746.61,355.41]
[null,"2020-04-24T16:59:59.999",{"$f":"MONTH(B2762)","v":4},{"$f":"HOUR(B2762)","v":17},4,314.50799999999998,314.48,134.39699999999999]
[null,{"$f":"B2762+1/24","v":"2020-04-24T17:59:59.999"},4,18,4,31.111999999999998,35.761000000000003,39.427]
[null,"2020-04-24T18:59:59.999",4,19,4,-1.9336,-2.7E-2,-2.1436999999999999]
[null,"2020-04-24T19:59:59.999",4,20,4,-1.9336,-2.7E-2,-2.1436999999999999]
[null,"2020-04-24T20:59:59.999",4,21,2,-1.9336,-2.7E-2,-2.1436999999999999]
[null,"2020-04-24T21:59:59.999",4,22,2,-1.9336,-2.7E-2,-2.1436999999999999]
[null,"2020-04-24T22:59:59.999",4,23,2,-1.9336,-2.7E-2,-2.1436999999999999]
[null,"2020-04-24T23:59:59.999",4,0,2,-1.9336,-2.7E-2,-2.1436999999999999]
[null,"2020-04-25T00:59:59.999",4,1,2,-1.9336,-2.7E-2,-2.1436999999999999]
[null,"2020-04-25T01:59:59.999",4,2,2,-1.9336,-2.7E-2,-2.1436999999999999]
[null,"2020-04-25T02:59:59.999",4,3,2,-1.9336,-2.7E-2,-2.1436999999999999]
[null,"2020-04-25T03:59:59.999",4,4,2,-1.9336,-2.7E-2,-2.1436999999999999]
[null,"2020-04-25T04:59:59.999",4,5,2,-1.9336,-2.7E-2,-2.1436999999999999]
[null,"2020-04-25T05:59:59.999",4,6,2,147.09399999999999,209.77,314.31]
[null,"2020-04-25T06:59:59.999",4,7,2,589.90099999999995,660.1,1023.612]
[null,"2020-04-25T07:59:59.999",4,8,2,1005.105,1069.8,1448.1110000000001]
[null,"2020-04-25T08:59:59.999",4,9,1,1223.9860000000001,1270.8,1548.329]
[null,"2020-04-25T09:59:59.999",4,10,1,1423.703,1459.4,1654.2349999999999]
[null,"2020-04-25T10:59:59.999",4,11,1,1432.433,1450.1,1553.0550000000001]
[null,"2020-04-25T11:59:59.999",4,12,1,1524.0340000000001,1544.7,1560.8409999999999]
[null,"2020-04-25T12:59:59.999",4,13,1,1456.519,1459.9,1384.884]
[null,"2020-04-25T13:59:59.999",4,14,2,1443.0540000000001,1439.6,1236.5050000000001]
[null,"2020-04-25T14:59:59.999",4,15,2,1130.8869999999999,1118.7,832.51900000000001]
[null,"2020-04-25T15:59:59.999",4,16,4,684.25300000000004,672.07,381.6]
[null,"2020-04-25T16:59:59.999",4,17,4,265.85599999999999,270.88,157.39099999999999]
[null,"2020-04-25T17:59:59.999",4,18,4,28.597999999999999,33.965000000000003,36.344999999999999]
[null,"2020-04-25T18:59:59.999",4,19,4,-1.9336,-2.7E-2,-2.1436999999999999]
[null,"2020-04-25T19:59:59.999",4,20,4,-1.9336,-2.7E-2,-2.1436999999999999]
[null,"2020-04-25T20:59:59.999",4,21,2,-1.9336,-2.7E-2,-2.1436999999999999]
[null,"2020-04-25T21:59:59.999",4,22,2,-1.9336,-2.7E-2,-2.1436999999999999]
[null,"2020-04-25T22:59:59.999",4,23,2,-1.9336,-2.7E-2,-2.1436999999999999]
[null,"2020-04-25T23:59:59.999",4,0,2,-1.9336,-2.7E-2,-2.1436999999999999]
[null,"2020-04-26T00:59:59.999",4,1,2,-1.9336,-2.7E-2,-2.1436999999999999]
[null,"2020-04-26T01:59:59.999",4,2,2,-1.9336,-2.7E-2,-2.1436999999999999]
[null,"2020-04-26T02:59:59.999",4,3,2,-1.9336,-2.7E-2,-2.1436999999999999]
[null,"2020-04-26T03:59:59.999",4,4,2,-1.9336,-2.7E-2,-2.1436999999999999]
[null,"2020-04-26T04:59:59.999",4,5,2,-1.9336,-2.7E-2,-2.1436999999999999]
[null,"2020-04-26T05:59:59.999",4,6,2,155.95599999999999,230.14,347.53899999999999]
[null,"2020-04-26T06:59:59.999",4,7,2,588.23900000000003,657.57,1011.641]
[null,"2020-04-26T07:59:59.999",4,8,2,836.18799999999999,883.5,1162.0160000000001]
[null,"2020-04-26T08:59:59.999",4,9,1,982.93299999999999,1016.3,1210.874]
[null,"2020-04-26T09:59:59.999",4,10,1,1404.854,1439.8,1630.8969999999999]
[null,"2020-04-26T10:59:59.999",4,11,1,1558.655,1587.2,1722.086]
[null,"2020-04-26T11:59:59.999",4,12,1,1114.163,1119.7,1142.3599999999999]
[null,"2020-04-26T12:59:59.999",4,13,1,425.411,440.51,453.46100000000001]
[null,"2020-04-26T13:59:59.999",4,14,2,402.23,416.96,425.553]
[null,"2020-04-26T14:59:59.999",4,15,2,533.04,542.13,503.01299999999998]
[null,"2020-04-26T15:59:59.999",4,16,4,381.45400000000001,389.18,322.88799999999998]
[null,"2020-04-26T16:59:59.999",4,17,4,107.889,114.93,101.643]
[null,"2020-04-26T17:59:59.999",4,18,4,30.332999999999998,35.9,38.31]
[null,"2020-04-26T18:59:59.999",4,19,4,-1.9336,-2.7E-2,-2.1436999999999999]
[null,"2020-04-26T19:59:59.999",4,20,4,-1.9336,-2.7E-2,-2.1436999999999999]
[null,"2020-04-26T20:59:59.999",4,21,2,-1.9336,-2.7E-2,-2.1436999999999999]
[null,"2020-04-26T21:59:59.999",4,22,2,-1.9336,-2.7E-2,-2.1436999999999999]
[null,"2020-04-26T22:59:59.999",4,23,2,-1.9336,-2.7E-2,-2.1436999999999999]
[null,"2020-04-26T23:59:59.999",4,0,2,-1.9336,-2.7E-2,-2.1436999999999999]
[null,"2020-04-27T00:59:59.999",4,1,2,-1.9336,-2.7E-2,-2.1436999999999999]
[null,"2020-04-27T01:59:59.999",4,2,2,-1.9336,-2.7E-2,-2.1436999999999999]
[null,"2020-04-27T02:59:59.999",4,3,2,-1.9336,-2.7E-2,-2.1436999999999999]
[null,"2020-04-27T03:59:59.999",4,4,2,-1.9336,-2.7E-2,-2.1436999999999999]
[null,"2020-04-27T04:59:59.999",4,5,2,-1.9336,-2.7E-2,-2.1436999999999999]
[null,"2020-04-27T05:59:59.999",4,6,2,40.380000000000003,45.725999999999999,45.646000000000001]
[null,"2020-04-27T06:59:59.999",4,7,2,119.07299999999999,128.97,132.744]
[null,"2020-04-27T07:59:59.999",4,8,{"$f":"INDEX($AE$11:$BB$22,MATCH(C2825,$AD$11:$AD$22,0),MATCH(D2825,$AE$10:$BB$10,0))","v":2},418.67599999999999,439.48,507.44099999999997]
[null,"2020-04-27T08:59:59.999",{"$f":"MONTH(B2826)","v":4},{"$f":"HOUR(B2826)","v":9},1,795.50900000000001,821.03,954.21199999999999]
[null,{"$f":"B2826+1/24","v":"2020-04-27T09:59:59.999"},4,10,1,1320.2760000000001,1350,1527.4390000000001]
[null,"2020-04-27T10:59:59.999",4,11,1,1448.712,1467.4,1571.5419999999999]
[null,"2020-04-27T11:59:59.999",4,12,1,1028.5119999999999,1033.0999999999999,1056.2170000000001]
[null,"2020-04-27T12:59:59.999",4,13,1,673.97400000000005,684.4,690.29100000000005]
[null,"2020-04-27T13:59:59.999",4,14,2,1064.511,1065.7,955.32899999999995]
[null,"2020-04-27T14:59:59.999",4,15,2,1183.0139999999999,1173.8,873.57799999999997]
[null,"2020-04-27T15:59:59.999",4,16,4,795.14599999999996,778.35,369.11399999999998]
[null,"2020-04-27T16:59:59.999",4,17,4,329.52,331.23,128.98599999999999]
[null,"2020-04-27T17:59:59.999",4,18,4,42.2,46.363999999999997,51.185000000000002]
[null,"2020-04-27T18:59:59.999",4,19,4,-1.9336,-2.7E-2,-2.1436999999999999]
[null,"2020-04-27T19:59:59.999",4,20,4,-1.9336,-2.7E-2,-2.1436999999999999]
[null,"2020-04-27T20:59:59.999",4,21,2,-1.9336,-2.7E-2,-2.1436999999999999]
[null,"2020-04-27T21:59:59.999",4,22,2,-1.9336,-2.7E-2,-2.1436999999999999]
[null,"2020-04-27T22:59:59.999",4,23,2,-1.9336,-2.7E-2,-2.1436999999999999]
[null,"2020-04-27T23:59:59.999",4,0,2,-1.9336,-2.7E-2,-2.1436999999999999]
[null,"2020-04-28T00:59:59.999",4,1,2,-1.9336,-2.7E-2,-2.1436999999999999]
[null,"2020-04-28T01:59:59.999",4,2,2,-1.9336,-2.7E-2,-2.1436999999999999]
[null,"2020-04-28T02:59:59.999",4,3,2,-1.9336,-2.7E-2,-2.1436999999999999]
[null,"2020-04-28T03:59:59.999",4,4,2,-1.9336,-2.7E-2,-2.1436999999999999]
[null,"2020-04-28T04:59:59.999",4,5,2,19.686,24.431000000000001,36.273000000000003]
[null,"2020-04-28T05:59:59.999",4,6,2,166.37299999999999,258.98,392.18799999999999]
[null,"2020-04-28T06:59:59.999",4,7,2,627.66899999999998,708.49,1116.748]
[null,"2020-04-28T07:59:59.999",4,8,2,1056.7470000000001,1132.5999999999999,1537.527]
[null,"2020-04-28T08:59:59.999",4,9,1,1380.5119999999999,1449.7,1734.348]
[null,"2020-04-28T09:59:59.999",4,10,1,1556.029,1590,1759.539]
[null,"2020-04-28T10:59:59.999",4,11,1,1610.36,1600.2,1759.538]
[null,"2020-04-28T11:59:59.999",4,12,1,1611.884,1600.2,1734.13]
[null,"2020-04-28T12:59:59.999",4,13,1,1568.4559999999999,1588.8,1538.9469999999999]
[null,"2020-04-28T13:59:59.999",4,14,2,1436.7070000000001,1441.3,1227.5609999999999]
[null,"2020-04-28T14:59:59.999",4,15,2,1165.8620000000001,1159.7,842.67899999999997]
[null,"2020-04-28T15:59:59.999",4,16,4,787.03300000000002,772.1,380.25700000000001]
[null,"2020-04-28T16:59:59.999",4,17,4,323.04599999999999,327.52999999999997,149.58699999999999]
[null,"2020-04-28T17:59:59.999",4,18,4,44.683,48.691000000000003,53.569000000000003]
[null,"2020-04-28T18:59:59.999",4,19,4,-1.9336,-2.7E-2,-2.1436999999999999]
[null,"2020-04-28T19:59:59.999",4,20,4,-1.9336,-2.7E-2,-2.1436999999999999]
[null,"2020-04-28T20:59:59.999",4,21,2,-1.9336,-2.7E-2,-2.1436999999999999]
[null,"2020-04-28T21:59:59.999",4,22,2,-1.9336,-2.7E-2,-2.1436999999999999]
[null,"2020-04-28T22:59:59.999",4,23,2,-1.9336,-2.7E-2,-2.1436999999999999]
[null,"2020-04-28T23:59:59.999",4,0,2,-1.9336,-2.7E-2,-2.1436999999999999]
[null,"2020-04-29T00:59:59.999",4,1,2,-1.9336,-2.7E-2,-2.1436999999999999]
[null,"2020-04-29T01:59:59.999",4,2,2,-1.9336,-2.7E-2,-2.1436999999999999]
[null,"2020-04-29T02:59:59.999",4,3,2,-1.9336,-2.7E-2,-2.1436999999999999]
[null,"2020-04-29T03:59:59.999",4,4,2,-1.9336,-2.7E-2,-2.1436999999999999]
[null,"2020-04-29T04:59:59.999",4,5,2,-1.9336,-2.7E-2,-2.1436999999999999]
[null,"2020-04-29T05:59:59.999",4,6,2,165.553,229.24,334.096]
[null,"2020-04-29T06:59:59.999",4,7,2,579.43799999999999,648.17999999999995,984.67399999999998]
[null,"2020-04-29T07:59:59.999",4,8,2,804.74099999999999,851.52,1096.6079999999999]
[null,"2020-04-29T08:59:59.999",4,9,1,1092.5409999999999,1133.9000000000001,1353.163]
[null,"2020-04-29T09:59:59.999",4,10,1,1478.894,1519.9,1714.883]
[null,"2020-04-29T10:59:59.999",4,11,1,1454.4559999999999,1476.7,1580.771]
[null,"2020-04-29T11:59:59.999",4,12,1,1565.1659999999999,1587.7,1645.6079999999999]
[null,"2020-04-29T12:59:59.999",4,13,1,938.46299999999997,945.11,929.49300000000005]
[null,"2020-04-29T13:59:59.999",4,14,2,347.75200000000001,362.8,370.5]
[null,"2020-04-29T14:59:59.999",4,15,2,185.96799999999999,199.53,204.75399999999999]
[null,"2020-04-29T15:59:59.999",4,16,4,135.755,146.99,150.23400000000001]
[null,"2020-04-29T16:59:59.999",4,17,4,61.484000000000002,67.353999999999999,71.097999999999999]
[null,"2020-04-29T17:59:59.999",4,18,4,25.146000000000001,30.66,34.418999999999997]
[null,"2020-04-29T18:59:59.999",4,19,4,-1.9336,-2.7E-2,-2.1436999999999999]
[null,"2020-04-29T19:59:59.999",4,20,4,-1.9336,-2.7E-2,-2.1436999999999999]
[null,"2020-04-29T20:59:59.999",4,21,2,-1.9336,-2.7E-2,-2.1436999999999999]
[null,"2020-04-29T21:59:59.999",4,22,2,-1.9336,-2.7E-2,-2.1436999999999999]
[null,"2020-04-29T22:59:59.999",4,23,2,-1.9336,-2.7E-2,-2.1436999999999999]
[null,"2020-04-29T23:59:59.999",4,0,{"$f":"INDEX($AE$11:$BB$22,MATCH(C2889,$AD$11:$AD$22,0),MATCH(D2889,$AE$10:$BB$10,0))","v":2},-1.9336,-2.7E-2,-2.1436999999999999]
[null,"2020-04-30T00:59:59.999",{"$f":"MONTH(B2890)","v":4},{"$f":"HOUR(B2890)","v":1},2,-1.9336,-2.7E-2,-2.1436999999999999]
[null,{"$f":"B2890+1/24","v":"2020-04-30T01:59:59.999"},4,2,2,-1.9336,-2.7E-2,-2.1436999999999999]
[null,"2020-04-30T02:59:59.999",4,3,2,-1.9336,-2.7E-2,-2.1436999999999999]
[null,"2020-04-30T03:59:59.999",4,4,2,-1.9336,-2.7E-2,-2.1436999999999999]
[null,"2020-04-30T04:59:59.999",4,5,2,10.707000000000001,17.222000000000001,16.611000000000001]
[null,"2020-04-30T05:59:59.999",4,6,2,162.316,215.86,287.209]
[null,"2020-04-30T06:59:59.999",4,7,2,356.44299999999998,400.82,512.43100000000004]
[null,"2020-04-30T07:59:59.999",4,8,2,456.04399999999998,494.79,539.50300000000004]
[null,"2020-04-30T08:59:59.999",4,9,1,519.4,559.03,594.10900000000004]
[null,"2020-04-30T09:59:59.999",4,10,1,549.35799999999995,584.85,619.59]
[null,"2020-04-30T10:59:59.999",4,11,1,1242.2429999999999,1300.4000000000001,1359.1289999999999]
[null,"2020-04-30T11:59:59.999",4,12,1,1137.828,1181.5,1177.982]
[null,"2020-04-30T12:59:59.999",4,13,1,735.41,770.09,756.28399999999999]
[null,"2020-04-30T13:59:59.999",4,14,2,736.40300000000002,770.93,721.70399999999995]
[null,"2020-04-30T14:59:59.999",4,15,2,823.53200000000004,850.49,687.71]
[null,"2020-04-30T15:59:59.999",4,16,4,554.35699999999997,573.09,387.66800000000001]
[null,"2020-04-30T16:59:59.999",4,17,4,165.97499999999999,183.28,149.196]
[null,"2020-04-30T17:59:59.999",4,18,4,29.681000000000001,36.843000000000004,38.110999999999997]
[null,"2020-04-30T18:59:59.999",4,19,4,-1.9336,-2.7E-2,-2.1436999999999999]
[null,"2020-04-30T19:59:59.999",4,20,4,-1.9336,-2.7E-2,-2.1436999999999999]
[null,"2020-04-30T20:59:59.999",4,21,2,-1.9336,-2.7E-2,-2.1436999999999999]
[null,"2020-04-30T21:59:59.999",4,22,2,-1.9336,-2.7E-2,-2.1436999999999999]
[null,"2020-04-30T22:59:59.999",4,23,2,-1.9336,-2.7E-2,-2.1436999999999999]
[null,"2020-04-30T23:59:59.999",5,0,2,-1.9336,-2.7E-2,-2.1436999999999999]
[null,"2020-05-01T00:59:59.999",5,1,2,-1.9336,-2.7E-2,-2.1436999999999999]
[null,"2020-05-01T01:59:59.999",5,2,2,-1.9336,-2.7E-2,-2.1436999999999999]
[null,"2020-05-01T02:59:59.999",5,3,2,-1.9336,-2.7E-2,-2.1436999999999999]
[null,"2020-05-01T03:59:59.999",5,4,2,-1.9336,-2.7E-2,-2.1436999999999999]
[null,"2020-05-01T04:59:59.999",5,5,2,-1.9336,-2.7E-2,-2.1436999999999999]
[null,"2020-05-01T05:59:59.999",5,6,2,42.948999999999998,50.262,48.741999999999997]
[null,"2020-05-01T06:59:59.999",5,7,2,163.46299999999999,183.79,188.756]
[null,"2020-05-01T07:59:59.999",5,8,2,381.46199999999999,414.87,445.04399999999998]
[null,"2020-05-01T08:59:59.999",5,9,1,773.36699999999996,827.01,937.10799999999995]
[null,"2020-05-01T09:59:59.999",5,10,1,1170.0889999999999,1237.5,1358.41]
[null,"2020-05-01T10:59:59.999",5,11,1,510.45400000000001,542.42999999999995,560.64599999999996]
[null,"2020-05-01T11:59:59.999",5,12,1,414.822,445.14,452.34399999999999]
[null,"2020-05-01T12:59:59.999",5,13,1,277.654,302.49,304.99900000000002]
[null,"2020-05-01T13:59:59.999",5,14,2,293.68099999999998,319.22000000000003,318.35899999999998]
[null,"2020-05-01T14:59:59.999",5,15,2,358.94200000000001,386.45,377.32600000000002]
[null,"2020-05-01T15:59:59.999",5,16,4,226.482,248.74,240.56200000000001]
[null,"2020-05-01T16:59:59.999",5,17,4,180.60400000000001,197.51,152.43100000000001]
[null,"2020-05-01T17:59:59.999",5,18,4,15.49,21.966000000000001,23.231000000000002]
[null,"2020-05-01T18:59:59.999",5,19,4,-1.9336,-2.7E-2,-2.1436999999999999]
[null,"2020-05-01T19:59:59.999",5,20,4,-1.9336,-2.7E-2,-2.1436999999999999]
[null,"2020-05-01T20:59:59.999",5,21,2,-1.9336,-2.7E-2,-2.1436999999999999]
[null,"2020-05-01T21:59:59.999",5,22,2,-1.9336,-2.7E-2,-2.1436999999999999]
[null,"2020-05-01T22:59:59.999",5,23,2,-1.9336,-2.7E-2,-2.1436999999999999]
[null,"2020-05-01T23:59:59.999",5,0,2,-1.9336,-2.7E-2,-2.1436999999999999]
[null,"2020-05-02T00:59:59.999",5,1,2,-1.9336,-2.7E-2,-2.1436999999999999]
[null,"2020-05-02T01:59:59.999",5,2,2,-1.9336,-2.7E-2,-2.1436999999999999]
[null,"2020-05-02T02:59:59.999",5,3,2,-1.9336,-2.7E-2,-2.1436999999999999]
[null,"2020-05-02T03:59:59.999",5,4,2,-1.9336,-2.7E-2,-2.1436999999999999]
[null,"2020-05-02T04:59:59.999",5,5,2,-1.9336,-2.7E-2,-2.1436999999999999]
[null,"2020-05-02T05:59:59.999",5,6,2,115.917,137.56,159.94200000000001]
[null,"2020-05-02T06:59:59.999",5,7,2,386.20600000000002,436,567.577]
[null,"2020-05-02T07:59:59.999",5,8,2,900.12400000000002,987.99,1263.54]
[null,"2020-05-02T08:59:59.999",5,9,1,1262.6969999999999,1361.4,1616.307]
[null,"2020-05-02T09:59:59.999",5,10,1,1507.6880000000001,1585.2,1738.3119999999999]
[null,"2020-05-02T10:59:59.999",5,11,1,1572.1089999999999,1596.1,1741.691]
[null,"2020-05-02T11:59:59.999",5,12,1,836.73900000000003,871.3,867.69799999999998]
[null,"2020-05-02T12:59:59.999",5,13,1,831.08299999999997,867.11,830.22299999999996]
[null,"2020-05-02T13:59:59.999",5,14,2,706.66899999999998,736.89,675.56100000000004]
[null,"2020-05-02T14:59:59.999",5,15,2,340.298,363.72,333.40100000000001]
[null,"2020-05-02T15:59:59.999",5,16,{"$f":"INDEX($AE$11:$BB$22,MATCH(C2953,$AD$11:$AD$22,0),MATCH(D2953,$AE$10:$BB$10,0))","v":4},493.05599999999998,515.77,388.084]
[null,"2020-05-02T16:59:59.999",{"$f":"MONTH(B2954)","v":5},{"$f":"HOUR(B2954)","v":17},4,147.47800000000001,164.09,144.18]
[null,{"$f":"B2954+1/24","v":"2020-05-02T17:59:59.999"},5,18,4,39.006,45.930999999999997,47.073]
[null,"2020-05-02T18:59:59.999",5,19,4,-1.9336,-2.7E-2,-2.1436999999999999]
[null,"2020-05-02T19:59:59.999",5,20,4,-1.9336,-2.7E-2,-2.1436999999999999]
[null,"2020-05-02T20:59:59.999",5,21,2,-1.9336,-2.7E-2,-2.1436999999999999]
[null,"2020-05-02T21:59:59.999",5,22,2,-1.9336,-2.7E-2,-2.1436999999999999]
[null,"2020-05-02T22:59:59.999",5,23,2,-1.9336,-2.7E-2,-2.1436999999999999]
[null,"2020-05-02T23:59:59.999",5,0,2,-1.9336,-2.7E-2,-2.1436999999999999]
[null,"2020-05-03T00:59:59.999",5,1,2,-1.9336,-2.7E-2,-2.1436999999999999]
[null,"2020-05-03T01:59:59.999",5,2,2,-1.9336,-2.7E-2,-2.1436999999999999]
[null,"2020-05-03T02:59:59.999",5,3,2,-1.9336,-2.7E-2,-2.1436999999999999]
[null,"2020-05-03T03:59:59.999",5,4,2,-1.9336,-2.7E-2,-2.1436999999999999]
[null,"2020-05-03T04:59:59.999",5,5,2,25.547000000000001,29.183,49.75]
[null,"2020-05-03T05:59:59.999",5,6,2,140.37100000000001,175.93,226.63499999999999]
[null,"2020-05-03T06:59:59.999",5,7,2,154.69499999999999,175.03,181.98599999999999]
[null,"2020-05-03T07:59:59.999",5,8,2,271.18299999999999,297.85000000000002,310.99700000000001]
[null,"2020-05-03T08:59:59.999",5,9,1,541.18799999999999,581.02,634.024]
[null,"2020-05-03T09:59:59.999",5,10,1,1070.5740000000001,1131.8,1240.8900000000001]
[null,"2020-05-03T10:59:59.999",5,11,1,516.73699999999997,548.53,567.10799999999995]
[null,"2020-05-03T11:59:59.999",5,12,1,870.75199999999995,908.15,912.51599999999996]
[null,"2020-05-03T12:59:59.999",5,13,1,1376.4649999999999,1427.9,1330.1969999999999]
[null,"2020-05-03T13:59:59.999",5,14,2,1267.046,1311.7,1124.5139999999999]
[null,"2020-05-03T14:59:59.999",5,15,2,1180.867,1218.8,881.31200000000001]
[null,"2020-05-03T15:59:59.999",5,16,4,802.79899999999998,821,393.39]
[null,"2020-05-03T16:59:59.999",5,17,4,338.20800000000003,358.95,153.03]
[null,"2020-05-03T17:59:59.999",5,18,4,43.820999999999998,50.502000000000002,54.444000000000003]
[null,"2020-05-03T18:59:59.999",5,19,4,-1.9336,-2.7E-2,-2.1436999999999999]
[null,"2020-05-03T19:59:59.999",5,20,4,-1.9336,-2.7E-2,-2.1436999999999999]
[null,"2020-05-03T20:59:59.999",5,21,2,-1.9336,-2.7E-2,-2.1436999999999999]
[null,"2020-05-03T21:59:59.999",5,22,2,-1.9336,-2.7E-2,-2.1436999999999999]
[null,"2020-05-03T22:59:59.999",5,23,2,-1.9336,-2.7E-2,-2.1436999999999999]
[null,"2020-05-03T23:59:59.999",5,0,2,-1.9336,-2.7E-2,-2.1436999999999999]
[null,"2020-05-04T00:59:59.999",5,1,2,-1.9336,-2.7E-2,-2.1436999999999999]
[null,"2020-05-04T01:59:59.999",5,2,2,-1.9336,-2.7E-2,-2.1436999999999999]
[null,"2020-05-04T02:59:59.999",5,3,2,-1.9336,-2.7E-2,-2.1436999999999999]
[null,"2020-05-04T03:59:59.999",5,4,2,-1.9336,-2.7E-2,-2.1436999999999999]
[null,"2020-05-04T04:59:59.999",5,5,2,23.062000000000001,29.253,45.170999999999999]
[null,"2020-05-04T05:59:59.999",5,6,2,175.30199999999999,284.02,541.77599999999995]
[null,"2020-05-04T06:59:59.999",5,7,2,615.63699999999994,724.33,1107.318]
[null,"2020-05-04T07:59:59.999",5,8,2,990.41099999999994,1094.8,1426.846]
[null,"2020-05-04T08:59:59.999",5,9,1,1017.663,1091.7,1264.8889999999999]
[null,"2020-05-04T09:59:59.999",5,10,1,1451.2149999999999,1543.4,1706.414]
[null,"2020-05-04T10:59:59.999",5,11,1,1576.123,1597.5,1747.15]
[null,"2020-05-04T11:59:59.999",5,12,1,1599.61,1600.2,1725.6369999999999]
[null,"2020-05-04T12:59:59.999",5,13,1,1580.549,1597.6,1585.5340000000001]
[null,"2020-05-04T13:59:59.999",5,14,2,1440.742,1498.4,1250.0619999999999]
[null,"2020-05-04T14:59:59.999",5,15,2,1144.875,1183.8,852.31799999999998]
[null,"2020-05-04T15:59:59.999",5,16,4,789.41300000000001,809.1,417.97399999999999]
[null,"2020-05-04T16:59:59.999",5,17,4,301.12099999999998,322.76,184.85499999999999]
[null,"2020-05-04T17:59:59.999",5,18,4,42.131999999999998,49.133000000000003,50.276000000000003]
[null,"2020-05-04T18:59:59.999",5,19,4,-1.9336,-2.7E-2,-2.1436999999999999]
[null,"2020-05-04T19:59:59.999",5,20,4,-1.9336,-2.7E-2,-2.1436999999999999]
[null,"2020-05-04T20:59:59.999",5,21,2,-1.9336,-2.7E-2,-2.1436999999999999]
[null,"2020-05-04T21:59:59.999",5,22,2,-1.9336,-2.7E-2,-2.1436999999999999]
[null,"2020-05-04T22:59:59.999",5,23,2,-1.9336,-2.7E-2,-2.1436999999999999]
[null,"2020-05-04T23:59:59.999",5,0,2,-1.9336,-2.7E-2,-2.1436999999999999]
[null,"2020-05-05T00:59:59.999",5,1,2,-1.9336,-2.7E-2,-2.1436999999999999]
[null,"2020-05-05T01:59:59.999",5,2,2,-1.9336,-2.7E-2,-2.1436999999999999]
[null,"2020-05-05T02:59:59.999",5,3,2,-1.9336,-2.7E-2,-2.1436999999999999]
[null,"2020-05-05T03:59:59.999",5,4,2,-1.9336,-2.7E-2,-2.1436999999999999]
[null,"2020-05-05T04:59:59.999",5,5,2,29.216999999999999,32.44,57.613999999999997]
[null,"2020-05-05T05:59:59.999",5,6,2,178.84899999999999,278.92,522.41099999999994]
[null,"2020-05-05T06:59:59.999",5,7,2,624.14700000000005,732.69,1108.9649999999999]
[null,"2020-05-05T07:59:59.999",5,8,{"$f":"INDEX($AE$11:$BB$22,MATCH(C3017,$AD$11:$AD$22,0),MATCH(D3017,$AE$10:$BB$10,0))","v":2},1036.259,1153.5,1517.3040000000001]
[null,"2020-05-05T08:59:59.999",{"$f":"MONTH(B3018)","v":5},{"$f":"HOUR(B3018)","v":9},1,1365.7929999999999,1483.5,1732.5650000000001]
[null,{"$f":"B3018+1/24","v":"2020-05-05T09:59:59.999"},5,10,1,1518.9880000000001,1586.9,1743.92]
[null,"2020-05-05T10:59:59.999",5,11,1,795.04399999999998,834.54,872.221]
[null,"2020-05-05T11:59:59.999",5,12,1,681.62099999999998,717.97,725.47400000000005]
[null,"2020-05-05T12:59:59.999",5,13,1,695.73500000000001,730.83,719.48699999999997]
[null,"2020-05-05T13:59:59.999",5,14,2,500.37900000000002,534.30999999999995,527.42999999999995]
[null,"2020-05-05T14:59:59.999",5,15,2,420.55799999999999,450.4,436.60700000000003]
[null,"2020-05-05T15:59:59.999",5,16,4,241.33500000000001,264.45999999999998,255.62799999999999]
[null,"2020-05-05T16:59:59.999",5,17,4,192.96700000000001,211.41,154.625]
[null,"2020-05-05T17:59:59.999",5,18,4,35.411999999999999,42.314,43.502000000000002]
[null,"2020-05-05T18:59:59.999",5,19,4,-1.9336,-2.7E-2,-2.1436999999999999]
[null,"2020-05-05T19:59:59.999",5,20,4,-1.9336,-2.7E-2,-2.1436999999999999]
[null,"2020-05-05T20:59:59.999",5,21,2,-1.9336,-2.7E-2,-2.1436999999999999]
[null,"2020-05-05T21:59:59.999",5,22,2,-1.9336,-2.7E-2,-2.1436999999999999]
[null,"2020-05-05T22:59:59.999",5,23,2,-1.9336,-2.7E-2,-2.1436999999999999]
[null,"2020-05-05T23:59:59.999",5,0,2,-1.9336,-2.7E-2,-2.1436999999999999]
[null,"2020-05-06T00:59:59.999",5,1,2,-1.9336,-2.7E-2,-2.1436999999999999]
[null,"2020-05-06T01:59:59.999",5,2,2,-1.9336,-2.7E-2,-2.1436999999999999]
[null,"2020-05-06T02:59:59.999",5,3,2,-1.9336,-2.7E-2,-2.1436999999999999]
[null,"2020-05-06T03:59:59.999",5,4,2,-1.9336,-2.7E-2,-2.1436999999999999]
[null,"2020-05-06T04:59:59.999",5,5,2,1.0917000000000001,-2.7E-2,-2.1436999999999999]
[null,"2020-05-06T05:59:59.999",5,6,2,153.20699999999999,207.15,320.73399999999998]
[null,"2020-05-06T06:59:59.999",5,7,2,606.28399999999999,706.94,1040.912]
[null,"2020-05-06T07:59:59.999",5,8,2,949.42899999999997,1050.3,1356.9760000000001]
[null,"2020-05-06T08:59:59.999",5,9,1,1262.0509999999999,1364,1616.011]
[null,"2020-05-06T09:59:59.999",5,10,1,1510.59,1585.8,1740.5229999999999]
[null,"2020-05-06T10:59:59.999",5,11,1,1606.3589999999999,1600.2,1759.538]
[null,"2020-05-06T11:59:59.999",5,12,1,1611.885,1600.2,1746.877]
[null,"2020-05-06T12:59:59.999",5,13,1,1580.4939999999999,1598,1586.498]
[null,"2020-05-06T13:59:59.999",5,14,2,1442.133,1502,1253.847]
[null,"2020-05-06T14:59:59.999",5,15,2,1175.327,1218.9000000000001,869.46299999999997]
[null,"2020-05-06T15:59:59.999",5,16,4,798.79899999999998,821.52,432.38900000000001]
[null,"2020-05-06T16:59:59.999",5,17,4,297.79199999999997,320.45999999999998,184.09200000000001]
[null,"2020-05-06T17:59:59.999",5,18,4,38.945,43.237000000000002,46.188000000000002]
[null,"2020-05-06T18:59:59.999",5,19,4,-1.9336,-2.7E-2,-2.1436999999999999]
[null,"2020-05-06T19:59:59.999",5,20,4,-1.9336,-2.7E-2,-2.1436999999999999]
[null,"2020-05-06T20:59:59.999",5,21,2,-1.9336,-2.7E-2,-2.1436999999999999]
[null,"2020-05-06T21:59:59.999",5,22,2,-1.9336,-2.7E-2,-2.1436999999999999]
[null,"2020-05-06T22:59:59.999",5,23,2,-1.9336,-2.7E-2,-2.1436999999999999]
[null,"2020-05-06T23:59:59.999",5,0,2,-1.9336,-2.7E-2,-2.1436999999999999]
[null,"2020-05-07T00:59:59.999",5,1,2,-1.9336,-2.7E-2,-2.1436999999999999]
[null,"2020-05-07T01:59:59.999",5,2,2,-1.9336,-2.7E-2,-2.1436999999999999]
[null,"2020-05-07T02:59:59.999",5,3,2,-1.9336,-2.7E-2,-2.1436999999999999]
[null,"2020-05-07T03:59:59.999",5,4,2,-1.9336,-2.7E-2,-2.1436999999999999]
[null,"2020-05-07T04:59:59.999",5,5,2,9.3179999999999996,15.762,14.159000000000001]
[null,"2020-05-07T05:59:59.999",5,6,2,102.44499999999999,115.79,119.08199999999999]
[null,"2020-05-07T06:59:59.999",5,7,2,437.46100000000001,495.82,649.53]
[null,"2020-05-07T07:59:59.999",5,8,2,855.81399999999996,943.4,1206.4190000000001]
[null,"2020-05-07T08:59:59.999",5,9,1,1120.3920000000001,1208.5,1423.078]
[null,"2020-05-07T09:59:59.999",5,10,1,1533.3579999999999,1590.4,1759.374]
[null,"2020-05-07T10:59:59.999",5,11,1,1607.4369999999999,1600.2,1759.538]
[null,"2020-05-07T11:59:59.999",5,12,1,1611.885,1600.2,1745.2560000000001]
[null,"2020-05-07T12:59:59.999",5,13,1,1559.1969999999999,1592.3,1541.5889999999999]
[null,"2020-05-07T13:59:59.999",5,14,2,1468.2860000000001,1531.2,1278.9159999999999]
[null,"2020-05-07T14:59:59.999",5,15,2,1186.6669999999999,1231.7,886.26800000000003]
[null,"2020-05-07T15:59:59.999",5,16,4,798.63099999999997,822.61,398.96899999999999]
[null,"2020-05-07T16:59:59.999",5,17,4,348.45600000000002,373.52,154.126]
[null,"2020-05-07T17:59:59.999",5,18,4,55.058,55.652999999999999,60.793999999999997]
[null,"2020-05-07T18:59:59.999",5,19,4,-1.9336,-2.7E-2,-2.1436999999999999]
[null,"2020-05-07T19:59:59.999",5,20,4,-1.9336,-2.7E-2,-2.1436999999999999]
[null,"2020-05-07T20:59:59.999",5,21,2,-1.9336,-2.7E-2,-2.1436999999999999]
[null,"2020-05-07T21:59:59.999",5,22,2,-1.9336,-2.7E-2,-2.1436999999999999]
[null,"2020-05-07T22:59:59.999",5,23,2,-1.9336,-2.7E-2,-2.1436999999999999]
[null,"2020-05-07T23:59:59.999",5,0,{"$f":"INDEX($AE$11:$BB$22,MATCH(C3081,$AD$11:$AD$22,0),MATCH(D3081,$AE$10:$BB$10,0))","v":2},-1.9336,-2.7E-2,-2.1436999999999999]
[null,"2020-05-08T00:59:59.999",{"$f":"MONTH(B3082)","v":5},{"$f":"HOUR(B3082)","v":1},2,-1.9336,-2.7E-2,-2.1436999999999999]
[null,{"$f":"B3082+1/24","v":"2020-05-08T01:59:59.999"},5,2,2,-1.9336,-2.7E-2,-2.1436999999999999]
[null,"2020-05-08T02:59:59.999",5,3,2,-1.9336,-2.7E-2,-2.1436999999999999]
[null,"2020-05-08T03:59:59.999",5,4,2,-1.9336,-2.7E-2,-2.1436999999999999]
[null,"2020-05-08T04:59:59.999",5,5,2,37.319000000000003,38.997999999999998,74.322999999999993]
[null,"2020-05-08T05:59:59.999",5,6,2,178.96899999999999,306.62,626.73]
[null,"2020-05-08T06:59:59.999",5,7,2,650.10400000000004,772.02,1187.29]
[null,"2020-05-08T07:59:59.999",5,8,2,1061.354,1188.0999999999999,1565.963]
[null,"2020-05-08T08:59:59.999",5,9,1,1386.624,1515,1745.836]
[null,"2020-05-08T09:59:59.999",5,10,1,1564.441,1598.4,1759.537]
[null,"2020-05-08T10:59:59.999",5,11,1,1611.885,1600.2,1759.5360000000001]
[null,"2020-05-08T11:59:59.999",5,12,1,1611.885,1600.2,1755.837]
[null,"2020-05-08T12:59:59.999",5,13,1,1585.87,1599.6,1601.8140000000001]
[null,"2020-05-08T13:59:59.999",5,14,2,1465.4259999999999,1532.7,1284.0340000000001]
[null,"2020-05-08T14:59:59.999",5,15,2,1152.2149999999999,1195.2,868.149]
[null,"2020-05-08T15:59:59.999",5,16,4,780.779,805.27,410.64499999999998]
[null,"2020-05-08T16:59:59.999",5,17,4,359.64100000000002,384.6,139.72200000000001]
[null,"2020-05-08T17:59:59.999",5,18,4,58.183999999999997,58.609000000000002,63.207999999999998]
[null,"2020-05-08T18:59:59.999",5,19,4,-1.9336,-2.7E-2,-2.1436999999999999]
[null,"2020-05-08T19:59:59.999",5,20,4,-1.9336,-2.7E-2,-2.1436999999999999]
[null,"2020-05-08T20:59:59.999",5,21,2,-1.9336,-2.7E-2,-2.1436999999999999]
[null,"2020-05-08T21:59:59.999",5,22,2,-1.9336,-2.7E-2,-2.1436999999999999]
[null,"2020-05-08T22:59:59.999",5,23,2,-1.9336,-2.7E-2,-2.1436999999999999]
[null,"2020-05-08T23:59:59.999",5,0,2,-1.9336,-2.7E-2,-2.1436999999999999]
[null,"2020-05-09T00:59:59.999",5,1,2,-1.9336,-2.7E-2,-2.1436999999999999]
[null,"2020-05-09T01:59:59.999",5,2,2,-1.9336,-2.7E-2,-2.1436999999999999]
[null,"2020-05-09T02:59:59.999",5,3,2,-1.9336,-2.7E-2,-2.1436999999999999]
[null,"2020-05-09T03:59:59.999",5,4,2,-1.9336,-2.7E-2,-2.1436999999999999]
[null,"2020-05-09T04:59:59.999",5,5,2,45.816000000000003,47.545999999999999,91.113]
[null,"2020-05-09T05:59:59.999",5,6,2,184.28800000000001,317.88,652.96699999999998]
[null,"2020-05-09T06:59:59.999",5,7,2,638.43899999999996,758.53,1163.6469999999999]
[null,"2020-05-09T07:59:59.999",5,8,2,1051.249,1176.2,1545.742]
[null,"2020-05-09T08:59:59.999",5,9,1,1372.221,1500.2,1738.682]
[null,"2020-05-09T09:59:59.999",5,10,1,1553.81,1596.2,1759.537]
[null,"2020-05-09T10:59:59.999",5,11,1,1607.8409999999999,1600.2,1759.537]
[null,"2020-05-09T11:59:59.999",5,12,1,1611.885,1600.2,1747.1210000000001]
[null,"2020-05-09T12:59:59.999",5,13,1,1578.0129999999999,1597.7,1585.211]
[null,"2020-05-09T13:59:59.999",5,14,2,1449.652,1519.2,1269.9069999999999]
[null,"2020-05-09T14:59:59.999",5,15,2,1168.0640000000001,1217.0999999999999,878.726]
[null,"2020-05-09T15:59:59.999",5,16,4,801.85500000000002,827.8,402.971]
[null,"2020-05-09T16:59:59.999",5,17,4,359.25299999999999,384.83,147.024]
[null,"2020-05-09T17:59:59.999",5,18,4,58.829000000000001,59.749000000000002,64.275000000000006]
[null,"2020-05-09T18:59:59.999",5,19,4,-1.9336,-2.7E-2,-2.1436999999999999]
[null,"2020-05-09T19:59:59.999",5,20,4,-1.9336,-2.7E-2,-2.1436999999999999]
[null,"2020-05-09T20:59:59.999",5,21,2,-1.9336,-2.7E-2,-2.1436999999999999]
[null,"2020-05-09T21:59:59.999",5,22,2,-1.9336,-2.7E-2,-2.1436999999999999]
[null,"2020-05-09T22:59:59.999",5,23,2,-1.9336,-2.7E-2,-2.1436999999999999]
[null,"2020-05-09T23:59:59.999",5,0,2,-1.9336,-2.7E-2,-2.1436999999999999]
[null,"2020-05-10T00:59:59.999",5,1,2,-1.9336,-2.7E-2,-2.1436999999999999]
[null,"2020-05-10T01:59:59.999",5,2,2,-1.9336,-2.7E-2,-2.1436999999999999]
[null,"2020-05-10T02:59:59.999",5,3,2,-1.9336,-2.7E-2,-2.1436999999999999]
[null,"2020-05-10T03:59:59.999",5,4,2,-1.9336,-2.7E-2,-2.1436999999999999]
[null,"2020-05-10T04:59:59.999",5,5,2,44.429000000000002,45.292999999999999,89.320999999999998]
[null,"2020-05-10T05:59:59.999",5,6,2,192.96,317.58999999999997,629.53700000000003]
[null,"2020-05-10T06:59:59.999",5,7,2,645.86,768.35,1177.4580000000001]
[null,"2020-05-10T07:59:59.999",5,8,2,1054.4000000000001,1181.2,1554.4269999999999]
[null,"2020-05-10T08:59:59.999",5,9,1,1365.8789999999999,1493.5,1734.8620000000001]
[null,"2020-05-10T09:59:59.999",5,10,1,1548.386,1595.1,1759.539]
[null,"2020-05-10T10:59:59.999",5,11,1,1610.623,1600.2,1759.537]
[null,"2020-05-10T11:59:59.999",5,12,1,1611.885,1600.2,1745.845]
[null,"2020-05-10T12:59:59.999",5,13,1,1580.431,1598.4,1591.444]
[null,"2020-05-10T13:59:59.999",5,14,2,1449.837,1520.7,1271.8610000000001]
[null,"2020-05-10T14:59:59.999",5,15,2,1164.97,1214.4000000000001,877.88099999999997]
[null,"2020-05-10T15:59:59.999",5,16,{"$f":"INDEX($AE$11:$BB$22,MATCH(C3145,$AD$11:$AD$22,0),MATCH(D3145,$AE$10:$BB$10,0))","v":4},799.73,826.8,408.03800000000001]
[null,"2020-05-10T16:59:59.999",{"$f":"MONTH(B3146)","v":5},{"$f":"HOUR(B3146)","v":17},4,351.90499999999997,379.26,151.54599999999999]
[null,{"$f":"B3146+1/24","v":"2020-05-10T17:59:59.999"},5,18,4,60.543999999999997,61.536999999999999,65.882000000000005]
[null,"2020-05-10T18:59:59.999",5,19,4,-1.9336,-2.7E-2,-2.1436999999999999]
[null,"2020-05-10T19:59:59.999",5,20,4,-1.9336,-2.7E-2,-2.1436999999999999]
[null,"2020-05-10T20:59:59.999",5,21,2,-1.9336,-2.7E-2,-2.1436999999999999]
[null,"2020-05-10T21:59:59.999",5,22,2,-1.9336,-2.7E-2,-2.1436999999999999]
[null,"2020-05-10T22:59:59.999",5,23,2,-1.9336,-2.7E-2,-2.1436999999999999]
[null,"2020-05-10T23:59:59.999",5,0,2,-1.9336,-2.7E-2,-2.1436999999999999]
[null,"2020-05-11T00:59:59.999",5,1,2,-1.9336,-2.7E-2,-2.1436999999999999]
[null,"2020-05-11T01:59:59.999",5,2,2,-1.9336,-2.7E-2,-2.1436999999999999]
[null,"2020-05-11T02:59:59.999",5,3,2,-1.9336,-2.7E-2,-2.1436999999999999]
[null,"2020-05-11T03:59:59.999",5,4,2,-1.9336,-2.7E-2,-2.1436999999999999]
[null,"2020-05-11T04:59:59.999",5,5,2,56.893000000000001,47.453000000000003,149.18]
[null,"2020-05-11T05:59:59.999",5,6,2,172.23699999999999,335.49,750.72699999999998]
[null,"2020-05-11T06:59:59.999",5,7,2,651.44500000000005,780.38,1206.789]
[null,"2020-05-11T07:59:59.999",5,8,2,1055.0260000000001,1183.2,1549.787]
[null,"2020-05-11T08:59:59.999",5,9,1,1371.377,1501.7,1738.9490000000001]
[null,"2020-05-11T09:59:59.999",5,10,1,1554.115,1596.5,1759.537]
[null,"2020-05-11T10:59:59.999",5,11,1,1605.932,1600.2,1759.5360000000001]
[null,"2020-05-11T11:59:59.999",5,12,1,1613.306,1600.2,1742.915]
[null,"2020-05-11T12:59:59.999",5,13,1,1569.42,1595.7,1567.27]
[null,"2020-05-11T13:59:59.999",5,14,2,1432.346,1503.2,1257.7809999999999]
[null,"2020-05-11T14:59:59.999",5,15,2,1150.9670000000001,1200.8,869.45299999999997]
[null,"2020-05-11T15:59:59.999",5,16,4,789.70299999999997,817.67,399.25900000000001]
[null,"2020-05-11T16:59:59.999",5,17,4,355,382.54,129.24700000000001]
[null,"2020-05-11T17:59:59.999",5,18,4,62.003,62.56,66.602999999999994]
[null,"2020-05-11T18:59:59.999",5,19,4,-1.9336,-2.7E-2,-2.1436999999999999]
[null,"2020-05-11T19:59:59.999",5,20,4,-1.9336,-2.7E-2,-2.1436999999999999]
[null,"2020-05-11T20:59:59.999",5,21,2,-1.9336,-2.7E-2,-2.1436999999999999]
[null,"2020-05-11T21:59:59.999",5,22,2,-1.9336,-2.7E-2,-2.1436999999999999]
[null,"2020-05-11T22:59:59.999",5,23,2,-1.9336,-2.7E-2,-2.1436999999999999]
[null,"2020-05-11T23:59:59.999",5,0,2,-1.9336,-2.7E-2,-2.1436999999999999]
[null,"2020-05-12T00:59:59.999",5,1,2,-1.9336,-2.7E-2,-2.1436999999999999]
[null,"2020-05-12T01:59:59.999",5,2,2,-1.9336,-2.7E-2,-2.1436999999999999]
[null,"2020-05-12T02:59:59.999",5,3,2,-1.9336,-2.7E-2,-2.1436999999999999]
[null,"2020-05-12T03:59:59.999",5,4,2,-1.9336,-2.7E-2,-2.1436999999999999]
[null,"2020-05-12T04:59:59.999",5,5,2,38.000999999999998,34.284999999999997,89.313999999999993]
[null,"2020-05-12T05:59:59.999",5,6,2,172.72399999999999,336.27,752.351]
[null,"2020-05-12T06:59:59.999",5,7,2,646.28700000000003,775.25,1197.856]
[null,"2020-05-12T07:59:59.999",5,8,2,1042.8579999999999,1170.2,1537.7139999999999]
[null,"2020-05-12T08:59:59.999",5,9,1,1356.3789999999999,1484.8,1730.73]
[null,"2020-05-12T09:59:59.999",5,10,1,1541.7840000000001,1593.9,1759.539]
[null,"2020-05-12T10:59:59.999",5,11,1,1594.02,1600.2,1759.539]
[null,"2020-05-12T11:59:59.999",5,12,1,1556.923,1592.5,1651.7639999999999]
[null,"2020-05-12T12:59:59.999",5,13,1,1549.4259999999999,1590.8,1526.6310000000001]
[null,"2020-05-12T13:59:59.999",5,14,2,1392.8789999999999,1462.2,1227.3620000000001]
[null,"2020-05-12T14:59:59.999",5,15,2,1129.3240000000001,1176.9000000000001,852.79899999999998]
[null,"2020-05-12T15:59:59.999",5,16,4,772.66700000000003,800.83,406.71199999999999]
[null,"2020-05-12T16:59:59.999",5,17,4,339.63400000000001,366.66,169.72900000000001]
[null,"2020-05-12T17:59:59.999",5,18,4,56.091999999999999,63.884,67.186999999999998]
[null,"2020-05-12T18:59:59.999",5,19,4,-1.9336,-2.7E-2,-2.1436999999999999]
[null,"2020-05-12T19:59:59.999",5,20,4,-1.9336,-2.7E-2,-2.1436999999999999]
[null,"2020-05-12T20:59:59.999",5,21,2,-1.9336,-2.7E-2,-2.1436999999999999]
[null,"2020-05-12T21:59:59.999",5,22,2,-1.9336,-2.7E-2,-2.1436999999999999]
[null,"2020-05-12T22:59:59.999",5,23,2,-1.9336,-2.7E-2,-2.1436999999999999]
[null,"2020-05-12T23:59:59.999",5,0,2,-1.9336,-2.7E-2,-2.1436999999999999]
[null,"2020-05-13T00:59:59.999",5,1,2,-1.9336,-2.7E-2,-2.1436999999999999]
[null,"2020-05-13T01:59:59.999",5,2,2,-1.9336,-2.7E-2,-2.1436999999999999]
[null,"2020-05-13T02:59:59.999",5,3,2,-1.9336,-2.7E-2,-2.1436999999999999]
[null,"2020-05-13T03:59:59.999",5,4,2,-1.9336,-2.7E-2,-2.1436999999999999]
[null,"2020-05-13T04:59:59.999",5,5,2,6.0043999999999995,12.214,10.534000000000001]
[null,"2020-05-13T05:59:59.999",5,6,2,90.015000000000001,100.99,101.858]
[null,"2020-05-13T06:59:59.999",5,7,2,275.983,307.31,337.59100000000001]
[null,"2020-05-13T07:59:59.999",5,8,{"$f":"INDEX($AE$11:$BB$22,MATCH(C3209,$AD$11:$AD$22,0),MATCH(D3209,$AE$10:$BB$10,0))","v":2},700.83100000000002,769.47,929.53300000000002]
[null,"2020-05-13T08:59:59.999",{"$f":"MONTH(B3210)","v":5},{"$f":"HOUR(B3210)","v":9},1,1328.8869999999999,1443.5,1706.1120000000001]
[null,{"$f":"B3210+1/24","v":"2020-05-13T09:59:59.999"},5,10,1,1539.415,1593.4,1759.6579999999999]
[null,"2020-05-13T10:59:59.999",5,11,1,1596.1,1600.2,1759.54]
[null,"2020-05-13T11:59:59.999",5,12,1,1603.4570000000001,1600.2,1735.43]
[null,"2020-05-13T12:59:59.999",5,13,1,1564.309,1594.6,1560.057]
[null,"2020-05-13T13:59:59.999",5,14,2,1434.8710000000001,1508.4,1265.261]
[null,"2020-05-13T14:59:59.999",5,15,2,1157.848,1208.5999999999999,872.64400000000001]
[null,"2020-05-13T15:59:59.999",5,16,4,798.58900000000006,829.43,411.82100000000003]
[null,"2020-05-13T16:59:59.999",5,17,4,361.98099999999999,391.52,130.066]
[null,"2020-05-13T17:59:59.999",5,18,4,57.459000000000003,63.948,68.055000000000007]
[null,"2020-05-13T18:59:59.999",5,19,4,-1.9336,-2.7E-2,-2.1436999999999999]
[null,"2020-05-13T19:59:59.999",5,20,4,-1.9336,-2.7E-2,-2.1436999999999999]
[null,"2020-05-13T20:59:59.999",5,21,2,-1.9336,-2.7E-2,-2.1436999999999999]
[null,"2020-05-13T21:59:59.999",5,22,2,-1.9336,-2.7E-2,-2.1436999999999999]
[null,"2020-05-13T22:59:59.999",5,23,2,-1.9336,-2.7E-2,-2.1436999999999999]
[null,"2020-05-13T23:59:59.999",5,0,2,-1.9336,-2.7E-2,-2.1436999999999999]
[null,"2020-05-14T00:59:59.999",5,1,2,-1.9336,-2.7E-2,-2.1436999999999999]
[null,"2020-05-14T01:59:59.999",5,2,2,-1.9336,-2.7E-2,-2.1436999999999999]
[null,"2020-05-14T02:59:59.999",5,3,2,-1.9336,-2.7E-2,-2.1436999999999999]
[null,"2020-05-14T03:59:59.999",5,4,2,-1.9336,-2.7E-2,-2.1436999999999999]
[null,"2020-05-14T04:59:59.999",5,5,2,37.808999999999997,39.767000000000003,68.983999999999995]
[null,"2020-05-14T05:59:59.999",5,6,2,198.471,290.86,510.88]
[null,"2020-05-14T06:59:59.999",5,7,2,553.26400000000001,644.82000000000005,926.98599999999999]
[null,"2020-05-14T07:59:59.999",5,8,2,973.88,1082.7,1396.0329999999999]
[null,"2020-05-14T08:59:59.999",5,9,1,1311.7180000000001,1428.6,1694.145]
[null,"2020-05-14T09:59:59.999",5,10,1,1536.046,1592.3,1759.1669999999999]
[null,"2020-05-14T10:59:59.999",5,11,1,1601.605,1600.2,1759.538]
[null,"2020-05-14T11:59:59.999",5,12,1,1611.885,1600.2,1746.4870000000001]
[null,"2020-05-14T12:59:59.999",5,13,1,1572.155,1596.9,1580.328]
[null,"2020-05-14T13:59:59.999",5,14,2,1429.106,1502.3,1263.3309999999999]
[null,"2020-05-14T14:59:59.999",5,15,2,1159.028,1210.5,880.35500000000002]
[null,"2020-05-14T15:59:59.999",5,16,4,787.71600000000001,818.94,419.471]
[null,"2020-05-14T16:59:59.999",5,17,4,343.12799999999999,372.72,152.73400000000001]
[null,"2020-05-14T17:59:59.999",5,18,4,57.697000000000003,65.528999999999996,68.614000000000004]
[null,"2020-05-14T18:59:59.999",5,19,4,-1.9336,-2.7E-2,-2.1436999999999999]
[null,"2020-05-14T19:59:59.999",5,20,4,-1.9336,-2.7E-2,-2.1436999999999999]
[null,"2020-05-14T20:59:59.999",5,21,2,-1.9336,-2.7E-2,-2.1436999999999999]
[null,"2020-05-14T21:59:59.999",5,22,2,-1.9336,-2.7E-2,-2.1436999999999999]
[null,"2020-05-14T22:59:59.999",5,23,2,-1.9336,-2.7E-2,-2.1436999999999999]
[null,"2020-05-14T23:59:59.999",5,0,2,-1.9336,-2.7E-2,-2.1436999999999999]
[null,"2020-05-15T00:59:59.999",5,1,2,-1.9336,-2.7E-2,-2.1436999999999999]
[null,"2020-05-15T01:59:59.999",5,2,2,-1.9336,-2.7E-2,-2.1436999999999999]
[null,"2020-05-15T02:59:59.999",5,3,2,-1.9336,-2.7E-2,-2.1436999999999999]
[null,"2020-05-15T03:59:59.999",5,4,2,-1.9336,-2.7E-2,-2.1436999999999999]
[null,"2020-05-15T04:59:59.999",5,5,2,57.112000000000002,50.976999999999997,131.31100000000001]
[null,"2020-05-15T05:59:59.999",5,6,2,187.99100000000001,298.63,574.41800000000001]
[null,"2020-05-15T06:59:59.999",5,7,2,636.31399999999996,756.53,1141.529]
[null,"2020-05-15T07:59:59.999",5,8,2,1025.624,1150.8,1503.9749999999999]
[null,"2020-05-15T08:59:59.999",5,9,1,1308.3579999999999,1427,1693.069]
[null,"2020-05-15T09:59:59.999",5,10,1,1394.299,1493.6,1652.35]
[null,"2020-05-15T10:59:59.999",5,11,1,1433.375,1515.3,1583.2829999999999]
[null,"2020-05-15T11:59:59.999",5,12,1,1584.8979999999999,1599.8,1715.8150000000001]
[null,"2020-05-15T12:59:59.999",5,13,1,1459.8219999999999,1528.5,1416.1610000000001]
[null,"2020-05-15T13:59:59.999",5,14,2,1313.9369999999999,1372,1170.8219999999999]
[null,"2020-05-15T14:59:59.999",5,15,2,927.55399999999997,965.81,759.6]
[null,"2020-05-15T15:59:59.999",5,16,4,661.93399999999997,690.15,423.642]
[null,"2020-05-15T16:59:59.999",5,17,4,283.983,309.2,191.797]
[null,"2020-05-15T17:59:59.999",5,18,4,43.305,51.442999999999998,52.298000000000002]
[null,"2020-05-15T18:59:59.999",5,19,4,-1.9336,-2.7E-2,-2.1436999999999999]
[null,"2020-05-15T19:59:59.999",5,20,4,-1.9336,-2.7E-2,-2.1436999999999999]
[null,"2020-05-15T20:59:59.999",5,21,2,-1.9336,-2.7E-2,-2.1436999999999999]
[null,"2020-05-15T21:59:59.999",5,22,2,-1.9336,-2.7E-2,-2.1436999999999999]
[null,"2020-05-15T22:59:59.999",5,23,2,-1.9336,-2.7E-2,-2.1436999999999999]
[null,"2020-05-15T23:59:59.999",5,0,{"$f":"INDEX($AE$11:$BB$22,MATCH(C3273,$AD$11:$AD$22,0),MATCH(D3273,$AE$10:$BB$10,0))","v":2},-1.9336,-2.7E-2,-2.1436999999999999]
[null,"2020-05-16T00:59:59.999",{"$f":"MONTH(B3274)","v":5},{"$f":"HOUR(B3274)","v":1},2,-1.9336,-2.7E-2,-2.1436999999999999]
[null,{"$f":"B3274+1/24","v":"2020-05-16T01:59:59.999"},5,2,2,-1.9336,-2.7E-2,-2.1436999999999999]
[null,"2020-05-16T02:59:59.999",5,3,2,-1.9336,-2.7E-2,-2.1436999999999999]
[null,"2020-05-16T03:59:59.999",5,4,2,-1.9336,-2.7E-2,-2.1436999999999999]
[null,"2020-05-16T04:59:59.999",5,5,2,4.4613999999999994,10.685,9.0471000000000004]
[null,"2020-05-16T05:59:59.999",5,6,2,197.80600000000001,276.7,461.786]
[null,"2020-05-16T06:59:59.999",5,7,2,649.74900000000002,768.23,1141.587]
[null,"2020-05-16T07:59:59.999",5,8,2,1021.378,1146.8,1497.643]
[null,"2020-05-16T08:59:59.999",5,9,1,1346.08,1477.8,1726.204]
[null,"2020-05-16T09:59:59.999",5,10,1,1541.09,1594.2,1759.538]
[null,"2020-05-16T10:59:59.999",5,11,1,1597.126,1600.2,1759.537]
[null,"2020-05-16T11:59:59.999",5,12,1,1600.0170000000001,1600.2,1733.3030000000001]
[null,"2020-05-16T12:59:59.999",5,13,1,1555.5360000000001,1593.3,1547.7439999999999]
[null,"2020-05-16T13:59:59.999",5,14,2,1417.434,1492.3,1252.395]
[null,"2020-05-16T14:59:59.999",5,15,2,1148.3699999999999,1203.9000000000001,876.50400000000002]
[null,"2020-05-16T15:59:59.999",5,16,4,789.40899999999999,822.34,413.5]
[null,"2020-05-16T16:59:59.999",5,17,4,354.82100000000003,386.34,153.58500000000001]
[null,"2020-05-16T17:59:59.999",5,18,4,61.433999999999997,69.22,71.59]
[null,"2020-05-16T18:59:59.999",5,19,4,-1.9336,-2.7E-2,-2.1436999999999999]
[null,"2020-05-16T19:59:59.999",5,20,4,-1.9336,-2.7E-2,-2.1436999999999999]
[null,"2020-05-16T20:59:59.999",5,21,2,-1.9336,-2.7E-2,-2.1436999999999999]
[null,"2020-05-16T21:59:59.999",5,22,2,-1.9336,-2.7E-2,-2.1436999999999999]
[null,"2020-05-16T22:59:59.999",5,23,2,-1.9336,-2.7E-2,-2.1436999999999999]
[null,"2020-05-16T23:59:59.999",5,0,2,-1.9336,-2.7E-2,-2.1436999999999999]
[null,"2020-05-17T00:59:59.999",5,1,2,-1.9336,-2.7E-2,-2.1436999999999999]
[null,"2020-05-17T01:59:59.999",5,2,2,-1.9336,-2.7E-2,-2.1436999999999999]
[null,"2020-05-17T02:59:59.999",5,3,2,-1.9336,-2.7E-2,-2.1436999999999999]
[null,"2020-05-17T03:59:59.999",5,4,2,-1.9336,-2.7E-2,-2.1436999999999999]
[null,"2020-05-17T04:59:59.999",5,5,2,59.555999999999997,55.503999999999998,133.41499999999999]
[null,"2020-05-17T05:59:59.999",5,6,2,212.12299999999999,351.87,703.18700000000001]
[null,"2020-05-17T06:59:59.999",5,7,2,649.46699999999998,781.08,1196.288]
[null,"2020-05-17T07:59:59.999",5,8,2,1042.3209999999999,1174.7,1533.5419999999999]
[null,"2020-05-17T08:59:59.999",5,9,1,1356.8389999999999,1492.4,1733.5830000000001]
[null,"2020-05-17T09:59:59.999",5,10,1,1545.94,1595.3,1759.537]
[null,"2020-05-17T10:59:59.999",5,11,1,1601.306,1600.2,1759.5360000000001]
[null,"2020-05-17T11:59:59.999",5,12,1,1606.4469999999999,1600.2,1739.9680000000001]
[null,"2020-05-17T12:59:59.999",5,13,1,1560.6089999999999,1594.5,1558.5350000000001]
[null,"2020-05-17T13:59:59.999",5,14,2,1413.2249999999999,1488.8,1250.7529999999999]
[null,"2020-05-17T14:59:59.999",5,15,2,1148.3679999999999,1204.2,877.88800000000003]
[null,"2020-05-17T15:59:59.999",5,16,4,792.06799999999998,826.2,416.35]
[null,"2020-05-17T16:59:59.999",5,17,4,353.77100000000002,385.83,127.21]
[null,"2020-05-17T17:59:59.999",5,18,4,58.393000000000001,65.174999999999997,68.872]
[null,"2020-05-17T18:59:59.999",5,19,4,-1.9336,-2.7E-2,-2.1436999999999999]
[null,"2020-05-17T19:59:59.999",5,20,4,-1.9336,-2.7E-2,-2.1436999999999999]
[null,"2020-05-17T20:59:59.999",5,21,2,-1.9336,-2.7E-2,-2.1436999999999999]
[null,"2020-05-17T21:59:59.999",5,22,2,-1.9336,-2.7E-2,-2.1436999999999999]
[null,"2020-05-17T22:59:59.999",5,23,2,-1.9336,-2.7E-2,-2.1436999999999999]
[null,"2020-05-17T23:59:59.999",5,0,2,-1.9336,-2.7E-2,-2.1436999999999999]
[null,"2020-05-18T00:59:59.999",5,1,2,-1.9336,-2.7E-2,-2.1436999999999999]
[null,"2020-05-18T01:59:59.999",5,2,2,-1.9336,-2.7E-2,-2.1436999999999999]
[null,"2020-05-18T02:59:59.999",5,3,2,-1.9336,-2.7E-2,-2.1436999999999999]
[null,"2020-05-18T03:59:59.999",5,4,2,-1.9336,-2.7E-2,-2.1436999999999999]
[null,"2020-05-18T04:59:59.999",5,5,2,56.695,51.584000000000003,129.661]
[null,"2020-05-18T05:59:59.999",5,6,2,207.09,351.65,715.54200000000003]
[null,"2020-05-18T06:59:59.999",5,7,2,639.22400000000005,771.08,1183.9110000000001]
[null,"2020-05-18T07:59:59.999",5,8,2,1030.4449999999999,1161.3,1515.7449999999999]
[null,"2020-05-18T08:59:59.999",5,9,1,1337.7809999999999,1472,1723.8789999999999]
[null,"2020-05-18T09:59:59.999",5,10,1,1534.8579999999999,1593,1759.364]
[null,"2020-05-18T10:59:59.999",5,11,1,1590.046,1600.2,1759.6320000000001]
[null,"2020-05-18T11:59:59.999",5,12,1,1594.991,1600.2,1729.2260000000001]
[null,"2020-05-18T12:59:59.999",5,13,1,1550.625,1592.5,1540.5170000000001]
[null,"2020-05-18T13:59:59.999",5,14,2,1402.0889999999999,1478.1,1240.634]
[null,"2020-05-18T14:59:59.999",5,15,2,1130.5319999999999,1184.3,859.87900000000002]
[null,"2020-05-18T15:59:59.999",5,16,{"$f":"INDEX($AE$11:$BB$22,MATCH(C3337,$AD$11:$AD$22,0),MATCH(D3337,$AE$10:$BB$10,0))","v":4},770.46299999999997,804.12,412.053]
[null,"2020-05-18T16:59:59.999",{"$f":"MONTH(B3338)","v":5},{"$f":"HOUR(B3338)","v":17},4,349.19799999999998,380.75,92.986000000000004]
[null,{"$f":"B3338+1/24","v":"2020-05-18T17:59:59.999"},5,18,4,62.093000000000004,69.433999999999997,72.430999999999997]
[null,"2020-05-18T18:59:59.999",5,19,4,-1.9336,-2.7E-2,-2.1436999999999999]
[null,"2020-05-18T19:59:59.999",5,20,4,-1.9336,-2.7E-2,-2.1436999999999999]
[null,"2020-05-18T20:59:59.999",5,21,2,-1.9336,-2.7E-2,-2.1436999999999999]
[null,"2020-05-18T21:59:59.999",5,22,2,-1.9336,-2.7E-2,-2.1436999999999999]
[null,"2020-05-18T22:59:59.999",5,23,2,-1.9336,-2.7E-2,-2.1436999999999999]
[null,"2020-05-18T23:59:59.999",5,0,2,-1.9336,-2.7E-2,-2.1436999999999999]
[null,"2020-05-19T00:59:59.999",5,1,2,-1.9336,-2.7E-2,-2.1436999999999999]
[null,"2020-05-19T01:59:59.999",5,2,2,-1.9336,-2.7E-2,-2.1436999999999999]
[null,"2020-05-19T02:59:59.999",5,3,2,-1.9336,-2.7E-2,-2.1436999999999999]
[null,"2020-05-19T03:59:59.999",5,4,2,-1.9336,-2.7E-2,-2.1436999999999999]
[null,"2020-05-19T04:59:59.999",5,5,2,58.673000000000002,54.906999999999996,128.501]
[null,"2020-05-19T05:59:59.999",5,6,2,215.87100000000001,353.62,699.67399999999998]
[null,"2020-05-19T06:59:59.999",5,7,2,643.36400000000003,775.3,1185.0229999999999]
[null,"2020-05-19T07:59:59.999",5,8,2,1027.627,1158.9000000000001,1511.463]
[null,"2020-05-19T08:59:59.999",5,9,1,1324.104,1457.6,1716.9870000000001]
[null,"2020-05-19T09:59:59.999",5,10,1,1525.2919999999999,1591.1,1759.222]
[null,"2020-05-19T10:59:59.999",5,11,1,1583.6579999999999,1600.2,1758.777]
[null,"2020-05-19T11:59:59.999",5,12,1,1583.5820000000001,1600.2,1718.212]
[null,"2020-05-19T12:59:59.999",5,13,1,1537.269,1589.6,1515.269]
[null,"2020-05-19T13:59:59.999",5,14,2,1391.325,1467.6,1232.577]
[null,"2020-05-19T14:59:59.999",5,15,2,1125.539,1181.9000000000001,863.971]
[null,"2020-05-19T15:59:59.999",5,16,4,784.47,819.96,419.84399999999999]
[null,"2020-05-19T16:59:59.999",5,17,4,365.93,398.47,113.761]
[null,"2020-05-19T17:59:59.999",5,18,4,71.67,80.575999999999993,81.28]
[null,"2020-05-19T18:59:59.999",5,19,4,-1.9336,-2.7E-2,-2.1436999999999999]
[null,"2020-05-19T19:59:59.999",5,20,4,-1.9336,-2.7E-2,-2.1436999999999999]
[null,"2020-05-19T20:59:59.999",5,21,2,-1.9336,-2.7E-2,-2.1436999999999999]
[null,"2020-05-19T21:59:59.999",5,22,2,-1.9336,-2.7E-2,-2.1436999999999999]
[null,"2020-05-19T22:59:59.999",5,23,2,-1.9336,-2.7E-2,-2.1436999999999999]
[null,"2020-05-19T23:59:59.999",5,0,2,-1.9336,-2.7E-2,-2.1436999999999999]
[null,"2020-05-20T00:59:59.999",5,1,2,-1.9336,-2.7E-2,-2.1436999999999999]
[null,"2020-05-20T01:59:59.999",5,2,2,-1.9336,-2.7E-2,-2.1436999999999999]
[null,"2020-05-20T02:59:59.999",5,3,2,-1.9336,-2.7E-2,-2.1436999999999999]
[null,"2020-05-20T03:59:59.999",5,4,2,-1.9336,-2.7E-2,-2.1436999999999999]
[null,"2020-05-20T04:59:59.999",5,5,2,62.524999999999999,53.039000000000001,156.30199999999999]
[null,"2020-05-20T05:59:59.999",5,6,2,212.07499999999999,359.75,735.51]
[null,"2020-05-20T06:59:59.999",5,7,2,643.12,777.27,1190.73]
[null,"2020-05-20T07:59:59.999",5,8,2,1027.069,1159.3,1511.8209999999999]
[null,"2020-05-20T08:59:59.999",5,9,1,1326.395,1461.2,1718.627]
[null,"2020-05-20T09:59:59.999",5,10,1,1523.9190000000001,1590.8,1758.09]
[null,"2020-05-20T10:59:59.999",5,11,1,1567.3610000000001,1597.6,1746.07]
[null,"2020-05-20T11:59:59.999",5,12,1,1568.6179999999999,1597.1,1692.9480000000001]
[null,"2020-05-20T12:59:59.999",5,13,1,1535.7760000000001,1589.4,1514.258]
[null,"2020-05-20T13:59:59.999",5,14,2,1396.674,1474.3,1238.787]
[null,"2020-05-20T14:59:59.999",5,15,2,1124.672,1180.2,858.77]
[null,"2020-05-20T15:59:59.999",5,16,4,776.40200000000004,812.56,416.65199999999999]
[null,"2020-05-20T16:59:59.999",5,17,4,360.97699999999998,393.96,111.021]
[null,"2020-05-20T17:59:59.999",5,18,4,64.451999999999998,72.561000000000007,75.185000000000002]
[null,"2020-05-20T18:59:59.999",5,19,4,-1.9336,-2.7E-2,-2.1436999999999999]
[null,"2020-05-20T19:59:59.999",5,20,4,-1.9336,-2.7E-2,-2.1436999999999999]
[null,"2020-05-20T20:59:59.999",5,21,2,-1.9336,-2.7E-2,-2.1436999999999999]
[null,"2020-05-20T21:59:59.999",5,22,2,-1.9336,-2.7E-2,-2.1436999999999999]
[null,"2020-05-20T22:59:59.999",5,23,2,-1.9336,-2.7E-2,-2.1436999999999999]
[null,"2020-05-20T23:59:59.999",5,0,2,-1.9336,-2.7E-2,-2.1436999999999999]
[null,"2020-05-21T00:59:59.999",5,1,2,-1.9336,-2.7E-2,-2.1436999999999999]
[null,"2020-05-21T01:59:59.999",5,2,2,-1.9336,-2.7E-2,-2.1436999999999999]
[null,"2020-05-21T02:59:59.999",5,3,2,-1.9336,-2.7E-2,-2.1436999999999999]
[null,"2020-05-21T03:59:59.999",5,4,2,-1.9336,-2.7E-2,-2.1436999999999999]
[null,"2020-05-21T04:59:59.999",5,5,2,58.817999999999998,54.825000000000003,127.979]
[null,"2020-05-21T05:59:59.999",5,6,2,206.23500000000001,345.46,695.55799999999999]
[null,"2020-05-21T06:59:59.999",5,7,2,638.01400000000001,771.23,1179.3599999999999]
[null,"2020-05-21T07:59:59.999",5,8,{"$f":"INDEX($AE$11:$BB$22,MATCH(C3401,$AD$11:$AD$22,0),MATCH(D3401,$AE$10:$BB$10,0))","v":2},1034.329,1170,1525.288]
[null,"2020-05-21T08:59:59.999",{"$f":"MONTH(B3402)","v":5},{"$f":"HOUR(B3402)","v":9},1,1344.078,1482.2,1728.4780000000001]
[null,{"$f":"B3402+1/24","v":"2020-05-21T09:59:59.999"},5,10,1,1530.595,1592.4,1759.019]
[null,"2020-05-21T10:59:59.999",5,11,1,1581.91,1600.2,1758.6859999999999]
[null,"2020-05-21T11:59:59.999",5,12,1,1590.779,1600.2,1726.2739999999999]
[null,"2020-05-21T12:59:59.999",5,13,1,1544.1279999999999,1591.2,1531.9670000000001]
[null,"2020-05-21T13:59:59.999",5,14,2,1412.346,1492.2,1254.579]
[null,"2020-05-21T14:59:59.999",5,15,2,1140.6479999999999,1200.0999999999999,878.30600000000004]
[null,"2020-05-21T15:59:59.999",5,16,4,789.39,827.47,420.125]
[null,"2020-05-21T16:59:59.999",5,17,4,365.83600000000001,401.86,80.986000000000004]
[null,"2020-05-21T17:59:59.999",5,18,4,64.972999999999999,72.772000000000006,74.77]
[null,"2020-05-21T18:59:59.999",5,19,4,-1.9336,-2.7E-2,-2.1436999999999999]
[null,"2020-05-21T19:59:59.999",5,20,4,-1.9336,-2.7E-2,-2.1436999999999999]
[null,"2020-05-21T20:59:59.999",5,21,2,-1.9336,-2.7E-2,-2.1436999999999999]
[null,"2020-05-21T21:59:59.999",5,22,2,-1.9336,-2.7E-2,-2.1436999999999999]
[null,"2020-05-21T22:59:59.999",5,23,2,-1.9336,-2.7E-2,-2.1436999999999999]
[null,"2020-05-21T23:59:59.999",5,0,2,-1.9336,-2.7E-2,-2.1436999999999999]
[null,"2020-05-22T00:59:59.999",5,1,2,-1.9336,-2.7E-2,-2.1436999999999999]
[null,"2020-05-22T01:59:59.999",5,2,2,-1.9336,-2.7E-2,-2.1436999999999999]
[null,"2020-05-22T02:59:59.999",5,3,2,-1.9336,-2.7E-2,-2.1436999999999999]
[null,"2020-05-22T03:59:59.999",5,4,2,-1.9336,-2.7E-2,-2.1436999999999999]
[null,"2020-05-22T04:59:59.999",5,5,2,61.2,56.447000000000003,135.048]
[null,"2020-05-22T05:59:59.999",5,6,2,213.68799999999999,337.58,647.54100000000005]
[null,"2020-05-22T06:59:59.999",5,7,2,639.86900000000003,767.94,1159.8009999999999]
[null,"2020-05-22T07:59:59.999",5,8,2,1002.848,1131,1472.3150000000001]
[null,"2020-05-22T08:59:59.999",5,9,1,1329.9580000000001,1461.4,1719.452]
[null,"2020-05-22T09:59:59.999",5,10,1,1525.876,1591.3,1758.337]
[null,"2020-05-22T10:59:59.999",5,11,1,1579.039,1600.2,1758.335]
[null,"2020-05-22T11:59:59.999",5,12,1,1587.367,1600.2,1723.289]
[null,"2020-05-22T12:59:59.999",5,13,1,1542.62,1591.1,1529.569]
[null,"2020-05-22T13:59:59.999",5,14,2,1405.2159999999999,1485.4,1251.289]
[null,"2020-05-22T14:59:59.999",5,15,2,1145.5820000000001,1204.0999999999999,879.59799999999996]
[null,"2020-05-22T15:59:59.999",5,16,4,786.51499999999999,824.26,429.83]
[null,"2020-05-22T16:59:59.999",5,17,4,359.267,393.73,108.727]
[null,"2020-05-22T17:59:59.999",5,18,4,68.027000000000001,76.789000000000001,78.662000000000006]
[null,"2020-05-22T18:59:59.999",5,19,4,-1.9336,-2.7E-2,-2.1436999999999999]
[null,"2020-05-22T19:59:59.999",5,20,4,-1.9336,-2.7E-2,-2.1436999999999999]
[null,"2020-05-22T20:59:59.999",5,21,2,-1.9336,-2.7E-2,-2.1436999999999999]
[null,"2020-05-22T21:59:59.999",5,22,2,-1.9336,-2.7E-2,-2.1436999999999999]
[null,"2020-05-22T22:59:59.999",5,23,2,-1.9336,-2.7E-2,-2.1436999999999999]
[null,"2020-05-22T23:59:59.999",5,0,2,-1.9336,-2.7E-2,-2.1436999999999999]
[null,"2020-05-23T00:59:59.999",5,1,2,-1.9336,-2.7E-2,-2.1436999999999999]
[null,"2020-05-23T01:59:59.999",5,2,2,-1.9336,-2.7E-2,-2.1436999999999999]
[null,"2020-05-23T02:59:59.999",5,3,2,-1.9336,-2.7E-2,-2.1436999999999999]
[null,"2020-05-23T03:59:59.999",5,4,2,-1.9336,-2.7E-2,-2.1436999999999999]
[null,"2020-05-23T04:59:59.999",5,5,2,17.576000000000001,24.282,23.061]
[null,"2020-05-23T05:59:59.999",5,6,2,131.00200000000001,152.47999999999999,166.26499999999999]
[null,"2020-05-23T06:59:59.999",5,7,2,502.70100000000002,579.64,784.64400000000001]
[null,"2020-05-23T07:59:59.999",5,8,2,1021.152,1147.8,1486.4929999999999]
[null,"2020-05-23T08:59:59.999",5,9,1,1335.973,1469.5,1723.7850000000001]
[null,"2020-05-23T09:59:59.999",5,10,1,1494.5360000000001,1585.6,1738.9110000000001]
[null,"2020-05-23T10:59:59.999",5,11,1,1544.2539999999999,1592,1725.931]
[null,"2020-05-23T11:59:59.999",5,12,1,1323.403,1391.7,1381.1020000000001]
[null,"2020-05-23T12:59:59.999",5,13,1,1405.365,1475.1,1378.155]
[null,"2020-05-23T13:59:59.999",5,14,2,1246.3,1306.8,1122.4359999999999]
[null,"2020-05-23T14:59:59.999",5,15,2,957.75800000000004,1004.8,767.78700000000003]
[null,"2020-05-23T15:59:59.999",5,16,4,797.48900000000003,835.88,477.17500000000001]
[null,"2020-05-23T16:59:59.999",5,17,4,355.71899999999999,389.45,187.244]
[null,"2020-05-23T17:59:59.999",5,18,4,56.908000000000001,66.171000000000006,66.424000000000007]
[null,"2020-05-23T18:59:59.999",5,19,4,-1.9336,-2.7E-2,-2.1436999999999999]
[null,"2020-05-23T19:59:59.999",5,20,4,-1.9336,-2.7E-2,-2.1436999999999999]
[null,"2020-05-23T20:59:59.999",5,21,2,-1.9336,-2.7E-2,-2.1436999999999999]
[null,"2020-05-23T21:59:59.999",5,22,2,-1.9336,-2.7E-2,-2.1436999999999999]
[null,"2020-05-23T22:59:59.999",5,23,2,-1.9336,-2.7E-2,-2.1436999999999999]
[null,"2020-05-23T23:59:59.999",5,0,{"$f":"INDEX($AE$11:$BB$22,MATCH(C3465,$AD$11:$AD$22,0),MATCH(D3465,$AE$10:$BB$10,0))","v":2},-1.9336,-2.7E-2,-2.1436999999999999]
[null,"2020-05-24T00:59:59.999",{"$f":"MONTH(B3466)","v":5},{"$f":"HOUR(B3466)","v":1},2,-1.9336,-2.7E-2,-2.1436999999999999]
[null,{"$f":"B3466+1/24","v":"2020-05-24T01:59:59.999"},5,2,2,-1.9336,-2.7E-2,-2.1436999999999999]
[null,"2020-05-24T02:59:59.999",5,3,2,-1.9336,-2.7E-2,-2.1436999999999999]
[null,"2020-05-24T03:59:59.999",5,4,2,-1.9336,-2.7E-2,-2.1436999999999999]
[null,"2020-05-24T04:59:59.999",5,5,2,41.19,39.072000000000003,86.38]
[null,"2020-05-24T05:59:59.999",5,6,2,68.197999999999993,76.613,75.647999999999996]
[null,"2020-05-24T06:59:59.999",5,7,2,190.68199999999999,212.73,218.92099999999999]
[null,"2020-05-24T07:59:59.999",5,8,2,423.52800000000002,461.07,496.351]
[null,"2020-05-24T08:59:59.999",5,9,1,579.27700000000004,623.04,678.28]
[null,"2020-05-24T09:59:59.999",5,10,1,998.04600000000005,1066.3,1159.231]
[null,"2020-05-24T10:59:59.999",5,11,1,1333.07,1410.2,1476.038]
[null,"2020-05-24T11:59:59.999",5,12,1,1514.454,1584.4,1579.9]
[null,"2020-05-24T12:59:59.999",5,13,1,1536.5340000000001,1589.2,1522.0930000000001]
[null,"2020-05-24T13:59:59.999",5,14,2,1369.633,1439.3,1224.674]
[null,"2020-05-24T14:59:59.999",5,15,2,1091.1610000000001,1144.0999999999999,869.41499999999996]
[null,"2020-05-24T15:59:59.999",5,16,4,693.28499999999997,728.46,452.46800000000002]
[null,"2020-05-24T16:59:59.999",5,17,4,309.13499999999999,338.95,180.97399999999999]
[null,"2020-05-24T17:59:59.999",5,18,4,56.441000000000003,65.277000000000001,66.861999999999995]
[null,"2020-05-24T18:59:59.999",5,19,4,-1.9336,-2.7E-2,-2.1436999999999999]
[null,"2020-05-24T19:59:59.999",5,20,4,-1.9336,-2.7E-2,-2.1436999999999999]
[null,"2020-05-24T20:59:59.999",5,21,2,-1.9336,-2.7E-2,-2.1436999999999999]
[null,"2020-05-24T21:59:59.999",5,22,2,-1.9336,-2.7E-2,-2.1436999999999999]
[null,"2020-05-24T22:59:59.999",5,23,2,-1.9336,-2.7E-2,-2.1436999999999999]
[null,"2020-05-24T23:59:59.999",5,0,2,-1.9336,-2.7E-2,-2.1436999999999999]
[null,"2020-05-25T00:59:59.999",5,1,2,-1.9336,-2.7E-2,-2.1436999999999999]
[null,"2020-05-25T01:59:59.999",5,2,2,-1.9336,-2.7E-2,-2.1436999999999999]
[null,"2020-05-25T02:59:59.999",5,3,2,-1.9336,-2.7E-2,-2.1436999999999999]
[null,"2020-05-25T03:59:59.999",5,4,2,-1.9336,-2.7E-2,-2.1436999999999999]
[null,"2020-05-25T04:59:59.999",5,5,2,62.966999999999999,58.658000000000001,135.21600000000001]
[null,"2020-05-25T05:59:59.999",5,6,2,219.62799999999999,348.36,670.19100000000003]
[null,"2020-05-25T06:59:59.999",5,7,2,642.99599999999998,774.17,1167.6179999999999]
[null,"2020-05-25T07:59:59.999",5,8,2,1038.3009999999999,1175.9000000000001,1534.1079999999999]
[null,"2020-05-25T08:59:59.999",5,9,1,1338.9829999999999,1477.5,1725.5809999999999]
[null,"2020-05-25T09:59:59.999",5,10,1,1533.8710000000001,1593.2,1759.4929999999999]
[null,"2020-05-25T10:59:59.999",5,11,1,1597.4690000000001,1600.2,1759.5360000000001]
[null,"2020-05-25T11:59:59.999",5,12,1,1599.2449999999999,1600.2,1736.5329999999999]
[null,"2020-05-25T12:59:59.999",5,13,1,1556.546,1594.2,1562.0429999999999]
[null,"2020-05-25T13:59:59.999",5,14,2,1373.8440000000001,1448,1229.423]
[null,"2020-05-25T14:59:59.999",5,15,2,1110.7090000000001,1167.5999999999999,863.83100000000002]
[null,"2020-05-25T15:59:59.999",5,16,4,797.95600000000002,839.04,439.13799999999998]
[null,"2020-05-25T16:59:59.999",5,17,4,378.20400000000001,418.09,81.477999999999994]
[null,"2020-05-25T17:59:59.999",5,18,4,72.787000000000006,82.013999999999996,81.635000000000005]
[null,"2020-05-25T18:59:59.999",5,19,4,-1.9336,-2.7E-2,-2.1436999999999999]
[null,"2020-05-25T19:59:59.999",5,20,4,-1.9336,-2.7E-2,-2.1436999999999999]
[null,"2020-05-25T20:59:59.999",5,21,2,-1.9336,-2.7E-2,-2.1436999999999999]
[null,"2020-05-25T21:59:59.999",5,22,2,-1.9336,-2.7E-2,-2.1436999999999999]
[null,"2020-05-25T22:59:59.999",5,23,2,-1.9336,-2.7E-2,-2.1436999999999999]
[null,"2020-05-25T23:59:59.999",5,0,2,-1.9336,-2.7E-2,-2.1436999999999999]
[null,"2020-05-26T00:59:59.999",5,1,2,-1.9336,-2.7E-2,-2.1436999999999999]
[null,"2020-05-26T01:59:59.999",5,2,2,-1.9336,-2.7E-2,-2.1436999999999999]
[null,"2020-05-26T02:59:59.999",5,3,2,-1.9336,-2.7E-2,-2.1436999999999999]
[null,"2020-05-26T03:59:59.999",5,4,2,-1.9336,-2.7E-2,-2.1436999999999999]
[null,"2020-05-26T04:59:59.999",5,5,2,68.944999999999993,58.31,170.495]
[null,"2020-05-26T05:59:59.999",5,6,2,205.85300000000001,363.63,765.87699999999995]
[null,"2020-05-26T06:59:59.999",5,7,2,643.90800000000002,782.75,1196.2090000000001]
[null,"2020-05-26T07:59:59.999",5,8,2,1021.607,1160.4000000000001,1512.165]
[null,"2020-05-26T08:59:59.999",5,9,1,1321.5170000000001,1460.3,1718.0830000000001]
[null,"2020-05-26T09:59:59.999",5,10,1,1523.068,1591.1,1759.338]
[null,"2020-05-26T10:59:59.999",5,11,1,1577.729,1600.2,1758.2850000000001]
[null,"2020-05-26T11:59:59.999",5,12,1,1583.14,1600.2,1720.9390000000001]
[null,"2020-05-26T12:59:59.999",5,13,1,1538.373,1590.5,1525.97]
[null,"2020-05-26T13:59:59.999",5,14,2,1379.5,1460.3,1230.9480000000001]
[null,"2020-05-26T14:59:59.999",5,15,2,1126.537,1189.2,875.65899999999999]
[null,"2020-05-26T15:59:59.999",5,16,{"$f":"INDEX($AE$11:$BB$22,MATCH(C3529,$AD$11:$AD$22,0),MATCH(D3529,$AE$10:$BB$10,0))","v":4},785.89400000000001,827.06,429.21300000000002]
[null,"2020-05-26T16:59:59.999",{"$f":"MONTH(B3530)","v":5},{"$f":"HOUR(B3530)","v":17},4,370.62,409.16,83.632000000000005]
[null,{"$f":"B3530+1/24","v":"2020-05-26T17:59:59.999"},5,18,4,71.301000000000002,80.5,80.046999999999997]
[null,"2020-05-26T18:59:59.999",5,19,4,-1.9336,-2.7E-2,-2.1436999999999999]
[null,"2020-05-26T19:59:59.999",5,20,4,-1.9336,-2.7E-2,-2.1436999999999999]
[null,"2020-05-26T20:59:59.999",5,21,2,-1.9336,-2.7E-2,-2.1436999999999999]
[null,"2020-05-26T21:59:59.999",5,22,2,-1.9336,-2.7E-2,-2.1436999999999999]
[null,"2020-05-26T22:59:59.999",5,23,2,-1.9336,-2.7E-2,-2.1436999999999999]
[null,"2020-05-26T23:59:59.999",5,0,2,-1.9336,-2.7E-2,-2.1436999999999999]
[null,"2020-05-27T00:59:59.999",5,1,2,-1.9336,-2.7E-2,-2.1436999999999999]
[null,"2020-05-27T01:59:59.999",5,2,2,-1.9336,-2.7E-2,-2.1436999999999999]
[null,"2020-05-27T02:59:59.999",5,3,2,-1.9336,-2.7E-2,-2.1436999999999999]
[null,"2020-05-27T03:59:59.999",5,4,2,-1.9336,-2.7E-2,-2.1436999999999999]
[null,"2020-05-27T04:59:59.999",5,5,2,68.825000000000003,57.814,170.91300000000001]
[null,"2020-05-27T05:59:59.999",5,6,2,206.95599999999999,361.64,755.65300000000002]
[null,"2020-05-27T06:59:59.999",5,7,2,646.17600000000004,786.38,1201.4000000000001]
[null,"2020-05-27T07:59:59.999",5,8,2,1022.52,1160.9000000000001,1512.3209999999999]
[null,"2020-05-27T08:59:59.999",5,9,1,1321.075,1459,1716.8340000000001]
[null,"2020-05-27T09:59:59.999",5,10,1,1481.144,1584.8,1733.9839999999999]
[null,"2020-05-27T10:59:59.999",5,11,1,1565.905,1598.2,1747.6980000000001]
[null,"2020-05-27T11:59:59.999",5,12,1,1575.376,1599.6,1713.989]
[null,"2020-05-27T12:59:59.999",5,13,1,1527.336,1588.2,1506.787]
[null,"2020-05-27T13:59:59.999",5,14,2,1355.8820000000001,1427.3,1211.0809999999999]
[null,"2020-05-27T14:59:59.999",5,15,2,874.62699999999995,918.57,745.73500000000001]
[null,"2020-05-27T15:59:59.999",5,16,4,510.95800000000003,542.04,411.16300000000001]
[null,"2020-05-27T16:59:59.999",5,17,4,252.40299999999999,278.05,175.27]
[null,"2020-05-27T17:59:59.999",5,18,4,47.281999999999996,55.284999999999997,55.98]
[null,"2020-05-27T18:59:59.999",5,19,4,-1.9336,-2.7E-2,-2.1436999999999999]
[null,"2020-05-27T19:59:59.999",5,20,4,-1.9336,-2.7E-2,-2.1436999999999999]
[null,"2020-05-27T20:59:59.999",5,21,2,-1.9336,-2.7E-2,-2.1436999999999999]
[null,"2020-05-27T21:59:59.999",5,22,2,-1.9336,-2.7E-2,-2.1436999999999999]
[null,"2020-05-27T22:59:59.999",5,23,2,-1.9336,-2.7E-2,-2.1436999999999999]
[null,"2020-05-27T23:59:59.999",5,0,2,-1.9336,-2.7E-2,-2.1436999999999999]
[null,"2020-05-28T00:59:59.999",5,1,2,-1.9336,-2.7E-2,-2.1436999999999999]
[null,"2020-05-28T01:59:59.999",5,2,2,-1.9336,-2.7E-2,-2.1436999999999999]
[null,"2020-05-28T02:59:59.999",5,3,2,-1.9336,-2.7E-2,-2.1436999999999999]
[null,"2020-05-28T03:59:59.999",5,4,2,-1.9336,-2.7E-2,-2.1436999999999999]
[null,"2020-05-28T04:59:59.999",5,5,2,40.252000000000002,37.506999999999998,86.35]
[null,"2020-05-28T05:59:59.999",5,6,2,224.26,345.42,646.56399999999996]
[null,"2020-05-28T06:59:59.999",5,7,2,594.72400000000005,709.68,1040.04]
[null,"2020-05-28T07:59:59.999",5,8,2,761.02700000000004,844.67,1045.739]
[null,"2020-05-28T08:59:59.999",5,9,1,1079.67,1174.2,1371.694]
[null,"2020-05-28T09:59:59.999",5,10,1,1329.0070000000001,1426.7,1573.5429999999999]
[null,"2020-05-28T10:59:59.999",5,11,1,1558.095,1595.4,1739.434]
[null,"2020-05-28T11:59:59.999",5,12,1,1577.3489999999999,1599.4,1715.3209999999999]
[null,"2020-05-28T12:59:59.999",5,13,1,1353.662,1424,1330.4449999999999]
[null,"2020-05-28T13:59:59.999",5,14,2,795.91099999999994,836.33,774.81399999999996]
[null,"2020-05-28T14:59:59.999",5,15,2,943.56899999999996,990.2,779.33799999999997]
[null,"2020-05-28T15:59:59.999",5,16,4,748.97400000000005,789.62,471.923]
[null,"2020-05-28T16:59:59.999",5,17,4,358.07900000000001,393.06,163.03399999999999]
[null,"2020-05-28T17:59:59.999",5,18,4,77.828999999999994,88.891999999999996,87.733000000000004]
[null,"2020-05-28T18:59:59.999",5,19,4,-1.9336,-2.7E-2,-2.1436999999999999]
[null,"2020-05-28T19:59:59.999",5,20,4,-1.9336,-2.7E-2,-2.1436999999999999]
[null,"2020-05-28T20:59:59.999",5,21,2,-1.9336,-2.7E-2,-2.1436999999999999]
[null,"2020-05-28T21:59:59.999",5,22,2,-1.9336,-2.7E-2,-2.1436999999999999]
[null,"2020-05-28T22:59:59.999",5,23,2,-1.9336,-2.7E-2,-2.1436999999999999]
[null,"2020-05-28T23:59:59.999",5,0,2,-1.9336,-2.7E-2,-2.1436999999999999]
[null,"2020-05-29T00:59:59.999",5,1,2,-1.9336,-2.7E-2,-2.1436999999999999]
[null,"2020-05-29T01:59:59.999",5,2,2,-1.9336,-2.7E-2,-2.1436999999999999]
[null,"2020-05-29T02:59:59.999",5,3,2,-1.9336,-2.7E-2,-2.1436999999999999]
[null,"2020-05-29T03:59:59.999",5,4,2,-1.9336,-2.7E-2,-2.1436999999999999]
[null,"2020-05-29T04:59:59.999",5,5,2,7.7493999999999996,13.907,12.445]
[null,"2020-05-29T05:59:59.999",5,6,2,63.728999999999999,71.957999999999998,70.736000000000004]
[null,"2020-05-29T06:59:59.999",5,7,2,161.28399999999999,181.07,183.666]
[null,"2020-05-29T07:59:59.999",5,8,{"$f":"INDEX($AE$11:$BB$22,MATCH(C3593,$AD$11:$AD$22,0),MATCH(D3593,$AE$10:$BB$10,0))","v":2},288.17399999999998,316.02999999999997,328.40300000000002]
[null,"2020-05-29T08:59:59.999",{"$f":"MONTH(B3594)","v":5},{"$f":"HOUR(B3594)","v":9},1,468.56400000000002,506.19,532.52]
[null,{"$f":"B3594+1/24","v":"2020-05-29T09:59:59.999"},5,10,1,698.93700000000001,745.46,794.06500000000005]
[null,"2020-05-29T10:59:59.999",5,11,1,1085.7249999999999,1151.7,1205.5830000000001]
[null,"2020-05-29T11:59:59.999",5,12,1,1586.566,1600.2,1724.796]
[null,"2020-05-29T12:59:59.999",5,13,1,1545.7139999999999,1592.3,1545.76]
[null,"2020-05-29T13:59:59.999",5,14,2,1418.289,1504.6,1271.3920000000001]
[null,"2020-05-29T14:59:59.999",5,15,2,1158.748,1225.0999999999999,906.61400000000003]
[null,"2020-05-29T15:59:59.999",5,16,4,811.36900000000003,856.1,457.23599999999999]
[null,"2020-05-29T16:59:59.999",5,17,4,378.839,419.52,92.436999999999998]
[null,"2020-05-29T17:59:59.999",5,18,4,69.412000000000006,79.435000000000002,77.212000000000003]
[null,"2020-05-29T18:59:59.999",5,19,4,-1.9336,-2.7E-2,-2.1436999999999999]
[null,"2020-05-29T19:59:59.999",5,20,4,-1.9336,-2.7E-2,-2.1436999999999999]
[null,"2020-05-29T20:59:59.999",5,21,2,-1.9336,-2.7E-2,-2.1436999999999999]
[null,"2020-05-29T21:59:59.999",5,22,2,-1.9336,-2.7E-2,-2.1436999999999999]
[null,"2020-05-29T22:59:59.999",5,23,2,-1.9336,-2.7E-2,-2.1436999999999999]
[null,"2020-05-29T23:59:59.999",5,0,2,-1.9336,-2.7E-2,-2.1436999999999999]
[null,"2020-05-30T00:59:59.999",5,1,2,-1.9336,-2.7E-2,-2.1436999999999999]
[null,"2020-05-30T01:59:59.999",5,2,2,-1.9336,-2.7E-2,-2.1436999999999999]
[null,"2020-05-30T02:59:59.999",5,3,2,-1.9336,-2.7E-2,-2.1436999999999999]
[null,"2020-05-30T03:59:59.999",5,4,2,-1.9336,-2.7E-2,-2.1436999999999999]
[null,"2020-05-30T04:59:59.999",5,5,2,66.117999999999995,59.593000000000004,147.38300000000001]
[null,"2020-05-30T05:59:59.999",5,6,2,213.38499999999999,337.47,647.13499999999999]
[null,"2020-05-30T06:59:59.999",5,7,2,642.73299999999995,778.49,1174.5060000000001]
[null,"2020-05-30T07:59:59.999",5,8,2,1036.4269999999999,1178.4000000000001,1533.9359999999999]
[null,"2020-05-30T08:59:59.999",5,9,1,1345.6369999999999,1489.3,1731.203]
[null,"2020-05-30T09:59:59.999",5,10,1,1522.787,1591.3,1758.403]
[null,"2020-05-30T10:59:59.999",5,11,1,1591.7950000000001,1600.2,1759.537]
[null,"2020-05-30T11:59:59.999",5,12,1,1595.3219999999999,1600.2,1734.7149999999999]
[null,"2020-05-30T12:59:59.999",5,13,1,1552.453,1593.8,1558.116]
[null,"2020-05-30T13:59:59.999",5,14,2,1402.59,1488.6,1257.3119999999999]
[null,"2020-05-30T14:59:59.999",5,15,2,1144.578,1211,894.13900000000001]
[null,"2020-05-30T15:59:59.999",5,16,4,808.04899999999998,853.64,449.45699999999999]
[null,"2020-05-30T16:59:59.999",5,17,4,384.18799999999999,425.27,101.224]
[null,"2020-05-30T17:59:59.999",5,18,4,76.606999999999999,87.528000000000006,84.91]
[null,"2020-05-30T18:59:59.999",5,19,4,-1.9336,-2.7E-2,-2.1436999999999999]
[null,"2020-05-30T19:59:59.999",5,20,4,-1.9336,-2.7E-2,-2.1436999999999999]
[null,"2020-05-30T20:59:59.999",5,21,2,-1.9336,-2.7E-2,-2.1436999999999999]
[null,"2020-05-30T21:59:59.999",5,22,2,-1.9336,-2.7E-2,-2.1436999999999999]
[null,"2020-05-30T22:59:59.999",5,23,2,-1.9336,-2.7E-2,-2.1436999999999999]
[null,"2020-05-30T23:59:59.999",5,0,2,-1.9336,-2.7E-2,-2.1436999999999999]
[null,"2020-05-31T00:59:59.999",5,1,2,-1.9336,-2.7E-2,-2.1436999999999999]
[null,"2020-05-31T01:59:59.999",5,2,2,-1.9336,-2.7E-2,-2.1436999999999999]
[null,"2020-05-31T02:59:59.999",5,3,2,-1.9336,-2.7E-2,-2.1436999999999999]
[null,"2020-05-31T03:59:59.999",5,4,2,-1.9336,-2.7E-2,-2.1436999999999999]
[null,"2020-05-31T04:59:59.999",5,5,2,72.972999999999999,65.843000000000004,150.71600000000001]
[null,"2020-05-31T05:59:59.999",5,6,2,223.755,360.44,711.94299999999998]
[null,"2020-05-31T06:59:59.999",5,7,2,654.82299999999998,779.95,1180.5450000000001]
[null,"2020-05-31T07:59:59.999",5,8,2,1037.3489999999999,1153.7,1493.91]
[null,"2020-05-31T08:59:59.999",5,9,1,1339.1010000000001,1450.6,1706.4390000000001]
[null,"2020-05-31T09:59:59.999",5,10,1,1530.6859999999999,1589.4,1748.6569999999999]
[null,"2020-05-31T10:59:59.999",5,11,1,1584.4939999999999,1599.7,1749.2239999999999]
[null,"2020-05-31T11:59:59.999",5,12,1,1590.6310000000001,1600,1710.509]
[null,"2020-05-31T12:59:59.999",5,13,1,1547.6559999999999,1589.1,1506.2619999999999]
[null,"2020-05-31T13:59:59.999",5,14,2,1393.9970000000001,1445.8,1216.854]
[null,"2020-05-31T14:59:59.999",5,15,2,1126.2370000000001,1161.3,855.44899999999996]
[null,"2020-05-31T15:59:59.999",5,16,4,795.68899999999996,820.07,443.11399999999998]
[null,"2020-05-31T16:59:59.999",5,17,4,393.34,423.22,119.342]
[null,"2020-05-31T17:59:59.999",5,18,4,83.32,92.646000000000001,88.760999999999996]
[null,"2020-05-31T18:59:59.999",5,19,4,-0.22590000000000002,-2.7E-2,6.2533000000000003]
[null,"2020-05-31T19:59:59.999",5,20,4,-1.9336,-2.7E-2,-2.1436999999999999]
[null,"2020-05-31T20:59:59.999",5,21,2,-1.9336,-2.7E-2,-2.1436999999999999]
[null,"2020-05-31T21:59:59.999",5,22,2,-1.9336,-2.7E-2,-2.1436999999999999]
[null,"2020-05-31T22:59:59.999",5,23,2,-1.9336,-2.7E-2,-2.1436999999999999]
[null,"2020-05-31T23:59:59.999",6,0,{"$f":"INDEX($AE$11:$BB$22,MATCH(C3657,$AD$11:$AD$22,0),MATCH(D3657,$AE$10:$BB$10,0))","v":6},-1.9336,-2.7E-2,-2.1436999999999999]
[null,"2020-06-01T00:59:59.999",{"$f":"MONTH(B3658)","v":6},{"$f":"HOUR(B3658)","v":1},6,-1.9336,-2.7E-2,-2.1436999999999999]
[null,{"$f":"B3658+1/24","v":"2020-06-01T01:59:59.999"},6,2,6,-1.9336,-2.7E-2,-2.1436999999999999]
[null,"2020-06-01T02:59:59.999",6,3,6,-1.9336,-2.7E-2,-2.1436999999999999]
[null,"2020-06-01T03:59:59.999",6,4,6,-1.9336,-2.7E-2,-2.1436999999999999]
[null,"2020-06-01T04:59:59.999",6,5,6,73.218999999999994,63.973999999999997,158.78100000000001]
[null,"2020-06-01T05:59:59.999",6,6,6,216.369,363.64,746.61]
[null,"2020-06-01T06:59:59.999",6,7,6,642.83799999999997,766.84,1164.1669999999999]
[null,"2020-06-01T07:59:59.999",6,8,6,1018.921,1133.0999999999999,1466.134]
[null,"2020-06-01T08:59:59.999",6,9,6,1322.5740000000001,1433,1685.297]
[null,"2020-06-01T09:59:59.999",6,10,6,1517.752,1586.8,1737.2429999999999]
[null,"2020-06-01T10:59:59.999",6,11,6,1578.395,1598.2,1743.3050000000001]
[null,"2020-06-01T11:59:59.999",6,12,6,1582.6310000000001,1597.9,1690.405]
[null,"2020-06-01T12:59:59.999",6,13,6,1537.162,1586.9,1485.654]
[null,"2020-06-01T13:59:59.999",6,14,7,1379.424,1431.9,1202.0719999999999]
[null,"2020-06-01T14:59:59.999",6,15,7,1130.8969999999999,1170.5,861.20699999999999]
[null,"2020-06-01T15:59:59.999",6,16,8,800.19,825.06,434.13200000000001]
[null,"2020-06-01T16:59:59.999",6,17,8,396.06599999999997,426.81,114.205]
[null,"2020-06-01T17:59:59.999",6,18,8,78.38,87.388000000000005,83.944000000000003]
[null,"2020-06-01T18:59:59.999",6,19,8,-1.9336,-2.7E-2,-2.1436999999999999]
[null,"2020-06-01T19:59:59.999",6,20,8,-1.9336,-2.7E-2,-2.1436999999999999]
[null,"2020-06-01T20:59:59.999",6,21,7,-1.9336,-2.7E-2,-2.1436999999999999]
[null,"2020-06-01T21:59:59.999",6,22,7,-1.9336,-2.7E-2,-2.1436999999999999]
[null,"2020-06-01T22:59:59.999",6,23,6,-1.9336,-2.7E-2,-2.1436999999999999]
[null,"2020-06-01T23:59:59.999",6,0,6,-1.9336,-2.7E-2,-2.1436999999999999]
[null,"2020-06-02T00:59:59.999",6,1,6,-1.9336,-2.7E-2,-2.1436999999999999]
[null,"2020-06-02T01:59:59.999",6,2,6,-1.9336,-2.7E-2,-2.1436999999999999]
[null,"2020-06-02T02:59:59.999",6,3,6,-1.9336,-2.7E-2,-2.1436999999999999]
[null,"2020-06-02T03:59:59.999",6,4,6,-1.9336,-2.7E-2,-2.1436999999999999]
[null,"2020-06-02T04:59:59.999",6,5,6,71.974000000000004,63.984999999999999,150.762]
[null,"2020-06-02T05:59:59.999",6,6,6,230.72200000000001,363.93,705.86699999999996]
[null,"2020-06-02T06:59:59.999",6,7,6,649.00199999999995,770.11,1158.346]
[null,"2020-06-02T07:59:59.999",6,8,6,1009.069,1118.0999999999999,1447.895]
[null,"2020-06-02T08:59:59.999",6,9,6,1333.069,1443,1695.183]
[null,"2020-06-02T09:59:59.999",6,10,6,1516.683,1586.1,1734.52]
[null,"2020-06-02T10:59:59.999",6,11,6,1569.7049999999999,1595.9,1734.644]
[null,"2020-06-02T11:59:59.999",6,12,6,1575.84,1596.2,1675.3209999999999]
[null,"2020-06-02T12:59:59.999",6,13,6,1545.7049999999999,1588.8,1503.454]
[null,"2020-06-02T13:59:59.999",6,14,7,1425.2449999999999,1480.5,1244.962]
[null,"2020-06-02T14:59:59.999",6,15,7,1155.9970000000001,1195.2,878.423]
[null,"2020-06-02T15:59:59.999",6,16,8,813.76400000000001,839.64,450.39499999999998]
[null,"2020-06-02T16:59:59.999",6,17,8,399.12200000000001,430.23,122.285]
[null,"2020-06-02T17:59:59.999",6,18,8,87.539000000000001,97.906000000000006,93.281000000000006]
[null,"2020-06-02T18:59:59.999",6,19,8,-1.9336,-2.7E-2,-2.1436999999999999]
[null,"2020-06-02T19:59:59.999",6,20,8,-1.9336,-2.7E-2,-2.1436999999999999]
[null,"2020-06-02T20:59:59.999",6,21,7,-1.9336,-2.7E-2,-2.1436999999999999]
[null,"2020-06-02T21:59:59.999",6,22,7,-1.9336,-2.7E-2,-2.1436999999999999]
[null,"2020-06-02T22:59:59.999",6,23,6,-1.9336,-2.7E-2,-2.1436999999999999]
[null,"2020-06-02T23:59:59.999",6,0,6,-1.9336,-2.7E-2,-2.1436999999999999]
[null,"2020-06-03T00:59:59.999",6,1,6,-1.9336,-2.7E-2,-2.1436999999999999]
[null,"2020-06-03T01:59:59.999",6,2,6,-1.9336,-2.7E-2,-2.1436999999999999]
[null,"2020-06-03T02:59:59.999",6,3,6,-1.9336,-2.7E-2,-2.1436999999999999]
[null,"2020-06-03T03:59:59.999",6,4,6,-1.9336,-2.7E-2,-2.1436999999999999]
[null,"2020-06-03T04:59:59.999",6,5,6,11.542,17.224,15.539]
[null,"2020-06-03T05:59:59.999",6,6,6,89.86,97.768000000000001,96.986999999999995]
[null,"2020-06-03T06:59:59.999",6,7,6,352.08,387.28,458.37]
[null,"2020-06-03T07:59:59.999",6,8,6,908.20899999999995,992.9,1251.3109999999999]
[null,"2020-06-03T08:59:59.999",6,9,6,1307.097,1407.4,1657.4880000000001]
[null,"2020-06-03T09:59:59.999",6,10,6,1508.117,1584.7,1730.366]
[null,"2020-06-03T10:59:59.999",6,11,6,1570.645,1595.1,1734.241]
[null,"2020-06-03T11:59:59.999",6,12,6,1601.047,1600.2,1722.2329999999999]
[null,"2020-06-03T12:59:59.999",6,13,6,1563.2750000000001,1592.5,1537.4870000000001]
[null,"2020-06-03T13:59:59.999",6,14,7,1442.3119999999999,1499.7,1260.1569999999999]
[null,"2020-06-03T14:59:59.999",6,15,7,1176.9749999999999,1219.9000000000001,901.27099999999996]
[null,"2020-06-03T15:59:59.999",6,16,{"$f":"INDEX($AE$11:$BB$22,MATCH(C3721,$AD$11:$AD$22,0),MATCH(D3721,$AE$10:$BB$10,0))","v":8},826.89499999999998,853.74,460.80500000000001]
[null,"2020-06-03T16:59:59.999",{"$f":"MONTH(B3722)","v":6},{"$f":"HOUR(B3722)","v":17},8,399.846,433.22,101.587]
[null,{"$f":"B3722+1/24","v":"2020-06-03T17:59:59.999"},6,18,8,77.09,87.26,81.188000000000002]
[null,"2020-06-03T18:59:59.999",6,19,8,-6.8562999999999999E-2,-2.7E-2,6.4974999999999996]
[null,"2020-06-03T19:59:59.999",6,20,8,-1.9336,-2.7E-2,-2.1436999999999999]
[null,"2020-06-03T20:59:59.999",6,21,7,-1.9336,-2.7E-2,-2.1436999999999999]
[null,"2020-06-03T21:59:59.999",6,22,7,-1.9336,-2.7E-2,-2.1436999999999999]
[null,"2020-06-03T22:59:59.999",6,23,6,-1.9336,-2.7E-2,-2.1436999999999999]
[null,"2020-06-03T23:59:59.999",6,0,6,-1.9336,-2.7E-2,-2.1436999999999999]
[null,"2020-06-04T00:59:59.999",6,1,6,-1.9336,-2.7E-2,-2.1436999999999999]
[null,"2020-06-04T01:59:59.999",6,2,6,-1.9336,-2.7E-2,-2.1436999999999999]
[null,"2020-06-04T02:59:59.999",6,3,6,-1.9336,-2.7E-2,-2.1436999999999999]
[null,"2020-06-04T03:59:59.999",6,4,6,-1.9336,-2.7E-2,-2.1436999999999999]
[null,"2020-06-04T04:59:59.999",6,5,6,20.012,25.908999999999999,24.36]
[null,"2020-06-04T05:59:59.999",6,6,6,136.47,152.1,158.482]
[null,"2020-06-04T06:59:59.999",6,7,6,452.108,504.9,644.93899999999996]
[null,"2020-06-04T07:59:59.999",6,8,6,978.572,1076,1373.576]
[null,"2020-06-04T08:59:59.999",6,9,6,1304.7270000000001,1407.9,1657.77]
[null,"2020-06-04T09:59:59.999",6,10,6,1519.3989999999999,1586.6,1739.0429999999999]
[null,"2020-06-04T10:59:59.999",6,11,6,1564.44,1593.5,1728.425]
[null,"2020-06-04T11:59:59.999",6,12,6,1578.6020000000001,1596.2,1681.0609999999999]
[null,"2020-06-04T12:59:59.999",6,13,6,1564.8689999999999,1592.7,1542.8320000000001]
[null,"2020-06-04T13:59:59.999",6,14,7,1428.549,1485.4,1250.296]
[null,"2020-06-04T14:59:59.999",6,15,7,1161.7529999999999,1204.4000000000001,892.09799999999996]
[null,"2020-06-04T15:59:59.999",6,16,8,810.58500000000004,837.35,454.17]
[null,"2020-06-04T16:59:59.999",6,17,8,392.38,425.32,101.97]
[null,"2020-06-04T17:59:59.999",6,18,8,77.13,87.605999999999995,81.31]
[null,"2020-06-04T18:59:59.999",6,19,8,0.78433000000000008,-2.7E-2,7.6471]
[null,"2020-06-04T19:59:59.999",6,20,8,-1.9336,-2.7E-2,-2.1436999999999999]
[null,"2020-06-04T20:59:59.999",6,21,7,-1.9336,-2.7E-2,-2.1436999999999999]
[null,"2020-06-04T21:59:59.999",6,22,7,-1.9336,-2.7E-2,-2.1436999999999999]
[null,"2020-06-04T22:59:59.999",6,23,6,-1.9336,-2.7E-2,-2.1436999999999999]
[null,"2020-06-04T23:59:59.999",6,0,6,-1.9336,-2.7E-2,-2.1436999999999999]
[null,"2020-06-05T00:59:59.999",6,1,6,-1.9336,-2.7E-2,-2.1436999999999999]
[null,"2020-06-05T01:59:59.999",6,2,6,-1.9336,-2.7E-2,-2.1436999999999999]
[null,"2020-06-05T02:59:59.999",6,3,6,-1.9336,-2.7E-2,-2.1436999999999999]
[null,"2020-06-05T03:59:59.999",6,4,6,-1.9336,-2.7E-2,-2.1436999999999999]
[null,"2020-06-05T04:59:59.999",6,5,6,11.551,17.231000000000002,15.555]
[null,"2020-06-05T05:59:59.999",6,6,6,99.215000000000003,108.4,108.31]
[null,"2020-06-05T06:59:59.999",6,7,6,230.04499999999999,249.16,258.57600000000002]
[null,"2020-06-05T07:59:59.999",6,8,6,551.726,591.05999999999995,671.98500000000001]
[null,"2020-06-05T08:59:59.999",6,9,6,1184.402,1264.9000000000001,1473.2560000000001]
[null,"2020-06-05T09:59:59.999",6,10,6,1542.6869999999999,1591.6,1759.442]
[null,"2020-06-05T10:59:59.999",6,11,6,1593.585,1600.2,1758.3989999999999]
[null,"2020-06-05T11:59:59.999",6,12,6,1600.4449999999999,1600.2,1722.5039999999999]
[null,"2020-06-05T12:59:59.999",6,13,6,1551.761,1589.5,1515.37]
[null,"2020-06-05T13:59:59.999",6,14,7,1409.7909999999999,1460.1,1237.3800000000001]
[null,"2020-06-05T14:59:59.999",6,15,7,1121.306,1157,868.59299999999996]
[null,"2020-06-05T15:59:59.999",6,16,8,798.101,823.76,464.54700000000003]
[null,"2020-06-05T16:59:59.999",6,17,8,376.892,406.6,146.423]
[null,"2020-06-05T17:59:59.999",6,18,8,85.590999999999994,96.325000000000003,91.010999999999996]
[null,"2020-06-05T18:59:59.999",6,19,8,-1.9336,-2.7E-2,-2.1436999999999999]
[null,"2020-06-05T19:59:59.999",6,20,8,-1.9336,-2.7E-2,-2.1436999999999999]
[null,"2020-06-05T20:59:59.999",6,21,7,-1.9336,-2.7E-2,-2.1436999999999999]
[null,"2020-06-05T21:59:59.999",6,22,7,-1.9336,-2.7E-2,-2.1436999999999999]
[null,"2020-06-05T22:59:59.999",6,23,6,-1.9336,-2.7E-2,-2.1436999999999999]
[null,"2020-06-05T23:59:59.999",6,0,6,-1.9336,-2.7E-2,-2.1436999999999999]
[null,"2020-06-06T00:59:59.999",6,1,6,-1.9336,-2.7E-2,-2.1436999999999999]
[null,"2020-06-06T01:59:59.999",6,2,6,-1.9336,-2.7E-2,-2.1436999999999999]
[null,"2020-06-06T02:59:59.999",6,3,6,-1.9336,-2.7E-2,-2.1436999999999999]
[null,"2020-06-06T03:59:59.999",6,4,6,-1.9336,-2.7E-2,-2.1436999999999999]
[null,"2020-06-06T04:59:59.999",6,5,6,11.477,17.120999999999999,15.477]
[null,"2020-06-06T05:59:59.999",6,6,6,71.855000000000004,78.239000000000004,76.593999999999994]
[null,"2020-06-06T06:59:59.999",6,7,6,161.53700000000001,176.68,177.54499999999999]
[null,"2020-06-06T07:59:59.999",6,8,{"$f":"INDEX($AE$11:$BB$22,MATCH(C3785,$AD$11:$AD$22,0),MATCH(D3785,$AE$10:$BB$10,0))","v":6},296.923,317.20999999999998,327.36700000000002]
[null,"2020-06-06T08:59:59.999",{"$f":"MONTH(B3786)","v":6},{"$f":"HOUR(B3786)","v":9},6,446.57400000000001,470.96,490.46]
[null,{"$f":"B3786+1/24","v":"2020-06-06T09:59:59.999"},6,10,6,682.81,712.12,752.94799999999998]
[null,"2020-06-06T10:59:59.999",6,11,6,1126.83,1169.5999999999999,1216.973]
[null,"2020-06-06T11:59:59.999",6,12,6,1591.973,1599.6,1714.85]
[null,"2020-06-06T12:59:59.999",6,13,6,1567.0809999999999,1593.5,1549.069]
[null,"2020-06-06T13:59:59.999",6,14,7,1437.9459999999999,1496.2,1261.1320000000001]
[null,"2020-06-06T14:59:59.999",6,15,7,1181.5740000000001,1226.0999999999999,909.35199999999998]
[null,"2020-06-06T15:59:59.999",6,16,8,837.83600000000001,867.01,464.45100000000002]
[null,"2020-06-06T16:59:59.999",6,17,8,411.279,447.51,91.957999999999998]
[null,"2020-06-06T17:59:59.999",6,18,8,83.501999999999995,95.209000000000003,87.076999999999998]
[null,"2020-06-06T18:59:59.999",6,19,8,-1.9336,-2.7E-2,-2.1436999999999999]
[null,"2020-06-06T19:59:59.999",6,20,8,-1.9336,-2.7E-2,-2.1436999999999999]
[null,"2020-06-06T20:59:59.999",6,21,7,-1.9336,-2.7E-2,-2.1436999999999999]
[null,"2020-06-06T21:59:59.999",6,22,7,-1.9336,-2.7E-2,-2.1436999999999999]
[null,"2020-06-06T22:59:59.999",6,23,6,-1.9336,-2.7E-2,-2.1436999999999999]
[null,"2020-06-06T23:59:59.999",6,0,6,-1.9336,-2.7E-2,-2.1436999999999999]
[null,"2020-06-07T00:59:59.999",6,1,6,-1.9336,-2.7E-2,-2.1436999999999999]
[null,"2020-06-07T01:59:59.999",6,2,6,-1.9336,-2.7E-2,-2.1436999999999999]
[null,"2020-06-07T02:59:59.999",6,3,6,-1.9336,-2.7E-2,-2.1436999999999999]
[null,"2020-06-07T03:59:59.999",6,4,6,-1.9336,-2.7E-2,-2.1436999999999999]
[null,"2020-06-07T04:59:59.999",6,5,6,11.557,17.236999999999998,15.57]
[null,"2020-06-07T05:59:59.999",6,6,6,97.664000000000001,106.63,106.39700000000001]
[null,"2020-06-07T06:59:59.999",6,7,6,270.892,293.74,314.08600000000001]
[null,"2020-06-07T07:59:59.999",6,8,6,718.57600000000002,778.38,948.32299999999998]
[null,"2020-06-07T08:59:59.999",6,9,6,1332.143,1433.4,1685.3689999999999]
[null,"2020-06-07T09:59:59.999",6,10,6,1543.941,1592.5,1758.691]
[null,"2020-06-07T10:59:59.999",6,11,6,1602.0139999999999,1600.2,1759.663]
[null,"2020-06-07T11:59:59.999",6,12,6,1610.2929999999999,1600.2,1732.39]
[null,"2020-06-07T12:59:59.999",6,13,6,1568.827,1594,1553.4570000000001]
[null,"2020-06-07T13:59:59.999",6,14,7,1437.2760000000001,1495.1,1260.5650000000001]
[null,"2020-06-07T14:59:59.999",6,15,7,1164.6199999999999,1206.8,892.42700000000002]
[null,"2020-06-07T15:59:59.999",6,16,8,820.721,849.35,462.40100000000001]
[null,"2020-06-07T16:59:59.999",6,17,8,400.87200000000001,434.92,106.79]
[null,"2020-06-07T17:59:59.999",6,18,8,81.685000000000002,93.381,85.82]
[null,"2020-06-07T18:59:59.999",6,19,8,-1.9336,-2.7E-2,-2.1436999999999999]
[null,"2020-06-07T19:59:59.999",6,20,8,-1.9336,-2.7E-2,-2.1436999999999999]
[null,"2020-06-07T20:59:59.999",6,21,7,-1.9336,-2.7E-2,-2.1436999999999999]
[null,"2020-06-07T21:59:59.999",6,22,7,-1.9336,-2.7E-2,-2.1436999999999999]
[null,"2020-06-07T22:59:59.999",6,23,6,-1.9336,-2.7E-2,-2.1436999999999999]
[null,"2020-06-07T23:59:59.999",6,0,6,-1.9336,-2.7E-2,-2.1436999999999999]
[null,"2020-06-08T00:59:59.999",6,1,6,-1.9336,-2.7E-2,-2.1436999999999999]
[null,"2020-06-08T01:59:59.999",6,2,6,-1.9336,-2.7E-2,-2.1436999999999999]
[null,"2020-06-08T02:59:59.999",6,3,6,-1.9336,-2.7E-2,-2.1436999999999999]
[null,"2020-06-08T03:59:59.999",6,4,6,-1.9336,-2.7E-2,-2.1436999999999999]
[null,"2020-06-08T04:59:59.999",6,5,6,11.558999999999999,17.239999999999998,15.576000000000001]
[null,"2020-06-08T05:59:59.999",6,6,6,118.59699999999999,132.21,137.696]
[null,"2020-06-08T06:59:59.999",6,7,6,424.94499999999999,472.43,593.45899999999995]
[null,"2020-06-08T07:59:59.999",6,8,6,881.21199999999999,964.75,1215.9110000000001]
[null,"2020-06-08T08:59:59.999",6,9,6,1330.922,1437.9,1692.998]
[null,"2020-06-08T09:59:59.999",6,10,6,1533.9269999999999,1590.4,1754.104]
[null,"2020-06-08T10:59:59.999",6,11,6,1588.3040000000001,1600.2,1756.2639999999999]
[null,"2020-06-08T11:59:59.999",6,12,6,1596.203,1600.2,1719.3389999999999]
[null,"2020-06-08T12:59:59.999",6,13,6,1550.6089999999999,1590,1519.297]
[null,"2020-06-08T13:59:59.999",6,14,7,1443.7360000000001,1502.6,1266.0509999999999]
[null,"2020-06-08T14:59:59.999",6,15,7,1183.567,1229.5,910.08399999999995]
[null,"2020-06-08T15:59:59.999",6,16,8,838.16700000000003,868.21,466.20699999999999]
[null,"2020-06-08T16:59:59.999",6,17,8,414.23200000000003,450.49,98.608999999999995]
[null,"2020-06-08T17:59:59.999",6,18,8,84.397000000000006,96.881,86.936000000000007]
[null,"2020-06-08T18:59:59.999",6,19,8,-0.76652999999999993,-2.7E-2,-2.1436999999999999]
[null,"2020-06-08T19:59:59.999",6,20,8,-1.9336,-2.7E-2,-2.1436999999999999]
[null,"2020-06-08T20:59:59.999",6,21,7,-1.9336,-2.7E-2,-2.1436999999999999]
[null,"2020-06-08T21:59:59.999",6,22,7,-1.9336,-2.7E-2,-2.1436999999999999]
[null,"2020-06-08T22:59:59.999",6,23,6,-1.9336,-2.7E-2,-2.1436999999999999]
[null,"2020-06-08T23:59:59.999",6,0,{"$f":"INDEX($AE$11:$BB$22,MATCH(C3849,$AD$11:$AD$22,0),MATCH(D3849,$AE$10:$BB$10,0))","v":6},-1.9336,-2.7E-2,-2.1436999999999999]
[null,"2020-06-09T00:59:59.999",{"$f":"MONTH(B3850)","v":6},{"$f":"HOUR(B3850)","v":1},6,-1.9336,-2.7E-2,-2.1436999999999999]
[null,{"$f":"B3850+1/24","v":"2020-06-09T01:59:59.999"},6,2,6,-1.9336,-2.7E-2,-2.1436999999999999]
[null,"2020-06-09T02:59:59.999",6,3,6,-1.9336,-2.7E-2,-2.1436999999999999]
[null,"2020-06-09T03:59:59.999",6,4,6,-1.9336,-2.7E-2,-2.1436999999999999]
[null,"2020-06-09T04:59:59.999",6,5,6,11.406000000000001,17.016999999999999,15.41]
[null,"2020-06-09T05:59:59.999",6,6,6,80.222999999999999,87.113,85.772999999999996]
[null,"2020-06-09T06:59:59.999",6,7,6,181.107,197.39,200.13800000000001]
[null,"2020-06-09T07:59:59.999",6,8,6,277.786,297.56,306.42700000000002]
[null,"2020-06-09T08:59:59.999",6,9,6,507.59100000000001,535.32000000000005,576.03399999999999]
[null,"2020-06-09T09:59:59.999",6,10,6,1126.1220000000001,1179.5,1286.0039999999999]
[null,"2020-06-09T10:59:59.999",6,11,6,1363.212,1418.3,1478.125]
[null,"2020-06-09T11:59:59.999",6,12,6,1588.269,1598.8,1708.75]
[null,"2020-06-09T12:59:59.999",6,13,6,1565.0809999999999,1593,1547.4549999999999]
[null,"2020-06-09T13:59:59.999",6,14,7,1453.7570000000001,1513.6,1276.1990000000001]
[null,"2020-06-09T14:59:59.999",6,15,7,1182.204,1228.2,912.11699999999996]
[null,"2020-06-09T15:59:59.999",6,16,8,844.91800000000001,876.54,477.22300000000001]
[null,"2020-06-09T16:59:59.999",6,17,8,410.59100000000001,446.77,98.043000000000006]
[null,"2020-06-09T17:59:59.999",6,18,8,82.429000000000002,95.554000000000002,83.587999999999994]
[null,"2020-06-09T18:59:59.999",6,19,8,0.88671,-2.7E-2,7.7721]
[null,"2020-06-09T19:59:59.999",6,20,8,-1.9336,-2.7E-2,-2.1436999999999999]
[null,"2020-06-09T20:59:59.999",6,21,7,-1.9336,-2.7E-2,-2.1436999999999999]
[null,"2020-06-09T21:59:59.999",6,22,7,-1.9336,-2.7E-2,-2.1436999999999999]
[null,"2020-06-09T22:59:59.999",6,23,6,-1.9336,-2.7E-2,-2.1436999999999999]
[null,"2020-06-09T23:59:59.999",6,0,6,-1.9336,-2.7E-2,-2.1436999999999999]
[null,"2020-06-10T00:59:59.999",6,1,6,-1.9336,-2.7E-2,-2.1436999999999999]
[null,"2020-06-10T01:59:59.999",6,2,6,-1.9336,-2.7E-2,-2.1436999999999999]
[null,"2020-06-10T02:59:59.999",6,3,6,-1.9336,-2.7E-2,-2.1436999999999999]
[null,"2020-06-10T03:59:59.999",6,4,6,-1.9336,-2.7E-2,-2.1436999999999999]
[null,"2020-06-10T04:59:59.999",6,5,6,11.561,17.245000000000001,15.587]
[null,"2020-06-10T05:59:59.999",6,6,6,91.432000000000002,99.545000000000002,98.846000000000004]
[null,"2020-06-10T06:59:59.999",6,7,6,212.279,230.17,236.42599999999999]
[null,"2020-06-10T07:59:59.999",6,8,6,333.08600000000001,355.45,371.58499999999998]
[null,"2020-06-10T08:59:59.999",6,9,6,647.73699999999997,682.28,742.87800000000004]
[null,"2020-06-10T09:59:59.999",6,10,6,905.64200000000005,945.12,1018.704]
[null,"2020-06-10T10:59:59.999",6,11,6,1293.3240000000001,1346.4,1401.2249999999999]
[null,"2020-06-10T11:59:59.999",6,12,6,1578.43,1595.7,1682.269]
[null,"2020-06-10T12:59:59.999",6,13,6,1561.1089999999999,1592.2,1542.153]
[null,"2020-06-10T13:59:59.999",6,14,7,1422.6,1480.1,1253.2439999999999]
[null,"2020-06-10T14:59:59.999",6,15,7,1177.5820000000001,1221.3,906.125]
[null,"2020-06-10T15:59:59.999",6,16,8,830.91200000000003,862.05,476.02100000000002]
[null,"2020-06-10T16:59:59.999",6,17,8,412.83699999999999,446.57,131.04400000000001]
[null,"2020-06-10T17:59:59.999",6,18,8,87.617999999999995,100.48,92.02]
[null,"2020-06-10T18:59:59.999",6,19,8,0.86282999999999999,-2.7E-2,7.7468000000000004]
[null,"2020-06-10T19:59:59.999",6,20,8,-1.9336,-2.7E-2,-2.1436999999999999]
[null,"2020-06-10T20:59:59.999",6,21,7,-1.9336,-2.7E-2,-2.1436999999999999]
[null,"2020-06-10T21:59:59.999",6,22,7,-1.9336,-2.7E-2,-2.1436999999999999]
[null,"2020-06-10T22:59:59.999",6,23,6,-1.9336,-2.7E-2,-2.1436999999999999]
[null,"2020-06-10T23:59:59.999",6,0,6,-1.9336,-2.7E-2,-2.1436999999999999]
[null,"2020-06-11T00:59:59.999",6,1,6,-1.9336,-2.7E-2,-2.1436999999999999]
[null,"2020-06-11T01:59:59.999",6,2,6,-1.9336,-2.7E-2,-2.1436999999999999]
[null,"2020-06-11T02:59:59.999",6,3,6,-1.9336,-2.7E-2,-2.1436999999999999]
[null,"2020-06-11T03:59:59.999",6,4,6,-1.9336,-2.7E-2,-2.1436999999999999]
[null,"2020-06-11T04:59:59.999",6,5,6,11.561,17.248000000000001,15.592000000000001]
[null,"2020-06-11T05:59:59.999",6,6,6,102.309,111.93,112.102]
[null,"2020-06-11T06:59:59.999",6,7,6,230.452,250.01,260.27800000000002]
[null,"2020-06-11T07:59:59.999",6,8,6,463.73099999999999,494.21,547.202]
[null,"2020-06-11T08:59:59.999",6,9,6,940.16300000000001,998.08,1144.079]
[null,"2020-06-11T09:59:59.999",6,10,6,1421.5340000000001,1499.8,1647.576]
[null,"2020-06-11T10:59:59.999",6,11,6,1577.5650000000001,1597.1,1743.6659999999999]
[null,"2020-06-11T11:59:59.999",6,12,6,1589.4780000000001,1599.3,1713.076]
[null,"2020-06-11T12:59:59.999",6,13,6,1551.3869999999999,1589.6,1519.7260000000001]
[null,"2020-06-11T13:59:59.999",6,14,7,1432.635,1490.9,1262.329]
[null,"2020-06-11T14:59:59.999",6,15,7,1180.711,1227.0999999999999,914.26900000000001]
[null,"2020-06-11T15:59:59.999",6,16,{"$f":"INDEX($AE$11:$BB$22,MATCH(C3913,$AD$11:$AD$22,0),MATCH(D3913,$AE$10:$BB$10,0))","v":8},841.053,873.22,478.37299999999999]
[null,"2020-06-11T16:59:59.999",{"$f":"MONTH(B3914)","v":6},{"$f":"HOUR(B3914)","v":17},8,414.18200000000002,450.47,104.407]
[null,{"$f":"B3914+1/24","v":"2020-06-11T17:59:59.999"},6,18,8,85.864999999999995,99.186000000000007,82.341999999999999]
[null,"2020-06-11T18:59:59.999",6,19,8,3.9991999999999996,-2.7E-2,10.851000000000001]
[null,"2020-06-11T19:59:59.999",6,20,8,-1.9336,-2.7E-2,-2.1436999999999999]
[null,"2020-06-11T20:59:59.999",6,21,7,-1.9336,-2.7E-2,-2.1436999999999999]
[null,"2020-06-11T21:59:59.999",6,22,7,-1.9336,-2.7E-2,-2.1436999999999999]
[null,"2020-06-11T22:59:59.999",6,23,6,-1.9336,-2.7E-2,-2.1436999999999999]
[null,"2020-06-11T23:59:59.999",6,0,6,-1.9336,-2.7E-2,-2.1436999999999999]
[null,"2020-06-12T00:59:59.999",6,1,6,-1.9336,-2.7E-2,-2.1436999999999999]
[null,"2020-06-12T01:59:59.999",6,2,6,-1.9336,-2.7E-2,-2.1436999999999999]
[null,"2020-06-12T02:59:59.999",6,3,6,-1.9336,-2.7E-2,-2.1436999999999999]
[null,"2020-06-12T03:59:59.999",6,4,6,-1.9336,-2.7E-2,-2.1436999999999999]
[null,"2020-06-12T04:59:59.999",6,5,6,41.186999999999998,45.970999999999997,58.146000000000001]
[null,"2020-06-12T05:59:59.999",6,6,6,222.45400000000001,301.70999999999998,493.25900000000001]
[null,"2020-06-12T06:59:59.999",6,7,6,588.20799999999997,685.82,982.48500000000001]
[null,"2020-06-12T07:59:59.999",6,8,6,978.447,1083,1396.4870000000001]
[null,"2020-06-12T08:59:59.999",6,9,6,1310.9549999999999,1419.9,1676.299]
[null,"2020-06-12T09:59:59.999",6,10,6,1515.5530000000001,1586.4,1737.3620000000001]
[null,"2020-06-12T10:59:59.999",6,11,6,1579.153,1598.7,1747.4559999999999]
[null,"2020-06-12T11:59:59.999",6,12,6,1584.9860000000001,1598.9,1706.615]
[null,"2020-06-12T12:59:59.999",6,13,6,1549.287,1589.9,1519.769]
[null,"2020-06-12T13:59:59.999",6,14,7,1428.616,1487.6,1257.1279999999999]
[null,"2020-06-12T14:59:59.999",6,15,7,1169.0070000000001,1215.0999999999999,905.16700000000003]
[null,"2020-06-12T15:59:59.999",6,16,8,828.33100000000002,860.25,469.30500000000001]
[null,"2020-06-12T16:59:59.999",6,17,8,413.21800000000002,450.6,90.838999999999999]
[null,"2020-06-12T17:59:59.999",6,18,8,89.563999999999993,103.77,91.052000000000007]
[null,"2020-06-12T18:59:59.999",6,19,8,-0.80157,-2.7E-2,-2.1436999999999999]
[null,"2020-06-12T19:59:59.999",6,20,8,-1.9336,-2.7E-2,-2.1436999999999999]
[null,"2020-06-12T20:59:59.999",6,21,7,-1.9336,-2.7E-2,-2.1436999999999999]
[null,"2020-06-12T21:59:59.999",6,22,7,-1.9336,-2.7E-2,-2.1436999999999999]
[null,"2020-06-12T22:59:59.999",6,23,6,-1.9336,-2.7E-2,-2.1436999999999999]
[null,"2020-06-12T23:59:59.999",6,0,6,-1.9336,-2.7E-2,-2.1436999999999999]
[null,"2020-06-13T00:59:59.999",6,1,6,-1.9336,-2.7E-2,-2.1436999999999999]
[null,"2020-06-13T01:59:59.999",6,2,6,-1.9336,-2.7E-2,-2.1436999999999999]
[null,"2020-06-13T02:59:59.999",6,3,6,-1.9336,-2.7E-2,-2.1436999999999999]
[null,"2020-06-13T03:59:59.999",6,4,6,-1.9336,-2.7E-2,-2.1436999999999999]
[null,"2020-06-13T04:59:59.999",6,5,6,61.927999999999997,61.552999999999997,101.879]
[null,"2020-06-13T05:59:59.999",6,6,6,229.523,331.35,581.00900000000001]
[null,"2020-06-13T06:59:59.999",6,7,6,628.45799999999997,747.98,1116.828]
[null,"2020-06-13T07:59:59.999",6,8,6,1021.898,1139.8,1482.1420000000001]
[null,"2020-06-13T08:59:59.999",6,9,6,1338.952,1455.5,1715.1010000000001]
[null,"2020-06-13T09:59:59.999",6,10,6,1540.1949999999999,1592.1,1758.5260000000001]
[null,"2020-06-13T10:59:59.999",6,11,6,1594.595,1600.2,1758.789]
[null,"2020-06-13T11:59:59.999",6,12,6,1599.818,1600.2,1724.09]
[null,"2020-06-13T12:59:59.999",6,13,6,1563.7080000000001,1593,1546.087]
[null,"2020-06-13T13:59:59.999",6,14,7,1436.9159999999999,1497.2,1262.71]
[null,"2020-06-13T14:59:59.999",6,15,7,1178.5640000000001,1225.7,910.33799999999997]
[null,"2020-06-13T15:59:59.999",6,16,8,836.60900000000004,869.43,469.86500000000001]
[null,"2020-06-13T16:59:59.999",6,17,8,411.30500000000001,448.57,89.33]
[null,"2020-06-13T17:59:59.999",6,18,8,82.418999999999997,96.305000000000007,77.899000000000001]
[null,"2020-06-13T18:59:59.999",6,19,8,3.8558000000000003,-2.7E-2,10.632999999999999]
[null,"2020-06-13T19:59:59.999",6,20,8,-1.9336,-2.7E-2,-2.1436999999999999]
[null,"2020-06-13T20:59:59.999",6,21,7,-1.9336,-2.7E-2,-2.1436999999999999]
[null,"2020-06-13T21:59:59.999",6,22,7,-1.9336,-2.7E-2,-2.1436999999999999]
[null,"2020-06-13T22:59:59.999",6,23,6,-1.9336,-2.7E-2,-2.1436999999999999]
[null,"2020-06-13T23:59:59.999",6,0,6,-1.9336,-2.7E-2,-2.1436999999999999]
[null,"2020-06-14T00:59:59.999",6,1,6,-1.9336,-2.7E-2,-2.1436999999999999]
[null,"2020-06-14T01:59:59.999",6,2,6,-1.9336,-2.7E-2,-2.1436999999999999]
[null,"2020-06-14T02:59:59.999",6,3,6,-1.9336,-2.7E-2,-2.1436999999999999]
[null,"2020-06-14T03:59:59.999",6,4,6,-1.9336,-2.7E-2,-2.1436999999999999]
[null,"2020-06-14T04:59:59.999",6,5,6,72.47,57.343000000000004,167.95099999999999]
[null,"2020-06-14T05:59:59.999",6,6,6,213.74199999999999,364.3,750.85699999999997]
[null,"2020-06-14T06:59:59.999",6,7,6,639.798,773.17,1179.2570000000001]
[null,"2020-06-14T07:59:59.999",6,8,{"$f":"INDEX($AE$11:$BB$22,MATCH(C3977,$AD$11:$AD$22,0),MATCH(D3977,$AE$10:$BB$10,0))","v":6},1024.0940000000001,1145.5999999999999,1488.5630000000001]
[null,"2020-06-14T08:59:59.999",{"$f":"MONTH(B3978)","v":6},{"$f":"HOUR(B3978)","v":9},6,1327.509,1444.2,1703.77]
[null,{"$f":"B3978+1/24","v":"2020-06-14T09:59:59.999"},6,10,6,1525.6179999999999,1589,1748.348]
[null,"2020-06-14T10:59:59.999",6,11,6,1581.4469999999999,1599.4,1750.144]
[null,"2020-06-14T11:59:59.999",6,12,6,1585.1469999999999,1599.1,1707.248]
[null,"2020-06-14T12:59:59.999",6,13,6,1549.989,1590.1,1520.3910000000001]
[null,"2020-06-14T13:59:59.999",6,14,7,1401.463,1459,1234.1220000000001]
[null,"2020-06-14T14:59:59.999",6,15,7,1143.9590000000001,1188.7,888.07899999999995]
[null,"2020-06-14T15:59:59.999",6,16,8,810.10400000000004,841.25,462.26499999999999]
[null,"2020-06-14T16:59:59.999",6,17,8,410.35300000000001,446.69,95.575999999999993]
[null,"2020-06-14T17:59:59.999",6,18,8,91.070999999999998,105.13,93.239000000000004]
[null,"2020-06-14T18:59:59.999",6,19,8,-1.9336,-2.7E-2,-2.1436999999999999]
[null,"2020-06-14T19:59:59.999",6,20,8,-1.9336,-2.7E-2,-2.1436999999999999]
[null,"2020-06-14T20:59:59.999",6,21,7,-1.9336,-2.7E-2,-2.1436999999999999]
[null,"2020-06-14T21:59:59.999",6,22,7,-1.9336,-2.7E-2,-2.1436999999999999]
[null,"2020-06-14T22:59:59.999",6,23,6,-1.9336,-2.7E-2,-2.1436999999999999]
[null,"2020-06-14T23:59:59.999",6,0,6,-1.9336,-2.7E-2,-2.1436999999999999]
[null,"2020-06-15T00:59:59.999",6,1,6,-1.9336,-2.7E-2,-2.1436999999999999]
[null,"2020-06-15T01:59:59.999",6,2,6,-1.9336,-2.7E-2,-2.1436999999999999]
[null,"2020-06-15T02:59:59.999",6,3,6,-1.9336,-2.7E-2,-2.1436999999999999]
[null,"2020-06-15T03:59:59.999",6,4,6,-1.9336,-2.7E-2,-2.1436999999999999]
[null,"2020-06-15T04:59:59.999",6,5,6,71.960999999999999,63.94,143.19499999999999]
[null,"2020-06-15T05:59:59.999",6,6,6,221.60599999999999,362.77,724.774]
[null,"2020-06-15T06:59:59.999",6,7,6,639.73599999999999,771.71,1173.6469999999999]
[null,"2020-06-15T07:59:59.999",6,8,6,1019.769,1140.9000000000001,1482.7819999999999]
[null,"2020-06-15T08:59:59.999",6,9,6,1320.568,1436.8,1695.4369999999999]
[null,"2020-06-15T09:59:59.999",6,10,6,1516.779,1586.7,1738.799]
[null,"2020-06-15T10:59:59.999",6,11,6,1572.056,1597,1740.6079999999999]
[null,"2020-06-15T11:59:59.999",6,12,6,1586.6880000000001,1599.5,1711.3579999999999]
[null,"2020-06-15T12:59:59.999",6,13,6,1544.86,1589.1,1511.1]
[null,"2020-06-15T13:59:59.999",6,14,7,1410.289,1469.3,1239.923]
[null,"2020-06-15T14:59:59.999",6,15,7,1163.5360000000001,1210.2,899.52300000000002]
[null,"2020-06-15T15:59:59.999",6,16,8,826.928,859.57,464.959]
[null,"2020-06-15T16:59:59.999",6,17,8,422.63099999999997,460.31,93.828999999999994]
[null,"2020-06-15T17:59:59.999",6,18,8,88.819000000000003,103.93,88.372]
[null,"2020-06-15T18:59:59.999",6,19,8,2.2194000000000003,-2.7E-2,8.9766000000000012]
[null,"2020-06-15T19:59:59.999",6,20,8,-1.9336,-2.7E-2,-2.1436999999999999]
[null,"2020-06-15T20:59:59.999",6,21,7,-1.9336,-2.7E-2,-2.1436999999999999]
[null,"2020-06-15T21:59:59.999",6,22,7,-1.9336,-2.7E-2,-2.1436999999999999]
[null,"2020-06-15T22:59:59.999",6,23,6,-1.9336,-2.7E-2,-2.1436999999999999]
[null,"2020-06-15T23:59:59.999",6,0,6,-1.9336,-2.7E-2,-2.1436999999999999]
[null,"2020-06-16T00:59:59.999",6,1,6,-1.9336,-2.7E-2,-2.1436999999999999]
[null,"2020-06-16T01:59:59.999",6,2,6,-1.9336,-2.7E-2,-2.1436999999999999]
[null,"2020-06-16T02:59:59.999",6,3,6,-1.9336,-2.7E-2,-2.1436999999999999]
[null,"2020-06-16T03:59:59.999",6,4,6,-1.9336,-2.7E-2,-2.1436999999999999]
[null,"2020-06-16T04:59:59.999",6,5,6,66.617000000000004,59.246000000000002,130.84200000000001]
[null,"2020-06-16T05:59:59.999",6,6,6,224.42400000000001,345.63,652.05499999999995]
[null,"2020-06-16T06:59:59.999",6,7,6,625.87699999999995,751.84,1139.3520000000001]
[null,"2020-06-16T07:59:59.999",6,8,6,1009.726,1128.0999999999999,1463.973]
[null,"2020-06-16T08:59:59.999",6,9,6,1319.104,1434.4,1692.701]
[null,"2020-06-16T09:59:59.999",6,10,6,1529.56,1589.9,1752.7850000000001]
[null,"2020-06-16T10:59:59.999",6,11,6,1586.1880000000001,1600.2,1755.6469999999999]
[null,"2020-06-16T11:59:59.999",6,12,6,1594.616,1600.2,1719.7560000000001]
[null,"2020-06-16T12:59:59.999",6,13,6,1556.1769999999999,1591.4,1533.8879999999999]
[null,"2020-06-16T13:59:59.999",6,14,7,1423.0139999999999,1482.6,1253.972]
[null,"2020-06-16T14:59:59.999",6,15,7,1182.479,1229.4000000000001,919.84799999999996]
[null,"2020-06-16T15:59:59.999",6,16,8,833.66899999999998,865.88,482.10599999999999]
[null,"2020-06-16T16:59:59.999",6,17,8,425.30900000000003,462.68,103.241]
[null,"2020-06-16T17:59:59.999",6,18,8,90.290999999999997,105.42,91.364999999999995]
[null,"2020-06-16T18:59:59.999",6,19,8,3.9004000000000003,-2.7E-2,10.696999999999999]
[null,"2020-06-16T19:59:59.999",6,20,8,-1.9336,-2.7E-2,-2.1436999999999999]
[null,"2020-06-16T20:59:59.999",6,21,7,-1.9336,-2.7E-2,-2.1436999999999999]
[null,"2020-06-16T21:59:59.999",6,22,7,-1.9336,-2.7E-2,-2.1436999999999999]
[null,"2020-06-16T22:59:59.999",6,23,6,-1.9336,-2.7E-2,-2.1436999999999999]
[null,"2020-06-16T23:59:59.999",6,0,{"$f":"INDEX($AE$11:$BB$22,MATCH(C4041,$AD$11:$AD$22,0),MATCH(D4041,$AE$10:$BB$10,0))","v":6},-1.9336,-2.7E-2,-2.1436999999999999]
[null,"2020-06-17T00:59:59.999",{"$f":"MONTH(B4042)","v":6},{"$f":"HOUR(B4042)","v":1},6,-1.9336,-2.7E-2,-2.1436999999999999]
[null,{"$f":"B4042+1/24","v":"2020-06-17T01:59:59.999"},6,2,6,-1.9336,-2.7E-2,-2.1436999999999999]
[null,"2020-06-17T02:59:59.999",6,3,6,-1.9336,-2.7E-2,-2.1436999999999999]
[null,"2020-06-17T03:59:59.999",6,4,6,-1.9336,-2.7E-2,-2.1436999999999999]
[null,"2020-06-17T04:59:59.999",6,5,6,19.798999999999999,25.648,24.167999999999999]
[null,"2020-06-17T05:59:59.999",6,6,6,158.29599999999999,190.58,242.68199999999999]
[null,"2020-06-17T06:59:59.999",6,7,6,473.12799999999999,533.95000000000005,694.47299999999996]
[null,"2020-06-17T07:59:59.999",6,8,6,562.45899999999995,604.24,691.01700000000005]
[null,"2020-06-17T08:59:59.999",6,9,6,1247.0640000000001,1339.6,1571.0920000000001]
[null,"2020-06-17T09:59:59.999",6,10,6,1540.354,1591.4,1758.3720000000001]
[null,"2020-06-17T10:59:59.999",6,11,6,1570.3869999999999,1595.3,1737.173]
[null,"2020-06-17T11:59:59.999",6,12,6,1599.2280000000001,1600.2,1724.4690000000001]
[null,"2020-06-17T12:59:59.999",6,13,6,1569.0609999999999,1594.3,1560.9929999999999]
[null,"2020-06-17T13:59:59.999",6,14,7,1420.5419999999999,1479.2,1254.404]
[null,"2020-06-17T14:59:59.999",6,15,7,1178.0630000000001,1224.8,917.21299999999997]
[null,"2020-06-17T15:59:59.999",6,16,8,832.197,864.41,481.33300000000003]
[null,"2020-06-17T16:59:59.999",6,17,8,418.798,454.86,109.09]
[null,"2020-06-17T17:59:59.999",6,18,8,89.067999999999998,104.7,89.048000000000002]
[null,"2020-06-17T18:59:59.999",6,19,8,2.4137,-2.7E-2,9.2478999999999996]
[null,"2020-06-17T19:59:59.999",6,20,8,-1.9336,-2.7E-2,-2.1436999999999999]
[null,"2020-06-17T20:59:59.999",6,21,7,-1.9336,-2.7E-2,-2.1436999999999999]
[null,"2020-06-17T21:59:59.999",6,22,7,-1.9336,-2.7E-2,-2.1436999999999999]
[null,"2020-06-17T22:59:59.999",6,23,6,-1.9336,-2.7E-2,-2.1436999999999999]
[null,"2020-06-17T23:59:59.999",6,0,6,-1.9336,-2.7E-2,-2.1436999999999999]
[null,"2020-06-18T00:59:59.999",6,1,6,-1.9336,-2.7E-2,-2.1436999999999999]
[null,"2020-06-18T01:59:59.999",6,2,6,-1.9336,-2.7E-2,-2.1436999999999999]
[null,"2020-06-18T02:59:59.999",6,3,6,-1.9336,-2.7E-2,-2.1436999999999999]
[null,"2020-06-18T03:59:59.999",6,4,6,-1.9336,-2.7E-2,-2.1436999999999999]
[null,"2020-06-18T04:59:59.999",6,5,6,67.271000000000001,65.025000000000006,116.02800000000001]
[null,"2020-06-18T05:59:59.999",6,6,6,231.97800000000001,350.66,649.81299999999999]
[null,"2020-06-18T06:59:59.999",6,7,6,637.23,766.65,1163.509]
[null,"2020-06-18T07:59:59.999",6,8,6,1019.664,1140.0999999999999,1481.4380000000001]
[null,"2020-06-18T08:59:59.999",6,9,6,1335.2460000000001,1451.9,1712.8879999999999]
[null,"2020-06-18T09:59:59.999",6,10,6,1522.9960000000001,1588.3,1746.2059999999999]
[null,"2020-06-18T10:59:59.999",6,11,6,1569.297,1595.6,1737.193]
[null,"2020-06-18T11:59:59.999",6,12,6,1563.1389999999999,1592.2,1649.3979999999999]
[null,"2020-06-18T12:59:59.999",6,13,6,1525.171,1583.8,1471.65]
[null,"2020-06-18T13:59:59.999",6,14,7,1439.4849999999999,1499.1,1272.1559999999999]
[null,"2020-06-18T14:59:59.999",6,15,7,1179.4290000000001,1227.0999999999999,915.21699999999998]
[null,"2020-06-18T15:59:59.999",6,16,8,836.19899999999996,869.11,478.94499999999999]
[null,"2020-06-18T16:59:59.999",6,17,8,430.05900000000003,466.02,121.623]
[null,"2020-06-18T17:59:59.999",6,18,8,100.374,116.36,102.21899999999999]
[null,"2020-06-18T18:59:59.999",6,19,8,2.4249000000000001,-2.7E-2,9.2597000000000005]
[null,"2020-06-18T19:59:59.999",6,20,8,-1.9336,-2.7E-2,-2.1436999999999999]
[null,"2020-06-18T20:59:59.999",6,21,7,-1.9336,-2.7E-2,-2.1436999999999999]
[null,"2020-06-18T21:59:59.999",6,22,7,-1.9336,-2.7E-2,-2.1436999999999999]
[null,"2020-06-18T22:59:59.999",6,23,6,-1.9336,-2.7E-2,-2.1436999999999999]
[null,"2020-06-18T23:59:59.999",6,0,6,-1.9336,-2.7E-2,-2.1436999999999999]
[null,"2020-06-19T00:59:59.999",6,1,6,-1.9336,-2.7E-2,-2.1436999999999999]
[null,"2020-06-19T01:59:59.999",6,2,6,-1.9336,-2.7E-2,-2.1436999999999999]
[null,"2020-06-19T02:59:59.999",6,3,6,-1.9336,-2.7E-2,-2.1436999999999999]
[null,"2020-06-19T03:59:59.999",6,4,6,-1.9336,-2.7E-2,-2.1436999999999999]
[null,"2020-06-19T04:59:59.999",6,5,6,71.528999999999996,55.259,165.982]
[null,"2020-06-19T05:59:59.999",6,6,6,196.65700000000001,349.12,738.65]
[null,"2020-06-19T06:59:59.999",6,7,6,633.78499999999997,767.48,1175.002]
[null,"2020-06-19T07:59:59.999",6,8,6,1028.5530000000001,1152,1500.1189999999999]
[null,"2020-06-19T08:59:59.999",6,9,6,1334.3440000000001,1453,1714.047]
[null,"2020-06-19T09:59:59.999",6,10,6,1534.614,1591,1757.981]
[null,"2020-06-19T10:59:59.999",6,11,6,1590.5450000000001,1600.2,1758.385]
[null,"2020-06-19T11:59:59.999",6,12,6,1596.8689999999999,1600.2,1722.299]
[null,"2020-06-19T12:59:59.999",6,13,6,1563.88,1593.1,1549.3589999999999]
[null,"2020-06-19T13:59:59.999",6,14,7,1444.5809999999999,1506.1,1273.0550000000001]
[null,"2020-06-19T14:59:59.999",6,15,7,1182.8389999999999,1230.8,917.18200000000002]
[null,"2020-06-19T15:59:59.999",6,16,{"$f":"INDEX($AE$11:$BB$22,MATCH(C4105,$AD$11:$AD$22,0),MATCH(D4105,$AE$10:$BB$10,0))","v":8},844.77099999999996,878.88,487.62299999999999]
[null,"2020-06-19T16:59:59.999",{"$f":"MONTH(B4106)","v":6},{"$f":"HOUR(B4106)","v":17},8,427.79599999999999,466.32,91.2]
[null,{"$f":"B4106+1/24","v":"2020-06-19T17:59:59.999"},6,18,8,89.963999999999999,105.96,84.566000000000003]
[null,"2020-06-19T18:59:59.999",6,19,8,6.9954999999999998,12.577999999999999,13.757]
[null,"2020-06-19T19:59:59.999",6,20,8,-1.9336,-2.7E-2,-2.1436999999999999]
[null,"2020-06-19T20:59:59.999",6,21,7,-1.9336,-2.7E-2,-2.1436999999999999]
[null,"2020-06-19T21:59:59.999",6,22,7,-1.9336,-2.7E-2,-2.1436999999999999]
[null,"2020-06-19T22:59:59.999",6,23,6,-1.9336,-2.7E-2,-2.1436999999999999]
[null,"2020-06-19T23:59:59.999",6,0,6,-1.9336,-2.7E-2,-2.1436999999999999]
[null,"2020-06-20T00:59:59.999",6,1,6,-1.9336,-2.7E-2,-2.1436999999999999]
[null,"2020-06-20T01:59:59.999",6,2,6,-1.9336,-2.7E-2,-2.1436999999999999]
[null,"2020-06-20T02:59:59.999",6,3,6,-1.9336,-2.7E-2,-2.1436999999999999]
[null,"2020-06-20T03:59:59.999",6,4,6,-1.9336,-2.7E-2,-2.1436999999999999]
[null,"2020-06-20T04:59:59.999",6,5,6,68.756,59.38,139.45500000000001]
[null,"2020-06-20T05:59:59.999",6,6,6,202.655,344.86,708.25900000000001]
[null,"2020-06-20T06:59:59.999",6,7,6,621.36400000000003,748.84,1139.029]
[null,"2020-06-20T07:59:59.999",6,8,6,984.18399999999997,1096.4000000000001,1424.328]
[null,"2020-06-20T08:59:59.999",6,9,6,1266.548,1370.1,1617.2439999999999]
[null,"2020-06-20T09:59:59.999",6,10,6,1479.8679999999999,1575.1,1721.3330000000001]
[null,"2020-06-20T10:59:59.999",6,11,6,1566.7529999999999,1594.9,1735.1]
[null,"2020-06-20T11:59:59.999",6,12,6,1581.0229999999999,1598,1700.7429999999999]
[null,"2020-06-20T12:59:59.999",6,13,6,1538.558,1587.2,1498.893]
[null,"2020-06-20T13:59:59.999",6,14,7,1380.836,1432.8,1218.231]
[null,"2020-06-20T14:59:59.999",6,15,7,1138.691,1180.2,889.69500000000005]
[null,"2020-06-20T15:59:59.999",6,16,8,810.91899999999998,841,481.38]
[null,"2020-06-20T16:59:59.999",6,17,8,410.11700000000002,442.77,132.38300000000001]
[null,"2020-06-20T17:59:59.999",6,18,8,97.150999999999996,112.06,98.840999999999994]
[null,"2020-06-20T18:59:59.999",6,19,8,2.3595000000000002,-2.7E-2,9.1572999999999993]
[null,"2020-06-20T19:59:59.999",6,20,8,-1.9336,-2.7E-2,-2.1436999999999999]
[null,"2020-06-20T20:59:59.999",6,21,7,-1.9336,-2.7E-2,-2.1436999999999999]
[null,"2020-06-20T21:59:59.999",6,22,7,-1.9336,-2.7E-2,-2.1436999999999999]
[null,"2020-06-20T22:59:59.999",6,23,6,-1.9336,-2.7E-2,-2.1436999999999999]
[null,"2020-06-20T23:59:59.999",6,0,6,-1.9336,-2.7E-2,-2.1436999999999999]
[null,"2020-06-21T00:59:59.999",6,1,6,-1.9336,-2.7E-2,-2.1436999999999999]
[null,"2020-06-21T01:59:59.999",6,2,6,-1.9336,-2.7E-2,-2.1436999999999999]
[null,"2020-06-21T02:59:59.999",6,3,6,-1.9336,-2.7E-2,-2.1436999999999999]
[null,"2020-06-21T03:59:59.999",6,4,6,-1.9336,-2.7E-2,-2.1436999999999999]
[null,"2020-06-21T04:59:59.999",6,5,6,36.097000000000001,42.38,43.445]
[null,"2020-06-21T05:59:59.999",6,6,6,201.44399999999999,261.77999999999997,395.22199999999998]
[null,"2020-06-21T06:59:59.999",6,7,6,633.005,747.05,1098.0509999999999]
[null,"2020-06-21T07:59:59.999",6,8,6,995.11,1110,1444.8789999999999]
[null,"2020-06-21T08:59:59.999",6,9,6,1294.0909999999999,1402.6,1659.3320000000001]
[null,"2020-06-21T09:59:59.999",6,10,6,1497.4929999999999,1584,1730.279]
[null,"2020-06-21T10:59:59.999",6,11,6,1568.2639999999999,1595.4,1736.7629999999999]
[null,"2020-06-21T11:59:59.999",6,12,6,1562.93,1592.1,1649.76]
[null,"2020-06-21T12:59:59.999",6,13,6,1526.7360000000001,1584.5,1479.451]
[null,"2020-06-21T13:59:59.999",6,14,7,1395.009,1446.7,1234.01]
[null,"2020-06-21T14:59:59.999",6,15,7,1068.8440000000001,1102.8,853.91200000000003]
[null,"2020-06-21T15:59:59.999",6,16,8,783.87699999999995,811.38,488.072]
[null,"2020-06-21T16:59:59.999",6,17,8,411.39299999999997,443.37,140.34700000000001]
[null,"2020-06-21T17:59:59.999",6,18,8,102.191,118.32,102.82]
[null,"2020-06-21T18:59:59.999",6,19,8,0.80723999999999996,-2.7E-2,7.6213999999999995]
[null,"2020-06-21T19:59:59.999",6,20,8,-1.9336,-2.7E-2,-2.1436999999999999]
[null,"2020-06-21T20:59:59.999",6,21,7,-1.9336,-2.7E-2,-2.1436999999999999]
[null,"2020-06-21T21:59:59.999",6,22,7,-1.9336,-2.7E-2,-2.1436999999999999]
[null,"2020-06-21T22:59:59.999",6,23,6,-1.9336,-2.7E-2,-2.1436999999999999]
[null,"2020-06-21T23:59:59.999",6,0,6,-1.9336,-2.7E-2,-2.1436999999999999]
[null,"2020-06-22T00:59:59.999",6,1,6,-1.9336,-2.7E-2,-2.1436999999999999]
[null,"2020-06-22T01:59:59.999",6,2,6,-1.9336,-2.7E-2,-2.1436999999999999]
[null,"2020-06-22T02:59:59.999",6,3,6,-1.9336,-2.7E-2,-2.1436999999999999]
[null,"2020-06-22T03:59:59.999",6,4,6,-1.9336,-2.7E-2,-2.1436999999999999]
[null,"2020-06-22T04:59:59.999",6,5,6,71.947000000000003,62.244,145.25]
[null,"2020-06-22T05:59:59.999",6,6,6,207.21799999999999,357.35,741.73400000000004]
[null,"2020-06-22T06:59:59.999",6,7,6,629.9,764.41,1173.6849999999999]
[null,"2020-06-22T07:59:59.999",6,8,{"$f":"INDEX($AE$11:$BB$22,MATCH(C4169,$AD$11:$AD$22,0),MATCH(D4169,$AE$10:$BB$10,0))","v":6},1019.626,1142.4000000000001,1489.221]
[null,"2020-06-22T08:59:59.999",{"$f":"MONTH(B4170)","v":6},{"$f":"HOUR(B4170)","v":9},6,1309.9449999999999,1424.6,1683.287]
[null,{"$f":"B4170+1/24","v":"2020-06-22T09:59:59.999"},6,10,6,1507.5160000000001,1585.2,1735.1679999999999]
[null,"2020-06-22T10:59:59.999",6,11,6,1548.5119999999999,1590.4,1718.1559999999999]
[null,"2020-06-22T11:59:59.999",6,12,6,1464.54,1518.6,1501.213]
[null,"2020-06-22T12:59:59.999",6,13,6,1428.925,1476.8,1374.088]
[null,"2020-06-22T13:59:59.999",6,14,7,1402.269,1454.2,1241.6759999999999]
[null,"2020-06-22T14:59:59.999",6,15,7,1095.31,1131.0999999999999,868.30600000000004]
[null,"2020-06-22T15:59:59.999",6,16,8,728.69399999999996,754.23,473.45400000000001]
[null,"2020-06-22T16:59:59.999",6,17,8,381.387,410.51,158.095]
[null,"2020-06-22T17:59:59.999",6,18,8,95.751000000000005,111.21,98.043000000000006]
[null,"2020-06-22T18:59:59.999",6,19,8,3.9241999999999999,-2.7E-2,10.705]
[null,"2020-06-22T19:59:59.999",6,20,8,-1.9336,-2.7E-2,-2.1436999999999999]
[null,"2020-06-22T20:59:59.999",6,21,7,-1.9336,-2.7E-2,-2.1436999999999999]
[null,"2020-06-22T21:59:59.999",6,22,7,-1.9336,-2.7E-2,-2.1436999999999999]
[null,"2020-06-22T22:59:59.999",6,23,6,-1.9336,-2.7E-2,-2.1436999999999999]
[null,"2020-06-22T23:59:59.999",6,0,6,-1.9336,-2.7E-2,-2.1436999999999999]
[null,"2020-06-23T00:59:59.999",6,1,6,-1.9336,-2.7E-2,-2.1436999999999999]
[null,"2020-06-23T01:59:59.999",6,2,6,-1.9336,-2.7E-2,-2.1436999999999999]
[null,"2020-06-23T02:59:59.999",6,3,6,-1.9336,-2.7E-2,-2.1436999999999999]
[null,"2020-06-23T03:59:59.999",6,4,6,-1.9336,-2.7E-2,-2.1436999999999999]
[null,"2020-06-23T04:59:59.999",6,5,6,77.759,61.502000000000002,175.74600000000001]
[null,"2020-06-23T05:59:59.999",6,6,6,184.833,343.15,747.78399999999999]
[null,"2020-06-23T06:59:59.999",6,7,6,614.976,743.46,1135.6179999999999]
[null,"2020-06-23T07:59:59.999",6,8,6,966.05799999999999,1077.9000000000001,1404.213]
[null,"2020-06-23T08:59:59.999",6,9,6,1244.3620000000001,1346.9,1591.4159999999999]
[null,"2020-06-23T09:59:59.999",6,10,6,1488.838,1583.5,1726.076]
[null,"2020-06-23T10:59:59.999",6,11,6,1573.66,1597.5,1743.6120000000001]
[null,"2020-06-23T11:59:59.999",6,12,6,1584.64,1599.1,1709.61]
[null,"2020-06-23T12:59:59.999",6,13,6,1539.9349999999999,1588,1505.54]
[null,"2020-06-23T13:59:59.999",6,14,7,1398.78,1456.9,1234.5309999999999]
[null,"2020-06-23T14:59:59.999",6,15,7,1154.0429999999999,1200.3,895.89400000000001]
[null,"2020-06-23T15:59:59.999",6,16,8,829.95799999999997,861.67,480.69]
[null,"2020-06-23T16:59:59.999",6,17,8,424.846,461.47,93.448999999999998]
[null,"2020-06-23T17:59:59.999",6,18,8,86.814999999999998,103.29,79.376000000000005]
[null,"2020-06-23T18:59:59.999",6,19,8,6.6093000000000002,11.987,13.254]
[null,"2020-06-23T19:59:59.999",6,20,8,-1.9336,-2.7E-2,-2.1436999999999999]
[null,"2020-06-23T20:59:59.999",6,21,7,-1.9336,-2.7E-2,-2.1436999999999999]
[null,"2020-06-23T21:59:59.999",6,22,7,-1.9336,-2.7E-2,-2.1436999999999999]
[null,"2020-06-23T22:59:59.999",6,23,6,-1.9336,-2.7E-2,-2.1436999999999999]
[null,"2020-06-23T23:59:59.999",6,0,6,-1.9336,-2.7E-2,-2.1436999999999999]
[null,"2020-06-24T00:59:59.999",6,1,6,-1.9336,-2.7E-2,-2.1436999999999999]
[null,"2020-06-24T01:59:59.999",6,2,6,-1.9336,-2.7E-2,-2.1436999999999999]
[null,"2020-06-24T02:59:59.999",6,3,6,-1.9336,-2.7E-2,-2.1436999999999999]
[null,"2020-06-24T03:59:59.999",6,4,6,-1.9336,-2.7E-2,-2.1436999999999999]
[null,"2020-06-24T04:59:59.999",6,5,6,66.025000000000006,56.896000000000001,132.01599999999999]
[null,"2020-06-24T05:59:59.999",6,6,6,212.09100000000001,351.63,708.43399999999997]
[null,"2020-06-24T06:59:59.999",6,7,6,612.52,743.78,1143.0650000000001]
[null,"2020-06-24T07:59:59.999",6,8,6,990.20399999999995,1109.2,1446.1310000000001]
[null,"2020-06-24T08:59:59.999",6,9,6,1288.557,1402.5,1658.18]
[null,"2020-06-24T09:59:59.999",6,10,6,1501.442,1585.2,1733.7429999999999]
[null,"2020-06-24T10:59:59.999",6,11,6,1564.2850000000001,1595.1,1734.1179999999999]
[null,"2020-06-24T11:59:59.999",6,12,6,1573.5340000000001,1596.2,1681.9580000000001]
[null,"2020-06-24T12:59:59.999",6,13,6,1530.4760000000001,1586.1,1486.865]
[null,"2020-06-24T13:59:59.999",6,14,7,1375.2670000000001,1432.3,1213.0429999999999]
[null,"2020-06-24T14:59:59.999",6,15,7,1130.663,1172.5,877.16499999999996]
[null,"2020-06-24T15:59:59.999",6,16,8,781.29899999999998,808.47,463.88]
[null,"2020-06-24T16:59:59.999",6,17,8,397.80900000000003,429.37,114.28100000000001]
[null,"2020-06-24T17:59:59.999",6,18,8,86.698999999999998,101.94,80.311000000000007]
[null,"2020-06-24T18:59:59.999",6,19,8,4.9172000000000002,10.143000000000001,11.509]
[null,"2020-06-24T19:59:59.999",6,20,8,-1.9336,-2.7E-2,-2.1436999999999999]
[null,"2020-06-24T20:59:59.999",6,21,7,-1.9336,-2.7E-2,-2.1436999999999999]
[null,"2020-06-24T21:59:59.999",6,22,7,-1.9336,-2.7E-2,-2.1436999999999999]
[null,"2020-06-24T22:59:59.999",6,23,6,-1.9336,-2.7E-2,-2.1436999999999999]
[null,"2020-06-24T23:59:59.999",6,0,{"$f":"INDEX($AE$11:$BB$22,MATCH(C4233,$AD$11:$AD$22,0),MATCH(D4233,$AE$10:$BB$10,0))","v":6},-1.9336,-2.7E-2,-2.1436999999999999]
[null,"2020-06-25T00:59:59.999",{"$f":"MONTH(B4234)","v":6},{"$f":"HOUR(B4234)","v":1},6,-1.9336,-2.7E-2,-2.1436999999999999]
[null,{"$f":"B4234+1/24","v":"2020-06-25T01:59:59.999"},6,2,6,-1.9336,-2.7E-2,-2.1436999999999999]
[null,"2020-06-25T02:59:59.999",6,3,6,-1.9336,-2.7E-2,-2.1436999999999999]
[null,"2020-06-25T03:59:59.999",6,4,6,-1.9336,-2.7E-2,-2.1436999999999999]
[null,"2020-06-25T04:59:59.999",6,5,6,63.722000000000001,55.935000000000002,123.685]
[null,"2020-06-25T05:59:59.999",6,6,6,210.28800000000001,342.49,676.70699999999999]
[null,"2020-06-25T06:59:59.999",6,7,6,604.99199999999996,732.89,1122.758]
[null,"2020-06-25T07:59:59.999",6,8,6,977.48900000000003,1094.8,1427.309]
[null,"2020-06-25T08:59:59.999",6,9,6,1267.3240000000001,1379,1629.825]
[null,"2020-06-25T09:59:59.999",6,10,6,1467.896,1570.1,1717.854]
[null,"2020-06-25T10:59:59.999",6,11,6,1546.0709999999999,1591.1,1718.2449999999999]
[null,"2020-06-25T11:59:59.999",6,12,6,1548.039,1589.8,1622.6010000000001]
[null,"2020-06-25T12:59:59.999",6,13,6,1495.2919999999999,1560,1439.337]
[null,"2020-06-25T13:59:59.999",6,14,7,1378.684,1435.4,1216.797]
[null,"2020-06-25T14:59:59.999",6,15,7,1117.298,1160.3,872.42899999999997]
[null,"2020-06-25T15:59:59.999",6,16,8,803.58100000000002,832.56,465.69499999999999]
[null,"2020-06-25T16:59:59.999",6,17,8,399.447,432.2,99.231999999999999]
[null,"2020-06-25T17:59:59.999",6,18,8,84.683000000000007,99.966999999999999,78.245999999999995]
[null,"2020-06-25T18:59:59.999",6,19,8,6.2576000000000001,11.44,12.789]
[null,"2020-06-25T19:59:59.999",6,20,8,-1.9336,-2.7E-2,-2.1436999999999999]
[null,"2020-06-25T20:59:59.999",6,21,7,-1.9336,-2.7E-2,-2.1436999999999999]
[null,"2020-06-25T21:59:59.999",6,22,7,-1.9336,-2.7E-2,-2.1436999999999999]
[null,"2020-06-25T22:59:59.999",6,23,6,-1.9336,-2.7E-2,-2.1436999999999999]
[null,"2020-06-25T23:59:59.999",6,0,6,-1.9336,-2.7E-2,-2.1436999999999999]
[null,"2020-06-26T00:59:59.999",6,1,6,-1.9336,-2.7E-2,-2.1436999999999999]
[null,"2020-06-26T01:59:59.999",6,2,6,-1.9336,-2.7E-2,-2.1436999999999999]
[null,"2020-06-26T02:59:59.999",6,3,6,-1.9336,-2.7E-2,-2.1436999999999999]
[null,"2020-06-26T03:59:59.999",6,4,6,-1.9336,-2.7E-2,-2.1436999999999999]
[null,"2020-06-26T04:59:59.999",6,5,6,67.578999999999994,56.642000000000003,139.298]
[null,"2020-06-26T05:59:59.999",6,6,6,193.59800000000001,330.65,681.50099999999998]
[null,"2020-06-26T06:59:59.999",6,7,6,606.90599999999995,735.3,1126.9290000000001]
[null,"2020-06-26T07:59:59.999",6,8,6,978.28200000000004,1095.8,1429.575]
[null,"2020-06-26T08:59:59.999",6,9,6,1255.941,1364.3,1610.8579999999999]
[null,"2020-06-26T09:59:59.999",6,10,6,1429.8130000000001,1521.2,1676.5329999999999]
[null,"2020-06-26T10:59:59.999",6,11,6,1550.992,1592.1,1722.251]
[null,"2020-06-26T11:59:59.999",6,12,6,1545.5360000000001,1589.8,1621.0719999999999]
[null,"2020-06-26T12:59:59.999",6,13,6,1512.944,1579.5,1455.2470000000001]
[null,"2020-06-26T13:59:59.999",6,14,7,1372.4459999999999,1429.6,1209.6479999999999]
[null,"2020-06-26T14:59:59.999",6,15,7,1132.4770000000001,1177.2,879.61500000000001]
[null,"2020-06-26T15:59:59.999",6,16,8,812.01,842.5,470.83499999999998]
[null,"2020-06-26T16:59:59.999",6,17,8,420.04300000000001,455.23,91.605000000000004]
[null,"2020-06-26T17:59:59.999",6,18,8,85.673000000000002,102.08,77.646000000000001]
[null,"2020-06-26T18:59:59.999",6,19,8,6.4548999999999994,11.736000000000001,13.042999999999999]
[null,"2020-06-26T19:59:59.999",6,20,8,-1.9336,-2.7E-2,-2.1436999999999999]
[null,"2020-06-26T20:59:59.999",6,21,7,-1.9336,-2.7E-2,-2.1436999999999999]
[null,"2020-06-26T21:59:59.999",6,22,7,-1.9336,-2.7E-2,-2.1436999999999999]
[null,"2020-06-26T22:59:59.999",6,23,6,-1.9336,-2.7E-2,-2.1436999999999999]
[null,"2020-06-26T23:59:59.999",6,0,6,-1.9336,-2.7E-2,-2.1436999999999999]
[null,"2020-06-27T00:59:59.999",6,1,6,-1.9336,-2.7E-2,-2.1436999999999999]
[null,"2020-06-27T01:59:59.999",6,2,6,-1.9336,-2.7E-2,-2.1436999999999999]
[null,"2020-06-27T02:59:59.999",6,3,6,-1.9336,-2.7E-2,-2.1436999999999999]
[null,"2020-06-27T03:59:59.999",6,4,6,-1.9336,-2.7E-2,-2.1436999999999999]
[null,"2020-06-27T04:59:59.999",6,5,6,67.537000000000006,51.554000000000002,152.739]
[null,"2020-06-27T05:59:59.999",6,6,6,181.83500000000001,320.29000000000002,674.77200000000005]
[null,"2020-06-27T06:59:59.999",6,7,6,590.19799999999998,713.91,1092.7729999999999]
[null,"2020-06-27T07:59:59.999",6,8,6,935.39499999999998,1042,1359.2940000000001]
[null,"2020-06-27T08:59:59.999",6,9,6,1222.0139999999999,1319.7,1561.7380000000001]
[null,"2020-06-27T09:59:59.999",6,10,6,1453.1020000000001,1546.6,1705.48]
[null,"2020-06-27T10:59:59.999",6,11,6,1522.98,1585.5,1675.607]
[null,"2020-06-27T11:59:59.999",6,12,6,1524.1669999999999,1584.1,1572.021]
[null,"2020-06-27T12:59:59.999",6,13,6,1500.76,1559.4,1442.425]
[null,"2020-06-27T13:59:59.999",6,14,7,1406.7260000000001,1464.4,1244.127]
[null,"2020-06-27T14:59:59.999",6,15,7,1161.443,1207.7,903.14200000000005]
[null,"2020-06-27T15:59:59.999",6,16,{"$f":"INDEX($AE$11:$BB$22,MATCH(C4297,$AD$11:$AD$22,0),MATCH(D4297,$AE$10:$BB$10,0))","v":8},836.38300000000004,868.02,486.08699999999999]
[null,"2020-06-27T16:59:59.999",{"$f":"MONTH(B4298)","v":6},{"$f":"HOUR(B4298)","v":17},8,430.399,465.39,107.27]
[null,{"$f":"B4298+1/24","v":"2020-06-27T17:59:59.999"},6,18,8,97.122,114.96,94.313999999999993]
[null,"2020-06-27T18:59:59.999",6,19,8,3.8096999999999999,-2.7E-2,10.552]
[null,"2020-06-27T19:59:59.999",6,20,8,-1.9336,-2.7E-2,-2.1436999999999999]
[null,"2020-06-27T20:59:59.999",6,21,7,-1.9336,-2.7E-2,-2.1436999999999999]
[null,"2020-06-27T21:59:59.999",6,22,7,-1.9336,-2.7E-2,-2.1436999999999999]
[null,"2020-06-27T22:59:59.999",6,23,6,-1.9336,-2.7E-2,-2.1436999999999999]
[null,"2020-06-27T23:59:59.999",6,0,6,-1.9336,-2.7E-2,-2.1436999999999999]
[null,"2020-06-28T00:59:59.999",6,1,6,-1.9336,-2.7E-2,-2.1436999999999999]
[null,"2020-06-28T01:59:59.999",6,2,6,-1.9336,-2.7E-2,-2.1436999999999999]
[null,"2020-06-28T02:59:59.999",6,3,6,-1.9336,-2.7E-2,-2.1436999999999999]
[null,"2020-06-28T03:59:59.999",6,4,6,-1.9336,-2.7E-2,-2.1436999999999999]
[null,"2020-06-28T04:59:59.999",6,5,6,65.613,47.795999999999999,153.89699999999999]
[null,"2020-06-28T05:59:59.999",6,6,6,179.56800000000001,313.99,658.17700000000002]
[null,"2020-06-28T06:59:59.999",6,7,6,576.80600000000004,692.09,1047.5039999999999]
[null,"2020-06-28T07:59:59.999",6,8,6,952.678,1060.5,1382.8579999999999]
[null,"2020-06-28T08:59:59.999",6,9,6,1230.5409999999999,1328.2,1572.8589999999999]
[null,"2020-06-28T09:59:59.999",6,10,6,1453.8710000000001,1543.5,1706.6279999999999]
[null,"2020-06-28T10:59:59.999",6,11,6,1541.3,1589,1715.117]
[null,"2020-06-28T11:59:59.999",6,12,6,1529.194,1584.9,1583.405]
[null,"2020-06-28T12:59:59.999",6,13,6,1523.307,1583.7,1474.981]
[null,"2020-06-28T13:59:59.999",6,14,7,1433.048,1491.9,1268.954]
[null,"2020-06-28T14:59:59.999",6,15,7,1173.6410000000001,1219.2,919.15300000000002]
[null,"2020-06-28T15:59:59.999",6,16,8,822.63800000000003,851.54,488.40100000000001]
[null,"2020-06-28T16:59:59.999",6,17,8,421.67200000000003,455.23,114.04900000000001]
[null,"2020-06-28T17:59:59.999",6,18,8,89.790999999999997,107.59,85.510999999999996]
[null,"2020-06-28T18:59:59.999",6,19,8,6.9580000000000002,12.509,13.701000000000001]
[null,"2020-06-28T19:59:59.999",6,20,8,-1.9336,-2.7E-2,-2.1436999999999999]
[null,"2020-06-28T20:59:59.999",6,21,7,-1.9336,-2.7E-2,-2.1436999999999999]
[null,"2020-06-28T21:59:59.999",6,22,7,-1.9336,-2.7E-2,-2.1436999999999999]
[null,"2020-06-28T22:59:59.999",6,23,6,-1.9336,-2.7E-2,-2.1436999999999999]
[null,"2020-06-28T23:59:59.999",6,0,6,-1.9336,-2.7E-2,-2.1436999999999999]
[null,"2020-06-29T00:59:59.999",6,1,6,-1.9336,-2.7E-2,-2.1436999999999999]
[null,"2020-06-29T01:59:59.999",6,2,6,-1.9336,-2.7E-2,-2.1436999999999999]
[null,"2020-06-29T02:59:59.999",6,3,6,-1.9336,-2.7E-2,-2.1436999999999999]
[null,"2020-06-29T03:59:59.999",6,4,6,-1.9336,-2.7E-2,-2.1436999999999999]
[null,"2020-06-29T04:59:59.999",6,5,6,62.427,53.383000000000003,124.02]
[null,"2020-06-29T05:59:59.999",6,6,6,190.351,323.23,658.82899999999995]
[null,"2020-06-29T06:59:59.999",6,7,6,588.76700000000005,711.48,1088.4690000000001]
[null,"2020-06-29T07:59:59.999",6,8,6,967.03399999999999,1078.9000000000001,1408.8009999999999]
[null,"2020-06-29T08:59:59.999",6,9,6,1266.576,1371.5,1624.6010000000001]
[null,"2020-06-29T09:59:59.999",6,10,6,1399.4290000000001,1481.2,1636.145]
[null,"2020-06-29T10:59:59.999",6,11,6,1516.8430000000001,1583.5,1660.4490000000001]
[null,"2020-06-29T11:59:59.999",6,12,6,1534.336,1586,1594.0170000000001]
[null,"2020-06-29T12:59:59.999",6,13,6,1508.577,1562.6,1448.511]
[null,"2020-06-29T13:59:59.999",6,14,7,1425.5640000000001,1483.2,1264.8599999999999]
[null,"2020-06-29T14:59:59.999",6,15,7,1145.961,1191.0999999999999,894.08299999999997]
[null,"2020-06-29T15:59:59.999",6,16,8,813.53099999999995,842.78,476.91300000000001]
[null,"2020-06-29T16:59:59.999",6,17,8,429.01400000000001,463.63,113.35299999999999]
[null,"2020-06-29T17:59:59.999",6,18,8,99.49,118.18,95.572000000000003]
[null,"2020-06-29T18:59:59.999",6,19,8,3.9104999999999999,-2.7E-2,10.691000000000001]
[null,"2020-06-29T19:59:59.999",6,20,8,-1.9336,-2.7E-2,-2.1436999999999999]
[null,"2020-06-29T20:59:59.999",6,21,7,-1.9336,-2.7E-2,-2.1436999999999999]
[null,"2020-06-29T21:59:59.999",6,22,7,-1.9336,-2.7E-2,-2.1436999999999999]
[null,"2020-06-29T22:59:59.999",6,23,6,-1.9336,-2.7E-2,-2.1436999999999999]
[null,"2020-06-29T23:59:59.999",6,0,6,-1.9336,-2.7E-2,-2.1436999999999999]
[null,"2020-06-30T00:59:59.999",6,1,6,-1.9336,-2.7E-2,-2.1436999999999999]
[null,"2020-06-30T01:59:59.999",6,2,6,-1.9336,-2.7E-2,-2.1436999999999999]
[null,"2020-06-30T02:59:59.999",6,3,6,-1.9336,-2.7E-2,-2.1436999999999999]
[null,"2020-06-30T03:59:59.999",6,4,6,-1.9336,-2.7E-2,-2.1436999999999999]
[null,"2020-06-30T04:59:59.999",6,5,6,46.253,39.856999999999999,94.899000000000001]
[null,"2020-06-30T05:59:59.999",6,6,6,194.47499999999999,298.89999999999998,576.774]
[null,"2020-06-30T06:59:59.999",6,7,6,613.18399999999997,741.24,1159.4770000000001]
[null,"2020-06-30T07:59:59.999",6,8,{"$f":"INDEX($AE$11:$BB$22,MATCH(C4361,$AD$11:$AD$22,0),MATCH(D4361,$AE$10:$BB$10,0))","v":6},990.09400000000005,1115.0999999999999,1500.163]
[null,"2020-06-30T08:59:59.999",{"$f":"MONTH(B4362)","v":6},{"$f":"HOUR(B4362)","v":9},6,1287.3530000000001,1408.1,1713.61]
[null,{"$f":"B4362+1/24","v":"2020-06-30T09:59:59.999"},6,10,6,1497.7180000000001,1585.5,1754.3920000000001]
[null,"2020-06-30T10:59:59.999",6,11,6,1548.029,1592.2,1740.913]
[null,"2020-06-30T11:59:59.999",6,12,6,1491.616,1555.6,1576.5530000000001]
[null,"2020-06-30T12:59:59.999",6,13,6,1433.0450000000001,1487.8,1420.479]
[null,"2020-06-30T13:59:59.999",6,14,7,1339.76,1391.8,1220.1780000000001]
[null,"2020-06-30T14:59:59.999",6,15,7,1113.308,1158,900.07100000000003]
[null,"2020-06-30T15:59:59.999",6,16,8,810.92100000000005,843.15,498.03100000000001]
[null,"2020-06-30T16:59:59.999",6,17,8,435.99599999999998,472.57,124.839]
[null,"2020-06-30T17:59:59.999",6,18,8,101.247,119.07,103.61499999999999]
[null,"2020-06-30T18:59:59.999",6,19,8,0.51966000000000001,-2.7E-2,7.8043000000000005]
[null,"2020-06-30T19:59:59.999",6,20,8,-1.9336,-2.7E-2,-2.1436999999999999]
[null,"2020-06-30T20:59:59.999",6,21,7,-1.9336,-2.7E-2,-2.1436999999999999]
[null,"2020-06-30T21:59:59.999",6,22,7,-1.9336,-2.7E-2,-2.1436999999999999]
[null,"2020-06-30T22:59:59.999",6,23,6,-1.9336,-2.7E-2,-2.1436999999999999]
[null,"2020-06-30T23:59:59.999",7,0,6,-1.9336,-2.7E-2,-2.1436999999999999]
[null,"2020-07-01T00:59:59.999",7,1,6,-1.9336,-2.7E-2,-2.1436999999999999]
[null,"2020-07-01T01:59:59.999",7,2,6,-1.9336,-2.7E-2,-2.1436999999999999]
[null,"2020-07-01T02:59:59.999",7,3,6,-1.9336,-2.7E-2,-2.1436999999999999]
[null,"2020-07-01T03:59:59.999",7,4,6,-1.9336,-2.7E-2,-2.1436999999999999]
[null,"2020-07-01T04:59:59.999",7,5,6,14.17,20.11,19.38]
[null,"2020-07-01T05:59:59.999",7,6,6,152.26,177.53,216.68700000000001]
[null,"2020-07-01T06:59:59.999",7,7,6,376.20499999999998,417.77,517.94000000000005]
[null,"2020-07-01T07:59:59.999",7,8,6,770.02,842.41,1070.078]
[null,"2020-07-01T08:59:59.999",7,9,6,1171.579,1264.5,1531.8789999999999]
[null,"2020-07-01T09:59:59.999",7,10,6,1438.0350000000001,1532.4,1722.951]
[null,"2020-07-01T10:59:59.999",7,11,6,1529.855,1587.3,1724.1659999999999]
[null,"2020-07-01T11:59:59.999",7,12,6,1544.519,1589.5,1667.712]
[null,"2020-07-01T12:59:59.999",7,13,6,1514.3040000000001,1580.1,1502.136]
[null,"2020-07-01T13:59:59.999",7,14,7,1334.5340000000001,1384.8,1219.4069999999999]
[null,"2020-07-01T14:59:59.999",7,15,7,1045.2860000000001,1082.4000000000001,861.36599999999999]
[null,"2020-07-01T15:59:59.999",7,16,8,721.15499999999997,748.46,495.17099999999999]
[null,"2020-07-01T16:59:59.999",7,17,8,358.68,386.28,198.52]
[null,"2020-07-01T17:59:59.999",7,18,8,96.120999999999995,110.08,103.611]
[null,"2020-07-01T18:59:59.999",7,19,8,2.0400999999999998,-2.7E-2,9.3641000000000005]
[null,"2020-07-01T19:59:59.999",7,20,8,-1.9336,-2.7E-2,-2.1436999999999999]
[null,"2020-07-01T20:59:59.999",7,21,7,-1.9336,-2.7E-2,-2.1436999999999999]
[null,"2020-07-01T21:59:59.999",7,22,7,-1.9336,-2.7E-2,-2.1436999999999999]
[null,"2020-07-01T22:59:59.999",7,23,6,-1.9336,-2.7E-2,-2.1436999999999999]
[null,"2020-07-01T23:59:59.999",7,0,6,-1.9336,-2.7E-2,-2.1436999999999999]
[null,"2020-07-02T00:59:59.999",7,1,6,-1.9336,-2.7E-2,-2.1436999999999999]
[null,"2020-07-02T01:59:59.999",7,2,6,-1.9336,-2.7E-2,-2.1436999999999999]
[null,"2020-07-02T02:59:59.999",7,3,6,-1.9336,-2.7E-2,-2.1436999999999999]
[null,"2020-07-02T03:59:59.999",7,4,6,-1.9336,-2.7E-2,-2.1436999999999999]
[null,"2020-07-02T04:59:59.999",7,5,6,32.957000000000001,39.238,42.503999999999998]
[null,"2020-07-02T05:59:59.999",7,6,6,185.61500000000001,237.12,356.55700000000002]
[null,"2020-07-02T06:59:59.999",7,7,6,511.29599999999999,592.78,846.29200000000003]
[null,"2020-07-02T07:59:59.999",7,8,6,928.18399999999997,1030.5999999999999,1368.2180000000001]
[null,"2020-07-02T08:59:59.999",7,9,6,1252.096,1361,1656.864]
[null,"2020-07-02T09:59:59.999",7,10,6,1497.106,1585.2,1753.24]
[null,"2020-07-02T10:59:59.999",7,11,6,1558.077,1594.5,1751.1659999999999]
[null,"2020-07-02T11:59:59.999",7,12,6,1571.9369999999999,1596.4,1719.595]
[null,"2020-07-02T12:59:59.999",7,13,6,1533.5840000000001,1587.3,1541.5989999999999]
[null,"2020-07-02T13:59:59.999",7,14,7,1403.319,1468.1,1280.8389999999999]
[null,"2020-07-02T14:59:59.999",7,15,7,1139.4459999999999,1185.2,918.53499999999997]
[null,"2020-07-02T15:59:59.999",7,16,8,795.95,826.15,496.20600000000002]
[null,"2020-07-02T16:59:59.999",7,17,8,401.274,433.76,146.572]
[null,"2020-07-02T17:59:59.999",7,18,8,93.552000000000007,109.95,96.284000000000006]
[null,"2020-07-02T18:59:59.999",7,19,8,0.51566000000000001,-2.7E-2,7.7999000000000001]
[null,"2020-07-02T19:59:59.999",7,20,8,-1.9336,-2.7E-2,-2.1436999999999999]
[null,"2020-07-02T20:59:59.999",7,21,7,-1.9336,-2.7E-2,-2.1436999999999999]
[null,"2020-07-02T21:59:59.999",7,22,7,-1.9336,-2.7E-2,-2.1436999999999999]
[null,"2020-07-02T22:59:59.999",7,23,6,-1.9336,-2.7E-2,-2.1436999999999999]
[null,"2020-07-02T23:59:59.999",7,0,{"$f":"INDEX($AE$11:$BB$22,MATCH(C4425,$AD$11:$AD$22,0),MATCH(D4425,$AE$10:$BB$10,0))","v":6},-1.9336,-2.7E-2,-2.1436999999999999]
[null,"2020-07-03T00:59:59.999",{"$f":"MONTH(B4426)","v":7},{"$f":"HOUR(B4426)","v":1},6,-1.9336,-2.7E-2,-2.1436999999999999]
[null,{"$f":"B4426+1/24","v":"2020-07-03T01:59:59.999"},7,2,6,-1.9336,-2.7E-2,-2.1436999999999999]
[null,"2020-07-03T02:59:59.999",7,3,6,-1.9336,-2.7E-2,-2.1436999999999999]
[null,"2020-07-03T03:59:59.999",7,4,6,-1.9336,-2.7E-2,-2.1436999999999999]
[null,"2020-07-03T04:59:59.999",7,5,6,18.962,25.004000000000001,24.882999999999999]
[null,"2020-07-03T05:59:59.999",7,6,6,122.42,136.05000000000001,144.495]
[null,"2020-07-03T06:59:59.999",7,7,6,361.74599999999998,402.72,500.70800000000003]
[null,"2020-07-03T07:59:59.999",7,8,6,864.07899999999995,951.96,1241.818]
[null,"2020-07-03T08:59:59.999",7,9,6,1235.068,1339.1,1632.123]
[null,"2020-07-03T09:59:59.999",7,10,6,1510.796,1586.7,1758.268]
[null,"2020-07-03T10:59:59.999",7,11,6,1573.296,1598.3,1759.1559999999999]
[null,"2020-07-03T11:59:59.999",7,12,6,1584.9480000000001,1599.8,1732.375]
[null,"2020-07-03T12:59:59.999",7,13,6,1554.444,1591.7,1581.5709999999999]
[null,"2020-07-03T13:59:59.999",7,14,7,1434.2660000000001,1501.5,1307.5930000000001]
[null,"2020-07-03T14:59:59.999",7,15,7,1179.0219999999999,1230.5,947.23800000000006]
[null,"2020-07-03T15:59:59.999",7,16,8,849.80700000000002,885.78,511.32499999999999]
[null,"2020-07-03T16:59:59.999",7,17,8,438.048,475.26,103.46899999999999]
[null,"2020-07-03T17:59:59.999",7,18,8,90.093999999999994,107.9,83.807000000000002]
[null,"2020-07-03T18:59:59.999",7,19,8,5.0342000000000002,10.568,12.432]
[null,"2020-07-03T19:59:59.999",7,20,8,-1.9336,-2.7E-2,-2.1436999999999999]
[null,"2020-07-03T20:59:59.999",7,21,7,-1.9336,-2.7E-2,-2.1436999999999999]
[null,"2020-07-03T21:59:59.999",7,22,7,-1.9336,-2.7E-2,-2.1436999999999999]
[null,"2020-07-03T22:59:59.999",7,23,6,-1.9336,-2.7E-2,-2.1436999999999999]
[null,"2020-07-03T23:59:59.999",7,0,6,-1.9336,-2.7E-2,-2.1436999999999999]
[null,"2020-07-04T00:59:59.999",7,1,6,-1.9336,-2.7E-2,-2.1436999999999999]
[null,"2020-07-04T01:59:59.999",7,2,6,-1.9336,-2.7E-2,-2.1436999999999999]
[null,"2020-07-04T02:59:59.999",7,3,6,-1.9336,-2.7E-2,-2.1436999999999999]
[null,"2020-07-04T03:59:59.999",7,4,6,-1.9336,-2.7E-2,-2.1436999999999999]
[null,"2020-07-04T04:59:59.999",7,5,6,23.788,29.959,30.757000000000001]
[null,"2020-07-04T05:59:59.999",7,6,6,175.99299999999999,235.21,375.96699999999998]
[null,"2020-07-04T06:59:59.999",7,7,6,620.52099999999996,743.18,1147.8140000000001]
[null,"2020-07-04T07:59:59.999",7,8,6,994.51099999999997,1120.2,1511.6949999999999]
[null,"2020-07-04T08:59:59.999",7,9,6,1301.0239999999999,1422.8,1721.07]
[null,"2020-07-04T09:59:59.999",7,10,6,1516.2380000000001,1587.8,1758.98]
[null,"2020-07-04T10:59:59.999",7,11,6,1571.5250000000001,1597.8,1758.867]
[null,"2020-07-04T11:59:59.999",7,12,6,1580.3389999999999,1598.6,1727.568]
[null,"2020-07-04T12:59:59.999",7,13,6,1547.027,1590.1,1566.4839999999999]
[null,"2020-07-04T13:59:59.999",7,14,7,1406.6369999999999,1471.8,1281.1210000000001]
[null,"2020-07-04T14:59:59.999",7,15,7,1156.5050000000001,1206.4000000000001,928.00099999999998]
[null,"2020-07-04T15:59:59.999",7,16,8,830.39800000000002,864.88,498.37700000000001]
[null,"2020-07-04T16:59:59.999",7,17,8,439.46199999999999,473.89,131.94300000000001]
[null,"2020-07-04T17:59:59.999",7,18,8,104.623,121.42,106.626]
[null,"2020-07-04T18:59:59.999",7,19,8,0.36513000000000001,-2.7E-2,7.5656999999999996]
[null,"2020-07-04T19:59:59.999",7,20,8,-1.9336,-2.7E-2,-2.1436999999999999]
[null,"2020-07-04T20:59:59.999",7,21,7,-1.9336,-2.7E-2,-2.1436999999999999]
[null,"2020-07-04T21:59:59.999",7,22,7,-1.9336,-2.7E-2,-2.1436999999999999]
[null,"2020-07-04T22:59:59.999",7,23,6,-1.9336,-2.7E-2,-2.1436999999999999]
[null,"2020-07-04T23:59:59.999",7,0,6,-1.9336,-2.7E-2,-2.1436999999999999]
[null,"2020-07-05T00:59:59.999",7,1,6,-1.9336,-2.7E-2,-2.1436999999999999]
[null,"2020-07-05T01:59:59.999",7,2,6,-1.9336,-2.7E-2,-2.1436999999999999]
[null,"2020-07-05T02:59:59.999",7,3,6,-1.9336,-2.7E-2,-2.1436999999999999]
[null,"2020-07-05T03:59:59.999",7,4,6,-1.9336,-2.7E-2,-2.1436999999999999]
[null,"2020-07-05T04:59:59.999",7,5,6,5.7480000000000002,11.345000000000001,10.537000000000001]
[null,"2020-07-05T05:59:59.999",7,6,6,55.692,61.771999999999998,62.26]
[null,"2020-07-05T06:59:59.999",7,7,6,211.49299999999999,233.69,266.67]
[null,"2020-07-05T07:59:59.999",7,8,6,219.74100000000001,237.82,249.85900000000001]
[null,"2020-07-05T08:59:59.999",7,9,6,257.55700000000002,276.58999999999997,290.71300000000002]
[null,"2020-07-05T09:59:59.999",7,10,6,783.93,824.21,917.24]
[null,"2020-07-05T10:59:59.999",7,11,6,1481.346,1555.8,1668.309]
[null,"2020-07-05T11:59:59.999",7,12,6,1533.546,1587.1,1643.77]
[null,"2020-07-05T12:59:59.999",7,13,6,1521.327,1584.6,1517.202]
[null,"2020-07-05T13:59:59.999",7,14,7,1385.383,1448.8,1261.127]
[null,"2020-07-05T14:59:59.999",7,15,7,1139.837,1188.2,913.82899999999995]
[null,"2020-07-05T15:59:59.999",7,16,{"$f":"INDEX($AE$11:$BB$22,MATCH(C4489,$AD$11:$AD$22,0),MATCH(D4489,$AE$10:$BB$10,0))","v":8},818.798,852.17,490.79]
[null,"2020-07-05T16:59:59.999",{"$f":"MONTH(B4490)","v":7},{"$f":"HOUR(B4490)","v":17},8,421.94400000000002,457.25,89.174999999999997]
[null,{"$f":"B4490+1/24","v":"2020-07-05T17:59:59.999"},7,18,8,80.2,97.106999999999999,71.557000000000002]
[null,"2020-07-05T18:59:59.999",7,19,8,7.5006000000000004,12.827,14.786]
[null,"2020-07-05T19:59:59.999",7,20,8,-1.9336,-2.7E-2,-2.1436999999999999]
[null,"2020-07-05T20:59:59.999",7,21,7,-1.9336,-2.7E-2,-2.1436999999999999]
[null,"2020-07-05T21:59:59.999",7,22,7,-1.9336,-2.7E-2,-2.1436999999999999]
[null,"2020-07-05T22:59:59.999",7,23,6,-1.9336,-2.7E-2,-2.1436999999999999]
[null,"2020-07-05T23:59:59.999",7,0,6,-1.9336,-2.7E-2,-2.1436999999999999]
[null,"2020-07-06T00:59:59.999",7,1,6,-1.9336,-2.7E-2,-2.1436999999999999]
[null,"2020-07-06T01:59:59.999",7,2,6,-1.9336,-2.7E-2,-2.1436999999999999]
[null,"2020-07-06T02:59:59.999",7,3,6,-1.9336,-2.7E-2,-2.1436999999999999]
[null,"2020-07-06T03:59:59.999",7,4,6,-1.9336,-2.7E-2,-2.1436999999999999]
[null,"2020-07-06T04:59:59.999",7,5,6,64.638999999999996,51.613,167.32599999999999]
[null,"2020-07-06T05:59:59.999",7,6,6,151.291,307.33,730.91800000000001]
[null,"2020-07-06T06:59:59.999",7,7,6,586.65,720.43,1158.0820000000001]
[null,"2020-07-06T07:59:59.999",7,8,6,975.01900000000001,1097.3,1481.4860000000001]
[null,"2020-07-06T08:59:59.999",7,9,6,1275.9010000000001,1394,1700.4349999999999]
[null,"2020-07-06T09:59:59.999",7,10,6,1481.9069999999999,1583.7,1746.982]
[null,"2020-07-06T10:59:59.999",7,11,6,1556.451,1594.2,1749.4079999999999]
[null,"2020-07-06T11:59:59.999",7,12,6,1566.9490000000001,1594.9,1713.921]
[null,"2020-07-06T12:59:59.999",7,13,6,1407.223,1459.8,1392.095]
[null,"2020-07-06T13:59:59.999",7,14,7,992.77099999999996,1026.5999999999999,935.99400000000003]
[null,"2020-07-06T14:59:59.999",7,15,7,961.45299999999997,992.6,788.428]
[null,"2020-07-06T15:59:59.999",7,16,8,828.93499999999995,860.11,509.63200000000001]
[null,"2020-07-06T16:59:59.999",7,17,8,421.113,454.62,107.298]
[null,"2020-07-06T17:59:59.999",7,18,8,83.597999999999999,98.893000000000001,78.328999999999994]
[null,"2020-07-06T18:59:59.999",7,19,8,4.7394999999999996,10.077999999999999,12.009]
[null,"2020-07-06T19:59:59.999",7,20,8,-1.9336,-2.7E-2,-2.1436999999999999]
[null,"2020-07-06T20:59:59.999",7,21,7,-1.9336,-2.7E-2,-2.1436999999999999]
[null,"2020-07-06T21:59:59.999",7,22,7,-1.9336,-2.7E-2,-2.1436999999999999]
[null,"2020-07-06T22:59:59.999",7,23,6,-1.9336,-2.7E-2,-2.1436999999999999]
[null,"2020-07-06T23:59:59.999",7,0,6,-1.9336,-2.7E-2,-2.1436999999999999]
[null,"2020-07-07T00:59:59.999",7,1,6,-1.9336,-2.7E-2,-2.1436999999999999]
[null,"2020-07-07T01:59:59.999",7,2,6,-1.9336,-2.7E-2,-2.1436999999999999]
[null,"2020-07-07T02:59:59.999",7,3,6,-1.9336,-2.7E-2,-2.1436999999999999]
[null,"2020-07-07T03:59:59.999",7,4,6,-1.9336,-2.7E-2,-2.1436999999999999]
[null,"2020-07-07T04:59:59.999",7,5,6,60.981000000000002,53.131,149.279]
[null,"2020-07-07T05:59:59.999",7,6,6,159.53100000000001,309.06,716.17]
[null,"2020-07-07T06:59:59.999",7,7,6,586.69100000000003,720.19,1158.4880000000001]
[null,"2020-07-07T07:59:59.999",7,8,6,976.21600000000001,1098.5999999999999,1484.6220000000001]
[null,"2020-07-07T08:59:59.999",7,9,6,1273.759,1391.6,1698.32]
[null,"2020-07-07T09:59:59.999",7,10,6,1488.5530000000001,1584.3,1750.173]
[null,"2020-07-07T10:59:59.999",7,11,6,1560.212,1594.9,1752.672]
[null,"2020-07-07T11:59:59.999",7,12,6,1572.2619999999999,1596.4,1719.2270000000001]
[null,"2020-07-07T12:59:59.999",7,13,6,1535.231,1587.5,1542.1790000000001]
[null,"2020-07-07T13:59:59.999",7,14,7,1397.471,1460.8,1271.521]
[null,"2020-07-07T14:59:59.999",7,15,7,1152.0129999999999,1199,922.6]
[null,"2020-07-07T15:59:59.999",7,16,8,828.86500000000001,861.97,495.827]
[null,"2020-07-07T16:59:59.999",7,17,8,430.46300000000002,465.2,94.938999999999993]
[null,"2020-07-07T17:59:59.999",7,18,8,90.19,106.38,82.942999999999998]
[null,"2020-07-07T18:59:59.999",7,19,8,4.7808000000000002,10.151,12.071]
[null,"2020-07-07T19:59:59.999",7,20,8,-1.9336,-2.7E-2,-2.1436999999999999]
[null,"2020-07-07T20:59:59.999",7,21,7,-1.9336,-2.7E-2,-2.1436999999999999]
[null,"2020-07-07T21:59:59.999",7,22,7,-1.9336,-2.7E-2,-2.1436999999999999]
[null,"2020-07-07T22:59:59.999",7,23,6,-1.9336,-2.7E-2,-2.1436999999999999]
[null,"2020-07-07T23:59:59.999",7,0,6,-1.9336,-2.7E-2,-2.1436999999999999]
[null,"2020-07-08T00:59:59.999",7,1,6,-1.9336,-2.7E-2,-2.1436999999999999]
[null,"2020-07-08T01:59:59.999",7,2,6,-1.9336,-2.7E-2,-2.1436999999999999]
[null,"2020-07-08T02:59:59.999",7,3,6,-1.9336,-2.7E-2,-2.1436999999999999]
[null,"2020-07-08T03:59:59.999",7,4,6,-1.9336,-2.7E-2,-2.1436999999999999]
[null,"2020-07-08T04:59:59.999",7,5,6,60.112000000000002,55.698,138.63]
[null,"2020-07-08T05:59:59.999",7,6,6,166.572,311.45999999999998,706.81799999999998]
[null,"2020-07-08T06:59:59.999",7,7,6,583.83100000000002,716.25,1152.7270000000001]
[null,"2020-07-08T07:59:59.999",7,8,{"$f":"INDEX($AE$11:$BB$22,MATCH(C4553,$AD$11:$AD$22,0),MATCH(D4553,$AE$10:$BB$10,0))","v":6},972.09400000000005,1093.4000000000001,1477.895]
[null,"2020-07-08T08:59:59.999",{"$f":"MONTH(B4554)","v":7},{"$f":"HOUR(B4554)","v":9},6,1274.74,1392.1,1699.3630000000001]
[null,{"$f":"B4554+1/24","v":"2020-07-08T09:59:59.999"},7,10,6,1486.702,1584.1,1749.345]
[null,"2020-07-08T10:59:59.999",7,11,6,1556.816,1594.2,1749.566]
[null,"2020-07-08T11:59:59.999",7,12,6,1566.683,1594.9,1714.752]
[null,"2020-07-08T12:59:59.999",7,13,6,1528.0250000000001,1586,1527.461]
[null,"2020-07-08T13:59:59.999",7,14,7,1375.3030000000001,1436.8,1250.0260000000001]
[null,"2020-07-08T14:59:59.999",7,15,7,1132.3900000000001,1177.9000000000001,905.33399999999995]
[null,"2020-07-08T15:59:59.999",7,16,8,812.73900000000003,844.42,485.22899999999998]
[null,"2020-07-08T16:59:59.999",7,17,8,423.60300000000001,457.04,93.040999999999997]
[null,"2020-07-08T17:59:59.999",7,18,8,87.227000000000004,101.74,81.412999999999997]
[null,"2020-07-08T18:59:59.999",7,19,8,1.6956,-2.7E-2,8.8501000000000012]
[null,"2020-07-08T19:59:59.999",7,20,8,-1.9336,-2.7E-2,-2.1436999999999999]
[null,"2020-07-08T20:59:59.999",7,21,7,-1.9336,-2.7E-2,-2.1436999999999999]
[null,"2020-07-08T21:59:59.999",7,22,7,-1.9336,-2.7E-2,-2.1436999999999999]
[null,"2020-07-08T22:59:59.999",7,23,6,-1.9336,-2.7E-2,-2.1436999999999999]
[null,"2020-07-08T23:59:59.999",7,0,6,-1.9336,-2.7E-2,-2.1436999999999999]
[null,"2020-07-09T00:59:59.999",7,1,6,-1.9336,-2.7E-2,-2.1436999999999999]
[null,"2020-07-09T01:59:59.999",7,2,6,-1.9336,-2.7E-2,-2.1436999999999999]
[null,"2020-07-09T02:59:59.999",7,3,6,-1.9336,-2.7E-2,-2.1436999999999999]
[null,"2020-07-09T03:59:59.999",7,4,6,-1.9336,-2.7E-2,-2.1436999999999999]
[null,"2020-07-09T04:59:59.999",7,5,6,60.09,50.957000000000001,150.26400000000001]
[null,"2020-07-09T05:59:59.999",7,6,6,149.482,299.69,710.38800000000003]
[null,"2020-07-09T06:59:59.999",7,7,6,579.02700000000004,710.56,1145.586]
[null,"2020-07-09T07:59:59.999",7,8,6,966.346,1086.7,1469.7650000000001]
[null,"2020-07-09T08:59:59.999",7,9,6,1263.2819999999999,1379.1,1683.633]
[null,"2020-07-09T09:59:59.999",7,10,6,1476.4190000000001,1584.1,1744.116]
[null,"2020-07-09T10:59:59.999",7,11,6,1553.453,1593.4,1746.471]
[null,"2020-07-09T11:59:59.999",7,12,6,1567.1969999999999,1595,1715.5350000000001]
[null,"2020-07-09T12:59:59.999",7,13,6,1528.6610000000001,1586.1,1528.289]
[null,"2020-07-09T13:59:59.999",7,14,7,1382.0419999999999,1443.4,1256.039]
[null,"2020-07-09T14:59:59.999",7,15,7,1142.6089999999999,1188.2,913.245]
[null,"2020-07-09T15:59:59.999",7,16,8,823.46500000000003,855.2,491.358]
[null,"2020-07-09T16:59:59.999",7,17,8,428.36200000000002,461.72,94.07]
[null,"2020-07-09T17:59:59.999",7,18,8,88.031999999999996,102.92,81.441999999999993]
[null,"2020-07-09T18:59:59.999",7,19,8,3.3330000000000002,-2.7E-2,10.606]
[null,"2020-07-09T19:59:59.999",7,20,8,-1.9336,-2.7E-2,-2.1436999999999999]
[null,"2020-07-09T20:59:59.999",7,21,7,-1.9336,-2.7E-2,-2.1436999999999999]
[null,"2020-07-09T21:59:59.999",7,22,7,-1.9336,-2.7E-2,-2.1436999999999999]
[null,"2020-07-09T22:59:59.999",7,23,6,-1.9336,-2.7E-2,-2.1436999999999999]
[null,"2020-07-09T23:59:59.999",7,0,6,-1.9336,-2.7E-2,-2.1436999999999999]
[null,"2020-07-10T00:59:59.999",7,1,6,-1.9336,-2.7E-2,-2.1436999999999999]
[null,"2020-07-10T01:59:59.999",7,2,6,-1.9336,-2.7E-2,-2.1436999999999999]
[null,"2020-07-10T02:59:59.999",7,3,6,-1.9336,-2.7E-2,-2.1436999999999999]
[null,"2020-07-10T03:59:59.999",7,4,6,-1.9336,-2.7E-2,-2.1436999999999999]
[null,"2020-07-10T04:59:59.999",7,5,6,55.823,52.933999999999997,121.239]
[null,"2020-07-10T05:59:59.999",7,6,6,166.14699999999999,305.55,687.69799999999998]
[null,"2020-07-10T06:59:59.999",7,7,6,584.32000000000005,717.13,1157.922]
[null,"2020-07-10T07:59:59.999",7,8,6,978.81700000000001,1101.9000000000001,1491.913]
[null,"2020-07-10T08:59:59.999",7,9,6,1285.067,1403.1,1714.41]
[null,"2020-07-10T09:59:59.999",7,10,6,1502.021,1585.9,1757.4849999999999]
[null,"2020-07-10T10:59:59.999",7,11,6,1568.6120000000001,1596.8,1758.384]
[null,"2020-07-10T11:59:59.999",7,12,6,1577.4829999999999,1597.6,1724.097]
[null,"2020-07-10T12:59:59.999",7,13,6,1540.797,1588.7,1553.0129999999999]
[null,"2020-07-10T13:59:59.999",7,14,7,1398.4010000000001,1460.3,1270.83]
[null,"2020-07-10T14:59:59.999",7,15,7,1152.867,1198.4000000000001,921.41800000000001]
[null,"2020-07-10T15:59:59.999",7,16,8,832.721,864.42,496.541]
[null,"2020-07-10T16:59:59.999",7,17,8,428.20800000000003,461.5,97.679000000000002]
[null,"2020-07-10T17:59:59.999",7,18,8,82.287999999999997,97.316999999999993,75.201999999999998]
[null,"2020-07-10T18:59:59.999",7,19,8,4.8338000000000001,10.265000000000001,12.163]
[null,"2020-07-10T19:59:59.999",7,20,8,-1.9336,-2.7E-2,-2.1436999999999999]
[null,"2020-07-10T20:59:59.999",7,21,7,-1.9336,-2.7E-2,-2.1436999999999999]
[null,"2020-07-10T21:59:59.999",7,22,7,-1.9336,-2.7E-2,-2.1436999999999999]
[null,"2020-07-10T22:59:59.999",7,23,6,-1.9336,-2.7E-2,-2.1436999999999999]
[null,"2020-07-10T23:59:59.999",7,0,{"$f":"INDEX($AE$11:$BB$22,MATCH(C4617,$AD$11:$AD$22,0),MATCH(D4617,$AE$10:$BB$10,0))","v":6},-1.9336,-2.7E-2,-2.1436999999999999]
[null,"2020-07-11T00:59:59.999",{"$f":"MONTH(B4618)","v":7},{"$f":"HOUR(B4618)","v":1},6,-1.9336,-2.7E-2,-2.1436999999999999]
[null,{"$f":"B4618+1/24","v":"2020-07-11T01:59:59.999"},7,2,6,-1.9336,-2.7E-2,-2.1436999999999999]
[null,"2020-07-11T02:59:59.999",7,3,6,-1.9336,-2.7E-2,-2.1436999999999999]
[null,"2020-07-11T03:59:59.999",7,4,6,-1.9336,-2.7E-2,-2.1436999999999999]
[null,"2020-07-11T04:59:59.999",7,5,6,37.862000000000002,40.064999999999998,70.694000000000003]
[null,"2020-07-11T05:59:59.999",7,6,6,174.244,270.91000000000003,532.34500000000003]
[null,"2020-07-11T06:59:59.999",7,7,6,575.88400000000001,694.37,1094.548]
[null,"2020-07-11T07:59:59.999",7,8,6,964.4,1082.9000000000001,1469.018]
[null,"2020-07-11T08:59:59.999",7,9,6,1279.191,1392.7,1698.896]
[null,"2020-07-11T09:59:59.999",7,10,6,1452.5809999999999,1548.8,1729.7860000000001]
[null,"2020-07-11T10:59:59.999",7,11,6,1402.1980000000001,1467.2,1575.8530000000001]
[null,"2020-07-11T11:59:59.999",7,12,6,1549.9590000000001,1589.9,1673.8610000000001]
[null,"2020-07-11T12:59:59.999",7,13,6,1531.8389999999999,1586.6,1536.2270000000001]
[null,"2020-07-11T13:59:59.999",7,14,7,1404.7929999999999,1466.5,1276.4760000000001]
[null,"2020-07-11T14:59:59.999",7,15,7,1155.5840000000001,1200.5999999999999,923.72]
[null,"2020-07-11T15:59:59.999",7,16,8,832.05399999999997,861.22,505.59100000000001]
[null,"2020-07-11T16:59:59.999",7,17,8,397.66899999999998,424.86,170.387]
[null,"2020-07-11T17:59:59.999",7,18,8,82.343999999999994,91.876000000000005,89.512]
[null,"2020-07-11T18:59:59.999",7,19,8,-1.1027,-2.7E-2,6.085]
[null,"2020-07-11T19:59:59.999",7,20,8,-1.9336,-2.7E-2,-2.1436999999999999]
[null,"2020-07-11T20:59:59.999",7,21,7,-1.9336,-2.7E-2,-2.1436999999999999]
[null,"2020-07-11T21:59:59.999",7,22,7,-1.9336,-2.7E-2,-2.1436999999999999]
[null,"2020-07-11T22:59:59.999",7,23,6,-1.9336,-2.7E-2,-2.1436999999999999]
[null,"2020-07-11T23:59:59.999",7,0,6,-1.9336,-2.7E-2,-2.1436999999999999]
[null,"2020-07-12T00:59:59.999",7,1,6,-1.9336,-2.7E-2,-2.1436999999999999]
[null,"2020-07-12T01:59:59.999",7,2,6,-1.9336,-2.7E-2,-2.1436999999999999]
[null,"2020-07-12T02:59:59.999",7,3,6,-1.9336,-2.7E-2,-2.1436999999999999]
[null,"2020-07-12T03:59:59.999",7,4,6,-1.9336,-2.7E-2,-2.1436999999999999]
[null,"2020-07-12T04:59:59.999",7,5,6,8.9233999999999991,14.63,13.894]
[null,"2020-07-12T05:59:59.999",7,6,6,120.904,135.33000000000001,146.876]
[null,"2020-07-12T06:59:59.999",7,7,6,430.50200000000001,489.52,665.09900000000005]
[null,"2020-07-12T07:59:59.999",7,8,6,688.84799999999996,753.44,962.06200000000001]
[null,"2020-07-12T08:59:59.999",7,9,6,1008.389,1082.9000000000001,1312.8920000000001]
[null,"2020-07-12T09:59:59.999",7,10,6,1249.046,1323.1,1503.6969999999999]
[null,"2020-07-12T10:59:59.999",7,11,6,1540.01,1589.4,1732.5830000000001]
[null,"2020-07-12T11:59:59.999",7,12,6,1534.212,1587,1644.508]
[null,"2020-07-12T12:59:59.999",7,13,6,1401.3820000000001,1450.5,1387.7329999999999]
[null,"2020-07-12T13:59:59.999",7,14,7,1358.105,1409.8,1236.7929999999999]
[null,"2020-07-12T14:59:59.999",7,15,7,1153.056,1197.4000000000001,925.95100000000002]
[null,"2020-07-12T15:59:59.999",7,16,8,828.17,858.35,494.48899999999998]
[null,"2020-07-12T16:59:59.999",7,17,8,428.38600000000002,460.43,99.622]
[null,"2020-07-12T17:59:59.999",7,18,8,88.245000000000005,102.48,86.635999999999996]
[null,"2020-07-12T18:59:59.999",7,19,8,0.39545999999999998,-2.7E-2,7.6163999999999996]
[null,"2020-07-12T19:59:59.999",7,20,8,-1.9336,-2.7E-2,-2.1436999999999999]
[null,"2020-07-12T20:59:59.999",7,21,7,-1.9336,-2.7E-2,-2.1436999999999999]
[null,"2020-07-12T21:59:59.999",7,22,7,-1.9336,-2.7E-2,-2.1436999999999999]
[null,"2020-07-12T22:59:59.999",7,23,6,-1.9336,-2.7E-2,-2.1436999999999999]
[null,"2020-07-12T23:59:59.999",7,0,6,-1.9336,-2.7E-2,-2.1436999999999999]
[null,"2020-07-13T00:59:59.999",7,1,6,-1.9336,-2.7E-2,-2.1436999999999999]
[null,"2020-07-13T01:59:59.999",7,2,6,-1.9336,-2.7E-2,-2.1436999999999999]
[null,"2020-07-13T02:59:59.999",7,3,6,-1.9336,-2.7E-2,-2.1436999999999999]
[null,"2020-07-13T03:59:59.999",7,4,6,-1.9336,-2.7E-2,-2.1436999999999999]
[null,"2020-07-13T04:59:59.999",7,5,6,39.109000000000002,41.08,69.691999999999993]
[null,"2020-07-13T05:59:59.999",7,6,6,174.453,269.39,527.34799999999996]
[null,"2020-07-13T06:59:59.999",7,7,6,533.53599999999994,628.5,947.529]
[null,"2020-07-13T07:59:59.999",7,8,6,972.28399999999999,1086.4000000000001,1466.058]
[null,"2020-07-13T08:59:59.999",7,9,6,1269.682,1383.7,1692.2570000000001]
[null,"2020-07-13T09:59:59.999",7,10,6,1495.777,1585,1754.15]
[null,"2020-07-13T10:59:59.999",7,11,6,1567.319,1596.2,1758.9359999999999]
[null,"2020-07-13T11:59:59.999",7,12,6,1570.4760000000001,1595.6,1717.222]
[null,"2020-07-13T12:59:59.999",7,13,6,1532.009,1586.5,1536.357]
[null,"2020-07-13T13:59:59.999",7,14,7,1401.6289999999999,1461.4,1273.421]
[null,"2020-07-13T14:59:59.999",7,15,7,1166.5429999999999,1212,931.05399999999997]
[null,"2020-07-13T15:59:59.999",7,16,{"$f":"INDEX($AE$11:$BB$22,MATCH(C4681,$AD$11:$AD$22,0),MATCH(D4681,$AE$10:$BB$10,0))","v":8},834.31,864.17,497.435]
[null,"2020-07-13T16:59:59.999",{"$f":"MONTH(B4682)","v":7},{"$f":"HOUR(B4682)","v":17},8,424.96499999999997,456.35,94.135000000000005]
[null,{"$f":"B4682+1/24","v":"2020-07-13T17:59:59.999"},7,18,8,85.677999999999997,99.655000000000001,82.662999999999997]
[null,"2020-07-13T18:59:59.999",7,19,8,0.48631999999999997,-2.7E-2,7.7681000000000004]
[null,"2020-07-13T19:59:59.999",7,20,8,-1.9336,-2.7E-2,-2.1436999999999999]
[null,"2020-07-13T20:59:59.999",7,21,7,-1.9336,-2.7E-2,-2.1436999999999999]
[null,"2020-07-13T21:59:59.999",7,22,7,-1.9336,-2.7E-2,-2.1436999999999999]
[null,"2020-07-13T22:59:59.999",7,23,6,-1.9336,-2.7E-2,-2.1436999999999999]
[null,"2020-07-13T23:59:59.999",7,0,6,-1.9336,-2.7E-2,-2.1436999999999999]
[null,"2020-07-14T00:59:59.999",7,1,6,-1.9336,-2.7E-2,-2.1436999999999999]
[null,"2020-07-14T01:59:59.999",7,2,6,-1.9336,-2.7E-2,-2.1436999999999999]
[null,"2020-07-14T02:59:59.999",7,3,6,-1.9336,-2.7E-2,-2.1436999999999999]
[null,"2020-07-14T03:59:59.999",7,4,6,-1.9336,-2.7E-2,-2.1436999999999999]
[null,"2020-07-14T04:59:59.999",7,5,6,50.351999999999997,49.798999999999999,107.97]
[null,"2020-07-14T05:59:59.999",7,6,6,140.34700000000001,281.76,674.22400000000005]
[null,"2020-07-14T06:59:59.999",7,7,6,571.16800000000001,699.11,1132.557]
[null,"2020-07-14T07:59:59.999",7,8,6,972.18299999999999,1092,1481.664]
[null,"2020-07-14T08:59:59.999",7,9,6,1281.9580000000001,1398.5,1711.789]
[null,"2020-07-14T09:59:59.999",7,10,6,1493.9480000000001,1584.7,1753.24]
[null,"2020-07-14T10:59:59.999",7,11,6,1570.835,1597.1,1758.664]
[null,"2020-07-14T11:59:59.999",7,12,6,1583.42,1599,1729.809]
[null,"2020-07-14T12:59:59.999",7,13,6,1551.1579999999999,1590.6,1571.174]
[null,"2020-07-14T13:59:59.999",7,14,7,1415.8610000000001,1476.3,1284.9010000000001]
[null,"2020-07-14T14:59:59.999",7,15,7,1165.104,1209.5999999999999,929.89099999999996]
[null,"2020-07-14T15:59:59.999",7,16,8,840.34199999999998,869.88,498.73500000000001]
[null,"2020-07-14T16:59:59.999",7,17,8,434.48399999999998,465.96,94.841999999999999]
[null,"2020-07-14T17:59:59.999",7,18,8,87.046000000000006,100.66,84.381]
[null,"2020-07-14T18:59:59.999",7,19,8,-1.0517000000000001,-2.7E-2,6.1758999999999995]
[null,"2020-07-14T19:59:59.999",7,20,8,-1.9336,-2.7E-2,-2.1436999999999999]
[null,"2020-07-14T20:59:59.999",7,21,7,-1.9336,-2.7E-2,-2.1436999999999999]
[null,"2020-07-14T21:59:59.999",7,22,7,-1.9336,-2.7E-2,-2.1436999999999999]
[null,"2020-07-14T22:59:59.999",7,23,6,-1.9336,-2.7E-2,-2.1436999999999999]
[null,"2020-07-14T23:59:59.999",7,0,6,-1.9336,-2.7E-2,-2.1436999999999999]
[null,"2020-07-15T00:59:59.999",7,1,6,-1.9336,-2.7E-2,-2.1436999999999999]
[null,"2020-07-15T01:59:59.999",7,2,6,-1.9336,-2.7E-2,-2.1436999999999999]
[null,"2020-07-15T02:59:59.999",7,3,6,-1.9336,-2.7E-2,-2.1436999999999999]
[null,"2020-07-15T03:59:59.999",7,4,6,-1.9336,-2.7E-2,-2.1436999999999999]
[null,"2020-07-15T04:59:59.999",7,5,6,45.512,46.874000000000002,95.364000000000004]
[null,"2020-07-15T05:59:59.999",7,6,6,163.303,278.64,594.96900000000005]
[null,"2020-07-15T06:59:59.999",7,7,6,577.06700000000001,702.11,1127.337]
[null,"2020-07-15T07:59:59.999",7,8,6,970.28899999999999,1088.8,1476.915]
[null,"2020-07-15T08:59:59.999",7,9,6,1274.2650000000001,1389.4,1701.0450000000001]
[null,"2020-07-15T09:59:59.999",7,10,6,1488.52,1584.1,1750.546]
[null,"2020-07-15T10:59:59.999",7,11,6,1566.3869999999999,1595.9,1757.816]
[null,"2020-07-15T11:59:59.999",7,12,6,1578.1110000000001,1597.6,1724.2449999999999]
[null,"2020-07-15T12:59:59.999",7,13,6,1544.261,1589.1,1556.7149999999999]
[null,"2020-07-15T13:59:59.999",7,14,7,1409.779,1469.3,1277.7249999999999]
[null,"2020-07-15T14:59:59.999",7,15,7,1168.336,1212.5,930.38400000000001]
[null,"2020-07-15T15:59:59.999",7,16,8,839.6,869.09,497.435]
[null,"2020-07-15T16:59:59.999",7,17,8,428.50799999999998,458.73,93.372]
[null,"2020-07-15T17:59:59.999",7,18,8,83.843000000000004,96.632000000000005,81.064999999999998]
[null,"2020-07-15T18:59:59.999",7,19,8,0.38013999999999998,-2.7E-2,7.6171000000000006]
[null,"2020-07-15T19:59:59.999",7,20,8,-1.9336,-2.7E-2,-2.1436999999999999]
[null,"2020-07-15T20:59:59.999",7,21,7,-1.9336,-2.7E-2,-2.1436999999999999]
[null,"2020-07-15T21:59:59.999",7,22,7,-1.9336,-2.7E-2,-2.1436999999999999]
[null,"2020-07-15T22:59:59.999",7,23,6,-1.9336,-2.7E-2,-2.1436999999999999]
[null,"2020-07-15T23:59:59.999",7,0,6,-1.9336,-2.7E-2,-2.1436999999999999]
[null,"2020-07-16T00:59:59.999",7,1,6,-1.9336,-2.7E-2,-2.1436999999999999]
[null,"2020-07-16T01:59:59.999",7,2,6,-1.9336,-2.7E-2,-2.1436999999999999]
[null,"2020-07-16T02:59:59.999",7,3,6,-1.9336,-2.7E-2,-2.1436999999999999]
[null,"2020-07-16T03:59:59.999",7,4,6,-1.9336,-2.7E-2,-2.1436999999999999]
[null,"2020-07-16T04:59:59.999",7,5,6,5.8536999999999999,11.579000000000001,10.664]
[null,"2020-07-16T05:59:59.999",7,6,6,135.88300000000001,182.03,290.27699999999999]
[null,"2020-07-16T06:59:59.999",7,7,6,590.25400000000002,706.41,1105.827]
[null,"2020-07-16T07:59:59.999",7,8,{"$f":"INDEX($AE$11:$BB$22,MATCH(C4745,$AD$11:$AD$22,0),MATCH(D4745,$AE$10:$BB$10,0))","v":6},972.80100000000004,1092.2,1484.8019999999999]
[null,"2020-07-16T08:59:59.999",{"$f":"MONTH(B4746)","v":7},{"$f":"HOUR(B4746)","v":9},6,1281.9559999999999,1397.3,1711.5550000000001]
[null,{"$f":"B4746+1/24","v":"2020-07-16T09:59:59.999"},7,10,6,1492.6980000000001,1584.4,1752.2850000000001]
[null,"2020-07-16T10:59:59.999",7,11,6,1567.069,1596,1758.2329999999999]
[null,"2020-07-16T11:59:59.999",7,12,6,1578.213,1597.5,1724.079]
[null,"2020-07-16T12:59:59.999",7,13,6,1545.146,1589.2,1557.6980000000001]
[null,"2020-07-16T13:59:59.999",7,14,7,1413.9459999999999,1472.8,1281.1869999999999]
[null,"2020-07-16T14:59:59.999",7,15,7,1162.6030000000001,1205.5999999999999,924.95799999999997]
[null,"2020-07-16T15:59:59.999",7,16,8,832.00099999999998,860.35,492.423]
[null,"2020-07-16T16:59:59.999",7,17,8,425.78199999999998,455.07,92.69]
[null,"2020-07-16T17:59:59.999",7,18,8,87.808999999999997,100.14,86.287000000000006]
[null,"2020-07-16T18:59:59.999",7,19,8,-1.1084000000000001,-2.7E-2,6.0792000000000002]
[null,"2020-07-16T19:59:59.999",7,20,8,-1.9336,-2.7E-2,-2.1436999999999999]
[null,"2020-07-16T20:59:59.999",7,21,7,-1.9336,-2.7E-2,-2.1436999999999999]
[null,"2020-07-16T21:59:59.999",7,22,7,-1.9336,-2.7E-2,-2.1436999999999999]
[null,"2020-07-16T22:59:59.999",7,23,6,-1.9336,-2.7E-2,-2.1436999999999999]
[null,"2020-07-16T23:59:59.999",7,0,6,-1.9336,-2.7E-2,-2.1436999999999999]
[null,"2020-07-17T00:59:59.999",7,1,6,-1.9336,-2.7E-2,-2.1436999999999999]
[null,"2020-07-17T01:59:59.999",7,2,6,-1.9336,-2.7E-2,-2.1436999999999999]
[null,"2020-07-17T02:59:59.999",7,3,6,-1.9336,-2.7E-2,-2.1436999999999999]
[null,"2020-07-17T03:59:59.999",7,4,6,-1.9336,-2.7E-2,-2.1436999999999999]
[null,"2020-07-17T04:59:59.999",7,5,6,31.036000000000001,35.326000000000001,57.155999999999999]
[null,"2020-07-17T05:59:59.999",7,6,6,162.74799999999999,267.82,557.53]
[null,"2020-07-17T06:59:59.999",7,7,6,570.39300000000003,689.6,1101.078]
[null,"2020-07-17T07:59:59.999",7,8,6,970.02599999999995,1087.3,1476.539]
[null,"2020-07-17T08:59:59.999",7,9,6,1271.4590000000001,1384.7,1696.2909999999999]
[null,"2020-07-17T09:59:59.999",7,10,6,1485.808,1583.6,1748.615]
[null,"2020-07-17T10:59:59.999",7,11,6,1552.2049999999999,1592.4,1743.7739999999999]
[null,"2020-07-17T11:59:59.999",7,12,6,1539.066,1587.2,1648.04]
[null,"2020-07-17T12:59:59.999",7,13,6,1382.1980000000001,1427.1,1367.0740000000001]
[null,"2020-07-17T13:59:59.999",7,14,7,1268.8779999999999,1308,1158.5899999999999]
[null,"2020-07-17T14:59:59.999",7,15,7,1094.914,1127.5999999999999,881.53899999999999]
[null,"2020-07-17T15:59:59.999",7,16,8,821.42499999999995,847.13,488.50799999999998]
[null,"2020-07-17T16:59:59.999",7,17,8,422.31900000000002,450.76,91.430999999999997]
[null,"2020-07-17T17:59:59.999",7,18,8,77.849999999999994,88.653999999999996,71.850999999999999]
[null,"2020-07-17T18:59:59.999",7,19,8,1.8714000000000002,-2.7E-2,9.1457000000000015]
[null,"2020-07-17T19:59:59.999",7,20,8,-1.9336,-2.7E-2,-2.1436999999999999]
[null,"2020-07-17T20:59:59.999",7,21,7,-1.9336,-2.7E-2,-2.1436999999999999]
[null,"2020-07-17T21:59:59.999",7,22,7,-1.9336,-2.7E-2,-2.1436999999999999]
[null,"2020-07-17T22:59:59.999",7,23,6,-1.9336,-2.7E-2,-2.1436999999999999]
[null,"2020-07-17T23:59:59.999",7,0,6,-1.9336,-2.7E-2,-2.1436999999999999]
[null,"2020-07-18T00:59:59.999",7,1,6,-1.9336,-2.7E-2,-2.1436999999999999]
[null,"2020-07-18T01:59:59.999",7,2,6,-1.9336,-2.7E-2,-2.1436999999999999]
[null,"2020-07-18T02:59:59.999",7,3,6,-1.9336,-2.7E-2,-2.1436999999999999]
[null,"2020-07-18T03:59:59.999",7,4,6,-1.9336,-2.7E-2,-2.1436999999999999]
[null,"2020-07-18T04:59:59.999",7,5,6,41.005000000000003,42.228999999999999,88.903000000000006]
[null,"2020-07-18T05:59:59.999",7,6,6,135.62700000000001,269.37,646.08900000000006]
[null,"2020-07-18T06:59:59.999",7,7,6,566.98599999999999,691.95,1122.972]
[null,"2020-07-18T07:59:59.999",7,8,6,965.87699999999995,1082.2,1471.289]
[null,"2020-07-18T08:59:59.999",7,9,6,1268.722,1380.6,1691.307]
[null,"2020-07-18T09:59:59.999",7,10,6,1491.021,1584.1,1750.941]
[null,"2020-07-18T10:59:59.999",7,11,6,1563.181,1594.9,1753.6990000000001]
[null,"2020-07-18T11:59:59.999",7,12,6,1568.6559999999999,1594.9,1714.095]
[null,"2020-07-18T12:59:59.999",7,13,6,1524.452,1584.6,1517.422]
[null,"2020-07-18T13:59:59.999",7,14,7,1345.5650000000001,1392.5,1221.201]
[null,"2020-07-18T14:59:59.999",7,15,7,1143.675,1183.2,912.21699999999998]
[null,"2020-07-18T15:59:59.999",7,16,8,827.66700000000003,854.09,487.58300000000003]
[null,"2020-07-18T16:59:59.999",7,17,8,419.65499999999997,447.93,88.028000000000006]
[null,"2020-07-18T17:59:59.999",7,18,8,85.888999999999996,97.057000000000002,84.662999999999997]
[null,"2020-07-18T18:59:59.999",7,19,8,-1.1428,-2.7E-2,6.0411999999999999]
[null,"2020-07-18T19:59:59.999",7,20,8,-1.9336,-2.7E-2,-2.1436999999999999]
[null,"2020-07-18T20:59:59.999",7,21,7,-1.9336,-2.7E-2,-2.1436999999999999]
[null,"2020-07-18T21:59:59.999",7,22,7,-1.9336,-2.7E-2,-2.1436999999999999]
[null,"2020-07-18T22:59:59.999",7,23,6,-1.9336,-2.7E-2,-2.1436999999999999]
[null,"2020-07-18T23:59:59.999",7,0,{"$f":"INDEX($AE$11:$BB$22,MATCH(C4809,$AD$11:$AD$22,0),MATCH(D4809,$AE$10:$BB$10,0))","v":6},-1.9336,-2.7E-2,-2.1436999999999999]
[null,"2020-07-19T00:59:59.999",{"$f":"MONTH(B4810)","v":7},{"$f":"HOUR(B4810)","v":1},6,-1.9336,-2.7E-2,-2.1436999999999999]
[null,{"$f":"B4810+1/24","v":"2020-07-19T01:59:59.999"},7,2,6,-1.9336,-2.7E-2,-2.1436999999999999]
[null,"2020-07-19T02:59:59.999",7,3,6,-1.9336,-2.7E-2,-2.1436999999999999]
[null,"2020-07-19T03:59:59.999",7,4,6,-1.9336,-2.7E-2,-2.1436999999999999]
[null,"2020-07-19T04:59:59.999",7,5,6,37.976999999999997,42.298000000000002,70.426000000000002]
[null,"2020-07-19T05:59:59.999",7,6,6,150.154,272.99,614.91899999999998]
[null,"2020-07-19T06:59:59.999",7,7,6,568.73199999999997,690.81,1115.896]
[null,"2020-07-19T07:59:59.999",7,8,6,960.78800000000001,1075.0999999999999,1461.212]
[null,"2020-07-19T08:59:59.999",7,9,6,1265.818,1376.5,1686.568]
[null,"2020-07-19T09:59:59.999",7,10,6,1482.454,1585.8,1746.596]
[null,"2020-07-19T10:59:59.999",7,11,6,1561.0329999999999,1594.4,1751.5170000000001]
[null,"2020-07-19T11:59:59.999",7,12,6,1574.5619999999999,1596.3,1719.461]
[null,"2020-07-19T12:59:59.999",7,13,6,1538.683,1587.6,1542.38]
[null,"2020-07-19T13:59:59.999",7,14,7,1397.221,1453.5,1263.9749999999999]
[null,"2020-07-19T14:59:59.999",7,15,7,1145.769,1185.3,909.21199999999999]
[null,"2020-07-19T15:59:59.999",7,16,8,826.34900000000005,851.88,485.38799999999998]
[null,"2020-07-19T16:59:59.999",7,17,8,419.78399999999999,446.66,92.917000000000002]
[null,"2020-07-19T17:59:59.999",7,18,8,82.156999999999996,92.655000000000001,79.968000000000004]
[null,"2020-07-19T18:59:59.999",7,19,8,-1.9336,-2.7E-2,-2.1436999999999999]
[null,"2020-07-19T19:59:59.999",7,20,8,-1.9336,-2.7E-2,-2.1436999999999999]
[null,"2020-07-19T20:59:59.999",7,21,7,-1.9336,-2.7E-2,-2.1436999999999999]
[null,"2020-07-19T21:59:59.999",7,22,7,-1.9336,-2.7E-2,-2.1436999999999999]
[null,"2020-07-19T22:59:59.999",7,23,6,-1.9336,-2.7E-2,-2.1436999999999999]
[null,"2020-07-19T23:59:59.999",7,0,6,-1.9336,-2.7E-2,-2.1436999999999999]
[null,"2020-07-20T00:59:59.999",7,1,6,-1.9336,-2.7E-2,-2.1436999999999999]
[null,"2020-07-20T01:59:59.999",7,2,6,-1.9336,-2.7E-2,-2.1436999999999999]
[null,"2020-07-20T02:59:59.999",7,3,6,-1.9336,-2.7E-2,-2.1436999999999999]
[null,"2020-07-20T03:59:59.999",7,4,6,-1.9336,-2.7E-2,-2.1436999999999999]
[null,"2020-07-20T04:59:59.999",7,5,6,38.604999999999997,40.512,83.679000000000002]
[null,"2020-07-20T05:59:59.999",7,6,6,139.517,265.83999999999997,624.298]
[null,"2020-07-20T06:59:59.999",7,7,6,564.553,686.78,1114.971]
[null,"2020-07-20T07:59:59.999",7,8,6,958.18200000000002,1072.5,1460.4369999999999]
[null,"2020-07-20T08:59:59.999",7,9,6,1270.0429999999999,1375.2,1685.79]
[null,"2020-07-20T09:59:59.999",7,10,6,1325.6289999999999,1401,1595.1]
[null,"2020-07-20T10:59:59.999",7,11,6,1541.1469999999999,1589.1,1731.595]
[null,"2020-07-20T11:59:59.999",7,12,6,1562.56,1592.5,1697.268]
[null,"2020-07-20T12:59:59.999",7,13,6,1541.704,1588.1,1548.07]
[null,"2020-07-20T13:59:59.999",7,14,7,1409.3009999999999,1465.5,1273.6679999999999]
[null,"2020-07-20T14:59:59.999",7,15,7,1162.5309999999999,1202.0999999999999,921.06700000000001]
[null,"2020-07-20T15:59:59.999",7,16,8,832.11699999999996,856.26,481.31799999999998]
[null,"2020-07-20T16:59:59.999",7,17,8,417.76900000000001,444.17,89.643000000000001]
[null,"2020-07-20T17:59:59.999",7,18,8,80.825999999999993,90.787000000000006,79.141999999999996]
[null,"2020-07-20T18:59:59.999",7,19,8,-1.9336,-2.7E-2,-2.1436999999999999]
[null,"2020-07-20T19:59:59.999",7,20,8,-1.9336,-2.7E-2,-2.1436999999999999]
[null,"2020-07-20T20:59:59.999",7,21,7,-1.9336,-2.7E-2,-2.1436999999999999]
[null,"2020-07-20T21:59:59.999",7,22,7,-1.9336,-2.7E-2,-2.1436999999999999]
[null,"2020-07-20T22:59:59.999",7,23,6,-1.9336,-2.7E-2,-2.1436999999999999]
[null,"2020-07-20T23:59:59.999",7,0,6,-1.9336,-2.7E-2,-2.1436999999999999]
[null,"2020-07-21T00:59:59.999",7,1,6,-1.9336,-2.7E-2,-2.1436999999999999]
[null,"2020-07-21T01:59:59.999",7,2,6,-1.9336,-2.7E-2,-2.1436999999999999]
[null,"2020-07-21T02:59:59.999",7,3,6,-1.9336,-2.7E-2,-2.1436999999999999]
[null,"2020-07-21T03:59:59.999",7,4,6,-1.9336,-2.7E-2,-2.1436999999999999]
[null,"2020-07-21T04:59:59.999",7,5,6,4.1471,-2.7E-2,8.9534000000000002]
[null,"2020-07-21T05:59:59.999",7,6,6,130.017,152.88999999999999,190.79]
[null,"2020-07-21T06:59:59.999",7,7,6,467.89100000000002,537.38,768.86400000000003]
[null,"2020-07-21T07:59:59.999",7,8,6,962.26499999999999,1066.7,1440.7660000000001]
[null,"2020-07-21T08:59:59.999",7,9,6,1274.261,1383.7,1695.9960000000001]
[null,"2020-07-21T09:59:59.999",7,10,6,1495.021,1584.3,1752.164]
[null,"2020-07-21T10:59:59.999",7,11,6,1567.4939999999999,1595.8,1757.615]
[null,"2020-07-21T11:59:59.999",7,12,6,1580.463,1597.7,1724.65]
[null,"2020-07-21T12:59:59.999",7,13,6,1545.5840000000001,1588.8,1554.1120000000001]
[null,"2020-07-21T13:59:59.999",7,14,7,1409.896,1465.2,1273.038]
[null,"2020-07-21T14:59:59.999",7,15,7,1157.0899999999999,1195.5999999999999,914.678]
[null,"2020-07-21T15:59:59.999",7,16,{"$f":"INDEX($AE$11:$BB$22,MATCH(C4873,$AD$11:$AD$22,0),MATCH(D4873,$AE$10:$BB$10,0))","v":8},833.12800000000004,857.22,485.65100000000001]
[null,"2020-07-21T16:59:59.999",{"$f":"MONTH(B4874)","v":7},{"$f":"HOUR(B4874)","v":17},8,420.44600000000003,445.95,88.95]
[null,{"$f":"B4874+1/24","v":"2020-07-21T17:59:59.999"},7,18,8,80.188999999999993,89.545000000000002,78.673000000000002]
[null,"2020-07-21T18:59:59.999",7,19,8,-1.9336,-2.7E-2,-2.1436999999999999]
[null,"2020-07-21T19:59:59.999",7,20,8,-1.9336,-2.7E-2,-2.1436999999999999]
[null,"2020-07-21T20:59:59.999",7,21,7,-1.9336,-2.7E-2,-2.1436999999999999]
[null,"2020-07-21T21:59:59.999",7,22,7,-1.9336,-2.7E-2,-2.1436999999999999]
[null,"2020-07-21T22:59:59.999",7,23,6,-1.9336,-2.7E-2,-2.1436999999999999]
[null,"2020-07-21T23:59:59.999",7,0,6,-1.9336,-2.7E-2,-2.1436999999999999]
[null,"2020-07-22T00:59:59.999",7,1,6,-1.9336,-2.7E-2,-2.1436999999999999]
[null,"2020-07-22T01:59:59.999",7,2,6,-1.9336,-2.7E-2,-2.1436999999999999]
[null,"2020-07-22T02:59:59.999",7,3,6,-1.9336,-2.7E-2,-2.1436999999999999]
[null,"2020-07-22T03:59:59.999",7,4,6,-1.9336,-2.7E-2,-2.1436999999999999]
[null,"2020-07-22T04:59:59.999",7,5,6,36.572000000000003,39.212000000000003,71.850999999999999]
[null,"2020-07-22T05:59:59.999",7,6,6,138.46100000000001,261.5,613.38199999999995]
[null,"2020-07-22T06:59:59.999",7,7,6,564.17100000000005,684.42,1112.4749999999999]
[null,"2020-07-22T07:59:59.999",7,8,6,962.75900000000001,1075.9000000000001,1466.624]
[null,"2020-07-22T08:59:59.999",7,9,6,1276.1279999999999,1385.8,1700.047]
[null,"2020-07-22T09:59:59.999",7,10,6,1492.9459999999999,1584,1750.713]
[null,"2020-07-22T10:59:59.999",7,11,6,1561.396,1594.3,1751.35]
[null,"2020-07-22T11:59:59.999",7,12,6,1576.2170000000001,1596.5,1720.114]
[null,"2020-07-22T12:59:59.999",7,13,6,1545.143,1588.7,1552.2380000000001]
[null,"2020-07-22T13:59:59.999",7,14,7,1404.989,1459,1267.4860000000001]
[null,"2020-07-22T14:59:59.999",7,15,7,1159.194,1196.7,915.54]
[null,"2020-07-22T15:59:59.999",7,16,8,829.56500000000005,851.8,475.005]
[null,"2020-07-22T16:59:59.999",7,17,8,419.62900000000002,444.18,92.096999999999994]
[null,"2020-07-22T17:59:59.999",7,18,8,80.084999999999994,88.858999999999995,79.947999999999993]
[null,"2020-07-22T18:59:59.999",7,19,8,-1.9336,-2.7E-2,-2.1436999999999999]
[null,"2020-07-22T19:59:59.999",7,20,8,-1.9336,-2.7E-2,-2.1436999999999999]
[null,"2020-07-22T20:59:59.999",7,21,7,-1.9336,-2.7E-2,-2.1436999999999999]
[null,"2020-07-22T21:59:59.999",7,22,7,-1.9336,-2.7E-2,-2.1436999999999999]
[null,"2020-07-22T22:59:59.999",7,23,6,-1.9336,-2.7E-2,-2.1436999999999999]
[null,"2020-07-22T23:59:59.999",7,0,6,-1.9336,-2.7E-2,-2.1436999999999999]
[null,"2020-07-23T00:59:59.999",7,1,6,-1.9336,-2.7E-2,-2.1436999999999999]
[null,"2020-07-23T01:59:59.999",7,2,6,-1.9336,-2.7E-2,-2.1436999999999999]
[null,"2020-07-23T02:59:59.999",7,3,6,-1.9336,-2.7E-2,-2.1436999999999999]
[null,"2020-07-23T03:59:59.999",7,4,6,-1.9336,-2.7E-2,-2.1436999999999999]
[null,"2020-07-23T04:59:59.999",7,5,6,27.870999999999999,30.332000000000001,63.548000000000002]
[null,"2020-07-23T05:59:59.999",7,6,6,131.446,258.3,622.96500000000003]
[null,"2020-07-23T06:59:59.999",7,7,6,559.94600000000003,679.9,1109.9649999999999]
[null,"2020-07-23T07:59:59.999",7,8,6,961.56500000000005,1073.8,1464.5719999999999]
[null,"2020-07-23T08:59:59.999",7,9,6,1275.155,1383.8,1698.2139999999999]
[null,"2020-07-23T09:59:59.999",7,10,6,1499.229,1584.6,1753.4559999999999]
[null,"2020-07-23T10:59:59.999",7,11,6,1568.048,1595.8,1757.453]
[null,"2020-07-23T11:59:59.999",7,12,6,1578.31,1596.9,1721.713]
[null,"2020-07-23T12:59:59.999",7,13,6,1545.3019999999999,1588.6,1551.769]
[null,"2020-07-23T13:59:59.999",7,14,7,1389.348,1440.1,1256.7449999999999]
[null,"2020-07-23T14:59:59.999",7,15,7,1146.56,1180.4000000000001,904.38499999999999]
[null,"2020-07-23T15:59:59.999",7,16,8,824.83299999999997,846.45,472.79199999999997]
[null,"2020-07-23T16:59:59.999",7,17,8,420.26799999999997,444.01,89.656000000000006]
[null,"2020-07-23T17:59:59.999",7,18,8,78.965999999999994,87.185000000000002,78.058000000000007]
[null,"2020-07-23T18:59:59.999",7,19,8,-0.52278999999999998,-2.7E-2,6.3683999999999994]
[null,"2020-07-23T19:59:59.999",7,20,8,-1.9336,-2.7E-2,-2.1436999999999999]
[null,"2020-07-23T20:59:59.999",7,21,7,-1.9336,-2.7E-2,-2.1436999999999999]
[null,"2020-07-23T21:59:59.999",7,22,7,-1.9336,-2.7E-2,-2.1436999999999999]
[null,"2020-07-23T22:59:59.999",7,23,6,-1.9336,-2.7E-2,-2.1436999999999999]
[null,"2020-07-23T23:59:59.999",7,0,6,-1.9336,-2.7E-2,-2.1436999999999999]
[null,"2020-07-24T00:59:59.999",7,1,6,-1.9336,-2.7E-2,-2.1436999999999999]
[null,"2020-07-24T01:59:59.999",7,2,6,-1.9336,-2.7E-2,-2.1436999999999999]
[null,"2020-07-24T02:59:59.999",7,3,6,-1.9336,-2.7E-2,-2.1436999999999999]
[null,"2020-07-24T03:59:59.999",7,4,6,-1.9336,-2.7E-2,-2.1436999999999999]
[null,"2020-07-24T04:59:59.999",7,5,6,32.176000000000002,34.801000000000002,71.587000000000003]
[null,"2020-07-24T05:59:59.999",7,6,6,131.04599999999999,263.13,644.149]
[null,"2020-07-24T06:59:59.999",7,7,6,559.06899999999996,678.75,1112.1400000000001]
[null,"2020-07-24T07:59:59.999",7,8,{"$f":"INDEX($AE$11:$BB$22,MATCH(C4937,$AD$11:$AD$22,0),MATCH(D4937,$AE$10:$BB$10,0))","v":6},956.101,1067.7,1456.6389999999999]
[null,"2020-07-24T08:59:59.999",{"$f":"MONTH(B4938)","v":7},{"$f":"HOUR(B4938)","v":9},6,1271.1030000000001,1378.3,1691.501]
[null,{"$f":"B4938+1/24","v":"2020-07-24T09:59:59.999"},7,10,6,1486.1479999999999,1583.2,1747.203]
[null,"2020-07-24T10:59:59.999",7,11,6,1562.759,1594.4,1751.6210000000001]
[null,"2020-07-24T11:59:59.999",7,12,6,1572.56,1595.4,1715.586]
[null,"2020-07-24T12:59:59.999",7,13,6,1535.16,1586.5,1531.2539999999999]
[null,"2020-07-24T13:59:59.999",7,14,7,1387.046,1438.2,1248.115]
[null,"2020-07-24T14:59:59.999",7,15,7,1138.856,1174.2,896.87800000000004]
[null,"2020-07-24T15:59:59.999",7,16,8,814.34500000000003,834.63,464.13400000000001]
[null,"2020-07-24T16:59:59.999",7,17,8,407.577,428.54,111.684]
[null,"2020-07-24T17:59:59.999",7,18,8,81.852000000000004,89.716999999999999,84.033000000000001]
[null,"2020-07-24T18:59:59.999",7,19,8,-1.9336,-2.7E-2,-2.1436999999999999]
[null,"2020-07-24T19:59:59.999",7,20,8,-1.9336,-2.7E-2,-2.1436999999999999]
[null,"2020-07-24T20:59:59.999",7,21,7,-1.9336,-2.7E-2,-2.1436999999999999]
[null,"2020-07-24T21:59:59.999",7,22,7,-1.9336,-2.7E-2,-2.1436999999999999]
[null,"2020-07-24T22:59:59.999",7,23,6,-1.9336,-2.7E-2,-2.1436999999999999]
[null,"2020-07-24T23:59:59.999",7,0,6,-1.9336,-2.7E-2,-2.1436999999999999]
[null,"2020-07-25T00:59:59.999",7,1,6,-1.9336,-2.7E-2,-2.1436999999999999]
[null,"2020-07-25T01:59:59.999",7,2,6,-1.9336,-2.7E-2,-2.1436999999999999]
[null,"2020-07-25T02:59:59.999",7,3,6,-1.9336,-2.7E-2,-2.1436999999999999]
[null,"2020-07-25T03:59:59.999",7,4,6,-1.9336,-2.7E-2,-2.1436999999999999]
[null,"2020-07-25T04:59:59.999",7,5,6,37.774000000000001,40.323999999999998,75.570999999999998]
[null,"2020-07-25T05:59:59.999",7,6,6,128.69399999999999,252.44,611.44000000000005]
[null,"2020-07-25T06:59:59.999",7,7,6,555.85199999999998,672.73,1100.3420000000001]
[null,"2020-07-25T07:59:59.999",7,8,6,950.16700000000003,1058.9000000000001,1443.105]
[null,"2020-07-25T08:59:59.999",7,9,6,1261.2329999999999,1365.7,1675.7449999999999]
[null,"2020-07-25T09:59:59.999",7,10,6,1490.6020000000001,1583.5,1749.144]
[null,"2020-07-25T10:59:59.999",7,11,6,1562.6479999999999,1594.3,1751.402]
[null,"2020-07-25T11:59:59.999",7,12,6,1570.808,1594.9,1714.1020000000001]
[null,"2020-07-25T12:59:59.999",7,13,6,1528.7070000000001,1585,1519.5309999999999]
[null,"2020-07-25T13:59:59.999",7,14,7,1401.529,1451.9,1262.604]
[null,"2020-07-25T14:59:59.999",7,15,7,1162.8969999999999,1198.4000000000001,915.57100000000003]
[null,"2020-07-25T15:59:59.999",7,16,8,831.73900000000003,851.85,471.24299999999999]
[null,"2020-07-25T16:59:59.999",7,17,8,417.65199999999999,440.56,82.414000000000001]
[null,"2020-07-25T17:59:59.999",7,18,8,80.119,87.692999999999998,80.537000000000006]
[null,"2020-07-25T18:59:59.999",7,19,8,-1.9336,-2.7E-2,-2.1436999999999999]
[null,"2020-07-25T19:59:59.999",7,20,8,-1.9336,-2.7E-2,-2.1436999999999999]
[null,"2020-07-25T20:59:59.999",7,21,7,-1.9336,-2.7E-2,-2.1436999999999999]
[null,"2020-07-25T21:59:59.999",7,22,7,-1.9336,-2.7E-2,-2.1436999999999999]
[null,"2020-07-25T22:59:59.999",7,23,6,-1.9336,-2.7E-2,-2.1436999999999999]
[null,"2020-07-25T23:59:59.999",7,0,6,-1.9336,-2.7E-2,-2.1436999999999999]
[null,"2020-07-26T00:59:59.999",7,1,6,-1.9336,-2.7E-2,-2.1436999999999999]
[null,"2020-07-26T01:59:59.999",7,2,6,-1.9336,-2.7E-2,-2.1436999999999999]
[null,"2020-07-26T02:59:59.999",7,3,6,-1.9336,-2.7E-2,-2.1436999999999999]
[null,"2020-07-26T03:59:59.999",7,4,6,-1.9336,-2.7E-2,-2.1436999999999999]
[null,"2020-07-26T04:59:59.999",7,5,6,30.120999999999999,33.436,56.26]
[null,"2020-07-26T05:59:59.999",7,6,6,135.93,258.49,614.79899999999998]
[null,"2020-07-26T06:59:59.999",7,7,6,562.47799999999995,679.45,1111.2829999999999]
[null,"2020-07-26T07:59:59.999",7,8,6,960.97400000000005,1071.3,1463.373]
[null,"2020-07-26T08:59:59.999",7,9,6,1277.829,1384.7,1700.6990000000001]
[null,"2020-07-26T09:59:59.999",7,10,6,1501.7170000000001,1584.7,1754.3030000000001]
[null,"2020-07-26T10:59:59.999",7,11,6,1573.7360000000001,1596.9,1758.607]
[null,"2020-07-26T11:59:59.999",7,12,6,1583.7539999999999,1598.1,1726.2619999999999]
[null,"2020-07-26T12:59:59.999",7,13,6,1547.1369999999999,1588.8,1552.5740000000001]
[null,"2020-07-26T13:59:59.999",7,14,7,1412.08,1462.3,1269.6220000000001]
[null,"2020-07-26T14:59:59.999",7,15,7,1152.393,1186.0999999999999,908.04200000000003]
[null,"2020-07-26T15:59:59.999",7,16,8,815.30899999999997,833.42,469.56599999999997]
[null,"2020-07-26T16:59:59.999",7,17,8,405.38900000000001,425.84,99.448999999999998]
[null,"2020-07-26T17:59:59.999",7,18,8,77.756,84.861000000000004,81.399000000000001]
[null,"2020-07-26T18:59:59.999",7,19,8,-1.9336,-2.7E-2,-2.1436999999999999]
[null,"2020-07-26T19:59:59.999",7,20,8,-1.9336,-2.7E-2,-2.1436999999999999]
[null,"2020-07-26T20:59:59.999",7,21,7,-1.9336,-2.7E-2,-2.1436999999999999]
[null,"2020-07-26T21:59:59.999",7,22,7,-1.9336,-2.7E-2,-2.1436999999999999]
[null,"2020-07-26T22:59:59.999",7,23,6,-1.9336,-2.7E-2,-2.1436999999999999]
[null,"2020-07-26T23:59:59.999",7,0,{"$f":"INDEX($AE$11:$BB$22,MATCH(C5001,$AD$11:$AD$22,0),MATCH(D5001,$AE$10:$BB$10,0))","v":6},-1.9336,-2.7E-2,-2.1436999999999999]
[null,"2020-07-27T00:59:59.999",{"$f":"MONTH(B5002)","v":7},{"$f":"HOUR(B5002)","v":1},6,-1.9336,-2.7E-2,-2.1436999999999999]
[null,{"$f":"B5002+1/24","v":"2020-07-27T01:59:59.999"},7,2,6,-1.9336,-2.7E-2,-2.1436999999999999]
[null,"2020-07-27T02:59:59.999",7,3,6,-1.9336,-2.7E-2,-2.1436999999999999]
[null,"2020-07-27T03:59:59.999",7,4,6,-1.9336,-2.7E-2,-2.1436999999999999]
[null,"2020-07-27T04:59:59.999",7,5,6,17.536999999999999,22.861999999999998,28.504999999999999]
[null,"2020-07-27T05:59:59.999",7,6,6,141.893,229.39,480.24299999999999]
[null,"2020-07-27T06:59:59.999",7,7,6,521.62900000000002,617.16999999999996,966.721]
[null,"2020-07-27T07:59:59.999",7,8,6,922.875,1021.6,1392.2059999999999]
[null,"2020-07-27T08:59:59.999",7,9,6,1248.7249999999999,1347.9,1658.424]
[null,"2020-07-27T09:59:59.999",7,10,6,1480.6849999999999,1576.9,1743.44]
[null,"2020-07-27T10:59:59.999",7,11,6,1559.1859999999999,1593.2,1747.502]
[null,"2020-07-27T11:59:59.999",7,12,6,1572.23,1595,1714.672]
[null,"2020-07-27T12:59:59.999",7,13,6,1533.692,1585.8,1526.5219999999999]
[null,"2020-07-27T13:59:59.999",7,14,7,1372.634,1418.7,1237.0070000000001]
[null,"2020-07-27T14:59:59.999",7,15,7,1113.338,1141,880.73800000000006]
[null,"2020-07-27T15:59:59.999",7,16,8,792.14599999999996,807.76,468.15100000000001]
[null,"2020-07-27T16:59:59.999",7,17,8,376.233,395.17,126.042]
[null,"2020-07-27T17:59:59.999",7,18,8,81.37,88.418999999999997,84.912000000000006]
[null,"2020-07-27T18:59:59.999",7,19,8,-1.9336,-2.7E-2,-2.1436999999999999]
[null,"2020-07-27T19:59:59.999",7,20,8,-1.9336,-2.7E-2,-2.1436999999999999]
[null,"2020-07-27T20:59:59.999",7,21,7,-1.9336,-2.7E-2,-2.1436999999999999]
[null,"2020-07-27T21:59:59.999",7,22,7,-1.9336,-2.7E-2,-2.1436999999999999]
[null,"2020-07-27T22:59:59.999",7,23,6,-1.9336,-2.7E-2,-2.1436999999999999]
[null,"2020-07-27T23:59:59.999",7,0,6,-1.9336,-2.7E-2,-2.1436999999999999]
[null,"2020-07-28T00:59:59.999",7,1,6,-1.9336,-2.7E-2,-2.1436999999999999]
[null,"2020-07-28T01:59:59.999",7,2,6,-1.9336,-2.7E-2,-2.1436999999999999]
[null,"2020-07-28T02:59:59.999",7,3,6,-1.9336,-2.7E-2,-2.1436999999999999]
[null,"2020-07-28T03:59:59.999",7,4,6,-1.9336,-2.7E-2,-2.1436999999999999]
[null,"2020-07-28T04:59:59.999",7,5,6,5.7949999999999999,11.545,10.91]
[null,"2020-07-28T05:59:59.999",7,6,6,138.31200000000001,178.26,273.916]
[null,"2020-07-28T06:59:59.999",7,7,6,433.20100000000002,492.84,699.75099999999998]
[null,"2020-07-28T07:59:59.999",7,8,6,769.5,838.47,1086.7380000000001]
[null,"2020-07-28T08:59:59.999",7,9,6,1124.942,1201.9000000000001,1462.106]
[null,"2020-07-28T09:59:59.999",7,10,6,1453.972,1536.7,1727.8019999999999]
[null,"2020-07-28T10:59:59.999",7,11,6,1545.5820000000001,1589.6,1734.329]
[null,"2020-07-28T11:59:59.999",7,12,6,1561.5429999999999,1591.5,1689.2760000000001]
[null,"2020-07-28T12:59:59.999",7,13,6,1487.1669999999999,1529.9,1460.242]
[null,"2020-07-28T13:59:59.999",7,14,7,794.64,815.17,772.46500000000003]
[null,"2020-07-28T14:59:59.999",7,15,7,682.44100000000003,701.31,625.58500000000004]
[null,"2020-07-28T15:59:59.999",7,16,8,429.93,447.67,387.976]
[null,"2020-07-28T16:59:59.999",7,17,8,328.82799999999997,344.95,145.905]
[null,"2020-07-28T17:59:59.999",7,18,8,85.376000000000005,92.834000000000003,88.078000000000003]
[null,"2020-07-28T18:59:59.999",7,19,8,-1.9336,-2.7E-2,-2.1436999999999999]
[null,"2020-07-28T19:59:59.999",7,20,8,-1.9336,-2.7E-2,-2.1436999999999999]
[null,"2020-07-28T20:59:59.999",7,21,7,-1.9336,-2.7E-2,-2.1436999999999999]
[null,"2020-07-28T21:59:59.999",7,22,7,-1.9336,-2.7E-2,-2.1436999999999999]
[null,"2020-07-28T22:59:59.999",7,23,6,-1.9336,-2.7E-2,-2.1436999999999999]
[null,"2020-07-28T23:59:59.999",7,0,6,-1.9336,-2.7E-2,-2.1436999999999999]
[null,"2020-07-29T00:59:59.999",7,1,6,-1.9336,-2.7E-2,-2.1436999999999999]
[null,"2020-07-29T01:59:59.999",7,2,6,-1.9336,-2.7E-2,-2.1436999999999999]
[null,"2020-07-29T02:59:59.999",7,3,6,-1.9336,-2.7E-2,-2.1436999999999999]
[null,"2020-07-29T03:59:59.999",7,4,6,-1.9336,-2.7E-2,-2.1436999999999999]
[null,"2020-07-29T04:59:59.999",7,5,6,10.504,16.337,16.212]
[null,"2020-07-29T05:59:59.999",7,6,6,145.77199999999999,187.26,288.27600000000001]
[null,"2020-07-29T06:59:59.999",7,7,6,444.392,507.98,731.97500000000002]
[null,"2020-07-29T07:59:59.999",7,8,6,804.40499999999997,877.46,1161.952]
[null,"2020-07-29T08:59:59.999",7,9,6,1093.4949999999999,1167.5,1421.807]
[null,"2020-07-29T09:59:59.999",7,10,6,1330.0650000000001,1398.7,1590.9469999999999]
[null,"2020-07-29T10:59:59.999",7,11,6,1530.9580000000001,1585.9,1719.91]
[null,"2020-07-29T11:59:59.999",7,12,6,1549.7729999999999,1589,1663.577]
[null,"2020-07-29T12:59:59.999",7,13,6,1503.7080000000001,1547.5,1469.5]
[null,"2020-07-29T13:59:59.999",7,14,7,1378.1679999999999,1418.7,1237.0250000000001]
[null,"2020-07-29T14:59:59.999",7,15,7,1151.479,1181.7,903.50400000000002]
[null,"2020-07-29T15:59:59.999",7,16,{"$f":"INDEX($AE$11:$BB$22,MATCH(C5065,$AD$11:$AD$22,0),MATCH(D5065,$AE$10:$BB$10,0))","v":8},821.83900000000006,836.99,458.58]
[null,"2020-07-29T16:59:59.999",{"$f":"MONTH(B5066)","v":7},{"$f":"HOUR(B5066)","v":17},8,405.25200000000001,422.88,91.039000000000001]
[null,{"$f":"B5066+1/24","v":"2020-07-29T17:59:59.999"},7,18,8,74.850999999999999,80.478999999999999,77.341999999999999]
[null,"2020-07-29T18:59:59.999",7,19,8,-1.9336,-2.7E-2,-2.1436999999999999]
[null,"2020-07-29T19:59:59.999",7,20,8,-1.9336,-2.7E-2,-2.1436999999999999]
[null,"2020-07-29T20:59:59.999",7,21,7,-1.9336,-2.7E-2,-2.1436999999999999]
[null,"2020-07-29T21:59:59.999",7,22,7,-1.9336,-2.7E-2,-2.1436999999999999]
[null,"2020-07-29T22:59:59.999",7,23,6,-1.9336,-2.7E-2,-2.1436999999999999]
[null,"2020-07-29T23:59:59.999",7,0,6,-1.9336,-2.7E-2,-2.1436999999999999]
[null,"2020-07-30T00:59:59.999",7,1,6,-1.9336,-2.7E-2,-2.1436999999999999]
[null,"2020-07-30T01:59:59.999",7,2,6,-1.9336,-2.7E-2,-2.1436999999999999]
[null,"2020-07-30T02:59:59.999",7,3,6,-1.9336,-2.7E-2,-2.1436999999999999]
[null,"2020-07-30T03:59:59.999",7,4,6,-1.9336,-2.7E-2,-2.1436999999999999]
[null,"2020-07-30T04:59:59.999",7,5,6,12.018000000000001,17.881,18.228000000000002]
[null,"2020-07-30T05:59:59.999",7,6,6,145.21100000000001,208.38,382.53800000000001]
[null,"2020-07-30T06:59:59.999",7,7,6,501.67099999999999,586.4,905.226]
[null,"2020-07-30T07:59:59.999",7,8,6,895.46699999999998,983.67,1333.903]
[null,"2020-07-30T08:59:59.999",7,9,6,1209.895,1298.0999999999999,1596.873]
[null,"2020-07-30T09:59:59.999",7,10,6,1418.8679999999999,1496.7,1707.8109999999999]
[null,"2020-07-30T10:59:59.999",7,11,6,1537.2239999999999,1587.2,1725.3320000000001]
[null,"2020-07-30T11:59:59.999",7,12,6,1561.1679999999999,1591.2,1683.9939999999999]
[null,"2020-07-30T12:59:59.999",7,13,6,1528.299,1584.2,1511.4190000000001]
[null,"2020-07-30T13:59:59.999",7,14,7,1381.173,1422.1,1233.7650000000001]
[null,"2020-07-30T14:59:59.999",7,15,7,1148.2809999999999,1178.0999999999999,893.96500000000003]
[null,"2020-07-30T15:59:59.999",7,16,8,818.63900000000001,833.26,453.29399999999998]
[null,"2020-07-30T16:59:59.999",7,17,8,405.89600000000002,422.89,96.238]
[null,"2020-07-30T17:59:59.999",7,18,8,74.349000000000004,79.766999999999996,77.459999999999994]
[null,"2020-07-30T18:59:59.999",7,19,8,-1.9336,-2.7E-2,-2.1436999999999999]
[null,"2020-07-30T19:59:59.999",7,20,8,-1.9336,-2.7E-2,-2.1436999999999999]
[null,"2020-07-30T20:59:59.999",7,21,7,-1.9336,-2.7E-2,-2.1436999999999999]
[null,"2020-07-30T21:59:59.999",7,22,7,-1.9336,-2.7E-2,-2.1436999999999999]
[null,"2020-07-30T22:59:59.999",7,23,6,-1.9336,-2.7E-2,-2.1436999999999999]
[null,"2020-07-30T23:59:59.999",7,0,6,-1.9336,-2.7E-2,-2.1436999999999999]
[null,"2020-07-31T00:59:59.999",7,1,6,-1.9336,-2.7E-2,-2.1436999999999999]
[null,"2020-07-31T01:59:59.999",7,2,6,-1.9336,-2.7E-2,-2.1436999999999999]
[null,"2020-07-31T02:59:59.999",7,3,6,-1.9336,-2.7E-2,-2.1436999999999999]
[null,"2020-07-31T03:59:59.999",7,4,6,-1.9336,-2.7E-2,-2.1436999999999999]
[null,"2020-07-31T04:59:59.999",7,5,6,-0.51205999999999996,-2.7E-2,-2.1436999999999999]
[null,"2020-07-31T05:59:59.999",7,6,6,98.998999999999995,108.43,121.404]
[null,"2020-07-31T06:59:59.999",7,7,6,378.78699999999998,415.43,568.18299999999999]
[null,"2020-07-31T07:59:59.999",7,8,6,803.63599999999997,852.79,1133.5129999999999]
[null,"2020-07-31T08:59:59.999",7,9,6,1183.3440000000001,1233.8,1520.441]
[null,"2020-07-31T09:59:59.999",7,10,6,1431.3389999999999,1474.3,1692.9190000000001]
[null,"2020-07-31T10:59:59.999",7,11,6,1530.047,1573.5,1701.2850000000001]
[null,"2020-07-31T11:59:59.999",7,12,6,1577.5719999999999,1591.3,1695.3109999999999]
[null,"2020-07-31T12:59:59.999",7,13,6,1545.578,1584,1517.963]
[null,"2020-07-31T13:59:59.999",7,14,7,1439.9469999999999,1453.9,1265.1300000000001]
[null,"2020-07-31T14:59:59.999",7,15,7,1188.163,1190.9000000000001,906.53700000000003]
[null,"2020-07-31T15:59:59.999",7,16,8,839.60900000000004,833.89,457.37799999999999]
[null,"2020-07-31T16:59:59.999",7,17,8,413.86900000000003,419.88,75.545000000000002]
[null,"2020-07-31T17:59:59.999",7,18,8,68.484999999999999,70.897999999999996,69.007000000000005]
[null,"2020-07-31T18:59:59.999",7,19,8,-1.9336,-2.7E-2,-2.1436999999999999]
[null,"2020-07-31T19:59:59.999",7,20,8,-1.9336,-2.7E-2,-2.1436999999999999]
[null,"2020-07-31T20:59:59.999",7,21,7,-1.9336,-2.7E-2,-2.1436999999999999]
[null,"2020-07-31T21:59:59.999",7,22,7,-1.9336,-2.7E-2,-2.1436999999999999]
[null,"2020-07-31T22:59:59.999",7,23,6,-1.9336,-2.7E-2,-2.1436999999999999]
[null,"2020-07-31T23:59:59.999",8,0,6,-1.9336,-2.7E-2,-2.1436999999999999]
[null,"2020-08-01T00:59:59.999",8,1,6,-1.9336,-2.7E-2,-2.1436999999999999]
[null,"2020-08-01T01:59:59.999",8,2,6,-1.9336,-2.7E-2,-2.1436999999999999]
[null,"2020-08-01T02:59:59.999",8,3,6,-1.9336,-2.7E-2,-2.1436999999999999]
[null,"2020-08-01T03:59:59.999",8,4,6,-1.9336,-2.7E-2,-2.1436999999999999]
[null,"2020-08-01T04:59:59.999",8,5,6,-1.9336,-2.7E-2,-2.1436999999999999]
[null,"2020-08-01T05:59:59.999",8,6,6,72.262,77.13,80.212000000000003]
[null,"2020-08-01T06:59:59.999",8,7,6,218.37100000000001,232.14,253.072]
[null,"2020-08-01T07:59:59.999",8,8,{"$f":"INDEX($AE$11:$BB$22,MATCH(C5129,$AD$11:$AD$22,0),MATCH(D5129,$AE$10:$BB$10,0))","v":6},547.49099999999999,573,704.35299999999995]
[null,"2020-08-01T08:59:59.999",{"$f":"MONTH(B5130)","v":8},{"$f":"HOUR(B5130)","v":9},6,1174.509,1222.2,1498.3309999999999]
[null,{"$f":"B5130+1/24","v":"2020-08-01T09:59:59.999"},8,10,6,1507.482,1559,1741.453]
[null,"2020-08-01T10:59:59.999",8,11,6,1583.779,1594.9,1758.74]
[null,"2020-08-01T11:59:59.999",8,12,6,1577.306,1591.1,1693.5229999999999]
[null,"2020-08-01T12:59:59.999",8,13,6,1543.4580000000001,1583.4,1513.7270000000001]
[null,"2020-08-01T13:59:59.999",8,14,7,1434.3340000000001,1446.4,1259.838]
[null,"2020-08-01T14:59:59.999",8,15,7,1181.0340000000001,1182.3,900.178]
[null,"2020-08-01T15:59:59.999",8,16,8,834.86,827.09,445.50700000000001]
[null,"2020-08-01T16:59:59.999",8,17,8,406.07499999999999,411.04,79.052999999999997]
[null,"2020-08-01T17:59:59.999",8,18,8,69.033000000000001,71.367999999999995,70.516999999999996]
[null,"2020-08-01T18:59:59.999",8,19,8,-1.9336,-2.7E-2,-2.1436999999999999]
[null,"2020-08-01T19:59:59.999",8,20,8,-1.9336,-2.7E-2,-2.1436999999999999]
[null,"2020-08-01T20:59:59.999",8,21,7,-1.9336,-2.7E-2,-2.1436999999999999]
[null,"2020-08-01T21:59:59.999",8,22,7,-1.9336,-2.7E-2,-2.1436999999999999]
[null,"2020-08-01T22:59:59.999",8,23,6,-1.9336,-2.7E-2,-2.1436999999999999]
[null,"2020-08-01T23:59:59.999",8,0,6,-1.9336,-2.7E-2,-2.1436999999999999]
[null,"2020-08-02T00:59:59.999",8,1,6,-1.9336,-2.7E-2,-2.1436999999999999]
[null,"2020-08-02T01:59:59.999",8,2,6,-1.9336,-2.7E-2,-2.1436999999999999]
[null,"2020-08-02T02:59:59.999",8,3,6,-1.9336,-2.7E-2,-2.1436999999999999]
[null,"2020-08-02T03:59:59.999",8,4,6,-1.9336,-2.7E-2,-2.1436999999999999]
[null,"2020-08-02T04:59:59.999",8,5,6,-1.9336,-2.7E-2,-2.1436999999999999]
[null,"2020-08-02T05:59:59.999",8,6,6,50.35,54.863,55.692]
[null,"2020-08-02T06:59:59.999",8,7,6,152.08699999999999,163.13,171.11799999999999]
[null,"2020-08-02T07:59:59.999",8,8,6,290.47800000000001,303.76,327.26100000000002]
[null,"2020-08-02T08:59:59.999",8,9,6,466.27499999999998,480.92,524.44000000000005]
[null,"2020-08-02T09:59:59.999",8,10,6,886.12099999999998,901.01,1011.777]
[null,"2020-08-02T10:59:59.999",8,11,6,1439.4680000000001,1458.8,1578.5440000000001]
[null,"2020-08-02T11:59:59.999",8,12,6,1548.798,1584,1626.807]
[null,"2020-08-02T12:59:59.999",8,13,6,1494.7860000000001,1499.4,1434.7070000000001]
[null,"2020-08-02T13:59:59.999",8,14,7,1335.319,1333.8,1174.3209999999999]
[null,"2020-08-02T14:59:59.999",8,15,7,1123.4970000000001,1117.7,862.04399999999998]
[null,"2020-08-02T15:59:59.999",8,16,8,804.00199999999995,793.75,450.09500000000003]
[null,"2020-08-02T16:59:59.999",8,17,8,378.03699999999998,382.62,137.083]
[null,"2020-08-02T17:59:59.999",8,18,8,69.001999999999995,72.968000000000004,74.721000000000004]
[null,"2020-08-02T18:59:59.999",8,19,8,-1.9336,-2.7E-2,-2.1436999999999999]
[null,"2020-08-02T19:59:59.999",8,20,8,-1.9336,-2.7E-2,-2.1436999999999999]
[null,"2020-08-02T20:59:59.999",8,21,7,-1.9336,-2.7E-2,-2.1436999999999999]
[null,"2020-08-02T21:59:59.999",8,22,7,-1.9336,-2.7E-2,-2.1436999999999999]
[null,"2020-08-02T22:59:59.999",8,23,6,-1.9336,-2.7E-2,-2.1436999999999999]
[null,"2020-08-02T23:59:59.999",8,0,6,-1.9336,-2.7E-2,-2.1436999999999999]
[null,"2020-08-03T00:59:59.999",8,1,6,-1.9336,-2.7E-2,-2.1436999999999999]
[null,"2020-08-03T01:59:59.999",8,2,6,-1.9336,-2.7E-2,-2.1436999999999999]
[null,"2020-08-03T02:59:59.999",8,3,6,-1.9336,-2.7E-2,-2.1436999999999999]
[null,"2020-08-03T03:59:59.999",8,4,6,-1.9336,-2.7E-2,-2.1436999999999999]
[null,"2020-08-03T04:59:59.999",8,5,6,13.193,17.742999999999999,22.488]
[null,"2020-08-03T05:59:59.999",8,6,6,134.83500000000001,205.52,360.74299999999999]
[null,"2020-08-03T06:59:59.999",8,7,6,506.39400000000001,577.83000000000004,912.10400000000004]
[null,"2020-08-03T07:59:59.999",8,8,6,967.798,1039.8,1431.107]
[null,"2020-08-03T08:59:59.999",8,9,6,1307.2190000000001,1375.5,1705.0340000000001]
[null,"2020-08-03T09:59:59.999",8,10,6,1532.5039999999999,1585.5,1758.7660000000001]
[null,"2020-08-03T10:59:59.999",8,11,6,1595.6320000000001,1597.8,1759.711]
[null,"2020-08-03T11:59:59.999",8,12,6,1609.0160000000001,1599.6,1735.606]
[null,"2020-08-03T12:59:59.999",8,13,6,1570.3030000000001,1589.1,1561.4390000000001]
[null,"2020-08-03T13:59:59.999",8,14,7,1456.489,1465.9,1272.4670000000001]
[null,"2020-08-03T14:59:59.999",8,15,7,1189.617,1188.7,901.005]
[null,"2020-08-03T15:59:59.999",8,16,8,840.79300000000001,829.27,456.16800000000001]
[null,"2020-08-03T16:59:59.999",8,17,8,390.51499999999999,394.26,164.57900000000001]
[null,"2020-08-03T17:59:59.999",8,18,8,31.783999999999999,36.598999999999997,39.097000000000001]
[null,"2020-08-03T18:59:59.999",8,19,8,-1.9336,-2.7E-2,-2.1436999999999999]
[null,"2020-08-03T19:59:59.999",8,20,8,-1.9336,-2.7E-2,-2.1436999999999999]
[null,"2020-08-03T20:59:59.999",8,21,7,-1.9336,-2.7E-2,-2.1436999999999999]
[null,"2020-08-03T21:59:59.999",8,22,7,-1.9336,-2.7E-2,-2.1436999999999999]
[null,"2020-08-03T22:59:59.999",8,23,6,-1.9336,-2.7E-2,-2.1436999999999999]
[null,"2020-08-03T23:59:59.999",8,0,{"$f":"INDEX($AE$11:$BB$22,MATCH(C5193,$AD$11:$AD$22,0),MATCH(D5193,$AE$10:$BB$10,0))","v":6},-1.9336,-2.7E-2,-2.1436999999999999]
[null,"2020-08-04T00:59:59.999",{"$f":"MONTH(B5194)","v":8},{"$f":"HOUR(B5194)","v":1},6,-1.9336,-2.7E-2,-2.1436999999999999]
[null,{"$f":"B5194+1/24","v":"2020-08-04T01:59:59.999"},8,2,6,-1.9336,-2.7E-2,-2.1436999999999999]
[null,"2020-08-04T02:59:59.999",8,3,6,-1.9336,-2.7E-2,-2.1436999999999999]
[null,"2020-08-04T03:59:59.999",8,4,6,-1.9336,-2.7E-2,-2.1436999999999999]
[null,"2020-08-04T04:59:59.999",8,5,6,15.393000000000001,19.108000000000001,30.753]
[null,"2020-08-04T05:59:59.999",8,6,6,124.265,218.86,399.03300000000002]
[null,"2020-08-04T06:59:59.999",8,7,6,546.59400000000005,636.70000000000005,1059.8330000000001]
[null,"2020-08-04T07:59:59.999",8,8,6,962.79499999999996,1037.9000000000001,1434.99]
[null,"2020-08-04T08:59:59.999",8,9,6,1288.0530000000001,1354.5,1679.3489999999999]
[null,"2020-08-04T09:59:59.999",8,10,6,1517.76,1578.4,1749.1010000000001]
[null,"2020-08-04T10:59:59.999",8,11,6,1582.85,1594.5,1756.636]
[null,"2020-08-04T11:59:59.999",8,12,6,1593.0640000000001,1595.5,1719.511]
[null,"2020-08-04T12:59:59.999",8,13,6,1558.6959999999999,1586.4,1535.0619999999999]
[null,"2020-08-04T13:59:59.999",8,14,7,1434.2840000000001,1441.9,1250.4349999999999]
[null,"2020-08-04T14:59:59.999",8,15,7,1169.9570000000001,1167.5,882.93399999999997]
[null,"2020-08-04T15:59:59.999",8,16,8,825.50800000000004,814.55,436.62400000000002]
[null,"2020-08-04T16:59:59.999",8,17,8,396.04700000000003,398.18,72.804000000000002]
[null,"2020-08-04T17:59:59.999",8,18,8,64.36,66.093999999999994,67.501999999999995]
[null,"2020-08-04T18:59:59.999",8,19,8,-1.9336,-2.7E-2,-2.1436999999999999]
[null,"2020-08-04T19:59:59.999",8,20,8,-1.9336,-2.7E-2,-2.1436999999999999]
[null,"2020-08-04T20:59:59.999",8,21,7,-1.9336,-2.7E-2,-2.1436999999999999]
[null,"2020-08-04T21:59:59.999",8,22,7,-1.9336,-2.7E-2,-2.1436999999999999]
[null,"2020-08-04T22:59:59.999",8,23,6,-1.9336,-2.7E-2,-2.1436999999999999]
[null,"2020-08-04T23:59:59.999",8,0,6,-1.9336,-2.7E-2,-2.1436999999999999]
[null,"2020-08-05T00:59:59.999",8,1,6,-1.9336,-2.7E-2,-2.1436999999999999]
[null,"2020-08-05T01:59:59.999",8,2,6,-1.9336,-2.7E-2,-2.1436999999999999]
[null,"2020-08-05T02:59:59.999",8,3,6,-1.9336,-2.7E-2,-2.1436999999999999]
[null,"2020-08-05T03:59:59.999",8,4,6,-1.9336,-2.7E-2,-2.1436999999999999]
[null,"2020-08-05T04:59:59.999",8,5,6,17.074000000000002,20.911000000000001,32.436]
[null,"2020-08-05T05:59:59.999",8,6,6,118.116,231.46,404.62200000000001]
[null,"2020-08-05T06:59:59.999",8,7,6,550.44600000000003,644.02,1085.008]
[null,"2020-08-05T07:59:59.999",8,8,6,967.85299999999995,1041.3,1438.1869999999999]
[null,"2020-08-05T08:59:59.999",8,9,6,1246.347,1300.5999999999999,1612.6510000000001]
[null,"2020-08-05T09:59:59.999",8,10,6,1414.72,1452.3,1667.9359999999999]
[null,"2020-08-05T10:59:59.999",8,11,6,1498.375,1517.6,1641.203]
[null,"2020-08-05T11:59:59.999",8,12,6,1520.578,1535.3,1566.8050000000001]
[null,"2020-08-05T12:59:59.999",8,13,6,1452.5409999999999,1452.7,1390.614]
[null,"2020-08-05T13:59:59.999",8,14,7,1412.95,1414.1,1232.674]
[null,"2020-08-05T14:59:59.999",8,15,7,1150.3430000000001,1145.8,871.01300000000003]
[null,"2020-08-05T15:59:59.999",8,16,8,796.096,782.96,427.11399999999998]
[null,"2020-08-05T16:59:59.999",8,17,8,377.73099999999999,378.82,79.290999999999997]
[null,"2020-08-05T17:59:59.999",8,18,8,61.012999999999998,62.347000000000001,64.236000000000004]
[null,"2020-08-05T18:59:59.999",8,19,8,-1.9336,-2.7E-2,-2.1436999999999999]
[null,"2020-08-05T19:59:59.999",8,20,8,-1.9336,-2.7E-2,-2.1436999999999999]
[null,"2020-08-05T20:59:59.999",8,21,7,-1.9336,-2.7E-2,-2.1436999999999999]
[null,"2020-08-05T21:59:59.999",8,22,7,-1.9336,-2.7E-2,-2.1436999999999999]
[null,"2020-08-05T22:59:59.999",8,23,6,-1.9336,-2.7E-2,-2.1436999999999999]
[null,"2020-08-05T23:59:59.999",8,0,6,-1.9336,-2.7E-2,-2.1436999999999999]
[null,"2020-08-06T00:59:59.999",8,1,6,-1.9336,-2.7E-2,-2.1436999999999999]
[null,"2020-08-06T01:59:59.999",8,2,6,-1.9336,-2.7E-2,-2.1436999999999999]
[null,"2020-08-06T02:59:59.999",8,3,6,-1.9336,-2.7E-2,-2.1436999999999999]
[null,"2020-08-06T03:59:59.999",8,4,6,-1.9336,-2.7E-2,-2.1436999999999999]
[null,"2020-08-06T04:59:59.999",8,5,6,9.8862999999999985,14.372999999999999,22.315999999999999]
[null,"2020-08-06T05:59:59.999",8,6,6,140.49199999999999,213.04,332.76100000000002]
[null,"2020-08-06T06:59:59.999",8,7,6,551.40899999999999,634.47,1040.5429999999999]
[null,"2020-08-06T07:59:59.999",8,8,6,958.52700000000004,1030.8,1426.5070000000001]
[null,"2020-08-06T08:59:59.999",8,9,6,1278.2560000000001,1341.6,1663.463]
[null,"2020-08-06T09:59:59.999",8,10,6,1510.079,1563.9,1742.566]
[null,"2020-08-06T10:59:59.999",8,11,6,1577.511,1592.7,1748.7809999999999]
[null,"2020-08-06T11:59:59.999",8,12,6,1552.8779999999999,1585,1631.6969999999999]
[null,"2020-08-06T12:59:59.999",8,13,6,1466.0060000000001,1465.9,1400.519]
[null,"2020-08-06T13:59:59.999",8,14,7,1373.432,1373,1194.5150000000001]
[null,"2020-08-06T14:59:59.999",8,15,7,1124.8879999999999,1117.0999999999999,845.73900000000003]
[null,"2020-08-06T15:59:59.999",8,16,{"$f":"INDEX($AE$11:$BB$22,MATCH(C5257,$AD$11:$AD$22,0),MATCH(D5257,$AE$10:$BB$10,0))","v":8},811.34299999999996,796.51,432.911]
[null,"2020-08-06T16:59:59.999",{"$f":"MONTH(B5258)","v":8},{"$f":"HOUR(B5258)","v":17},8,369.91300000000001,369.84,90.664000000000001]
[null,{"$f":"B5258+1/24","v":"2020-08-06T17:59:59.999"},8,18,8,55.823,57.152999999999999,60.125]
[null,"2020-08-06T18:59:59.999",8,19,8,-1.9336,-2.7E-2,-2.1436999999999999]
[null,"2020-08-06T19:59:59.999",8,20,8,-1.9336,-2.7E-2,-2.1436999999999999]
[null,"2020-08-06T20:59:59.999",8,21,7,-1.9336,-2.7E-2,-2.1436999999999999]
[null,"2020-08-06T21:59:59.999",8,22,7,-1.9336,-2.7E-2,-2.1436999999999999]
[null,"2020-08-06T22:59:59.999",8,23,6,-1.9336,-2.7E-2,-2.1436999999999999]
[null,"2020-08-06T23:59:59.999",8,0,6,-1.9336,-2.7E-2,-2.1436999999999999]
[null,"2020-08-07T00:59:59.999",8,1,6,-1.9336,-2.7E-2,-2.1436999999999999]
[null,"2020-08-07T01:59:59.999",8,2,6,-1.9336,-2.7E-2,-2.1436999999999999]
[null,"2020-08-07T02:59:59.999",8,3,6,-1.9336,-2.7E-2,-2.1436999999999999]
[null,"2020-08-07T03:59:59.999",8,4,6,-1.9336,-2.7E-2,-2.1436999999999999]
[null,"2020-08-07T04:59:59.999",8,5,6,17.536999999999999,21.97,29.201000000000001]
[null,"2020-08-07T05:59:59.999",8,6,6,121.592,225.72,389.70299999999997]
[null,"2020-08-07T06:59:59.999",8,7,6,541.64700000000005,629.37,1057.4680000000001]
[null,"2020-08-07T07:59:59.999",8,8,6,946.62800000000004,1018,1410.259]
[null,"2020-08-07T08:59:59.999",8,9,6,1263.875,1324.9,1642.3620000000001]
[null,"2020-08-07T09:59:59.999",8,10,6,1487.079,1538.5,1730.905]
[null,"2020-08-07T10:59:59.999",8,11,6,1564.7639999999999,1589.5,1735.182]
[null,"2020-08-07T11:59:59.999",8,12,6,1576.502,1591.1,1685.029]
[null,"2020-08-07T12:59:59.999",8,13,6,1531.307,1560.6,1477.7629999999999]
[null,"2020-08-07T13:59:59.999",8,14,7,1387.308,1391.1,1202.675]
[null,"2020-08-07T14:59:59.999",8,15,7,1129.58,1123.5,844.71299999999997]
[null,"2020-08-07T15:59:59.999",8,16,8,789.36500000000001,774.35,408.65]
[null,"2020-08-07T16:59:59.999",8,17,8,375.20299999999997,373.91,67.188999999999993]
[null,"2020-08-07T17:59:59.999",8,18,8,54.868000000000002,55.685000000000002,58.74]
[null,"2020-08-07T18:59:59.999",8,19,8,-1.9336,-2.7E-2,-2.1436999999999999]
[null,"2020-08-07T19:59:59.999",8,20,8,-1.9336,-2.7E-2,-2.1436999999999999]
[null,"2020-08-07T20:59:59.999",8,21,7,-1.9336,-2.7E-2,-2.1436999999999999]
[null,"2020-08-07T21:59:59.999",8,22,7,-1.9336,-2.7E-2,-2.1436999999999999]
[null,"2020-08-07T22:59:59.999",8,23,6,-1.9336,-2.7E-2,-2.1436999999999999]
[null,"2020-08-07T23:59:59.999",8,0,6,-1.9336,-2.7E-2,-2.1436999999999999]
[null,"2020-08-08T00:59:59.999",8,1,6,-1.9336,-2.7E-2,-2.1436999999999999]
[null,"2020-08-08T01:59:59.999",8,2,6,-1.9336,-2.7E-2,-2.1436999999999999]
[null,"2020-08-08T02:59:59.999",8,3,6,-1.9336,-2.7E-2,-2.1436999999999999]
[null,"2020-08-08T03:59:59.999",8,4,6,-1.9336,-2.7E-2,-2.1436999999999999]
[null,"2020-08-08T04:59:59.999",8,5,6,8.0655999999999999,12.467000000000001,19.859000000000002]
[null,"2020-08-08T05:59:59.999",8,6,6,117.261,205.92,351.89499999999998]
[null,"2020-08-08T06:59:59.999",8,7,6,509.61399999999998,586.96,973.22]
[null,"2020-08-08T07:59:59.999",8,8,6,917.66700000000003,983.5,1364.6179999999999]
[null,"2020-08-08T08:59:59.999",8,9,6,1228.5920000000001,1283.7,1587.607]
[null,"2020-08-08T09:59:59.999",8,10,6,1434.277,1474.7,1690.1859999999999]
[null,"2020-08-08T10:59:59.999",8,11,6,1546.287,1585.4,1718.896]
[null,"2020-08-08T11:59:59.999",8,12,6,1561.66,1587.4,1648.0820000000001]
[null,"2020-08-08T12:59:59.999",8,13,6,1517.5889999999999,1531.8,1450.6110000000001]
[null,"2020-08-08T13:59:59.999",8,14,7,1360.13,1360.6,1182.6320000000001]
[null,"2020-08-08T14:59:59.999",8,15,7,1055.5450000000001,1042.8,799.221]
[null,"2020-08-08T15:59:59.999",8,16,8,712.79600000000005,696.99,403.351]
[null,"2020-08-08T16:59:59.999",8,17,8,373.673,371.57,68.91]
[null,"2020-08-08T17:59:59.999",8,18,8,51.15,51.234999999999999,54.524000000000001]
[null,"2020-08-08T18:59:59.999",8,19,8,-1.9336,-2.7E-2,-2.1436999999999999]
[null,"2020-08-08T19:59:59.999",8,20,8,-1.9336,-2.7E-2,-2.1436999999999999]
[null,"2020-08-08T20:59:59.999",8,21,7,-1.9336,-2.7E-2,-2.1436999999999999]
[null,"2020-08-08T21:59:59.999",8,22,7,-1.9336,-2.7E-2,-2.1436999999999999]
[null,"2020-08-08T22:59:59.999",8,23,6,-1.9336,-2.7E-2,-2.1436999999999999]
[null,"2020-08-08T23:59:59.999",8,0,6,-1.9336,-2.7E-2,-2.1436999999999999]
[null,"2020-08-09T00:59:59.999",8,1,6,-1.9336,-2.7E-2,-2.1436999999999999]
[null,"2020-08-09T01:59:59.999",8,2,6,-1.9336,-2.7E-2,-2.1436999999999999]
[null,"2020-08-09T02:59:59.999",8,3,6,-1.9336,-2.7E-2,-2.1436999999999999]
[null,"2020-08-09T03:59:59.999",8,4,6,-1.9336,-2.7E-2,-2.1436999999999999]
[null,"2020-08-09T04:59:59.999",8,5,6,12.698,17.117000000000001,22.408999999999999]
[null,"2020-08-09T05:59:59.999",8,6,6,110.688,202.98,353.42599999999999]
[null,"2020-08-09T06:59:59.999",8,7,6,527.42100000000005,608.58000000000004,1016.8819999999999]
[null,"2020-08-09T07:59:59.999",8,8,{"$f":"INDEX($AE$11:$BB$22,MATCH(C5321,$AD$11:$AD$22,0),MATCH(D5321,$AE$10:$BB$10,0))","v":6},938.09500000000003,1004.9,1390.289]
[null,"2020-08-09T08:59:59.999",{"$f":"MONTH(B5322)","v":8},{"$f":"HOUR(B5322)","v":9},6,1236.028,1288.0999999999999,1597.723]
[null,{"$f":"B5322+1/24","v":"2020-08-09T09:59:59.999"},8,10,6,1409.722,1444.3,1657.8130000000001]
[null,"2020-08-09T10:59:59.999",8,11,6,1524.328,1557.6,1678.1189999999999]
[null,"2020-08-09T11:59:59.999",8,12,6,1531.4349999999999,1559.4,1582.9090000000001]
[null,"2020-08-09T12:59:59.999",8,13,6,1503.6859999999999,1511.8,1433.778]
[null,"2020-08-09T13:59:59.999",8,14,7,1354.896,1354.7,1173.2909999999999]
[null,"2020-08-09T14:59:59.999",8,15,7,1121.107,1108.4000000000001,834.56500000000005]
[null,"2020-08-09T15:59:59.999",8,16,8,752.548,735.29,418.00299999999999]
[null,"2020-08-09T16:59:59.999",8,17,8,317.10199999999998,317.29000000000002,111.241]
[null,"2020-08-09T17:59:59.999",8,18,8,55.966999999999999,57.136000000000003,60.610999999999997]
[null,"2020-08-09T18:59:59.999",8,19,8,-1.9336,-2.7E-2,-2.1436999999999999]
[null,"2020-08-09T19:59:59.999",8,20,8,-1.9336,-2.7E-2,-2.1436999999999999]
[null,"2020-08-09T20:59:59.999",8,21,7,-1.9336,-2.7E-2,-2.1436999999999999]
[null,"2020-08-09T21:59:59.999",8,22,7,-1.9336,-2.7E-2,-2.1436999999999999]
[null,"2020-08-09T22:59:59.999",8,23,6,-1.9336,-2.7E-2,-2.1436999999999999]
[null,"2020-08-09T23:59:59.999",8,0,6,-1.9336,-2.7E-2,-2.1436999999999999]
[null,"2020-08-10T00:59:59.999",8,1,6,-1.9336,-2.7E-2,-2.1436999999999999]
[null,"2020-08-10T01:59:59.999",8,2,6,-1.9336,-2.7E-2,-2.1436999999999999]
[null,"2020-08-10T02:59:59.999",8,3,6,-1.9336,-2.7E-2,-2.1436999999999999]
[null,"2020-08-10T03:59:59.999",8,4,6,-1.9336,-2.7E-2,-2.1436999999999999]
[null,"2020-08-10T04:59:59.999",8,5,6,11.36,15.833,24.731000000000002]
[null,"2020-08-10T05:59:59.999",8,6,6,115.39,219.07,386.04300000000001]
[null,"2020-08-10T06:59:59.999",8,7,6,544.31399999999996,629.74,1062.3520000000001]
[null,"2020-08-10T07:59:59.999",8,8,6,955.01900000000001,1023.2,1419.874]
[null,"2020-08-10T08:59:59.999",8,9,6,1275.8109999999999,1333.8,1654.0740000000001]
[null,"2020-08-10T09:59:59.999",8,10,6,1464.454,1505.3,1717.595]
[null,"2020-08-10T10:59:59.999",8,11,6,1537.383,1578.6,1703.4559999999999]
[null,"2020-08-10T11:59:59.999",8,12,6,1531.377,1552.2,1579.5170000000001]
[null,"2020-08-10T12:59:59.999",8,13,6,1511.027,1513,1437.7370000000001]
[null,"2020-08-10T13:59:59.999",8,14,7,1347.9069999999999,1341.5,1167.4690000000001]
[null,"2020-08-10T14:59:59.999",8,15,7,1100.181,1085.8,823.72299999999996]
[null,"2020-08-10T15:59:59.999",8,16,8,778.53599999999994,759.46,397.34]
[null,"2020-08-10T16:59:59.999",8,17,8,360.64299999999997,357.28,75.391999999999996]
[null,"2020-08-10T17:59:59.999",8,18,8,50.246000000000002,51.430999999999997,55.847000000000001]
[null,"2020-08-10T18:59:59.999",8,19,8,-1.9336,-2.7E-2,-2.1436999999999999]
[null,"2020-08-10T19:59:59.999",8,20,8,-1.9336,-2.7E-2,-2.1436999999999999]
[null,"2020-08-10T20:59:59.999",8,21,7,-1.9336,-2.7E-2,-2.1436999999999999]
[null,"2020-08-10T21:59:59.999",8,22,7,-1.9336,-2.7E-2,-2.1436999999999999]
[null,"2020-08-10T22:59:59.999",8,23,6,-1.9336,-2.7E-2,-2.1436999999999999]
[null,"2020-08-10T23:59:59.999",8,0,6,-1.9336,-2.7E-2,-2.1436999999999999]
[null,"2020-08-11T00:59:59.999",8,1,6,-1.9336,-2.7E-2,-2.1436999999999999]
[null,"2020-08-11T01:59:59.999",8,2,6,-1.9336,-2.7E-2,-2.1436999999999999]
[null,"2020-08-11T02:59:59.999",8,3,6,-1.9336,-2.7E-2,-2.1436999999999999]
[null,"2020-08-11T03:59:59.999",8,4,6,-1.9336,-2.7E-2,-2.1436999999999999]
[null,"2020-08-11T04:59:59.999",8,5,6,11.335000000000001,15.759,24.277000000000001]
[null,"2020-08-11T05:59:59.999",8,6,6,110.898,195.08,339.01299999999998]
[null,"2020-08-11T06:59:59.999",8,7,6,528.928,604.94000000000005,1002.3819999999999]
[null,"2020-08-11T07:59:59.999",8,8,6,934.96600000000001,996.86,1381.5530000000001]
[null,"2020-08-11T08:59:59.999",8,9,6,1256.2739999999999,1310.7,1624.1559999999999]
[null,"2020-08-11T09:59:59.999",8,10,6,1471.933,1512,1720.68]
[null,"2020-08-11T10:59:59.999",8,11,6,1552.8209999999999,1585.9,1722.0440000000001]
[null,"2020-08-11T11:59:59.999",8,12,6,1557.1969999999999,1586,1636.229]
[null,"2020-08-11T12:59:59.999",8,13,6,1482.587,1479.2,1406.037]
[null,"2020-08-11T13:59:59.999",8,14,7,1373.8620000000001,1370.8,1187.8720000000001]
[null,"2020-08-11T14:59:59.999",8,15,7,1117.3399999999999,1102.4000000000001,824]
[null,"2020-08-11T15:59:59.999",8,16,8,779.13300000000004,758.74,395.22199999999998]
[null,"2020-08-11T16:59:59.999",8,17,8,365.17399999999998,362.6,151.36799999999999]
[null,"2020-08-11T17:59:59.999",8,18,8,52.073999999999998,55.555999999999997,58.183999999999997]
[null,"2020-08-11T18:59:59.999",8,19,8,-1.9336,-2.7E-2,-2.1436999999999999]
[null,"2020-08-11T19:59:59.999",8,20,8,-1.9336,-2.7E-2,-2.1436999999999999]
[null,"2020-08-11T20:59:59.999",8,21,7,-1.9336,-2.7E-2,-2.1436999999999999]
[null,"2020-08-11T21:59:59.999",8,22,7,-1.9336,-2.7E-2,-2.1436999999999999]
[null,"2020-08-11T22:59:59.999",8,23,6,-1.9336,-2.7E-2,-2.1436999999999999]
[null,"2020-08-11T23:59:59.999",8,0,{"$f":"INDEX($AE$11:$BB$22,MATCH(C5385,$AD$11:$AD$22,0),MATCH(D5385,$AE$10:$BB$10,0))","v":6},-1.9336,-2.7E-2,-2.1436999999999999]
[null,"2020-08-12T00:59:59.999",{"$f":"MONTH(B5386)","v":8},{"$f":"HOUR(B5386)","v":1},6,-1.9336,-2.7E-2,-2.1436999999999999]
[null,{"$f":"B5386+1/24","v":"2020-08-12T01:59:59.999"},8,2,6,-1.9336,-2.7E-2,-2.1436999999999999]
[null,"2020-08-12T02:59:59.999",8,3,6,-1.9336,-2.7E-2,-2.1436999999999999]
[null,"2020-08-12T03:59:59.999",8,4,6,-1.9336,-2.7E-2,-2.1436999999999999]
[null,"2020-08-12T04:59:59.999",8,5,6,4.2664999999999997,-2.7E-2,9.5091000000000001]
[null,"2020-08-12T05:59:59.999",8,6,6,130.167,184.69,287.29199999999997]
[null,"2020-08-12T06:59:59.999",8,7,6,522.93299999999999,591.47,951.78599999999994]
[null,"2020-08-12T07:59:59.999",8,8,6,917.24,975.25,1351.4639999999999]
[null,"2020-08-12T08:59:59.999",8,9,6,1255.5999999999999,1306.0999999999999,1622.5429999999999]
[null,"2020-08-12T09:59:59.999",8,10,6,1506.587,1553,1737.848]
[null,"2020-08-12T10:59:59.999",8,11,6,1568.7950000000001,1589.8,1736.8879999999999]
[null,"2020-08-12T11:59:59.999",8,12,6,1577.3,1590.6,1679.991]
[null,"2020-08-12T12:59:59.999",8,13,6,1529.2249999999999,1549.6,1467.624]
[null,"2020-08-12T13:59:59.999",8,14,7,1365.595,1358.2,1174.173]
[null,"2020-08-12T14:59:59.999",8,15,7,1103.3820000000001,1087.0999999999999,819.13699999999994]
[null,"2020-08-12T15:59:59.999",8,16,8,770.18600000000004,748.59,388.61099999999999]
[null,"2020-08-12T16:59:59.999",8,17,8,346.99200000000002,342.63,120.74299999999999]
[null,"2020-08-12T17:59:59.999",8,18,8,45.167000000000002,46.533000000000001,51.716000000000001]
[null,"2020-08-12T18:59:59.999",8,19,8,-1.9336,-2.7E-2,-2.1436999999999999]
[null,"2020-08-12T19:59:59.999",8,20,8,-1.9336,-2.7E-2,-2.1436999999999999]
[null,"2020-08-12T20:59:59.999",8,21,7,-1.9336,-2.7E-2,-2.1436999999999999]
[null,"2020-08-12T21:59:59.999",8,22,7,-1.9336,-2.7E-2,-2.1436999999999999]
[null,"2020-08-12T22:59:59.999",8,23,6,-1.9336,-2.7E-2,-2.1436999999999999]
[null,"2020-08-12T23:59:59.999",8,0,6,-1.9336,-2.7E-2,-2.1436999999999999]
[null,"2020-08-13T00:59:59.999",8,1,6,-1.9336,-2.7E-2,-2.1436999999999999]
[null,"2020-08-13T01:59:59.999",8,2,6,-1.9336,-2.7E-2,-2.1436999999999999]
[null,"2020-08-13T02:59:59.999",8,3,6,-1.9336,-2.7E-2,-2.1436999999999999]
[null,"2020-08-13T03:59:59.999",8,4,6,-1.9336,-2.7E-2,-2.1436999999999999]
[null,"2020-08-13T04:59:59.999",8,5,6,1.0257000000000001,-2.7E-2,-2.1436999999999999]
[null,"2020-08-13T05:59:59.999",8,6,6,120.545,156.16999999999999,223.08199999999999]
[null,"2020-08-13T06:59:59.999",8,7,6,465.26799999999997,518.36,805.61]
[null,"2020-08-13T07:59:59.999",8,8,6,878.35900000000004,928.17,1270.7049999999999]
[null,"2020-08-13T08:59:59.999",8,9,6,1226.002,1270,1577.3]
[null,"2020-08-13T09:59:59.999",8,10,6,1421.3230000000001,1450.5,1665.2429999999999]
[null,"2020-08-13T10:59:59.999",8,11,6,1536.239,1571.9,1696.51]
[null,"2020-08-13T11:59:59.999",8,12,6,1539.4590000000001,1565.3,1592.086]
[null,"2020-08-13T12:59:59.999",8,13,6,1514.682,1509.4,1433.2070000000001]
[null,"2020-08-13T13:59:59.999",8,14,7,1390.4290000000001,1381.6,1194.588]
[null,"2020-08-13T14:59:59.999",8,15,7,1099.1400000000001,1081.5,815.36400000000003]
[null,"2020-08-13T15:59:59.999",8,16,8,770.77300000000002,747.83,383.214]
[null,"2020-08-13T16:59:59.999",8,17,8,347.596,344.04,140.11199999999999]
[null,"2020-08-13T17:59:59.999",8,18,8,45.938000000000002,48.784999999999997,52.997999999999998]
[null,"2020-08-13T18:59:59.999",8,19,8,-1.9336,-2.7E-2,-2.1436999999999999]
[null,"2020-08-13T19:59:59.999",8,20,8,-1.9336,-2.7E-2,-2.1436999999999999]
[null,"2020-08-13T20:59:59.999",8,21,7,-1.9336,-2.7E-2,-2.1436999999999999]
[null,"2020-08-13T21:59:59.999",8,22,7,-1.9336,-2.7E-2,-2.1436999999999999]
[null,"2020-08-13T22:59:59.999",8,23,6,-1.9336,-2.7E-2,-2.1436999999999999]
[null,"2020-08-13T23:59:59.999",8,0,6,-1.9336,-2.7E-2,-2.1436999999999999]
[null,"2020-08-14T00:59:59.999",8,1,6,-1.9336,-2.7E-2,-2.1436999999999999]
[null,"2020-08-14T01:59:59.999",8,2,6,-1.9336,-2.7E-2,-2.1436999999999999]
[null,"2020-08-14T02:59:59.999",8,3,6,-1.9336,-2.7E-2,-2.1436999999999999]
[null,"2020-08-14T03:59:59.999",8,4,6,-1.9336,-2.7E-2,-2.1436999999999999]
[null,"2020-08-14T04:59:59.999",8,5,6,2.5958999999999999,-2.7E-2,7.7474999999999996]
[null,"2020-08-14T05:59:59.999",8,6,6,120.592,158.6,230.61699999999999]
[null,"2020-08-14T06:59:59.999",8,7,6,504.31099999999998,568.69000000000005,916.66800000000001]
[null,"2020-08-14T07:59:59.999",8,8,6,932.48400000000004,990.65,1373.9780000000001]
[null,"2020-08-14T08:59:59.999",8,9,6,1247.0889999999999,1294.3,1609.191]
[null,"2020-08-14T09:59:59.999",8,10,6,1470.991,1505.6,1718.1379999999999]
[null,"2020-08-14T10:59:59.999",8,11,6,1556.616,1586.2,1723.4639999999999]
[null,"2020-08-14T11:59:59.999",8,12,6,1550.8810000000001,1583.3,1612.876]
[null,"2020-08-14T12:59:59.999",8,13,6,1482.9269999999999,1475,1402.7670000000001]
[null,"2020-08-14T13:59:59.999",8,14,7,1355.221,1344.2,1165.972]
[null,"2020-08-14T14:59:59.999",8,15,7,1073.8579999999999,1053.5999999999999,798.27599999999995]
[null,"2020-08-14T15:59:59.999",8,16,{"$f":"INDEX($AE$11:$BB$22,MATCH(C5449,$AD$11:$AD$22,0),MATCH(D5449,$AE$10:$BB$10,0))","v":8},707.23599999999999,686.03,384.07799999999997]
[null,"2020-08-14T16:59:59.999",{"$f":"MONTH(B5450)","v":8},{"$f":"HOUR(B5450)","v":17},8,319.71100000000001,316.22000000000003,143.345]
[null,{"$f":"B5450+1/24","v":"2020-08-14T17:59:59.999"},8,18,8,43.008000000000003,45.997999999999998,50.256]
[null,"2020-08-14T18:59:59.999",8,19,8,-1.9336,-2.7E-2,-2.1436999999999999]
[null,"2020-08-14T19:59:59.999",8,20,8,-1.9336,-2.7E-2,-2.1436999999999999]
[null,"2020-08-14T20:59:59.999",8,21,7,-1.9336,-2.7E-2,-2.1436999999999999]
[null,"2020-08-14T21:59:59.999",8,22,7,-1.9336,-2.7E-2,-2.1436999999999999]
[null,"2020-08-14T22:59:59.999",8,23,6,-1.9336,-2.7E-2,-2.1436999999999999]
[null,"2020-08-14T23:59:59.999",8,0,6,-1.9336,-2.7E-2,-2.1436999999999999]
[null,"2020-08-15T00:59:59.999",8,1,6,-1.9336,-2.7E-2,-2.1436999999999999]
[null,"2020-08-15T01:59:59.999",8,2,6,-1.9336,-2.7E-2,-2.1436999999999999]
[null,"2020-08-15T02:59:59.999",8,3,6,-1.9336,-2.7E-2,-2.1436999999999999]
[null,"2020-08-15T03:59:59.999",8,4,6,-1.9336,-2.7E-2,-2.1436999999999999]
[null,"2020-08-15T04:59:59.999",8,5,6,-1.9336,-2.7E-2,-2.1436999999999999]
[null,"2020-08-15T05:59:59.999",8,6,6,56.988,61.835000000000001,63.94]
[null,"2020-08-15T06:59:59.999",8,7,6,238.45400000000001,254.39,291.03500000000003]
[null,"2020-08-15T07:59:59.999",8,8,6,550.58900000000006,572.38,708.928]
[null,"2020-08-15T08:59:59.999",8,9,6,1108.9280000000001,1138.9000000000001,1394.838]
[null,"2020-08-15T09:59:59.999",8,10,6,1445.1369999999999,1472.1,1690.1690000000001]
[null,"2020-08-15T10:59:59.999",8,11,6,1546.5219999999999,1584,1714.6780000000001]
[null,"2020-08-15T11:59:59.999",8,12,6,1554.452,1584.3,1621.175]
[null,"2020-08-15T12:59:59.999",8,13,6,1515.338,1510.9,1433.326]
[null,"2020-08-15T13:59:59.999",8,14,7,1377.0160000000001,1365.4,1177.7860000000001]
[null,"2020-08-15T14:59:59.999",8,15,7,1110.319,1090.0999999999999,812.48800000000006]
[null,"2020-08-15T15:59:59.999",8,16,8,771.86699999999996,746.69,377.84500000000003]
[null,"2020-08-15T16:59:59.999",8,17,8,342.601,334.96,107.752]
[null,"2020-08-15T17:59:59.999",8,18,8,43.811999999999998,45.378999999999998,50.439]
[null,"2020-08-15T18:59:59.999",8,19,8,-1.9336,-2.7E-2,-2.1436999999999999]
[null,"2020-08-15T19:59:59.999",8,20,8,-1.9336,-2.7E-2,-2.1436999999999999]
[null,"2020-08-15T20:59:59.999",8,21,7,-1.9336,-2.7E-2,-2.1436999999999999]
[null,"2020-08-15T21:59:59.999",8,22,7,-1.9336,-2.7E-2,-2.1436999999999999]
[null,"2020-08-15T22:59:59.999",8,23,6,-1.9336,-2.7E-2,-2.1436999999999999]
[null,"2020-08-15T23:59:59.999",8,0,6,-1.9336,-2.7E-2,-2.1436999999999999]
[null,"2020-08-16T00:59:59.999",8,1,6,-1.9336,-2.7E-2,-2.1436999999999999]
[null,"2020-08-16T01:59:59.999",8,2,6,-1.9336,-2.7E-2,-2.1436999999999999]
[null,"2020-08-16T02:59:59.999",8,3,6,-1.9336,-2.7E-2,-2.1436999999999999]
[null,"2020-08-16T03:59:59.999",8,4,6,-1.9336,-2.7E-2,-2.1436999999999999]
[null,"2020-08-16T04:59:59.999",8,5,6,-1.9336,-2.7E-2,-2.1436999999999999]
[null,"2020-08-16T05:59:59.999",8,6,6,121.491,155.91,227.1]
[null,"2020-08-16T06:59:59.999",8,7,6,403.36500000000001,439.7,638.81299999999999]
[null,"2020-08-16T07:59:59.999",8,8,6,756.72500000000002,792.45,1042.58]
[null,"2020-08-16T08:59:59.999",8,9,6,1232.723,1271,1572.99]
[null,"2020-08-16T09:59:59.999",8,10,6,1516.6880000000001,1555.8,1738.9829999999999]
[null,"2020-08-16T10:59:59.999",8,11,6,1584.807,1593.3,1751.0039999999999]
[null,"2020-08-16T11:59:59.999",8,12,6,1594.4059999999999,1594.3,1713.6690000000001]
[null,"2020-08-16T12:59:59.999",8,13,6,1553.7360000000001,1583.9,1505.5139999999999]
[null,"2020-08-16T13:59:59.999",8,14,7,1366.4939999999999,1352.6,1173.194]
[null,"2020-08-16T14:59:59.999",8,15,7,1062.7909999999999,1040,792.41]
[null,"2020-08-16T15:59:59.999",8,16,8,736.22199999999998,714.65,415.45800000000003]
[null,"2020-08-16T16:59:59.999",8,17,8,254.30699999999999,254.65,145.46799999999999]
[null,"2020-08-16T17:59:59.999",8,18,8,47.011000000000003,49.326999999999998,53.003]
[null,"2020-08-16T18:59:59.999",8,19,8,-1.9336,-2.7E-2,-2.1436999999999999]
[null,"2020-08-16T19:59:59.999",8,20,8,-1.9336,-2.7E-2,-2.1436999999999999]
[null,"2020-08-16T20:59:59.999",8,21,7,-1.9336,-2.7E-2,-2.1436999999999999]
[null,"2020-08-16T21:59:59.999",8,22,7,-1.9336,-2.7E-2,-2.1436999999999999]
[null,"2020-08-16T22:59:59.999",8,23,6,-1.9336,-2.7E-2,-2.1436999999999999]
[null,"2020-08-16T23:59:59.999",8,0,6,-1.9336,-2.7E-2,-2.1436999999999999]
[null,"2020-08-17T00:59:59.999",8,1,6,-1.9336,-2.7E-2,-2.1436999999999999]
[null,"2020-08-17T01:59:59.999",8,2,6,-1.9336,-2.7E-2,-2.1436999999999999]
[null,"2020-08-17T02:59:59.999",8,3,6,-1.9336,-2.7E-2,-2.1436999999999999]
[null,"2020-08-17T03:59:59.999",8,4,6,-1.9336,-2.7E-2,-2.1436999999999999]
[null,"2020-08-17T04:59:59.999",8,5,6,-1.9336,-2.7E-2,-2.1436999999999999]
[null,"2020-08-17T05:59:59.999",8,6,6,116.18300000000001,151.02000000000001,223.21100000000001]
[null,"2020-08-17T06:59:59.999",8,7,6,478.23200000000003,531.35,837.04600000000005]
[null,"2020-08-17T07:59:59.999",8,8,{"$f":"INDEX($AE$11:$BB$22,MATCH(C5513,$AD$11:$AD$22,0),MATCH(D5513,$AE$10:$BB$10,0))","v":6},942.21199999999999,995.26,1379.2719999999999]
[null,"2020-08-17T08:59:59.999",{"$f":"MONTH(B5514)","v":8},{"$f":"HOUR(B5514)","v":9},6,1271.7280000000001,1317.3,1639.1510000000001]
[null,{"$f":"B5514+1/24","v":"2020-08-17T09:59:59.999"},8,10,6,1513.856,1551.8,1737.193]
[null,"2020-08-17T10:59:59.999",8,11,6,1583.9739999999999,1593,1749.415]
[null,"2020-08-17T11:59:59.999",8,12,6,1584.7570000000001,1591.8,1688.652]
[null,"2020-08-17T12:59:59.999",8,13,6,1532.4680000000001,1550.2,1463.384]
[null,"2020-08-17T13:59:59.999",8,14,7,1397.2929999999999,1386.7,1193.1310000000001]
[null,"2020-08-17T14:59:59.999",8,15,7,1125.444,1102.8,816.60500000000002]
[null,"2020-08-17T15:59:59.999",8,16,8,749.71600000000001,722.64,377.49900000000002]
[null,"2020-08-17T16:59:59.999",8,17,8,311.52499999999998,306.02,138.352]
[null,"2020-08-17T17:59:59.999",8,18,8,39.151000000000003,42.676000000000002,45.749000000000002]
[null,"2020-08-17T18:59:59.999",8,19,8,-1.9336,-2.7E-2,-2.1436999999999999]
[null,"2020-08-17T19:59:59.999",8,20,8,-1.9336,-2.7E-2,-2.1436999999999999]
[null,"2020-08-17T20:59:59.999",8,21,7,-1.9336,-2.7E-2,-2.1436999999999999]
[null,"2020-08-17T21:59:59.999",8,22,7,-1.9336,-2.7E-2,-2.1436999999999999]
[null,"2020-08-17T22:59:59.999",8,23,6,-1.9336,-2.7E-2,-2.1436999999999999]
[null,"2020-08-17T23:59:59.999",8,0,6,-1.9336,-2.7E-2,-2.1436999999999999]
[null,"2020-08-18T00:59:59.999",8,1,6,-1.9336,-2.7E-2,-2.1436999999999999]
[null,"2020-08-18T01:59:59.999",8,2,6,-1.9336,-2.7E-2,-2.1436999999999999]
[null,"2020-08-18T02:59:59.999",8,3,6,-1.9336,-2.7E-2,-2.1436999999999999]
[null,"2020-08-18T03:59:59.999",8,4,6,-1.9336,-2.7E-2,-2.1436999999999999]
[null,"2020-08-18T04:59:59.999",8,5,6,0.98500999999999994,-2.7E-2,-2.1436999999999999]
[null,"2020-08-18T05:59:59.999",8,6,6,122.14700000000001,174.91,289.43400000000003]
[null,"2020-08-18T06:59:59.999",8,7,6,525.38400000000001,590.54,975.029]
[null,"2020-08-18T07:59:59.999",8,8,6,916.43799999999999,967.67,1344.2239999999999]
[null,"2020-08-18T08:59:59.999",8,9,6,1234.9280000000001,1273.4000000000001,1583.5530000000001]
[null,"2020-08-18T09:59:59.999",8,10,6,1472.03,1496.3,1714.1859999999999]
[null,"2020-08-18T10:59:59.999",8,11,6,1585.0170000000001,1592.3,1747.9490000000001]
[null,"2020-08-18T11:59:59.999",8,12,6,1566.239,1585.8,1638.701]
[null,"2020-08-18T12:59:59.999",8,13,6,1494.665,1481.8,1409.0840000000001]
[null,"2020-08-18T13:59:59.999",8,14,7,1315.3910000000001,1295.9000000000001,1129.1690000000001]
[null,"2020-08-18T14:59:59.999",8,15,7,1055.8320000000001,1031.0999999999999,783.06200000000001]
[null,"2020-08-18T15:59:59.999",8,16,8,680.86300000000006,659.13,377.84500000000003]
[null,"2020-08-18T16:59:59.999",8,17,8,288.93799999999999,284.52999999999997,143.001]
[null,"2020-08-18T17:59:59.999",8,18,8,35.515000000000001,38.262,42.518000000000001]
[null,"2020-08-18T18:59:59.999",8,19,8,-1.9336,-2.7E-2,-2.1436999999999999]
[null,"2020-08-18T19:59:59.999",8,20,8,-1.9336,-2.7E-2,-2.1436999999999999]
[null,"2020-08-18T20:59:59.999",8,21,7,-1.9336,-2.7E-2,-2.1436999999999999]
[null,"2020-08-18T21:59:59.999",8,22,7,-1.9336,-2.7E-2,-2.1436999999999999]
[null,"2020-08-18T22:59:59.999",8,23,6,-1.9336,-2.7E-2,-2.1436999999999999]
[null,"2020-08-18T23:59:59.999",8,0,6,-1.9336,-2.7E-2,-2.1436999999999999]
[null,"2020-08-19T00:59:59.999",8,1,6,-1.9336,-2.7E-2,-2.1436999999999999]
[null,"2020-08-19T01:59:59.999",8,2,6,-1.9336,-2.7E-2,-2.1436999999999999]
[null,"2020-08-19T02:59:59.999",8,3,6,-1.9336,-2.7E-2,-2.1436999999999999]
[null,"2020-08-19T03:59:59.999",8,4,6,-1.9336,-2.7E-2,-2.1436999999999999]
[null,"2020-08-19T04:59:59.999",8,5,6,4.1672000000000002,-2.7E-2,9.8948]
[null,"2020-08-19T05:59:59.999",8,6,6,110.595,179.5,332.65100000000001]
[null,"2020-08-19T06:59:59.999",8,7,6,537.84,607.05999999999995,1019.939]
[null,"2020-08-19T07:59:59.999",8,8,6,951.77499999999998,1004.8,1395.7349999999999]
[null,"2020-08-19T08:59:59.999",8,9,6,1258.0920000000001,1297.5999999999999,1610.3979999999999]
[null,"2020-08-19T09:59:59.999",8,10,6,1510.1210000000001,1544.1,1733.432]
[null,"2020-08-19T10:59:59.999",8,11,6,1586.5719999999999,1593.3,1750.402]
[null,"2020-08-19T11:59:59.999",8,12,6,1595.7429999999999,1594.3,1711.5640000000001]
[null,"2020-08-19T12:59:59.999",8,13,6,1554.9580000000001,1583.8,1498.1579999999999]
[null,"2020-08-19T13:59:59.999",8,14,7,1416.03,1403.9,1199.7059999999999]
[null,"2020-08-19T14:59:59.999",8,15,7,1146.54,1123.3,821.33799999999997]
[null,"2020-08-19T15:59:59.999",8,16,8,784.18200000000002,752.45,350.80399999999997]
[null,"2020-08-19T16:59:59.999",8,17,8,339.37799999999999,327.29000000000002,91.852999999999994]
[null,"2020-08-19T17:59:59.999",8,18,8,37.994999999999997,40.152999999999999,44.216999999999999]
[null,"2020-08-19T18:59:59.999",8,19,8,-1.9336,-2.7E-2,-2.1436999999999999]
[null,"2020-08-19T19:59:59.999",8,20,8,-1.9336,-2.7E-2,-2.1436999999999999]
[null,"2020-08-19T20:59:59.999",8,21,7,-1.9336,-2.7E-2,-2.1436999999999999]
[null,"2020-08-19T21:59:59.999",8,22,7,-1.9336,-2.7E-2,-2.1436999999999999]
[null,"2020-08-19T22:59:59.999",8,23,6,-1.9336,-2.7E-2,-2.1436999999999999]
[null,"2020-08-19T23:59:59.999",8,0,{"$f":"INDEX($AE$11:$BB$22,MATCH(C5577,$AD$11:$AD$22,0),MATCH(D5577,$AE$10:$BB$10,0))","v":6},-1.9336,-2.7E-2,-2.1436999999999999]
[null,"2020-08-20T00:59:59.999",{"$f":"MONTH(B5578)","v":8},{"$f":"HOUR(B5578)","v":1},6,-1.9336,-2.7E-2,-2.1436999999999999]
[null,{"$f":"B5578+1/24","v":"2020-08-20T01:59:59.999"},8,2,6,-1.9336,-2.7E-2,-2.1436999999999999]
[null,"2020-08-20T02:59:59.999",8,3,6,-1.9336,-2.7E-2,-2.1436999999999999]
[null,"2020-08-20T03:59:59.999",8,4,6,-1.9336,-2.7E-2,-2.1436999999999999]
[null,"2020-08-20T04:59:59.999",8,5,6,-1.9336,-2.7E-2,-2.1436999999999999]
[null,"2020-08-20T05:59:59.999",8,6,6,110.18,176.78,329.90899999999999]
[null,"2020-08-20T06:59:59.999",8,7,6,533.71400000000006,603.04,1023.114]
[null,"2020-08-20T07:59:59.999",8,8,6,947.673,999.4,1393.0239999999999]
[null,"2020-08-20T08:59:59.999",8,9,6,1236.529,1272.2,1580.5930000000001]
[null,"2020-08-20T09:59:59.999",8,10,6,1388.6980000000001,1406.1,1611.34]
[null,"2020-08-20T10:59:59.999",8,11,6,1528.3779999999999,1547.6,1668.0619999999999]
[null,"2020-08-20T11:59:59.999",8,12,6,1559.2739999999999,1584.7,1621.126]
[null,"2020-08-20T12:59:59.999",8,13,6,1548.088,1576.6,1485.1110000000001]
[null,"2020-08-20T13:59:59.999",8,14,7,1382.0609999999999,1367.2,1173.4760000000001]
[null,"2020-08-20T14:59:59.999",8,15,7,1101.441,1074.5999999999999,788.74199999999996]
[null,"2020-08-20T15:59:59.999",8,16,8,741.94,709.88,342.03500000000003]
[null,"2020-08-20T16:59:59.999",8,17,8,309.20100000000002,298.56,105.50700000000001]
[null,"2020-08-20T17:59:59.999",8,18,8,36.215000000000003,38.487000000000002,42.573999999999998]
[null,"2020-08-20T18:59:59.999",8,19,8,-1.9336,-2.7E-2,-2.1436999999999999]
[null,"2020-08-20T19:59:59.999",8,20,8,-1.9336,-2.7E-2,-2.1436999999999999]
[null,"2020-08-20T20:59:59.999",8,21,7,-1.9336,-2.7E-2,-2.1436999999999999]
[null,"2020-08-20T21:59:59.999",8,22,7,-1.9336,-2.7E-2,-2.1436999999999999]
[null,"2020-08-20T22:59:59.999",8,23,6,-1.9336,-2.7E-2,-2.1436999999999999]
[null,"2020-08-20T23:59:59.999",8,0,6,-1.9336,-2.7E-2,-2.1436999999999999]
[null,"2020-08-21T00:59:59.999",8,1,6,-1.9336,-2.7E-2,-2.1436999999999999]
[null,"2020-08-21T01:59:59.999",8,2,6,-1.9336,-2.7E-2,-2.1436999999999999]
[null,"2020-08-21T02:59:59.999",8,3,6,-1.9336,-2.7E-2,-2.1436999999999999]
[null,"2020-08-21T03:59:59.999",8,4,6,-1.9336,-2.7E-2,-2.1436999999999999]
[null,"2020-08-21T04:59:59.999",8,5,6,-0.63841999999999999,-2.7E-2,-2.1436999999999999]
[null,"2020-08-21T05:59:59.999",8,6,6,103.654,122.23,162.42500000000001]
[null,"2020-08-21T06:59:59.999",8,7,6,482.10199999999998,530.85,832.58]
[null,"2020-08-21T07:59:59.999",8,8,6,952.78599999999994,1001.1,1391.143]
[null,"2020-08-21T08:59:59.999",8,9,6,1276.5530000000001,1317.2,1640.8720000000001]
[null,"2020-08-21T09:59:59.999",8,10,6,1502.288,1532.9,1728.68]
[null,"2020-08-21T10:59:59.999",8,11,6,1577.7639999999999,1590.7,1739.998]
[null,"2020-08-21T11:59:59.999",8,12,6,1579.9079999999999,1589.9,1670.8679999999999]
[null,"2020-08-21T12:59:59.999",8,13,6,1545.019,1568.7,1478.9469999999999]
[null,"2020-08-21T13:59:59.999",8,14,7,1394.261,1377.8,1182.566]
[null,"2020-08-21T14:59:59.999",8,15,7,1130.2360000000001,1101.5999999999999,803.00900000000001]
[null,"2020-08-21T15:59:59.999",8,16,8,777.04499999999996,742.51,350.08699999999999]
[null,"2020-08-21T16:59:59.999",8,17,8,330.69799999999998,318.13,108.68600000000001]
[null,"2020-08-21T17:59:59.999",8,18,8,34.570999999999998,36.426000000000002,40.503999999999998]
[null,"2020-08-21T18:59:59.999",8,19,8,-1.9336,-2.7E-2,-2.1436999999999999]
[null,"2020-08-21T19:59:59.999",8,20,8,-1.9336,-2.7E-2,-2.1436999999999999]
[null,"2020-08-21T20:59:59.999",8,21,7,-1.9336,-2.7E-2,-2.1436999999999999]
[null,"2020-08-21T21:59:59.999",8,22,7,-1.9336,-2.7E-2,-2.1436999999999999]
[null,"2020-08-21T22:59:59.999",8,23,6,-1.9336,-2.7E-2,-2.1436999999999999]
[null,"2020-08-21T23:59:59.999",8,0,6,-1.9336,-2.7E-2,-2.1436999999999999]
[null,"2020-08-22T00:59:59.999",8,1,6,-1.9336,-2.7E-2,-2.1436999999999999]
[null,"2020-08-22T01:59:59.999",8,2,6,-1.9336,-2.7E-2,-2.1436999999999999]
[null,"2020-08-22T02:59:59.999",8,3,6,-1.9336,-2.7E-2,-2.1436999999999999]
[null,"2020-08-22T03:59:59.999",8,4,6,-1.9336,-2.7E-2,-2.1436999999999999]
[null,"2020-08-22T04:59:59.999",8,5,6,-1.9336,-2.7E-2,-2.1436999999999999]
[null,"2020-08-22T05:59:59.999",8,6,6,43.887999999999998,48.743000000000002,49.588000000000001]
[null,"2020-08-22T06:59:59.999",8,7,6,161.30000000000001,172.97,183.72]
[null,"2020-08-22T07:59:59.999",8,8,6,461.86099999999999,478.63,568.93499999999995]
[null,"2020-08-22T08:59:59.999",8,9,6,1076.316,1097.5999999999999,1342.328]
[null,"2020-08-22T09:59:59.999",8,10,6,1453.8969999999999,1471.7,1687.8230000000001]
[null,"2020-08-22T10:59:59.999",8,11,6,1566.5830000000001,1587.3,1727.0350000000001]
[null,"2020-08-22T11:59:59.999",8,12,6,1568.846,1586.1,1636.087]
[null,"2020-08-22T12:59:59.999",8,13,6,1509.6759999999999,1492.4,1414.7619999999999]
[null,"2020-08-22T13:59:59.999",8,14,7,1381.7919999999999,1359.7,1170.02]
[null,"2020-08-22T14:59:59.999",8,15,7,1110.6099999999999,1081,796.27599999999995]
[null,"2020-08-22T15:59:59.999",8,16,{"$f":"INDEX($AE$11:$BB$22,MATCH(C5641,$AD$11:$AD$22,0),MATCH(D5641,$AE$10:$BB$10,0))","v":8},763.04899999999998,728.32,362.77800000000002]
[null,"2020-08-22T16:59:59.999",{"$f":"MONTH(B5642)","v":8},{"$f":"HOUR(B5642)","v":17},8,290.827,283.55,144.79499999999999]
[null,{"$f":"B5642+1/24","v":"2020-08-22T17:59:59.999"},8,18,8,24.582999999999998,29.251000000000001,31.582999999999998]
[null,"2020-08-22T18:59:59.999",8,19,8,-1.9336,-2.7E-2,-2.1436999999999999]
[null,"2020-08-22T19:59:59.999",8,20,8,-1.9336,-2.7E-2,-2.1436999999999999]
[null,"2020-08-22T20:59:59.999",8,21,7,-1.9336,-2.7E-2,-2.1436999999999999]
[null,"2020-08-22T21:59:59.999",8,22,7,-1.9336,-2.7E-2,-2.1436999999999999]
[null,"2020-08-22T22:59:59.999",8,23,6,-1.9336,-2.7E-2,-2.1436999999999999]
[null,"2020-08-22T23:59:59.999",8,0,6,-1.9336,-2.7E-2,-2.1436999999999999]
[null,"2020-08-23T00:59:59.999",8,1,6,-1.9336,-2.7E-2,-2.1436999999999999]
[null,"2020-08-23T01:59:59.999",8,2,6,-1.9336,-2.7E-2,-2.1436999999999999]
[null,"2020-08-23T02:59:59.999",8,3,6,-1.9336,-2.7E-2,-2.1436999999999999]
[null,"2020-08-23T03:59:59.999",8,4,6,-1.9336,-2.7E-2,-2.1436999999999999]
[null,"2020-08-23T04:59:59.999",8,5,6,-1.9336,-2.7E-2,-2.1436999999999999]
[null,"2020-08-23T05:59:59.999",8,6,6,84.875,93.32,108.926]
[null,"2020-08-23T06:59:59.999",8,7,6,317.517,340.79,458.40899999999999]
[null,"2020-08-23T07:59:59.999",8,8,6,833.04499999999996,866.13,1164.319]
[null,"2020-08-23T08:59:59.999",8,9,6,1265.595,1297.9000000000001,1612.338]
[null,"2020-08-23T09:59:59.999",8,10,6,1466.8050000000001,1485,1703.941]
[null,"2020-08-23T10:59:59.999",8,11,6,1565.838,1586.9,1725.163]
[null,"2020-08-23T11:59:59.999",8,12,6,1549.1690000000001,1571.8,1594.1790000000001]
[null,"2020-08-23T12:59:59.999",8,13,6,1469.395,1450.5,1374.711]
[null,"2020-08-23T13:59:59.999",8,14,7,1333.3969999999999,1307.7,1127.5440000000001]
[null,"2020-08-23T14:59:59.999",8,15,7,1042.5229999999999,1011.6,755.09699999999998]
[null,"2020-08-23T15:59:59.999",8,16,8,740.30100000000004,704.75,342.83499999999998]
[null,"2020-08-23T16:59:59.999",8,17,8,310.92200000000003,298.02999999999997,111.874]
[null,"2020-08-23T17:59:59.999",8,18,8,27.085999999999999,28.352,34.287999999999997]
[null,"2020-08-23T18:59:59.999",8,19,8,-1.9336,-2.7E-2,-2.1436999999999999]
[null,"2020-08-23T19:59:59.999",8,20,8,-1.9336,-2.7E-2,-2.1436999999999999]
[null,"2020-08-23T20:59:59.999",8,21,7,-1.9336,-2.7E-2,-2.1436999999999999]
[null,"2020-08-23T21:59:59.999",8,22,7,-1.9336,-2.7E-2,-2.1436999999999999]
[null,"2020-08-23T22:59:59.999",8,23,6,-1.9336,-2.7E-2,-2.1436999999999999]
[null,"2020-08-23T23:59:59.999",8,0,6,-1.9336,-2.7E-2,-2.1436999999999999]
[null,"2020-08-24T00:59:59.999",8,1,6,-1.9336,-2.7E-2,-2.1436999999999999]
[null,"2020-08-24T01:59:59.999",8,2,6,-1.9336,-2.7E-2,-2.1436999999999999]
[null,"2020-08-24T02:59:59.999",8,3,6,-1.9336,-2.7E-2,-2.1436999999999999]
[null,"2020-08-24T03:59:59.999",8,4,6,-1.9336,-2.7E-2,-2.1436999999999999]
[null,"2020-08-24T04:59:59.999",8,5,6,0.89798999999999995,-2.7E-2,6.5065]
[null,"2020-08-24T05:59:59.999",8,6,6,100.51600000000001,159.12,312.72300000000001]
[null,"2020-08-24T06:59:59.999",8,7,6,526.38300000000004,591.63,1015.314]
[null,"2020-08-24T07:59:59.999",8,8,6,950.19899999999996,996.88,1392.902]
[null,"2020-08-24T08:59:59.999",8,9,6,1242.0999999999999,1271.5,1580.29]
[null,"2020-08-24T09:59:59.999",8,10,6,1466.0989999999999,1483.3,1701.681]
[null,"2020-08-24T10:59:59.999",8,11,6,1581.7829999999999,1590.8,1740.3040000000001]
[null,"2020-08-24T11:59:59.999",8,12,6,1566.335,1585.3,1625.623]
[null,"2020-08-24T12:59:59.999",8,13,6,1522.306,1515.1,1427.9649999999999]
[null,"2020-08-24T13:59:59.999",8,14,7,1380.4639999999999,1359.8,1160.271]
[null,"2020-08-24T14:59:59.999",8,15,7,1114.902,1084.2,785.6]
[null,"2020-08-24T15:59:59.999",8,16,8,741.904,703.7,321.86599999999999]
[null,"2020-08-24T16:59:59.999",8,17,8,292.27999999999997,279.32,106.28100000000001]
[null,"2020-08-24T17:59:59.999",8,18,8,28.401,31.948,35.128999999999998]
[null,"2020-08-24T18:59:59.999",8,19,8,-1.9336,-2.7E-2,-2.1436999999999999]
[null,"2020-08-24T19:59:59.999",8,20,8,-1.9336,-2.7E-2,-2.1436999999999999]
[null,"2020-08-24T20:59:59.999",8,21,7,-1.9336,-2.7E-2,-2.1436999999999999]
[null,"2020-08-24T21:59:59.999",8,22,7,-1.9336,-2.7E-2,-2.1436999999999999]
[null,"2020-08-24T22:59:59.999",8,23,6,-1.9336,-2.7E-2,-2.1436999999999999]
[null,"2020-08-24T23:59:59.999",8,0,6,-1.9336,-2.7E-2,-2.1436999999999999]
[null,"2020-08-25T00:59:59.999",8,1,6,-1.9336,-2.7E-2,-2.1436999999999999]
[null,"2020-08-25T01:59:59.999",8,2,6,-1.9336,-2.7E-2,-2.1436999999999999]
[null,"2020-08-25T02:59:59.999",8,3,6,-1.9336,-2.7E-2,-2.1436999999999999]
[null,"2020-08-25T03:59:59.999",8,4,6,-1.9336,-2.7E-2,-2.1436999999999999]
[null,"2020-08-25T04:59:59.999",8,5,6,2.4363999999999999,-2.7E-2,8.2397000000000009]
[null,"2020-08-25T05:59:59.999",8,6,6,93.325000000000003,160.72999999999999,341.04300000000001]
[null,"2020-08-25T06:59:59.999",8,7,6,529.11199999999997,594.79999999999995,1029.8320000000001]
[null,"2020-08-25T07:59:59.999",8,8,{"$f":"INDEX($AE$11:$BB$22,MATCH(C5705,$AD$11:$AD$22,0),MATCH(D5705,$AE$10:$BB$10,0))","v":6},943.69,989.73,1381.2280000000001]
[null,"2020-08-25T08:59:59.999",{"$f":"MONTH(B5706)","v":8},{"$f":"HOUR(B5706)","v":9},6,1265.095,1299.5999999999999,1613.4649999999999]
[null,{"$f":"B5706+1/24","v":"2020-08-25T09:59:59.999"},8,10,6,1488.1189999999999,1513.1,1719.018]
[null,"2020-08-25T10:59:59.999",8,11,6,1566.684,1587.4,1725.0840000000001]
[null,"2020-08-25T11:59:59.999",8,12,6,1550.1189999999999,1577.3,1592.5]
[null,"2020-08-25T12:59:59.999",8,13,6,1513.5029999999999,1495.8,1406.3489999999999]
[null,"2020-08-25T13:59:59.999",8,14,7,1364.403,1340.7,1143.9000000000001]
[null,"2020-08-25T14:59:59.999",8,15,7,1069.9880000000001,1036.3,753.41200000000003]
[null,"2020-08-25T15:59:59.999",8,16,8,685.64400000000001,649.86,314.108]
[null,"2020-08-25T16:59:59.999",8,17,8,282.86399999999998,269.05,104.277]
[null,"2020-08-25T17:59:59.999",8,18,8,22.756,26.32,29.699000000000002]
[null,"2020-08-25T18:59:59.999",8,19,8,-1.9336,-2.7E-2,-2.1436999999999999]
[null,"2020-08-25T19:59:59.999",8,20,8,-1.9336,-2.7E-2,-2.1436999999999999]
[null,"2020-08-25T20:59:59.999",8,21,7,-1.9336,-2.7E-2,-2.1436999999999999]
[null,"2020-08-25T21:59:59.999",8,22,7,-1.9336,-2.7E-2,-2.1436999999999999]
[null,"2020-08-25T22:59:59.999",8,23,6,-1.9336,-2.7E-2,-2.1436999999999999]
[null,"2020-08-25T23:59:59.999",8,0,6,-1.9336,-2.7E-2,-2.1436999999999999]
[null,"2020-08-26T00:59:59.999",8,1,6,-1.9336,-2.7E-2,-2.1436999999999999]
[null,"2020-08-26T01:59:59.999",8,2,6,-1.9336,-2.7E-2,-2.1436999999999999]
[null,"2020-08-26T02:59:59.999",8,3,6,-1.9336,-2.7E-2,-2.1436999999999999]
[null,"2020-08-26T03:59:59.999",8,4,6,-1.9336,-2.7E-2,-2.1436999999999999]
[null,"2020-08-26T04:59:59.999",8,5,6,-1.9336,-2.7E-2,-2.1436999999999999]
[null,"2020-08-26T05:59:59.999",8,6,6,93.991,152.11000000000001,314.86399999999998]
[null,"2020-08-26T06:59:59.999",8,7,6,518.03599999999994,579.72,1000.545]
[null,"2020-08-26T07:59:59.999",8,8,6,924.98099999999999,968.04,1354.761]
[null,"2020-08-26T08:59:59.999",8,9,6,1245.114,1275.4000000000001,1585.7560000000001]
[null,"2020-08-26T09:59:59.999",8,10,6,1474.82,1497.4,1710.3869999999999]
[null,"2020-08-26T10:59:59.999",8,11,6,1531.355,1550.3,1664.338]
[null,"2020-08-26T11:59:59.999",8,12,6,1504.4110000000001,1489.9,1507.7850000000001]
[null,"2020-08-26T12:59:59.999",8,13,6,1432.077,1408.7,1328.9770000000001]
[null,"2020-08-26T13:59:59.999",8,14,7,1327.2929999999999,1298.8,1106.5719999999999]
[null,"2020-08-26T14:59:59.999",8,15,7,1082.3420000000001,1049.4000000000001,751.21299999999997]
[null,"2020-08-26T15:59:59.999",8,16,8,725.82,684.98,303.73]
[null,"2020-08-26T16:59:59.999",8,17,8,276.61599999999999,260.77,103.58499999999999]
[null,"2020-08-26T17:59:59.999",8,18,8,13.111000000000001,16.385999999999999,20.837]
[null,"2020-08-26T18:59:59.999",8,19,8,-1.9336,-2.7E-2,-2.1436999999999999]
[null,"2020-08-26T19:59:59.999",8,20,8,-1.9336,-2.7E-2,-2.1436999999999999]
[null,"2020-08-26T20:59:59.999",8,21,7,-1.9336,-2.7E-2,-2.1436999999999999]
[null,"2020-08-26T21:59:59.999",8,22,7,-1.9336,-2.7E-2,-2.1436999999999999]
[null,"2020-08-26T22:59:59.999",8,23,6,-1.9336,-2.7E-2,-2.1436999999999999]
[null,"2020-08-26T23:59:59.999",8,0,6,-1.9336,-2.7E-2,-2.1436999999999999]
[null,"2020-08-27T00:59:59.999",8,1,6,-1.9336,-2.7E-2,-2.1436999999999999]
[null,"2020-08-27T01:59:59.999",8,2,6,-1.9336,-2.7E-2,-2.1436999999999999]
[null,"2020-08-27T02:59:59.999",8,3,6,-1.9336,-2.7E-2,-2.1436999999999999]
[null,"2020-08-27T03:59:59.999",8,4,6,-1.9336,-2.7E-2,-2.1436999999999999]
[null,"2020-08-27T04:59:59.999",8,5,6,-1.9336,-2.7E-2,-2.1436999999999999]
[null,"2020-08-27T05:59:59.999",8,6,6,90.822000000000003,153.63,332.98099999999999]
[null,"2020-08-27T06:59:59.999",8,7,6,522.87900000000002,585.62,1019.058]
[null,"2020-08-27T07:59:59.999",8,8,6,940.62900000000002,984.23,1375.396]
[null,"2020-08-27T08:59:59.999",8,9,6,1271.0070000000001,1304.2,1620.6410000000001]
[null,"2020-08-27T09:59:59.999",8,10,6,1505.9580000000001,1529.9,1726.2629999999999]
[null,"2020-08-27T10:59:59.999",8,11,6,1573.5070000000001,1589,1730.825]
[null,"2020-08-27T11:59:59.999",8,12,6,1586.7950000000001,1590.7,1669.77]
[null,"2020-08-27T12:59:59.999",8,13,6,1541.7639999999999,1553.5,1452.4590000000001]
[null,"2020-08-27T13:59:59.999",8,14,7,1389.4770000000001,1362.8,1153.615]
[null,"2020-08-27T14:59:59.999",8,15,7,1099.086,1064.2,762.62699999999995]
[null,"2020-08-27T15:59:59.999",8,16,8,730.34400000000005,687.95,301.904]
[null,"2020-08-27T16:59:59.999",8,17,8,290.40800000000002,267.54000000000002,96.748000000000005]
[null,"2020-08-27T17:59:59.999",8,18,8,22.109000000000002,25.824000000000002,29.076000000000001]
[null,"2020-08-27T18:59:59.999",8,19,8,-1.9336,-2.7E-2,-2.1436999999999999]
[null,"2020-08-27T19:59:59.999",8,20,8,-1.9336,-2.7E-2,-2.1436999999999999]
[null,"2020-08-27T20:59:59.999",8,21,7,-1.9336,-2.7E-2,-2.1436999999999999]
[null,"2020-08-27T21:59:59.999",8,22,7,-1.9336,-2.7E-2,-2.1436999999999999]
[null,"2020-08-27T22:59:59.999",8,23,6,-1.9336,-2.7E-2,-2.1436999999999999]
[null,"2020-08-27T23:59:59.999",8,0,{"$f":"INDEX($AE$11:$BB$22,MATCH(C5769,$AD$11:$AD$22,0),MATCH(D5769,$AE$10:$BB$10,0))","v":6},-1.9336,-2.7E-2,-2.1436999999999999]
[null,"2020-08-28T00:59:59.999",{"$f":"MONTH(B5770)","v":8},{"$f":"HOUR(B5770)","v":1},6,-1.9336,-2.7E-2,-2.1436999999999999]
[null,{"$f":"B5770+1/24","v":"2020-08-28T01:59:59.999"},8,2,6,-1.9336,-2.7E-2,-2.1436999999999999]
[null,"2020-08-28T02:59:59.999",8,3,6,-1.9336,-2.7E-2,-2.1436999999999999]
[null,"2020-08-28T03:59:59.999",8,4,6,-1.9336,-2.7E-2,-2.1436999999999999]
[null,"2020-08-28T04:59:59.999",8,5,6,-1.9336,-2.7E-2,-2.1436999999999999]
[null,"2020-08-28T05:59:59.999",8,6,6,83.899000000000001,91.494,106.646]
[null,"2020-08-28T06:59:59.999",8,7,6,254.089,270.41000000000003,332.65]
[null,"2020-08-28T07:59:59.999",8,8,6,736.48900000000003,760.4,997.47900000000004]
[null,"2020-08-28T08:59:59.999",8,9,6,1219.4939999999999,1239.9000000000001,1532.3989999999999]
[null,"2020-08-28T09:59:59.999",8,10,6,1475.818,1491.3,1708.1659999999999]
[null,"2020-08-28T10:59:59.999",8,11,6,1569.6120000000001,1587.2,1725.3040000000001]
[null,"2020-08-28T11:59:59.999",8,12,6,1560.4649999999999,1583.7,1606.1089999999999]
[null,"2020-08-28T12:59:59.999",8,13,6,1527.298,1518.4,1424.626]
[null,"2020-08-28T13:59:59.999",8,14,7,1412.4639999999999,1384,1174.02]
[null,"2020-08-28T14:59:59.999",8,15,7,1119.3009999999999,1081.2,769.80600000000004]
[null,"2020-08-28T15:59:59.999",8,16,8,735.63300000000004,691.41,296.28199999999998]
[null,"2020-08-28T16:59:59.999",8,17,8,292.70400000000001,262.87,86.766000000000005]
[null,"2020-08-28T17:59:59.999",8,18,8,15.856999999999999,19.094999999999999,23.448]
[null,"2020-08-28T18:59:59.999",8,19,8,-1.9336,-2.7E-2,-2.1436999999999999]
[null,"2020-08-28T19:59:59.999",8,20,8,-1.9336,-2.7E-2,-2.1436999999999999]
[null,"2020-08-28T20:59:59.999",8,21,7,-1.9336,-2.7E-2,-2.1436999999999999]
[null,"2020-08-28T21:59:59.999",8,22,7,-1.9336,-2.7E-2,-2.1436999999999999]
[null,"2020-08-28T22:59:59.999",8,23,6,-1.9336,-2.7E-2,-2.1436999999999999]
[null,"2020-08-28T23:59:59.999",8,0,6,-1.9336,-2.7E-2,-2.1436999999999999]
[null,"2020-08-29T00:59:59.999",8,1,6,-1.9336,-2.7E-2,-2.1436999999999999]
[null,"2020-08-29T01:59:59.999",8,2,6,-1.9336,-2.7E-2,-2.1436999999999999]
[null,"2020-08-29T02:59:59.999",8,3,6,-1.9336,-2.7E-2,-2.1436999999999999]
[null,"2020-08-29T03:59:59.999",8,4,6,-1.9336,-2.7E-2,-2.1436999999999999]
[null,"2020-08-29T04:59:59.999",8,5,6,-1.9336,-2.7E-2,-2.1436999999999999]
[null,"2020-08-29T05:59:59.999",8,6,6,56.484999999999999,61.688000000000002,65.658000000000001]
[null,"2020-08-29T06:59:59.999",8,7,6,224.828,240.44,295.608]
[null,"2020-08-29T07:59:59.999",8,8,6,815.13400000000001,840.93,1131.0039999999999]
[null,"2020-08-29T08:59:59.999",8,9,6,1296.3109999999999,1321.9,1641.4570000000001]
[null,"2020-08-29T09:59:59.999",8,10,6,1496.2950000000001,1511.8,1719.646]
[null,"2020-08-29T10:59:59.999",8,11,6,1582.076,1590.6,1737.6759999999999]
[null,"2020-08-29T11:59:59.999",8,12,6,1596.4380000000001,1592.8,1689.0450000000001]
[null,"2020-08-29T12:59:59.999",8,13,6,1549.527,1565.9,1461.943]
[null,"2020-08-29T13:59:59.999",8,14,7,1389.2159999999999,1359.6,1147.3579999999999]
[null,"2020-08-29T14:59:59.999",8,15,7,1107.998,1068.4000000000001,755.26199999999994]
[null,"2020-08-29T15:59:59.999",8,16,8,739.98099999999999,693.28,287.89100000000002]
[null,"2020-08-29T16:59:59.999",8,17,8,280.32799999999997,246.86,86.581999999999994]
[null,"2020-08-29T17:59:59.999",8,18,8,14.329000000000001,18.202000000000002,21.434999999999999]
[null,"2020-08-29T18:59:59.999",8,19,8,-1.9336,-2.7E-2,-2.1436999999999999]
[null,"2020-08-29T19:59:59.999",8,20,8,-1.9336,-2.7E-2,-2.1436999999999999]
[null,"2020-08-29T20:59:59.999",8,21,7,-1.9336,-2.7E-2,-2.1436999999999999]
[null,"2020-08-29T21:59:59.999",8,22,7,-1.9336,-2.7E-2,-2.1436999999999999]
[null,"2020-08-29T22:59:59.999",8,23,6,-1.9336,-2.7E-2,-2.1436999999999999]
[null,"2020-08-29T23:59:59.999",8,0,6,-1.9336,-2.7E-2,-2.1436999999999999]
[null,"2020-08-30T00:59:59.999",8,1,6,-1.9336,-2.7E-2,-2.1436999999999999]
[null,"2020-08-30T01:59:59.999",8,2,6,-1.9336,-2.7E-2,-2.1436999999999999]
[null,"2020-08-30T02:59:59.999",8,3,6,-1.9336,-2.7E-2,-2.1436999999999999]
[null,"2020-08-30T03:59:59.999",8,4,6,-1.9336,-2.7E-2,-2.1436999999999999]
[null,"2020-08-30T04:59:59.999",8,5,6,-1.9336,-2.7E-2,-2.1436999999999999]
[null,"2020-08-30T05:59:59.999",8,6,6,92.686999999999998,138.96,291.88799999999998]
[null,"2020-08-30T06:59:59.999",8,7,6,514.649,567.6,972.64]
[null,"2020-08-30T07:59:59.999",8,8,6,954.27300000000002,992.84,1391.153]
[null,"2020-08-30T08:59:59.999",8,9,6,1283.6369999999999,1311.6,1629.8409999999999]
[null,"2020-08-30T09:59:59.999",8,10,6,1494.1969999999999,1512.1,1718.134]
[null,"2020-08-30T10:59:59.999",8,11,6,1561.3910000000001,1585.4,1715.855]
[null,"2020-08-30T11:59:59.999",8,12,6,1578.567,1588.3,1643.346]
[null,"2020-08-30T12:59:59.999",8,13,6,1532.365,1531,1427.7819999999999]
[null,"2020-08-30T13:59:59.999",8,14,7,1374.3330000000001,1343.2,1130.3150000000001]
[null,"2020-08-30T14:59:59.999",8,15,7,1085.6969999999999,1045.4000000000001,734.26]
[null,"2020-08-30T15:59:59.999",8,16,{"$f":"INDEX($AE$11:$BB$22,MATCH(C5833,$AD$11:$AD$22,0),MATCH(D5833,$AE$10:$BB$10,0))","v":8},717.86800000000005,670.33,271.83699999999999]
[null,"2020-08-30T16:59:59.999",{"$f":"MONTH(B5834)","v":8},{"$f":"HOUR(B5834)","v":17},8,269.20299999999997,234.85,96.001999999999995]
[null,{"$f":"B5834+1/24","v":"2020-08-30T17:59:59.999"},8,18,8,14.11,18.399999999999999,20.795999999999999]
[null,"2020-08-30T18:59:59.999",8,19,8,-1.9336,-2.7E-2,-2.1436999999999999]
[null,"2020-08-30T19:59:59.999",8,20,8,-1.9336,-2.7E-2,-2.1436999999999999]
[null,"2020-08-30T20:59:59.999",8,21,7,-1.9336,-2.7E-2,-2.1436999999999999]
[null,"2020-08-30T21:59:59.999",8,22,7,-1.9336,-2.7E-2,-2.1436999999999999]
[null,"2020-08-30T22:59:59.999",8,23,6,-1.9336,-2.7E-2,-2.1436999999999999]
[null,"2020-08-30T23:59:59.999",8,0,6,-1.9336,-2.7E-2,-2.1436999999999999]
[null,"2020-08-31T00:59:59.999",8,1,6,-1.9336,-2.7E-2,-2.1436999999999999]
[null,"2020-08-31T01:59:59.999",8,2,6,-1.9336,-2.7E-2,-2.1436999999999999]
[null,"2020-08-31T02:59:59.999",8,3,6,-1.9336,-2.7E-2,-2.1436999999999999]
[null,"2020-08-31T03:59:59.999",8,4,6,-1.9336,-2.7E-2,-2.1436999999999999]
[null,"2020-08-31T04:59:59.999",8,5,6,-1.9336,-2.7E-2,-2.1436999999999999]
[null,"2020-08-31T05:59:59.999",8,6,6,87.701999999999998,117.72,210.11099999999999]
[null,"2020-08-31T06:59:59.999",8,7,6,512.72,565.21,928.94100000000003]
[null,"2020-08-31T07:59:59.999",8,8,6,949,991.89,1355.42]
[null,"2020-08-31T08:59:59.999",8,9,6,1272.9179999999999,1306.7,1582.231]
[null,"2020-08-31T09:59:59.999",8,10,6,1510.0920000000001,1535.8,1710.6179999999999]
[null,"2020-08-31T10:59:59.999",8,11,6,1575.6569999999999,1589.6,1714.924]
[null,"2020-08-31T11:59:59.999",8,12,6,1578.5989999999999,1589,1606.1020000000001]
[null,"2020-08-31T12:59:59.999",8,13,6,1534.943,1541.9,1398.3589999999999]
[null,"2020-08-31T13:59:59.999",8,14,7,1364.5650000000001,1338.6,1093.229]
[null,"2020-08-31T14:59:59.999",8,15,7,1063.3620000000001,1025.5,697.06799999999998]
[null,"2020-08-31T15:59:59.999",8,16,8,704.26,660.28,261.37900000000002]
[null,"2020-08-31T16:59:59.999",8,17,8,262.423,225.74,89.962000000000003]
[null,"2020-08-31T17:59:59.999",8,18,8,10.792999999999999,15.34,16.937999999999999]
[null,"2020-08-31T18:59:59.999",8,19,8,-1.9336,-2.7E-2,-2.1436999999999999]
[null,"2020-08-31T19:59:59.999",8,20,8,-1.9336,-2.7E-2,-2.1436999999999999]
[null,"2020-08-31T20:59:59.999",8,21,7,-1.9336,-2.7E-2,-2.1436999999999999]
[null,"2020-08-31T21:59:59.999",8,22,7,-1.9336,-2.7E-2,-2.1436999999999999]
[null,"2020-08-31T22:59:59.999",8,23,6,-1.9336,-2.7E-2,-2.1436999999999999]
[null,"2020-08-31T23:59:59.999",9,0,6,-1.9336,-2.7E-2,-2.1436999999999999]
[null,"2020-09-01T00:59:59.999",9,1,6,-1.9336,-2.7E-2,-2.1436999999999999]
[null,"2020-09-01T01:59:59.999",9,2,6,-1.9336,-2.7E-2,-2.1436999999999999]
[null,"2020-09-01T02:59:59.999",9,3,6,-1.9336,-2.7E-2,-2.1436999999999999]
[null,"2020-09-01T03:59:59.999",9,4,6,-1.9336,-2.7E-2,-2.1436999999999999]
[null,"2020-09-01T04:59:59.999",9,5,6,-1.9336,-2.7E-2,-2.1436999999999999]
[null,"2020-09-01T05:59:59.999",9,6,6,41.57,47.423000000000002,50.082000000000001]
[null,"2020-09-01T06:59:59.999",9,7,6,402.75,434.61,637.40899999999999]
[null,"2020-09-01T07:59:59.999",9,8,6,705.72299999999996,729.87,960.52499999999998]
[null,"2020-09-01T08:59:59.999",9,9,6,930.18899999999996,946.06,1114.184]
[null,"2020-09-01T09:59:59.999",9,10,6,1274.8679999999999,1282.7,1424.54]
[null,"2020-09-01T10:59:59.999",9,11,6,1411.81,1405.8,1470.049]
[null,"2020-09-01T11:59:59.999",9,12,6,1316.8810000000001,1300.2,1283.383]
[null,"2020-09-01T12:59:59.999",9,13,6,1041.0909999999999,1024.7,959.16]
[null,"2020-09-01T13:59:59.999",9,14,7,1207.01,1176.3,983.87599999999998]
[null,"2020-09-01T14:59:59.999",9,15,7,857.35,827.49,606.97900000000004]
[null,"2020-09-01T15:59:59.999",9,16,8,616.82600000000002,582.03,276.10500000000002]
[null,"2020-09-01T16:59:59.999",9,17,8,191.678,178.26,115.20099999999999]
[null,"2020-09-01T17:59:59.999",9,18,8,1.4722999999999999,-2.7E-2,8.1593]
[null,"2020-09-01T18:59:59.999",9,19,8,-1.9336,-2.7E-2,-2.1436999999999999]
[null,"2020-09-01T19:59:59.999",9,20,8,-1.9336,-2.7E-2,-2.1436999999999999]
[null,"2020-09-01T20:59:59.999",9,21,7,-1.9336,-2.7E-2,-2.1436999999999999]
[null,"2020-09-01T21:59:59.999",9,22,7,-1.9336,-2.7E-2,-2.1436999999999999]
[null,"2020-09-01T22:59:59.999",9,23,6,-1.9336,-2.7E-2,-2.1436999999999999]
[null,"2020-09-01T23:59:59.999",9,0,6,-1.9336,-2.7E-2,-2.1436999999999999]
[null,"2020-09-02T00:59:59.999",9,1,6,-1.9336,-2.7E-2,-2.1436999999999999]
[null,"2020-09-02T01:59:59.999",9,2,6,-1.9336,-2.7E-2,-2.1436999999999999]
[null,"2020-09-02T02:59:59.999",9,3,6,-1.9336,-2.7E-2,-2.1436999999999999]
[null,"2020-09-02T03:59:59.999",9,4,6,-1.9336,-2.7E-2,-2.1436999999999999]
[null,"2020-09-02T04:59:59.999",9,5,6,-1.9336,-2.7E-2,-2.1436999999999999]
[null,"2020-09-02T05:59:59.999",9,6,6,83.570999999999998,126.47,275.33499999999998]
[null,"2020-09-02T06:59:59.999",9,7,6,474.56599999999997,519.29999999999995,848.73900000000003]
[null,"2020-09-02T07:59:59.999",9,8,{"$f":"INDEX($AE$11:$BB$22,MATCH(C5897,$AD$11:$AD$22,0),MATCH(D5897,$AE$10:$BB$10,0))","v":6},877.01599999999996,908.87,1227.9949999999999]
[null,"2020-09-02T08:59:59.999",{"$f":"MONTH(B5898)","v":9},{"$f":"HOUR(B5898)","v":9},6,1226.78,1251.5,1512.9939999999999]
[null,{"$f":"B5898+1/24","v":"2020-09-02T09:59:59.999"},9,10,6,1444.877,1464.7,1628.116]
[null,"2020-09-02T10:59:59.999",9,11,6,1532.1120000000001,1550.2,1616.463]
[null,"2020-09-02T11:59:59.999",9,12,6,1557.02,1583.7,1553.636]
[null,"2020-09-02T12:59:59.999",9,13,6,1511.8810000000001,1496.1,1353.8710000000001]
[null,"2020-09-02T13:59:59.999",9,14,7,1325.0640000000001,1295.8,1061.1769999999999]
[null,"2020-09-02T14:59:59.999",9,15,7,991.55899999999997,952.17,653.68299999999999]
[null,"2020-09-02T15:59:59.999",9,16,8,653.98599999999999,609.75,239.05099999999999]
[null,"2020-09-02T16:59:59.999",9,17,8,240.58600000000001,198.18,81.826999999999998]
[null,"2020-09-02T17:59:59.999",9,18,8,7.516,12.44,13.962]
[null,"2020-09-02T18:59:59.999",9,19,8,-1.9336,-2.7E-2,-2.1436999999999999]
[null,"2020-09-02T19:59:59.999",9,20,8,-1.9336,-2.7E-2,-2.1436999999999999]
[null,"2020-09-02T20:59:59.999",9,21,7,-1.9336,-2.7E-2,-2.1436999999999999]
[null,"2020-09-02T21:59:59.999",9,22,7,-1.9336,-2.7E-2,-2.1436999999999999]
[null,"2020-09-02T22:59:59.999",9,23,6,-1.9336,-2.7E-2,-2.1436999999999999]
[null,"2020-09-02T23:59:59.999",9,0,6,-1.9336,-2.7E-2,-2.1436999999999999]
[null,"2020-09-03T00:59:59.999",9,1,6,-1.9336,-2.7E-2,-2.1436999999999999]
[null,"2020-09-03T01:59:59.999",9,2,6,-1.9336,-2.7E-2,-2.1436999999999999]
[null,"2020-09-03T02:59:59.999",9,3,6,-1.9336,-2.7E-2,-2.1436999999999999]
[null,"2020-09-03T03:59:59.999",9,4,6,-1.9336,-2.7E-2,-2.1436999999999999]
[null,"2020-09-03T04:59:59.999",9,5,6,-1.9336,-2.7E-2,-2.1436999999999999]
[null,"2020-09-03T05:59:59.999",9,6,6,96.275999999999996,136.44,278.92599999999999]
[null,"2020-09-03T06:59:59.999",9,7,6,516.36900000000003,569.08000000000004,962.64200000000005]
[null,"2020-09-03T07:59:59.999",9,8,6,943.90499999999997,981.82,1343.1479999999999]
[null,"2020-09-03T08:59:59.999",9,9,6,1275.095,1303.0999999999999,1576.4870000000001]
[null,"2020-09-03T09:59:59.999",9,10,6,1474.12,1489.6,1660.2950000000001]
[null,"2020-09-03T10:59:59.999",9,11,6,1551.646,1583.3,1655.924]
[null,"2020-09-03T11:59:59.999",9,12,6,1565.2840000000001,1584.6,1565.068]
[null,"2020-09-03T12:59:59.999",9,13,6,1483.402,1460.3,1329.136]
[null,"2020-09-03T13:59:59.999",9,14,7,1353.36,1318.8,1078.7190000000001]
[null,"2020-09-03T14:59:59.999",9,15,7,1051.029,1008.2,683.83900000000006]
[null,"2020-09-03T15:59:59.999",9,16,8,702.66899999999998,653.49,248.38399999999999]
[null,"2020-09-03T16:59:59.999",9,17,8,242.20400000000001,196.52,84.945999999999998]
[null,"2020-09-03T17:59:59.999",9,18,8,9.5582999999999991,14.714,16.053000000000001]
[null,"2020-09-03T18:59:59.999",9,19,8,-1.9336,-2.7E-2,-2.1436999999999999]
[null,"2020-09-03T19:59:59.999",9,20,8,-1.9336,-2.7E-2,-2.1436999999999999]
[null,"2020-09-03T20:59:59.999",9,21,7,-1.9336,-2.7E-2,-2.1436999999999999]
[null,"2020-09-03T21:59:59.999",9,22,7,-1.9336,-2.7E-2,-2.1436999999999999]
[null,"2020-09-03T22:59:59.999",9,23,6,-1.9336,-2.7E-2,-2.1436999999999999]
[null,"2020-09-03T23:59:59.999",9,0,6,-1.9336,-2.7E-2,-2.1436999999999999]
[null,"2020-09-04T00:59:59.999",9,1,6,-1.9336,-2.7E-2,-2.1436999999999999]
[null,"2020-09-04T01:59:59.999",9,2,6,-1.9336,-2.7E-2,-2.1436999999999999]
[null,"2020-09-04T02:59:59.999",9,3,6,-1.9336,-2.7E-2,-2.1436999999999999]
[null,"2020-09-04T03:59:59.999",9,4,6,-1.9336,-2.7E-2,-2.1436999999999999]
[null,"2020-09-04T04:59:59.999",9,5,6,-1.9336,-2.7E-2,-2.1436999999999999]
[null,"2020-09-04T05:59:59.999",9,6,6,62.197000000000003,70.656999999999996,86.763999999999996]
[null,"2020-09-04T06:59:59.999",9,7,6,452.18299999999999,488.11,755.01]
[null,"2020-09-04T07:59:59.999",9,8,6,898.66200000000003,928.3,1255.6690000000001]
[null,"2020-09-04T08:59:59.999",9,9,6,1241.068,1263.5,1529.3589999999999]
[null,"2020-09-04T09:59:59.999",9,10,6,1453.9,1464.9,1631.3879999999999]
[null,"2020-09-04T10:59:59.999",9,11,6,1531.211,1544.5,1611.135]
[null,"2020-09-04T11:59:59.999",9,12,6,1560.826,1584.1,1558.7170000000001]
[null,"2020-09-04T12:59:59.999",9,13,6,1476.162,1448.6,1316.7829999999999]
[null,"2020-09-04T13:59:59.999",9,14,7,1235.6890000000001,1199.5999999999999,993.34100000000001]
[null,"2020-09-04T14:59:59.999",9,15,7,987.09500000000003,945.12,648.851]
[null,"2020-09-04T15:59:59.999",9,16,8,637.25599999999997,597.91,276.64600000000002]
[null,"2020-09-04T16:59:59.999",9,17,8,173.61699999999999,158.68,108.999]
[null,"2020-09-04T17:59:59.999",9,18,8,3.2404999999999999,-2.7E-2,9.9732000000000003]
[null,"2020-09-04T18:59:59.999",9,19,8,-1.9336,-2.7E-2,-2.1436999999999999]
[null,"2020-09-04T19:59:59.999",9,20,8,-1.9336,-2.7E-2,-2.1436999999999999]
[null,"2020-09-04T20:59:59.999",9,21,7,-1.9336,-2.7E-2,-2.1436999999999999]
[null,"2020-09-04T21:59:59.999",9,22,7,-1.9336,-2.7E-2,-2.1436999999999999]
[null,"2020-09-04T22:59:59.999",9,23,6,-1.9336,-2.7E-2,-2.1436999999999999]
[null,"2020-09-04T23:59:59.999",9,0,{"$f":"INDEX($AE$11:$BB$22,MATCH(C5961,$AD$11:$AD$22,0),MATCH(D5961,$AE$10:$BB$10,0))","v":6},-1.9336,-2.7E-2,-2.1436999999999999]
[null,"2020-09-05T00:59:59.999",{"$f":"MONTH(B5962)","v":9},{"$f":"HOUR(B5962)","v":1},6,-1.9336,-2.7E-2,-2.1436999999999999]
[null,{"$f":"B5962+1/24","v":"2020-09-05T01:59:59.999"},9,2,6,-1.9336,-2.7E-2,-2.1436999999999999]
[null,"2020-09-05T02:59:59.999",9,3,6,-1.9336,-2.7E-2,-2.1436999999999999]
[null,"2020-09-05T03:59:59.999",9,4,6,-1.9336,-2.7E-2,-2.1436999999999999]
[null,"2020-09-05T04:59:59.999",9,5,6,-1.9336,-2.7E-2,-2.1436999999999999]
[null,"2020-09-05T05:59:59.999",9,6,6,84.075000000000003,125.27,285.827]
[null,"2020-09-05T06:59:59.999",9,7,6,508.12099999999998,557.19000000000005,947.13099999999997]
[null,"2020-09-05T07:59:59.999",9,8,6,939.77099999999996,972.98,1331.702]
[null,"2020-09-05T08:59:59.999",9,9,6,1269.808,1295.3,1568.548]
[null,"2020-09-05T09:59:59.999",9,10,6,1500.915,1517.2,1687.7819999999999]
[null,"2020-09-05T10:59:59.999",9,11,6,1571.721,1587.8,1698.194]
[null,"2020-09-05T11:59:59.999",9,12,6,1578.204,1588.1,1593.3040000000001]
[null,"2020-09-05T12:59:59.999",9,13,6,1514.28,1488.4,1347.4369999999999]
[null,"2020-09-05T13:59:59.999",9,14,7,1260.6569999999999,1222.7,1005.497]
[null,"2020-09-05T14:59:59.999",9,15,7,959.827,918.62,644.29999999999995]
[null,"2020-09-05T15:59:59.999",9,16,8,669.57399999999996,619.86,235.06399999999999]
[null,"2020-09-05T16:59:59.999",9,17,8,228.595,177.21,79.135999999999996]
[null,"2020-09-05T17:59:59.999",9,18,8,3.2176999999999998,-2.7E-2,9.9453999999999994]
[null,"2020-09-05T18:59:59.999",9,19,8,-1.9336,-2.7E-2,-2.1436999999999999]
[null,"2020-09-05T19:59:59.999",9,20,8,-1.9336,-2.7E-2,-2.1436999999999999]
[null,"2020-09-05T20:59:59.999",9,21,7,-1.9336,-2.7E-2,-2.1436999999999999]
[null,"2020-09-05T21:59:59.999",9,22,7,-1.9336,-2.7E-2,-2.1436999999999999]
[null,"2020-09-05T22:59:59.999",9,23,6,-1.9336,-2.7E-2,-2.1436999999999999]
[null,"2020-09-05T23:59:59.999",9,0,6,-1.9336,-2.7E-2,-2.1436999999999999]
[null,"2020-09-06T00:59:59.999",9,1,6,-1.9336,-2.7E-2,-2.1436999999999999]
[null,"2020-09-06T01:59:59.999",9,2,6,-1.9336,-2.7E-2,-2.1436999999999999]
[null,"2020-09-06T02:59:59.999",9,3,6,-1.9336,-2.7E-2,-2.1436999999999999]
[null,"2020-09-06T03:59:59.999",9,4,6,-1.9336,-2.7E-2,-2.1436999999999999]
[null,"2020-09-06T04:59:59.999",9,5,6,-1.9336,-2.7E-2,-2.1436999999999999]
[null,"2020-09-06T05:59:59.999",9,6,6,78.012,116.69,274.26499999999999]
[null,"2020-09-06T06:59:59.999",9,7,6,498.01400000000001,544.36,925.30799999999999]
[null,"2020-09-06T07:59:59.999",9,8,6,940.01,971.96,1330.8340000000001]
[null,"2020-09-06T08:59:59.999",9,9,6,1266.982,1290.4000000000001,1561.94]
[null,"2020-09-06T09:59:59.999",9,10,6,1499.7660000000001,1514.8,1684.7339999999999]
[null,"2020-09-06T10:59:59.999",9,11,6,1570.883,1587.4,1693.662]
[null,"2020-09-06T11:59:59.999",9,12,6,1570.4059999999999,1586,1572.6189999999999]
[null,"2020-09-06T12:59:59.999",9,13,6,1523.787,1511,1362.9079999999999]
[null,"2020-09-06T13:59:59.999",9,14,7,1331.088,1295.0999999999999,1050.5329999999999]
[null,"2020-09-06T14:59:59.999",9,15,7,1052.2270000000001,1004.7,660.84400000000005]
[null,"2020-09-06T15:59:59.999",9,16,8,674.98800000000006,621.91,220.256]
[null,"2020-09-06T16:59:59.999",9,17,8,212.83799999999999,168.73,89.058000000000007]
[null,"2020-09-06T17:59:59.999",9,18,8,0.12165999999999999,-2.7E-2,6.8866000000000005]
[null,"2020-09-06T18:59:59.999",9,19,8,-1.9336,-2.7E-2,-2.1436999999999999]
[null,"2020-09-06T19:59:59.999",9,20,8,-1.9336,-2.7E-2,-2.1436999999999999]
[null,"2020-09-06T20:59:59.999",9,21,7,-1.9336,-2.7E-2,-2.1436999999999999]
[null,"2020-09-06T21:59:59.999",9,22,7,-1.9336,-2.7E-2,-2.1436999999999999]
[null,"2020-09-06T22:59:59.999",9,23,6,-1.9336,-2.7E-2,-2.1436999999999999]
[null,"2020-09-06T23:59:59.999",9,0,6,-1.9336,-2.7E-2,-2.1436999999999999]
[null,"2020-09-07T00:59:59.999",9,1,6,-1.9336,-2.7E-2,-2.1436999999999999]
[null,"2020-09-07T01:59:59.999",9,2,6,-1.9336,-2.7E-2,-2.1436999999999999]
[null,"2020-09-07T02:59:59.999",9,3,6,-1.9336,-2.7E-2,-2.1436999999999999]
[null,"2020-09-07T03:59:59.999",9,4,6,-1.9336,-2.7E-2,-2.1436999999999999]
[null,"2020-09-07T04:59:59.999",9,5,6,-1.9336,-2.7E-2,-2.1436999999999999]
[null,"2020-09-07T05:59:59.999",9,6,6,79.356999999999999,110.15,241.78800000000001]
[null,"2020-09-07T06:59:59.999",9,7,6,479.15800000000002,519.01,859.39499999999998]
[null,"2020-09-07T07:59:59.999",9,8,6,844.80600000000004,867.33,1167.4839999999999]
[null,"2020-09-07T08:59:59.999",9,9,6,1187.989,1201.3,1450.2750000000001]
[null,"2020-09-07T09:59:59.999",9,10,6,1387.136,1389.2,1547.02]
[null,"2020-09-07T10:59:59.999",9,11,6,1508.8489999999999,1497.1,1561.893]
[null,"2020-09-07T11:59:59.999",9,12,6,1520.3489999999999,1503.1,1470.595]
[null,"2020-09-07T12:59:59.999",9,13,6,1519.152,1495.6,1350.51]
[null,"2020-09-07T13:59:59.999",9,14,7,1338.4280000000001,1300.5,1051.8399999999999]
[null,"2020-09-07T14:59:59.999",9,15,7,1046.76,999.39,659.02]
[null,"2020-09-07T15:59:59.999",9,16,{"$f":"INDEX($AE$11:$BB$22,MATCH(C6025,$AD$11:$AD$22,0),MATCH(D6025,$AE$10:$BB$10,0))","v":8},669.32500000000005,614.66,211.45699999999999]
[null,"2020-09-07T16:59:59.999",{"$f":"MONTH(B6026)","v":9},{"$f":"HOUR(B6026)","v":17},8,211.512,162.76,85.085999999999999]
[null,{"$f":"B6026+1/24","v":"2020-09-07T17:59:59.999"},9,18,8,0.10138,-2.7E-2,6.8639999999999999]
[null,"2020-09-07T18:59:59.999",9,19,8,-1.9336,-2.7E-2,-2.1436999999999999]
[null,"2020-09-07T19:59:59.999",9,20,8,-1.9336,-2.7E-2,-2.1436999999999999]
[null,"2020-09-07T20:59:59.999",9,21,7,-1.9336,-2.7E-2,-2.1436999999999999]
[null,"2020-09-07T21:59:59.999",9,22,7,-1.9336,-2.7E-2,-2.1436999999999999]
[null,"2020-09-07T22:59:59.999",9,23,6,-1.9336,-2.7E-2,-2.1436999999999999]
[null,"2020-09-07T23:59:59.999",9,0,6,-1.9336,-2.7E-2,-2.1436999999999999]
[null,"2020-09-08T00:59:59.999",9,1,6,-1.9336,-2.7E-2,-2.1436999999999999]
[null,"2020-09-08T01:59:59.999",9,2,6,-1.9336,-2.7E-2,-2.1436999999999999]
[null,"2020-09-08T02:59:59.999",9,3,6,-1.9336,-2.7E-2,-2.1436999999999999]
[null,"2020-09-08T03:59:59.999",9,4,6,-1.9336,-2.7E-2,-2.1436999999999999]
[null,"2020-09-08T04:59:59.999",9,5,6,-1.9336,-2.7E-2,-2.1436999999999999]
[null,"2020-09-08T05:59:59.999",9,6,6,80.156999999999996,111.43,250.31899999999999]
[null,"2020-09-08T06:59:59.999",9,7,6,498.97800000000001,540.22,904.529]
[null,"2020-09-08T07:59:59.999",9,8,6,902.01700000000005,926.66,1260.607]
[null,"2020-09-08T08:59:59.999",9,9,6,1197.4649999999999,1210.8,1465.627]
[null,"2020-09-08T09:59:59.999",9,10,6,1404.8889999999999,1406,1565.4380000000001]
[null,"2020-09-08T10:59:59.999",9,11,6,1531.826,1539.9,1603.7940000000001]
[null,"2020-09-08T11:59:59.999",9,12,6,1560.0809999999999,1584.1,1543.0419999999999]
[null,"2020-09-08T12:59:59.999",9,13,6,1520.26,1500.4,1351.799]
[null,"2020-09-08T13:59:59.999",9,14,7,1328.444,1288.7,1043.2909999999999]
[null,"2020-09-08T14:59:59.999",9,15,7,1032.098,981.79,646.39800000000002]
[null,"2020-09-08T15:59:59.999",9,16,8,641.26900000000001,590.21,228.14400000000001]
[null,"2020-09-08T16:59:59.999",9,17,8,192.02699999999999,155.33000000000001,96.069000000000003]
[null,"2020-09-08T17:59:59.999",9,18,8,4.5920000000000002E-2,-2.7E-2,6.7861000000000002]
[null,"2020-09-08T18:59:59.999",9,19,8,-1.9336,-2.7E-2,-2.1436999999999999]
[null,"2020-09-08T19:59:59.999",9,20,8,-1.9336,-2.7E-2,-2.1436999999999999]
[null,"2020-09-08T20:59:59.999",9,21,7,-1.9336,-2.7E-2,-2.1436999999999999]
[null,"2020-09-08T21:59:59.999",9,22,7,-1.9336,-2.7E-2,-2.1436999999999999]
[null,"2020-09-08T22:59:59.999",9,23,6,-1.9336,-2.7E-2,-2.1436999999999999]
[null,"2020-09-08T23:59:59.999",9,0,6,-1.9336,-2.7E-2,-2.1436999999999999]
[null,"2020-09-09T00:59:59.999",9,1,6,-1.9336,-2.7E-2,-2.1436999999999999]
[null,"2020-09-09T01:59:59.999",9,2,6,-1.9336,-2.7E-2,-2.1436999999999999]
[null,"2020-09-09T02:59:59.999",9,3,6,-1.9336,-2.7E-2,-2.1436999999999999]
[null,"2020-09-09T03:59:59.999",9,4,6,-1.9336,-2.7E-2,-2.1436999999999999]
[null,"2020-09-09T04:59:59.999",9,5,6,-1.9336,-2.7E-2,-2.1436999999999999]
[null,"2020-09-09T05:59:59.999",9,6,6,78.918999999999997,101.89,200.23099999999999]
[null,"2020-09-09T06:59:59.999",9,7,6,498.55500000000001,537.91,895.51599999999996]
[null,"2020-09-09T07:59:59.999",9,8,6,941.33299999999997,967.64,1322.874]
[null,"2020-09-09T08:59:59.999",9,9,6,1266.6859999999999,1285.2,1555.87]
[null,"2020-09-09T09:59:59.999",9,10,6,1491.1279999999999,1500.6,1667.58]
[null,"2020-09-09T10:59:59.999",9,11,6,1564.0820000000001,1585.3,1669.7329999999999]
[null,"2020-09-09T11:59:59.999",9,12,6,1558.9290000000001,1585.3,1540.5239999999999]
[null,"2020-09-09T12:59:59.999",9,13,6,1507.6089999999999,1480.2,1330.8119999999999]
[null,"2020-09-09T13:59:59.999",9,14,7,1289.3009999999999,1246,1005.5940000000001]
[null,"2020-09-09T14:59:59.999",9,15,7,979.28200000000004,929.64,620.99900000000002]
[null,"2020-09-09T15:59:59.999",9,16,8,546.048,505.66,218.26400000000001]
[null,"2020-09-09T16:59:59.999",9,17,8,162.32499999999999,132.11000000000001,87.231999999999999]
[null,"2020-09-09T17:59:59.999",9,18,8,-1.9336,-2.7E-2,-2.1436999999999999]
[null,"2020-09-09T18:59:59.999",9,19,8,-1.9336,-2.7E-2,-2.1436999999999999]
[null,"2020-09-09T19:59:59.999",9,20,8,-1.9336,-2.7E-2,-2.1436999999999999]
[null,"2020-09-09T20:59:59.999",9,21,7,-1.9336,-2.7E-2,-2.1436999999999999]
[null,"2020-09-09T21:59:59.999",9,22,7,-1.9336,-2.7E-2,-2.1436999999999999]
[null,"2020-09-09T22:59:59.999",9,23,6,-1.9336,-2.7E-2,-2.1436999999999999]
[null,"2020-09-09T23:59:59.999",9,0,6,-1.9336,-2.7E-2,-2.1436999999999999]
[null,"2020-09-10T00:59:59.999",9,1,6,-1.9336,-2.7E-2,-2.1436999999999999]
[null,"2020-09-10T01:59:59.999",9,2,6,-1.9336,-2.7E-2,-2.1436999999999999]
[null,"2020-09-10T02:59:59.999",9,3,6,-1.9336,-2.7E-2,-2.1436999999999999]
[null,"2020-09-10T03:59:59.999",9,4,6,-1.9336,-2.7E-2,-2.1436999999999999]
[null,"2020-09-10T04:59:59.999",9,5,6,-1.9336,-2.7E-2,-2.1436999999999999]
[null,"2020-09-10T05:59:59.999",9,6,6,77.701999999999998,107.6,249.06700000000001]
[null,"2020-09-10T06:59:59.999",9,7,6,501.40899999999999,541.95000000000005,923.65300000000002]
[null,"2020-09-10T07:59:59.999",9,8,{"$f":"INDEX($AE$11:$BB$22,MATCH(C6089,$AD$11:$AD$22,0),MATCH(D6089,$AE$10:$BB$10,0))","v":6},934.13300000000004,958.55,1312.018]
[null,"2020-09-10T08:59:59.999",{"$f":"MONTH(B6090)","v":9},{"$f":"HOUR(B6090)","v":9},6,1257.856,1273,1540.489]
[null,{"$f":"B6090+1/24","v":"2020-09-10T09:59:59.999"},9,10,6,1484.0909999999999,1491.3,1656.3489999999999]
[null,"2020-09-10T10:59:59.999",9,11,6,1536.7829999999999,1547.2,1608.7180000000001]
[null,"2020-09-10T11:59:59.999",9,12,6,1519.7819999999999,1498.8,1460.9939999999999]
[null,"2020-09-10T12:59:59.999",9,13,6,1339.21,1304.0999999999999,1183.079]
[null,"2020-09-10T13:59:59.999",9,14,7,1194.672,1150.8,942.63199999999995]
[null,"2020-09-10T14:59:59.999",9,15,7,829.67600000000004,791.34,572.04700000000003]
[null,"2020-09-10T15:59:59.999",9,16,8,310.13299999999998,307.27,231.05699999999999]
[null,"2020-09-10T16:59:59.999",9,17,8,92.831999999999994,91.385999999999996,81.206999999999994]
[null,"2020-09-10T17:59:59.999",9,18,8,-1.9336,-2.7E-2,-2.1436999999999999]
[null,"2020-09-10T18:59:59.999",9,19,8,-1.9336,-2.7E-2,-2.1436999999999999]
[null,"2020-09-10T19:59:59.999",9,20,8,-1.9336,-2.7E-2,-2.1436999999999999]
[null,"2020-09-10T20:59:59.999",9,21,7,-1.9336,-2.7E-2,-2.1436999999999999]
[null,"2020-09-10T21:59:59.999",9,22,7,-1.9336,-2.7E-2,-2.1436999999999999]
[null,"2020-09-10T22:59:59.999",9,23,6,-1.9336,-2.7E-2,-2.1436999999999999]
[null,"2020-09-10T23:59:59.999",9,0,6,-1.9336,-2.7E-2,-2.1436999999999999]
[null,"2020-09-11T00:59:59.999",9,1,6,-1.9336,-2.7E-2,-2.1436999999999999]
[null,"2020-09-11T01:59:59.999",9,2,6,-1.9336,-2.7E-2,-2.1436999999999999]
[null,"2020-09-11T02:59:59.999",9,3,6,-1.9336,-2.7E-2,-2.1436999999999999]
[null,"2020-09-11T03:59:59.999",9,4,6,-1.9336,-2.7E-2,-2.1436999999999999]
[null,"2020-09-11T04:59:59.999",9,5,6,-1.9336,-2.7E-2,-2.1436999999999999]
[null,"2020-09-11T05:59:59.999",9,6,6,10.054,14.944000000000001,13.557]
[null,"2020-09-11T06:59:59.999",9,7,6,70.119,75.326999999999998,74.346999999999994]
[null,"2020-09-11T07:59:59.999",9,8,6,133.17400000000001,143.16999999999999,143.16900000000001]
[null,"2020-09-11T08:59:59.999",9,9,6,161.952,173.69,174.32499999999999]
[null,"2020-09-11T09:59:59.999",9,10,6,513.36,517.61,560.63800000000003]
[null,"2020-09-11T10:59:59.999",9,11,6,1525.991,1520.1,1583.721]
[null,"2020-09-11T11:59:59.999",9,12,6,1572.548,1585.6,1566.787]
[null,"2020-09-11T12:59:59.999",9,13,6,1526.7370000000001,1508.1,1354.6079999999999]
[null,"2020-09-11T13:59:59.999",9,14,7,1306.3389999999999,1256.3,1013.986]
[null,"2020-09-11T14:59:59.999",9,15,7,1018.6660000000001,962.96,634.16600000000005]
[null,"2020-09-11T15:59:59.999",9,16,8,612.24800000000005,559.79999999999995,214.87]
[null,"2020-09-11T16:59:59.999",9,17,8,166.92,128.76,84.111999999999995]
[null,"2020-09-11T17:59:59.999",9,18,8,-1.9336,-2.7E-2,-2.1436999999999999]
[null,"2020-09-11T18:59:59.999",9,19,8,-1.9336,-2.7E-2,-2.1436999999999999]
[null,"2020-09-11T19:59:59.999",9,20,8,-1.9336,-2.7E-2,-2.1436999999999999]
[null,"2020-09-11T20:59:59.999",9,21,7,-1.9336,-2.7E-2,-2.1436999999999999]
[null,"2020-09-11T21:59:59.999",9,22,7,-1.9336,-2.7E-2,-2.1436999999999999]
[null,"2020-09-11T22:59:59.999",9,23,6,-1.9336,-2.7E-2,-2.1436999999999999]
[null,"2020-09-11T23:59:59.999",9,0,6,-1.9336,-2.7E-2,-2.1436999999999999]
[null,"2020-09-12T00:59:59.999",9,1,6,-1.9336,-2.7E-2,-2.1436999999999999]
[null,"2020-09-12T01:59:59.999",9,2,6,-1.9336,-2.7E-2,-2.1436999999999999]
[null,"2020-09-12T02:59:59.999",9,3,6,-1.9336,-2.7E-2,-2.1436999999999999]
[null,"2020-09-12T03:59:59.999",9,4,6,-1.9336,-2.7E-2,-2.1436999999999999]
[null,"2020-09-12T04:59:59.999",9,5,6,-1.9336,-2.7E-2,-2.1436999999999999]
[null,"2020-09-12T05:59:59.999",9,6,6,32.125,37.911000000000001,43.116]
[null,"2020-09-12T06:59:59.999",9,7,6,410.09100000000001,435.07,620.048]
[null,"2020-09-12T07:59:59.999",9,8,6,749.94799999999998,763.21,998.91300000000001]
[null,"2020-09-12T08:59:59.999",9,9,6,977.06799999999998,982.61,1156.2470000000001]
[null,"2020-09-12T09:59:59.999",9,10,6,974.24199999999996,969.09,1062.971]
[null,"2020-09-12T10:59:59.999",9,11,6,1190.4749999999999,1176.9000000000001,1225.3979999999999]
[null,"2020-09-12T11:59:59.999",9,12,6,1083.4459999999999,1062.3,1051.1020000000001]
[null,"2020-09-12T12:59:59.999",9,13,6,552.13099999999997,546.25,522.88099999999997]
[null,"2020-09-12T13:59:59.999",9,14,7,674.78700000000003,661.95,598.00099999999998]
[null,"2020-09-12T14:59:59.999",9,15,7,279.697,283.94,254.44800000000001]
[null,"2020-09-12T15:59:59.999",9,16,8,91.293000000000006,97.358999999999995,97.861000000000004]
[null,"2020-09-12T16:59:59.999",9,17,8,64.13,57.228999999999999,49.470999999999997]
[null,"2020-09-12T17:59:59.999",9,18,8,-1.9336,-2.7E-2,-2.1436999999999999]
[null,"2020-09-12T18:59:59.999",9,19,8,-1.9336,-2.7E-2,-2.1436999999999999]
[null,"2020-09-12T19:59:59.999",9,20,8,-1.9336,-2.7E-2,-2.1436999999999999]
[null,"2020-09-12T20:59:59.999",9,21,7,-1.9336,-2.7E-2,-2.1436999999999999]
[null,"2020-09-12T21:59:59.999",9,22,7,-1.9336,-2.7E-2,-2.1436999999999999]
[null,"2020-09-12T22:59:59.999",9,23,6,-1.9336,-2.7E-2,-2.1436999999999999]
[null,"2020-09-12T23:59:59.999",9,0,{"$f":"INDEX($AE$11:$BB$22,MATCH(C6153,$AD$11:$AD$22,0),MATCH(D6153,$AE$10:$BB$10,0))","v":6},-1.9336,-2.7E-2,-2.1436999999999999]
[null,"2020-09-13T00:59:59.999",{"$f":"MONTH(B6154)","v":9},{"$f":"HOUR(B6154)","v":1},6,-1.9336,-2.7E-2,-2.1436999999999999]
[null,{"$f":"B6154+1/24","v":"2020-09-13T01:59:59.999"},9,2,6,-1.9336,-2.7E-2,-2.1436999999999999]
[null,"2020-09-13T02:59:59.999",9,3,6,-1.9336,-2.7E-2,-2.1436999999999999]
[null,"2020-09-13T03:59:59.999",9,4,6,-1.9336,-2.7E-2,-2.1436999999999999]
[null,"2020-09-13T04:59:59.999",9,5,6,-1.9336,-2.7E-2,-2.1436999999999999]
[null,"2020-09-13T05:59:59.999",9,6,6,36.600999999999999,42.404000000000003,46.094000000000001]
[null,"2020-09-13T06:59:59.999",9,7,6,328.41800000000001,349.74,455.09399999999999]
[null,"2020-09-13T07:59:59.999",9,8,6,607.27099999999996,618.33000000000004,779.63199999999995]
[null,"2020-09-13T08:59:59.999",9,9,6,1122.3030000000001,1125.8,1348.9390000000001]
[null,"2020-09-13T09:59:59.999",9,10,6,1476.5909999999999,1474.7,1639.4559999999999]
[null,"2020-09-13T10:59:59.999",9,11,6,1553.318,1575,1636.367]
[null,"2020-09-13T11:59:59.999",9,12,6,1551.808,1559.7,1515.6010000000001]
[null,"2020-09-13T12:59:59.999",9,13,6,1509.2270000000001,1473.5,1322.229]
[null,"2020-09-13T13:59:59.999",9,14,7,1333.7860000000001,1283.8,1026.855]
[null,"2020-09-13T14:59:59.999",9,15,7,1040.3489999999999,979.33,619.63400000000001]
[null,"2020-09-13T15:59:59.999",9,16,8,627.952,566.38,178.12899999999999]
[null,"2020-09-13T16:59:59.999",9,17,8,166.20400000000001,118.84,75.944000000000003]
[null,"2020-09-13T17:59:59.999",9,18,8,-1.9336,-2.7E-2,-2.1436999999999999]
[null,"2020-09-13T18:59:59.999",9,19,8,-1.9336,-2.7E-2,-2.1436999999999999]
[null,"2020-09-13T19:59:59.999",9,20,8,-1.9336,-2.7E-2,-2.1436999999999999]
[null,"2020-09-13T20:59:59.999",9,21,7,-1.9336,-2.7E-2,-2.1436999999999999]
[null,"2020-09-13T21:59:59.999",9,22,7,-1.9336,-2.7E-2,-2.1436999999999999]
[null,"2020-09-13T22:59:59.999",9,23,6,-1.9336,-2.7E-2,-2.1436999999999999]
[null,"2020-09-13T23:59:59.999",9,0,6,-1.9336,-2.7E-2,-2.1436999999999999]
[null,"2020-09-14T00:59:59.999",9,1,6,-1.9336,-2.7E-2,-2.1436999999999999]
[null,"2020-09-14T01:59:59.999",9,2,6,-1.9336,-2.7E-2,-2.1436999999999999]
[null,"2020-09-14T02:59:59.999",9,3,6,-1.9336,-2.7E-2,-2.1436999999999999]
[null,"2020-09-14T03:59:59.999",9,4,6,-1.9336,-2.7E-2,-2.1436999999999999]
[null,"2020-09-14T04:59:59.999",9,5,6,-1.9336,-2.7E-2,-2.1436999999999999]
[null,"2020-09-14T05:59:59.999",9,6,6,73.694000000000003,98.111999999999995,229.19900000000001]
[null,"2020-09-14T06:59:59.999",9,7,6,475.30200000000002,511.7,700.87400000000002]
[null,"2020-09-14T07:59:59.999",9,8,6,915.99900000000002,932.1,1270.9079999999999]
[null,"2020-09-14T08:59:59.999",9,9,6,1209.3630000000001,1212.7,1468.556]
[null,"2020-09-14T09:59:59.999",9,10,6,1400.82,1393.2,1549.1130000000001]
[null,"2020-09-14T10:59:59.999",9,11,6,1501.09,1479.3,1538.6869999999999]
[null,"2020-09-14T11:59:59.999",9,12,6,1467.5940000000001,1434.7,1399.0060000000001]
[null,"2020-09-14T12:59:59.999",9,13,6,1471.0640000000001,1430.2,1285.704]
[null,"2020-09-14T13:59:59.999",9,14,7,1312.568,1258.5,1002.967]
[null,"2020-09-14T14:59:59.999",9,15,7,1009.828,948.62,601.71600000000001]
[null,"2020-09-14T15:59:59.999",9,16,8,614.78700000000003,553.27,176.63200000000001]
[null,"2020-09-14T16:59:59.999",9,17,8,162.642,115.79,76.162999999999997]
[null,"2020-09-14T17:59:59.999",9,18,8,-1.9336,-2.7E-2,-2.1436999999999999]
[null,"2020-09-14T18:59:59.999",9,19,8,-1.9336,-2.7E-2,-2.1436999999999999]
[null,"2020-09-14T19:59:59.999",9,20,8,-1.9336,-2.7E-2,-2.1436999999999999]
[null,"2020-09-14T20:59:59.999",9,21,7,-1.9336,-2.7E-2,-2.1436999999999999]
[null,"2020-09-14T21:59:59.999",9,22,7,-1.9336,-2.7E-2,-2.1436999999999999]
[null,"2020-09-14T22:59:59.999",9,23,6,-1.9336,-2.7E-2,-2.1436999999999999]
[null,"2020-09-14T23:59:59.999",9,0,6,-1.9336,-2.7E-2,-2.1436999999999999]
[null,"2020-09-15T00:59:59.999",9,1,6,-1.9336,-2.7E-2,-2.1436999999999999]
[null,"2020-09-15T01:59:59.999",9,2,6,-1.9336,-2.7E-2,-2.1436999999999999]
[null,"2020-09-15T02:59:59.999",9,3,6,-1.9336,-2.7E-2,-2.1436999999999999]
[null,"2020-09-15T03:59:59.999",9,4,6,-1.9336,-2.7E-2,-2.1436999999999999]
[null,"2020-09-15T04:59:59.999",9,5,6,-1.9336,-2.7E-2,-2.1436999999999999]
[null,"2020-09-15T05:59:59.999",9,6,6,73.760999999999996,97.709000000000003,231.14099999999999]
[null,"2020-09-15T06:59:59.999",9,7,6,489.572,529.13,673.78499999999997]
[null,"2020-09-15T07:59:59.999",9,8,6,907.23199999999997,921.49,1258.3599999999999]
[null,"2020-09-15T08:59:59.999",9,9,6,1264.9090000000001,1268.9000000000001,1537.9659999999999]
[null,"2020-09-15T09:59:59.999",9,10,6,1475.2349999999999,1473.7,1634.9090000000001]
[null,"2020-09-15T10:59:59.999",9,11,6,1529.5139999999999,1524.7,1583.1310000000001]
[null,"2020-09-15T11:59:59.999",9,12,6,1527.6110000000001,1508.2,1465.0229999999999]
[null,"2020-09-15T12:59:59.999",9,13,6,1447.145,1405.3,1260.539]
[null,"2020-09-15T13:59:59.999",9,14,7,1305.3050000000001,1252.3,1000.146]
[null,"2020-09-15T14:59:59.999",9,15,7,1004.741,941.73,589.58699999999999]
[null,"2020-09-15T15:59:59.999",9,16,{"$f":"INDEX($AE$11:$BB$22,MATCH(C6217,$AD$11:$AD$22,0),MATCH(D6217,$AE$10:$BB$10,0))","v":8},603.85500000000002,539.98,155.58099999999999]
[null,"2020-09-15T16:59:59.999",{"$f":"MONTH(B6218)","v":9},{"$f":"HOUR(B6218)","v":17},8,154.68299999999999,105.1,68.897000000000006]
[null,{"$f":"B6218+1/24","v":"2020-09-15T17:59:59.999"},9,18,8,-1.9336,-2.7E-2,-2.1436999999999999]
[null,"2020-09-15T18:59:59.999",9,19,8,-1.9336,-2.7E-2,-2.1436999999999999]
[null,"2020-09-15T19:59:59.999",9,20,8,-1.9336,-2.7E-2,-2.1436999999999999]
[null,"2020-09-15T20:59:59.999",9,21,7,-1.9336,-2.7E-2,-2.1436999999999999]
[null,"2020-09-15T21:59:59.999",9,22,7,-1.9336,-2.7E-2,-2.1436999999999999]
[null,"2020-09-15T22:59:59.999",9,23,6,-1.9336,-2.7E-2,-2.1436999999999999]
[null,"2020-09-15T23:59:59.999",9,0,6,-1.9336,-2.7E-2,-2.1436999999999999]
[null,"2020-09-16T00:59:59.999",9,1,6,-1.9336,-2.7E-2,-2.1436999999999999]
[null,"2020-09-16T01:59:59.999",9,2,6,-1.9336,-2.7E-2,-2.1436999999999999]
[null,"2020-09-16T02:59:59.999",9,3,6,-1.9336,-2.7E-2,-2.1436999999999999]
[null,"2020-09-16T03:59:59.999",9,4,6,-1.9336,-2.7E-2,-2.1436999999999999]
[null,"2020-09-16T04:59:59.999",9,5,6,-1.9336,-2.7E-2,-2.1436999999999999]
[null,"2020-09-16T05:59:59.999",9,6,6,71.957999999999998,94.614000000000004,225.31200000000001]
[null,"2020-09-16T06:59:59.999",9,7,6,476.55799999999999,514.01,602.78899999999999]
[null,"2020-09-16T07:59:59.999",9,8,6,910.721,923.56,1260.6969999999999]
[null,"2020-09-16T08:59:59.999",9,9,6,1218.6179999999999,1218.5999999999999,1474.049]
[null,"2020-09-16T09:59:59.999",9,10,6,1482.364,1479,1640.3810000000001]
[null,"2020-09-16T10:59:59.999",9,11,6,1563.7739999999999,1584.1,1652.6669999999999]
[null,"2020-09-16T11:59:59.999",9,12,6,1562.5409999999999,1578.8,1527.7650000000001]
[null,"2020-09-16T12:59:59.999",9,13,6,1503.837,1463.7,1304.4970000000001]
[null,"2020-09-16T13:59:59.999",9,14,7,1289.7439999999999,1235.2,981.58600000000001]
[null,"2020-09-16T14:59:59.999",9,15,7,982.75300000000004,918.98,579.13400000000001]
[null,"2020-09-16T15:59:59.999",9,16,8,540.83399999999995,489.35,181.95500000000001]
[null,"2020-09-16T16:59:59.999",9,17,8,105.99,82.849000000000004,64.674000000000007]
[null,"2020-09-16T17:59:59.999",9,18,8,-1.9336,-2.7E-2,-2.1436999999999999]
[null,"2020-09-16T18:59:59.999",9,19,8,-1.9336,-2.7E-2,-2.1436999999999999]
[null,"2020-09-16T19:59:59.999",9,20,8,-1.9336,-2.7E-2,-2.1436999999999999]
[null,"2020-09-16T20:59:59.999",9,21,7,-1.9336,-2.7E-2,-2.1436999999999999]
[null,"2020-09-16T21:59:59.999",9,22,7,-1.9336,-2.7E-2,-2.1436999999999999]
[null,"2020-09-16T22:59:59.999",9,23,6,-1.9336,-2.7E-2,-2.1436999999999999]
[null,"2020-09-16T23:59:59.999",9,0,6,-1.9336,-2.7E-2,-2.1436999999999999]
[null,"2020-09-17T00:59:59.999",9,1,6,-1.9336,-2.7E-2,-2.1436999999999999]
[null,"2020-09-17T01:59:59.999",9,2,6,-1.9336,-2.7E-2,-2.1436999999999999]
[null,"2020-09-17T02:59:59.999",9,3,6,-1.9336,-2.7E-2,-2.1436999999999999]
[null,"2020-09-17T03:59:59.999",9,4,6,-1.9336,-2.7E-2,-2.1436999999999999]
[null,"2020-09-17T04:59:59.999",9,5,6,-1.9336,-2.7E-2,-2.1436999999999999]
[null,"2020-09-17T05:59:59.999",9,6,6,69.186000000000007,89.036000000000001,207.35900000000001]
[null,"2020-09-17T06:59:59.999",9,7,6,464.50400000000002,499.78,560.91999999999996]
[null,"2020-09-17T07:59:59.999",9,8,6,896.53,906.31,1236.385]
[null,"2020-09-17T08:59:59.999",9,9,6,1182.75,1180.5,1426.951]
[null,"2020-09-17T09:59:59.999",9,10,6,1346.5129999999999,1333.2,1479.4159999999999]
[null,"2020-09-17T10:59:59.999",9,11,6,1490.114,1464.7,1520.2449999999999]
[null,"2020-09-17T11:59:59.999",9,12,6,1515.539,1482.4,1435.5160000000001]
[null,"2020-09-17T12:59:59.999",9,13,6,1422.038,1377.5,1228.69]
[null,"2020-09-17T13:59:59.999",9,14,7,1233.998,1177.3,935.82899999999995]
[null,"2020-09-17T14:59:59.999",9,15,7,953.73500000000001,890.2,556.68499999999995]
[null,"2020-09-17T15:59:59.999",9,16,8,574.99800000000005,511.06,149.72]
[null,"2020-09-17T16:59:59.999",9,17,8,136.99799999999999,90.748000000000005,62.694000000000003]
[null,"2020-09-17T17:59:59.999",9,18,8,-1.9336,-2.7E-2,-2.1436999999999999]
[null,"2020-09-17T18:59:59.999",9,19,8,-1.9336,-2.7E-2,-2.1436999999999999]
[null,"2020-09-17T19:59:59.999",9,20,8,-1.9336,-2.7E-2,-2.1436999999999999]
[null,"2020-09-17T20:59:59.999",9,21,7,-1.9336,-2.7E-2,-2.1436999999999999]
[null,"2020-09-17T21:59:59.999",9,22,7,-1.9336,-2.7E-2,-2.1436999999999999]
[null,"2020-09-17T22:59:59.999",9,23,6,-1.9336,-2.7E-2,-2.1436999999999999]
[null,"2020-09-17T23:59:59.999",9,0,6,-1.9336,-2.7E-2,-2.1436999999999999]
[null,"2020-09-18T00:59:59.999",9,1,6,-1.9336,-2.7E-2,-2.1436999999999999]
[null,"2020-09-18T01:59:59.999",9,2,6,-1.9336,-2.7E-2,-2.1436999999999999]
[null,"2020-09-18T02:59:59.999",9,3,6,-1.9336,-2.7E-2,-2.1436999999999999]
[null,"2020-09-18T03:59:59.999",9,4,6,-1.9336,-2.7E-2,-2.1436999999999999]
[null,"2020-09-18T04:59:59.999",9,5,6,-1.9336,-2.7E-2,-2.1436999999999999]
[null,"2020-09-18T05:59:59.999",9,6,6,61.393000000000001,70.331000000000003,112.749]
[null,"2020-09-18T06:59:59.999",9,7,6,417.00799999999998,450.89,522.27300000000002]
[null,"2020-09-18T07:59:59.999",9,8,{"$f":"INDEX($AE$11:$BB$22,MATCH(C6281,$AD$11:$AD$22,0),MATCH(D6281,$AE$10:$BB$10,0))","v":6},841.25,848.84,1129.8620000000001]
[null,"2020-09-18T08:59:59.999",{"$f":"MONTH(B6282)","v":9},{"$f":"HOUR(B6282)","v":9},6,1121.143,1117.5,1337.2349999999999]
[null,{"$f":"B6282+1/24","v":"2020-09-18T09:59:59.999"},9,10,6,1472.4770000000001,1461.5,1622.549]
[null,"2020-09-18T10:59:59.999",9,11,6,1549.221,1561.8,1616.7729999999999]
[null,"2020-09-18T11:59:59.999",9,12,6,1537.309,1522.3,1474.5450000000001]
[null,"2020-09-18T12:59:59.999",9,13,6,1458.837,1411.6,1259.9770000000001]
[null,"2020-09-18T13:59:59.999",9,14,7,1293.5219999999999,1235.3,979.94899999999996]
[null,"2020-09-18T14:59:59.999",9,15,7,995.70299999999997,927.6,574.87199999999996]
[null,"2020-09-18T15:59:59.999",9,16,8,576.95000000000005,510.65,141.67500000000001]
[null,"2020-09-18T16:59:59.999",9,17,8,140.023,89.171000000000006,61.45]
[null,"2020-09-18T17:59:59.999",9,18,8,-1.9336,-2.7E-2,-2.1436999999999999]
[null,"2020-09-18T18:59:59.999",9,19,8,-1.9336,-2.7E-2,-2.1436999999999999]
[null,"2020-09-18T19:59:59.999",9,20,8,-1.9336,-2.7E-2,-2.1436999999999999]
[null,"2020-09-18T20:59:59.999",9,21,7,-1.9336,-2.7E-2,-2.1436999999999999]
[null,"2020-09-18T21:59:59.999",9,22,7,-1.9336,-2.7E-2,-2.1436999999999999]
[null,"2020-09-18T22:59:59.999",9,23,6,-1.9336,-2.7E-2,-2.1436999999999999]
[null,"2020-09-18T23:59:59.999",9,0,6,-1.9336,-2.7E-2,-2.1436999999999999]
[null,"2020-09-19T00:59:59.999",9,1,6,-1.9336,-2.7E-2,-2.1436999999999999]
[null,"2020-09-19T01:59:59.999",9,2,6,-1.9336,-2.7E-2,-2.1436999999999999]
[null,"2020-09-19T02:59:59.999",9,3,6,-1.9336,-2.7E-2,-2.1436999999999999]
[null,"2020-09-19T03:59:59.999",9,4,6,-1.9336,-2.7E-2,-2.1436999999999999]
[null,"2020-09-19T04:59:59.999",9,5,6,-1.9336,-2.7E-2,-2.1436999999999999]
[null,"2020-09-19T05:59:59.999",9,6,6,69.912999999999997,87.697000000000003,201.06800000000001]
[null,"2020-09-19T06:59:59.999",9,7,6,465.71899999999999,516.86,580.79100000000005]
[null,"2020-09-19T07:59:59.999",9,8,6,926.51300000000003,934.36,1282.624]
[null,"2020-09-19T08:59:59.999",9,9,6,1257.509,1257.3,1521.6759999999999]
[null,"2020-09-19T09:59:59.999",9,10,6,1485.14,1477.3,1638.5540000000001]
[null,"2020-09-19T10:59:59.999",9,11,6,1559.509,1580.4,1634.5740000000001]
[null,"2020-09-19T11:59:59.999",9,12,6,1552.096,1553.9,1500.2080000000001]
[null,"2020-09-19T12:59:59.999",9,13,6,1480.3489999999999,1435.1,1274.809]
[null,"2020-09-19T13:59:59.999",9,14,7,1275.259,1213,955.11300000000006]
[null,"2020-09-19T14:59:59.999",9,15,7,959.28899999999999,891.82,554.654]
[null,"2020-09-19T15:59:59.999",9,16,8,537.86099999999999,476.27,143.69800000000001]
[null,"2020-09-19T16:59:59.999",9,17,8,122.256,81.593999999999994,59.625999999999998]
[null,"2020-09-19T17:59:59.999",9,18,8,-1.9336,-2.7E-2,-2.1436999999999999]
[null,"2020-09-19T18:59:59.999",9,19,8,-1.9336,-2.7E-2,-2.1436999999999999]
[null,"2020-09-19T19:59:59.999",9,20,8,-1.9336,-2.7E-2,-2.1436999999999999]
[null,"2020-09-19T20:59:59.999",9,21,7,-1.9336,-2.7E-2,-2.1436999999999999]
[null,"2020-09-19T21:59:59.999",9,22,7,-1.9336,-2.7E-2,-2.1436999999999999]
[null,"2020-09-19T22:59:59.999",9,23,6,-1.9336,-2.7E-2,-2.1436999999999999]
[null,"2020-09-19T23:59:59.999",9,0,6,-1.9336,-2.7E-2,-2.1436999999999999]
[null,"2020-09-20T00:59:59.999",9,1,6,-1.9336,-2.7E-2,-2.1436999999999999]
[null,"2020-09-20T01:59:59.999",9,2,6,-1.9336,-2.7E-2,-2.1436999999999999]
[null,"2020-09-20T02:59:59.999",9,3,6,-1.9336,-2.7E-2,-2.1436999999999999]
[null,"2020-09-20T03:59:59.999",9,4,6,-1.9336,-2.7E-2,-2.1436999999999999]
[null,"2020-09-20T04:59:59.999",9,5,6,-1.9336,-2.7E-2,-2.1436999999999999]
[null,"2020-09-20T05:59:59.999",9,6,6,66.245999999999995,79.56,149.21700000000001]
[null,"2020-09-20T06:59:59.999",9,7,6,430.19799999999998,473.64,541.08699999999999]
[null,"2020-09-20T07:59:59.999",9,8,6,882.68200000000002,887.09,1211.4580000000001]
[null,"2020-09-20T08:59:59.999",9,9,6,1182.4880000000001,1175.8,1422.885]
[null,"2020-09-20T09:59:59.999",9,10,6,1352.96,1335.4,1482.104]
[null,"2020-09-20T10:59:59.999",9,11,6,1424.8489999999999,1393.8,1445.9549999999999]
[null,"2020-09-20T11:59:59.999",9,12,6,1369.3489999999999,1328.6,1291.7280000000001]
[null,"2020-09-20T12:59:59.999",9,13,6,1319.011,1270,1141.749]
[null,"2020-09-20T13:59:59.999",9,14,7,1236.444,1174.7,931.40800000000002]
[null,"2020-09-20T14:59:59.999",9,15,7,950.32600000000002,881.21,541.45399999999995]
[null,"2020-09-20T15:59:59.999",9,16,8,564.97,496.23,132.28700000000001]
[null,"2020-09-20T16:59:59.999",9,17,8,129.46899999999999,79.456999999999994,56.667000000000002]
[null,"2020-09-20T17:59:59.999",9,18,8,-1.9336,-2.7E-2,-2.1436999999999999]
[null,"2020-09-20T18:59:59.999",9,19,8,-1.9336,-2.7E-2,-2.1436999999999999]
[null,"2020-09-20T19:59:59.999",9,20,8,-1.9336,-2.7E-2,-2.1436999999999999]
[null,"2020-09-20T20:59:59.999",9,21,7,-1.9336,-2.7E-2,-2.1436999999999999]
[null,"2020-09-20T21:59:59.999",9,22,7,-1.9336,-2.7E-2,-2.1436999999999999]
[null,"2020-09-20T22:59:59.999",9,23,6,-1.9336,-2.7E-2,-2.1436999999999999]
[null,"2020-09-20T23:59:59.999",9,0,{"$f":"INDEX($AE$11:$BB$22,MATCH(C6345,$AD$11:$AD$22,0),MATCH(D6345,$AE$10:$BB$10,0))","v":6},-1.9336,-2.7E-2,-2.1436999999999999]
[null,"2020-09-21T00:59:59.999",{"$f":"MONTH(B6346)","v":9},{"$f":"HOUR(B6346)","v":1},6,-1.9336,-2.7E-2,-2.1436999999999999]
[null,{"$f":"B6346+1/24","v":"2020-09-21T01:59:59.999"},9,2,6,-1.9336,-2.7E-2,-2.1436999999999999]
[null,"2020-09-21T02:59:59.999",9,3,6,-1.9336,-2.7E-2,-2.1436999999999999]
[null,"2020-09-21T03:59:59.999",9,4,6,-1.9336,-2.7E-2,-2.1436999999999999]
[null,"2020-09-21T04:59:59.999",9,5,6,-1.9336,-2.7E-2,-2.1436999999999999]
[null,"2020-09-21T05:59:59.999",9,6,6,66.206999999999994,77.100999999999999,133.65700000000001]
[null,"2020-09-21T06:59:59.999",9,7,6,440.73700000000002,487.01,556.92700000000002]
[null,"2020-09-21T07:59:59.999",9,8,6,915.42899999999997,919.11,1256.2360000000001]
[null,"2020-09-21T08:59:59.999",9,9,6,1224.365,1217.5999999999999,1473.9159999999999]
[null,"2020-09-21T09:59:59.999",9,10,6,1446.0239999999999,1428.5,1584.479]
[null,"2020-09-21T10:59:59.999",9,11,6,1522.739,1501.3,1553.867]
[null,"2020-09-21T11:59:59.999",9,12,6,1539.1659999999999,1525.6,1472.473]
[null,"2020-09-21T12:59:59.999",9,13,6,1417.6130000000001,1366.1,1213.3620000000001]
[null,"2020-09-21T13:59:59.999",9,14,7,1209.9110000000001,1147.0999999999999,906.18399999999997]
[null,"2020-09-21T14:59:59.999",9,15,7,905.976,837.47,519.12300000000005]
[null,"2020-09-21T15:59:59.999",9,16,8,483.48899999999998,431.95,159.79900000000001]
[null,"2020-09-21T16:59:59.999",9,17,8,96.626000000000005,68.796999999999997,54.716000000000001]
[null,"2020-09-21T17:59:59.999",9,18,8,-1.9336,-2.7E-2,-2.1436999999999999]
[null,"2020-09-21T18:59:59.999",9,19,8,-1.9336,-2.7E-2,-2.1436999999999999]
[null,"2020-09-21T19:59:59.999",9,20,8,-1.9336,-2.7E-2,-2.1436999999999999]
[null,"2020-09-21T20:59:59.999",9,21,7,-1.9336,-2.7E-2,-2.1436999999999999]
[null,"2020-09-21T21:59:59.999",9,22,7,-1.9336,-2.7E-2,-2.1436999999999999]
[null,"2020-09-21T22:59:59.999",9,23,6,-1.9336,-2.7E-2,-2.1436999999999999]
[null,"2020-09-21T23:59:59.999",9,0,6,-1.9336,-2.7E-2,-2.1436999999999999]
[null,"2020-09-22T00:59:59.999",9,1,6,-1.9336,-2.7E-2,-2.1436999999999999]
[null,"2020-09-22T01:59:59.999",9,2,6,-1.9336,-2.7E-2,-2.1436999999999999]
[null,"2020-09-22T02:59:59.999",9,3,6,-1.9336,-2.7E-2,-2.1436999999999999]
[null,"2020-09-22T03:59:59.999",9,4,6,-1.9336,-2.7E-2,-2.1436999999999999]
[null,"2020-09-22T04:59:59.999",9,5,6,-1.9336,-2.7E-2,-2.1436999999999999]
[null,"2020-09-22T05:59:59.999",9,6,6,66.132000000000005,78.707999999999998,138.63800000000001]
[null,"2020-09-22T06:59:59.999",9,7,6,432.077,480.48,549.75199999999995]
[null,"2020-09-22T07:59:59.999",9,8,6,915.12800000000004,916.95,1252.702]
[null,"2020-09-22T08:59:59.999",9,9,6,1233.3309999999999,1225.2,1483.9110000000001]
[null,"2020-09-22T09:59:59.999",9,10,6,1471.425,1456,1614.114]
[null,"2020-09-22T10:59:59.999",9,11,6,1558.8789999999999,1574.2,1626.104]
[null,"2020-09-22T11:59:59.999",9,12,6,1555.6679999999999,1555.8,1498.694]
[null,"2020-09-22T12:59:59.999",9,13,6,1467.7570000000001,1413,1251.0889999999999]
[null,"2020-09-22T13:59:59.999",9,14,7,1224.027,1158.9000000000001,915.10699999999997]
[null,"2020-09-22T14:59:59.999",9,15,7,923.24,852.53,530.24800000000005]
[null,"2020-09-22T15:59:59.999",9,16,8,485.44900000000001,431.72,153.01900000000001]
[null,"2020-09-22T16:59:59.999",9,17,8,105.261,70.412000000000006,54.046999999999997]
[null,"2020-09-22T17:59:59.999",9,18,8,-1.9336,-2.7E-2,-2.1436999999999999]
[null,"2020-09-22T18:59:59.999",9,19,8,-1.9336,-2.7E-2,-2.1436999999999999]
[null,"2020-09-22T19:59:59.999",9,20,8,-1.9336,-2.7E-2,-2.1436999999999999]
[null,"2020-09-22T20:59:59.999",9,21,7,-1.9336,-2.7E-2,-2.1436999999999999]
[null,"2020-09-22T21:59:59.999",9,22,7,-1.9336,-2.7E-2,-2.1436999999999999]
[null,"2020-09-22T22:59:59.999",9,23,6,-1.9336,-2.7E-2,-2.1436999999999999]
[null,"2020-09-22T23:59:59.999",9,0,6,-1.9336,-2.7E-2,-2.1436999999999999]
[null,"2020-09-23T00:59:59.999",9,1,6,-1.9336,-2.7E-2,-2.1436999999999999]
[null,"2020-09-23T01:59:59.999",9,2,6,-1.9336,-2.7E-2,-2.1436999999999999]
[null,"2020-09-23T02:59:59.999",9,3,6,-1.9336,-2.7E-2,-2.1436999999999999]
[null,"2020-09-23T03:59:59.999",9,4,6,-1.9336,-2.7E-2,-2.1436999999999999]
[null,"2020-09-23T04:59:59.999",9,5,6,-1.9336,-2.7E-2,-2.1436999999999999]
[null,"2020-09-23T05:59:59.999",9,6,6,64.558000000000007,76.347999999999999,125.92700000000001]
[null,"2020-09-23T06:59:59.999",9,7,6,435.36500000000001,485.59,557.53399999999999]
[null,"2020-09-23T07:59:59.999",9,8,6,901.64099999999996,902.03,1235.6990000000001]
[null,"2020-09-23T08:59:59.999",9,9,6,1201.616,1191.4000000000001,1441.549]
[null,"2020-09-23T09:59:59.999",9,10,6,1416.394,1393.6,1547.788]
[null,"2020-09-23T10:59:59.999",9,11,6,1459.876,1424,1475.73]
[null,"2020-09-23T11:59:59.999",9,12,6,1449.4670000000001,1403.2,1360.635]
[null,"2020-09-23T12:59:59.999",9,13,6,1426.078,1368.7,1218.519]
[null,"2020-09-23T13:59:59.999",9,14,7,1222.864,1154.8,909.68399999999997]
[null,"2020-09-23T14:59:59.999",9,15,7,909.79100000000005,837.38,512.149]
[null,"2020-09-23T15:59:59.999",9,16,{"$f":"INDEX($AE$11:$BB$22,MATCH(C6409,$AD$11:$AD$22,0),MATCH(D6409,$AE$10:$BB$10,0))","v":8},484.339,426.9,136.66399999999999]
[null,"2020-09-23T16:59:59.999",{"$f":"MONTH(B6410)","v":9},{"$f":"HOUR(B6410)","v":17},8,88.468999999999994,64.022999999999996,52.084000000000003]
[null,{"$f":"B6410+1/24","v":"2020-09-23T17:59:59.999"},9,18,8,-1.9336,-2.7E-2,-2.1436999999999999]
[null,"2020-09-23T18:59:59.999",9,19,8,-1.9336,-2.7E-2,-2.1436999999999999]
[null,"2020-09-23T19:59:59.999",9,20,8,-1.9336,-2.7E-2,-2.1436999999999999]
[null,"2020-09-23T20:59:59.999",9,21,7,-1.9336,-2.7E-2,-2.1436999999999999]
[null,"2020-09-23T21:59:59.999",9,22,7,-1.9336,-2.7E-2,-2.1436999999999999]
[null,"2020-09-23T22:59:59.999",9,23,6,-1.9336,-2.7E-2,-2.1436999999999999]
[null,"2020-09-23T23:59:59.999",9,0,6,-1.9336,-2.7E-2,-2.1436999999999999]
[null,"2020-09-24T00:59:59.999",9,1,6,-1.9336,-2.7E-2,-2.1436999999999999]
[null,"2020-09-24T01:59:59.999",9,2,6,-1.9336,-2.7E-2,-2.1436999999999999]
[null,"2020-09-24T02:59:59.999",9,3,6,-1.9336,-2.7E-2,-2.1436999999999999]
[null,"2020-09-24T03:59:59.999",9,4,6,-1.9336,-2.7E-2,-2.1436999999999999]
[null,"2020-09-24T04:59:59.999",9,5,6,-1.9336,-2.7E-2,-2.1436999999999999]
[null,"2020-09-24T05:59:59.999",9,6,6,51.384,58.621000000000002,83.9]
[null,"2020-09-24T06:59:59.999",9,7,6,402.221,442.82,518.625]
[null,"2020-09-24T07:59:59.999",9,8,6,926.65,924.79,1262.3889999999999]
[null,"2020-09-24T08:59:59.999",9,9,6,1262.655,1252,1514.94]
[null,"2020-09-24T09:59:59.999",9,10,6,1457.8219999999999,1435.6,1593.2919999999999]
[null,"2020-09-24T10:59:59.999",9,11,6,1542.684,1539.3,1589.3330000000001]
[null,"2020-09-24T11:59:59.999",9,12,6,1533.653,1509.8,1454.057]
[null,"2020-09-24T12:59:59.999",9,13,6,1447.5550000000001,1393.2,1232.992]
[null,"2020-09-24T13:59:59.999",9,14,7,1255.03,1185.8,926.53599999999994]
[null,"2020-09-24T14:59:59.999",9,15,7,951.93,872.84,513.71500000000003]
[null,"2020-09-24T15:59:59.999",9,16,8,535.94000000000005,465.2,125.11199999999999]
[null,"2020-09-24T16:59:59.999",9,17,8,104.253,64.244,49.204999999999998]
[null,"2020-09-24T17:59:59.999",9,18,8,-1.9336,-2.7E-2,-2.1436999999999999]
[null,"2020-09-24T18:59:59.999",9,19,8,-1.9336,-2.7E-2,-2.1436999999999999]
[null,"2020-09-24T19:59:59.999",9,20,8,-1.9336,-2.7E-2,-2.1436999999999999]
[null,"2020-09-24T20:59:59.999",9,21,7,-1.9336,-2.7E-2,-2.1436999999999999]
[null,"2020-09-24T21:59:59.999",9,22,7,-1.9336,-2.7E-2,-2.1436999999999999]
[null,"2020-09-24T22:59:59.999",9,23,6,-1.9336,-2.7E-2,-2.1436999999999999]
[null,"2020-09-24T23:59:59.999",9,0,6,-1.9336,-2.7E-2,-2.1436999999999999]
[null,"2020-09-25T00:59:59.999",9,1,6,-1.9336,-2.7E-2,-2.1436999999999999]
[null,"2020-09-25T01:59:59.999",9,2,6,-1.9336,-2.7E-2,-2.1436999999999999]
[null,"2020-09-25T02:59:59.999",9,3,6,-1.9336,-2.7E-2,-2.1436999999999999]
[null,"2020-09-25T03:59:59.999",9,4,6,-1.9336,-2.7E-2,-2.1436999999999999]
[null,"2020-09-25T04:59:59.999",9,5,6,-1.9336,-2.7E-2,-2.1436999999999999]
[null,"2020-09-25T05:59:59.999",9,6,6,55.613999999999997,64.554000000000002,95.537999999999997]
[null,"2020-09-25T06:59:59.999",9,7,6,417.04399999999998,466.38,541.04300000000001]
[null,"2020-09-25T07:59:59.999",9,8,6,890.62300000000005,886.96,1215.9580000000001]
[null,"2020-09-25T08:59:59.999",9,9,6,1191.5239999999999,1175.5999999999999,1423.27]
[null,"2020-09-25T09:59:59.999",9,10,6,1396.577,1370,1519.684]
[null,"2020-09-25T10:59:59.999",9,11,6,1521.3330000000001,1492.3,1541.636]
[null,"2020-09-25T11:59:59.999",9,12,6,1494.3869999999999,1447.3,1395.683]
[null,"2020-09-25T12:59:59.999",9,13,6,1430.1869999999999,1371,1209.3150000000001]
[null,"2020-09-25T13:59:59.999",9,14,7,1237.0419999999999,1164.2,905.798]
[null,"2020-09-25T14:59:59.999",9,15,7,897.01400000000001,820.92,490.78800000000001]
[null,"2020-09-25T15:59:59.999",9,16,8,517.48,443.94,98.692999999999998]
[null,"2020-09-25T16:59:59.999",9,17,8,98.135999999999996,59.956000000000003,46.585000000000001]
[null,"2020-09-25T17:59:59.999",9,18,8,-1.9336,-2.7E-2,-2.1436999999999999]
[null,"2020-09-25T18:59:59.999",9,19,8,-1.9336,-2.7E-2,-2.1436999999999999]
[null,"2020-09-25T19:59:59.999",9,20,8,-1.9336,-2.7E-2,-2.1436999999999999]
[null,"2020-09-25T20:59:59.999",9,21,7,-1.9336,-2.7E-2,-2.1436999999999999]
[null,"2020-09-25T21:59:59.999",9,22,7,-1.9336,-2.7E-2,-2.1436999999999999]
[null,"2020-09-25T22:59:59.999",9,23,6,-1.9336,-2.7E-2,-2.1436999999999999]
[null,"2020-09-25T23:59:59.999",9,0,6,-1.9336,-2.7E-2,-2.1436999999999999]
[null,"2020-09-26T00:59:59.999",9,1,6,-1.9336,-2.7E-2,-2.1436999999999999]
[null,"2020-09-26T01:59:59.999",9,2,6,-1.9336,-2.7E-2,-2.1436999999999999]
[null,"2020-09-26T02:59:59.999",9,3,6,-1.9336,-2.7E-2,-2.1436999999999999]
[null,"2020-09-26T03:59:59.999",9,4,6,-1.9336,-2.7E-2,-2.1436999999999999]
[null,"2020-09-26T04:59:59.999",9,5,6,-1.9336,-2.7E-2,-2.1436999999999999]
[null,"2020-09-26T05:59:59.999",9,6,6,57.776000000000003,66.177000000000007,109.77800000000001]
[null,"2020-09-26T06:59:59.999",9,7,6,412.642,470.25,544.04100000000005]
[null,"2020-09-26T07:59:59.999",9,8,{"$f":"INDEX($AE$11:$BB$22,MATCH(C6473,$AD$11:$AD$22,0),MATCH(D6473,$AE$10:$BB$10,0))","v":6},908.11400000000003,903.11,1236.7170000000001]
[null,"2020-09-26T08:59:59.999",{"$f":"MONTH(B6474)","v":9},{"$f":"HOUR(B6474)","v":9},6,1225.42,1211.4000000000001,1465.45]
[null,{"$f":"B6474+1/24","v":"2020-09-26T09:59:59.999"},9,10,6,1449.0530000000001,1426.4,1579.8810000000001]
[null,"2020-09-26T10:59:59.999",9,11,6,1528.8630000000001,1509.4,1556.2360000000001]
[null,"2020-09-26T11:59:59.999",9,12,6,1533.5250000000001,1506.5,1447.521]
[null,"2020-09-26T12:59:59.999",9,13,6,1415.5740000000001,1358.6,1198.5340000000001]
[null,"2020-09-26T13:59:59.999",9,14,7,1217.182,1145.8,890.27]
[null,"2020-09-26T14:59:59.999",9,15,7,918.55700000000002,838.72,496.59699999999998]
[null,"2020-09-26T15:59:59.999",9,16,8,454.209,395.37,119.70699999999999]
[null,"2020-09-26T16:59:59.999",9,17,8,16.056000000000001,21.114000000000001,23.053999999999998]
[null,"2020-09-26T17:59:59.999",9,18,8,-1.9336,-2.7E-2,-2.1436999999999999]
[null,"2020-09-26T18:59:59.999",9,19,8,-1.9336,-2.7E-2,-2.1436999999999999]
[null,"2020-09-26T19:59:59.999",9,20,8,-1.9336,-2.7E-2,-2.1436999999999999]
[null,"2020-09-26T20:59:59.999",9,21,7,-1.9336,-2.7E-2,-2.1436999999999999]
[null,"2020-09-26T21:59:59.999",9,22,7,-1.9336,-2.7E-2,-2.1436999999999999]
[null,"2020-09-26T22:59:59.999",9,23,6,-1.9336,-2.7E-2,-2.1436999999999999]
[null,"2020-09-26T23:59:59.999",9,0,6,-1.9336,-2.7E-2,-2.1436999999999999]
[null,"2020-09-27T00:59:59.999",9,1,6,-1.9336,-2.7E-2,-2.1436999999999999]
[null,"2020-09-27T01:59:59.999",9,2,6,-1.9336,-2.7E-2,-2.1436999999999999]
[null,"2020-09-27T02:59:59.999",9,3,6,-1.9336,-2.7E-2,-2.1436999999999999]
[null,"2020-09-27T03:59:59.999",9,4,6,-1.9336,-2.7E-2,-2.1436999999999999]
[null,"2020-09-27T04:59:59.999",9,5,6,-1.9336,-2.7E-2,-2.1436999999999999]
[null,"2020-09-27T05:59:59.999",9,6,6,61.847999999999999,70.56,115.322]
[null,"2020-09-27T06:59:59.999",9,7,6,413.71499999999997,473.29,549.01900000000001]
[null,"2020-09-27T07:59:59.999",9,8,6,905.28200000000004,897.77,1231.8040000000001]
[null,"2020-09-27T08:59:59.999",9,9,6,1240.444,1222.5999999999999,1482.827]
[null,"2020-09-27T09:59:59.999",9,10,6,1434.9280000000001,1407.1,1560.52]
[null,"2020-09-27T10:59:59.999",9,11,6,1522.771,1488.9,1538.9580000000001]
[null,"2020-09-27T11:59:59.999",9,12,6,1484.3240000000001,1431.7,1384.825]
[null,"2020-09-27T12:59:59.999",9,13,6,1151.171,1107.5,1009.024]
[null,"2020-09-27T13:59:59.999",9,14,7,863.20500000000004,820.81,683.76099999999997]
[null,"2020-09-27T14:59:59.999",9,15,7,781.73299999999995,722.64,479.98599999999999]
[null,"2020-09-27T15:59:59.999",9,16,8,414.351,362.71,121.746]
[null,"2020-09-27T16:59:59.999",9,17,8,71.796999999999997,52.999000000000002,44.46]
[null,"2020-09-27T17:59:59.999",9,18,8,-1.9336,-2.7E-2,-2.1436999999999999]
[null,"2020-09-27T18:59:59.999",9,19,8,-1.9336,-2.7E-2,-2.1436999999999999]
[null,"2020-09-27T19:59:59.999",9,20,8,-1.9336,-2.7E-2,-2.1436999999999999]
[null,"2020-09-27T20:59:59.999",9,21,7,-1.9336,-2.7E-2,-2.1436999999999999]
[null,"2020-09-27T21:59:59.999",9,22,7,-1.9336,-2.7E-2,-2.1436999999999999]
[null,"2020-09-27T22:59:59.999",9,23,6,-1.9336,-2.7E-2,-2.1436999999999999]
[null,"2020-09-27T23:59:59.999",9,0,6,-1.9336,-2.7E-2,-2.1436999999999999]
[null,"2020-09-28T00:59:59.999",9,1,6,-1.9336,-2.7E-2,-2.1436999999999999]
[null,"2020-09-28T01:59:59.999",9,2,6,-1.9336,-2.7E-2,-2.1436999999999999]
[null,"2020-09-28T02:59:59.999",9,3,6,-1.9336,-2.7E-2,-2.1436999999999999]
[null,"2020-09-28T03:59:59.999",9,4,6,-1.9336,-2.7E-2,-2.1436999999999999]
[null,"2020-09-28T04:59:59.999",9,5,6,-1.9336,-2.7E-2,-2.1436999999999999]
[null,"2020-09-28T05:59:59.999",9,6,6,1.5620999999999998,-2.7E-2,-2.1436999999999999]
[null,"2020-09-28T06:59:59.999",9,7,6,68.841999999999999,74.236000000000004,73.542000000000002]
[null,"2020-09-28T07:59:59.999",9,8,6,420.10300000000001,424.12,509.53899999999999]
[null,"2020-09-28T08:59:59.999",9,9,6,782.07600000000002,777.41,893.37199999999996]
[null,"2020-09-28T09:59:59.999",9,10,6,781.553,772.31,834.06]
[null,"2020-09-28T10:59:59.999",9,11,6,1289.664,1252,1296.7090000000001]
[null,"2020-09-28T11:59:59.999",9,12,6,1556.7180000000001,1542.8,1484.6669999999999]
[null,"2020-09-28T12:59:59.999",9,13,6,1484.9369999999999,1420.2,1250.3800000000001]
[null,"2020-09-28T13:59:59.999",9,14,7,1231.8879999999999,1152.8,895.048]
[null,"2020-09-28T14:59:59.999",9,15,7,922.91899999999998,840.39,500.779]
[null,"2020-09-28T15:59:59.999",9,16,8,472.7,405.89,111.021]
[null,"2020-09-28T16:59:59.999",9,17,8,83.295000000000002,53.585999999999999,44.317999999999998]
[null,"2020-09-28T17:59:59.999",9,18,8,-1.9336,-2.7E-2,-2.1436999999999999]
[null,"2020-09-28T18:59:59.999",9,19,8,-1.9336,-2.7E-2,-2.1436999999999999]
[null,"2020-09-28T19:59:59.999",9,20,8,-1.9336,-2.7E-2,-2.1436999999999999]
[null,"2020-09-28T20:59:59.999",9,21,7,-1.9336,-2.7E-2,-2.1436999999999999]
[null,"2020-09-28T21:59:59.999",9,22,7,-1.9336,-2.7E-2,-2.1436999999999999]
[null,"2020-09-28T22:59:59.999",9,23,6,-1.9336,-2.7E-2,-2.1436999999999999]
[null,"2020-09-28T23:59:59.999",9,0,{"$f":"INDEX($AE$11:$BB$22,MATCH(C6537,$AD$11:$AD$22,0),MATCH(D6537,$AE$10:$BB$10,0))","v":6},-1.9336,-2.7E-2,-2.1436999999999999]
[null,"2020-09-29T00:59:59.999",{"$f":"MONTH(B6538)","v":9},{"$f":"HOUR(B6538)","v":1},6,-1.9336,-2.7E-2,-2.1436999999999999]
[null,{"$f":"B6538+1/24","v":"2020-09-29T01:59:59.999"},9,2,6,-1.9336,-2.7E-2,-2.1436999999999999]
[null,"2020-09-29T02:59:59.999",9,3,6,-1.9336,-2.7E-2,-2.1436999999999999]
[null,"2020-09-29T03:59:59.999",9,4,6,-1.9336,-2.7E-2,-2.1436999999999999]
[null,"2020-09-29T04:59:59.999",9,5,6,-1.9336,-2.7E-2,-2.1436999999999999]
[null,"2020-09-29T05:59:59.999",9,6,6,63.067,71.938999999999993,120.68]
[null,"2020-09-29T06:59:59.999",9,7,6,418.05399999999997,493.31,571.46799999999996]
[null,"2020-09-29T07:59:59.999",9,8,6,929.82399999999996,918.98,1267.8789999999999]
[null,"2020-09-29T08:59:59.999",9,9,6,1256.6079999999999,1235.2,1498.9929999999999]
[null,"2020-09-29T09:59:59.999",9,10,6,1466.7180000000001,1435.2,1592.2349999999999]
[null,"2020-09-29T10:59:59.999",9,11,6,1519.925,1480.7,1528.979]
[null,"2020-09-29T11:59:59.999",9,12,6,1492.992,1436.8,1384.0650000000001]
[null,"2020-09-29T12:59:59.999",9,13,6,1338.931,1273.8,1133.1579999999999]
[null,"2020-09-29T13:59:59.999",9,14,7,1262.6199999999999,1181.5,917.15200000000004]
[null,"2020-09-29T14:59:59.999",9,15,7,949.72,858.87,485.35500000000002]
[null,"2020-09-29T15:59:59.999",9,16,8,514.59900000000005,432.98,81.218999999999994]
[null,"2020-09-29T16:59:59.999",9,17,8,76.168000000000006,50.213999999999999,42.045999999999999]
[null,"2020-09-29T17:59:59.999",9,18,8,-1.9336,-2.7E-2,-2.1436999999999999]
[null,"2020-09-29T18:59:59.999",9,19,8,-1.9336,-2.7E-2,-2.1436999999999999]
[null,"2020-09-29T19:59:59.999",9,20,8,-1.9336,-2.7E-2,-2.1436999999999999]
[null,"2020-09-29T20:59:59.999",9,21,7,-1.9336,-2.7E-2,-2.1436999999999999]
[null,"2020-09-29T21:59:59.999",9,22,7,-1.9336,-2.7E-2,-2.1436999999999999]
[null,"2020-09-29T22:59:59.999",9,23,6,-1.9336,-2.7E-2,-2.1436999999999999]
[null,"2020-09-29T23:59:59.999",9,0,6,-1.9336,-2.7E-2,-2.1436999999999999]
[null,"2020-09-30T00:59:59.999",9,1,6,-1.9336,-2.7E-2,-2.1436999999999999]
[null,"2020-09-30T01:59:59.999",9,2,6,-1.9336,-2.7E-2,-2.1436999999999999]
[null,"2020-09-30T02:59:59.999",9,3,6,-1.9336,-2.7E-2,-2.1436999999999999]
[null,"2020-09-30T03:59:59.999",9,4,6,-1.9336,-2.7E-2,-2.1436999999999999]
[null,"2020-09-30T04:59:59.999",9,5,6,-1.9336,-2.7E-2,-2.1436999999999999]
[null,"2020-09-30T05:59:59.999",9,6,6,53.933999999999997,63.381,101.229]
[null,"2020-09-30T06:59:59.999",9,7,6,402.70800000000003,486.7,546.58799999999997]
[null,"2020-09-30T07:59:59.999",9,8,6,925.44600000000003,936.46,1243.367]
[null,"2020-09-30T08:59:59.999",9,9,6,1253.789,1263.7,1476.6579999999999]
[null,"2020-09-30T09:59:59.999",9,10,6,1472.1120000000001,1477.8,1580.1990000000001]
[null,"2020-09-30T10:59:59.999",9,11,6,1549.0239999999999,1578.9,1569.2090000000001]
[null,"2020-09-30T11:59:59.999",9,12,6,1546.425,1561.3,1442.8920000000001]
[null,"2020-09-30T12:59:59.999",9,13,6,1457.972,1424.6,1202.742]
[null,"2020-09-30T13:59:59.999",9,14,7,1239.671,1188.5,878.53200000000004]
[null,"2020-09-30T14:59:59.999",9,15,7,917.57500000000005,849.96,464.67500000000001]
[null,"2020-09-30T15:59:59.999",9,16,8,478.16199999999998,413.45,84.445999999999998]
[null,"2020-09-30T16:59:59.999",9,17,8,54.281999999999996,38.28,32.247]
[null,"2020-09-30T17:59:59.999",9,18,8,-1.9336,-2.7E-2,-2.1436999999999999]
[null,"2020-09-30T18:59:59.999",9,19,8,-1.9336,-2.7E-2,-2.1436999999999999]
[null,"2020-09-30T19:59:59.999",9,20,8,-1.9336,-2.7E-2,-2.1436999999999999]
[null,"2020-09-30T20:59:59.999",9,21,7,-1.9336,-2.7E-2,-2.1436999999999999]
[null,"2020-09-30T21:59:59.999",9,22,7,-1.9336,-2.7E-2,-2.1436999999999999]
[null,"2020-09-30T22:59:59.999",9,23,6,-1.9336,-2.7E-2,-2.1436999999999999]
[null,"2020-09-30T23:59:59.999",10,0,2,-1.9336,-2.7E-2,-2.1436999999999999]
[null,"2020-10-01T00:59:59.999",10,1,2,-1.9336,-2.7E-2,-2.1436999999999999]
[null,"2020-10-01T01:59:59.999",10,2,2,-1.9336,-2.7E-2,-2.1436999999999999]
[null,"2020-10-01T02:59:59.999",10,3,2,-1.9336,-2.7E-2,-2.1436999999999999]
[null,"2020-10-01T03:59:59.999",10,4,2,-1.9336,-2.7E-2,-2.1436999999999999]
[null,"2020-10-01T04:59:59.999",10,5,2,-1.9336,-2.7E-2,-2.1436999999999999]
[null,"2020-10-01T05:59:59.999",10,6,2,54.968000000000004,63.917999999999999,102.49]
[null,"2020-10-01T06:59:59.999",10,7,2,394.44400000000002,483.17,543.31100000000004]
[null,"2020-10-01T07:59:59.999",10,8,2,918.93399999999997,928.06,1234.3499999999999]
[null,"2020-10-01T08:59:59.999",10,9,2,1246.94,1254.8,1466.259]
[null,"2020-10-01T09:59:59.999",10,10,2,1462.12,1465.6,1566.665]
[null,"2020-10-01T10:59:59.999",10,11,2,1543.827,1566.8,1556.396]
[null,"2020-10-01T11:59:59.999",10,12,2,1538.605,1542.9,1424.769]
[null,"2020-10-01T12:59:59.999",10,13,2,1444.88,1409.5,1188.1489999999999]
[null,"2020-10-01T13:59:59.999",10,14,2,1233.183,1180.3,870.29700000000003]
[null,"2020-10-01T14:59:59.999",10,15,2,912.76400000000001,842.56,453.08]
[null,"2020-10-01T15:59:59.999",10,16,{"$f":"INDEX($AE$11:$BB$22,MATCH(C6601,$AD$11:$AD$22,0),MATCH(D6601,$AE$10:$BB$10,0))","v":4},468.86399999999998,402.99,89.611999999999995]
[null,"2020-10-01T16:59:59.999",{"$f":"MONTH(B6602)","v":10},{"$f":"HOUR(B6602)","v":17},4,46.206000000000003,39.648000000000003,34.389000000000003]
[null,{"$f":"B6602+1/24","v":"2020-10-01T17:59:59.999"},10,18,4,-1.9336,-2.7E-2,-2.1436999999999999]
[null,"2020-10-01T18:59:59.999",10,19,4,-1.9336,-2.7E-2,-2.1436999999999999]
[null,"2020-10-01T19:59:59.999",10,20,4,-1.9336,-2.7E-2,-2.1436999999999999]
[null,"2020-10-01T20:59:59.999",10,21,2,-1.9336,-2.7E-2,-2.1436999999999999]
[null,"2020-10-01T21:59:59.999",10,22,2,-1.9336,-2.7E-2,-2.1436999999999999]
[null,"2020-10-01T22:59:59.999",10,23,2,-1.9336,-2.7E-2,-2.1436999999999999]
[null,"2020-10-01T23:59:59.999",10,0,2,-1.9336,-2.7E-2,-2.1436999999999999]
[null,"2020-10-02T00:59:59.999",10,1,2,-1.9336,-2.7E-2,-2.1436999999999999]
[null,"2020-10-02T01:59:59.999",10,2,2,-1.9336,-2.7E-2,-2.1436999999999999]
[null,"2020-10-02T02:59:59.999",10,3,2,-1.9336,-2.7E-2,-2.1436999999999999]
[null,"2020-10-02T03:59:59.999",10,4,2,-1.9336,-2.7E-2,-2.1436999999999999]
[null,"2020-10-02T04:59:59.999",10,5,2,-1.9336,-2.7E-2,-2.1436999999999999]
[null,"2020-10-02T05:59:59.999",10,6,2,51.874000000000002,60.017000000000003,96.031000000000006]
[null,"2020-10-02T06:59:59.999",10,7,2,389.82100000000003,481.04,542.65499999999997]
[null,"2020-10-02T07:59:59.999",10,8,2,915.851,922.9,1227.9349999999999]
[null,"2020-10-02T08:59:59.999",10,9,2,1244.143,1250.3,1461.0840000000001]
[null,"2020-10-02T09:59:59.999",10,10,2,1473.567,1475.2,1577.1210000000001]
[null,"2020-10-02T10:59:59.999",10,11,2,1547.941,1573.3,1562.4290000000001]
[null,"2020-10-02T11:59:59.999",10,12,2,1545.473,1554.2,1434.327]
[null,"2020-10-02T12:59:59.999",10,13,2,1463.771,1425.9,1201.018]
[null,"2020-10-02T13:59:59.999",10,14,2,1236.9939999999999,1181.9000000000001,869.72400000000005]
[null,"2020-10-02T14:59:59.999",10,15,2,917.678,845.8,456.11700000000002]
[null,"2020-10-02T15:59:59.999",10,16,4,468.06599999999997,391.02,81.445999999999998]
[null,"2020-10-02T16:59:59.999",10,17,4,41.054000000000002,32.25,28.992000000000001]
[null,"2020-10-02T17:59:59.999",10,18,4,-1.9336,-2.7E-2,-2.1436999999999999]
[null,"2020-10-02T18:59:59.999",10,19,4,-1.9336,-2.7E-2,-2.1436999999999999]
[null,"2020-10-02T19:59:59.999",10,20,4,-1.9336,-2.7E-2,-2.1436999999999999]
[null,"2020-10-02T20:59:59.999",10,21,2,-1.9336,-2.7E-2,-2.1436999999999999]
[null,"2020-10-02T21:59:59.999",10,22,2,-1.9336,-2.7E-2,-2.1436999999999999]
[null,"2020-10-02T22:59:59.999",10,23,2,-1.9336,-2.7E-2,-2.1436999999999999]
[null,"2020-10-02T23:59:59.999",10,0,2,-1.9336,-2.7E-2,-2.1436999999999999]
[null,"2020-10-03T00:59:59.999",10,1,2,-1.9336,-2.7E-2,-2.1436999999999999]
[null,"2020-10-03T01:59:59.999",10,2,2,-1.9336,-2.7E-2,-2.1436999999999999]
[null,"2020-10-03T02:59:59.999",10,3,2,-1.9336,-2.7E-2,-2.1436999999999999]
[null,"2020-10-03T03:59:59.999",10,4,2,-1.9336,-2.7E-2,-2.1436999999999999]
[null,"2020-10-03T04:59:59.999",10,5,2,-1.9336,-2.7E-2,-2.1436999999999999]
[null,"2020-10-03T05:59:59.999",10,6,2,4.8484999999999996,10.593,8.299100000000001]
[null,"2020-10-03T06:59:59.999",10,7,2,161.65100000000001,181.29,192.65299999999999]
[null,"2020-10-03T07:59:59.999",10,8,2,671.63699999999994,683.35,848.24900000000002]
[null,"2020-10-03T08:59:59.999",10,9,2,1236.3689999999999,1237.4000000000001,1441.2429999999999]
[null,"2020-10-03T09:59:59.999",10,10,2,1476.58,1476.1,1578.473]
[null,"2020-10-03T10:59:59.999",10,11,2,1553.674,1581.1,1570.374]
[null,"2020-10-03T11:59:59.999",10,12,2,1548.6559999999999,1558.7,1439.1869999999999]
[null,"2020-10-03T12:59:59.999",10,13,2,1488.0809999999999,1448,1219.3879999999999]
[null,"2020-10-03T13:59:59.999",10,14,2,1273.317,1214.5999999999999,891.38499999999999]
[null,"2020-10-03T14:59:59.999",10,15,2,936.76,861.27,460.62700000000001]
[null,"2020-10-03T15:59:59.999",10,16,4,466.31,382.08,86.849000000000004]
[null,"2020-10-03T16:59:59.999",10,17,4,37.820999999999998,31.687999999999999,28.541]
[null,"2020-10-03T17:59:59.999",10,18,4,-1.9336,-2.7E-2,-2.1436999999999999]
[null,"2020-10-03T18:59:59.999",10,19,4,-1.9336,-2.7E-2,-2.1436999999999999]
[null,"2020-10-03T19:59:59.999",10,20,4,-1.9336,-2.7E-2,-2.1436999999999999]
[null,"2020-10-03T20:59:59.999",10,21,2,-1.9336,-2.7E-2,-2.1436999999999999]
[null,"2020-10-03T21:59:59.999",10,22,2,-1.9336,-2.7E-2,-2.1436999999999999]
[null,"2020-10-03T22:59:59.999",10,23,2,-1.9336,-2.7E-2,-2.1436999999999999]
[null,"2020-10-03T23:59:59.999",10,0,2,-1.9336,-2.7E-2,-2.1436999999999999]
[null,"2020-10-04T00:59:59.999",10,1,2,-1.9336,-2.7E-2,-2.1436999999999999]
[null,"2020-10-04T01:59:59.999",10,2,2,-1.9336,-2.7E-2,-2.1436999999999999]
[null,"2020-10-04T02:59:59.999",10,3,2,-1.9336,-2.7E-2,-2.1436999999999999]
[null,"2020-10-04T03:59:59.999",10,4,2,-1.9336,-2.7E-2,-2.1436999999999999]
[null,"2020-10-04T04:59:59.999",10,5,2,-1.9336,-2.7E-2,-2.1436999999999999]
[null,"2020-10-04T05:59:59.999",10,6,2,-1.9336,-2.7E-2,-2.1436999999999999]
[null,"2020-10-04T06:59:59.999",10,7,2,342.97800000000001,421.7,480.54300000000001]
[null,"2020-10-04T07:59:59.999",10,8,{"$f":"INDEX($AE$11:$BB$22,MATCH(C6665,$AD$11:$AD$22,0),MATCH(D6665,$AE$10:$BB$10,0))","v":2},922.02700000000004,925.48,1222.473]
[null,"2020-10-04T08:59:59.999",{"$f":"MONTH(B6666)","v":10},{"$f":"HOUR(B6666)","v":9},2,1245.9110000000001,1246.0999999999999,1455.8230000000001]
[null,{"$f":"B6666+1/24","v":"2020-10-04T09:59:59.999"},10,10,2,1414.52,1406.8,1504.7239999999999]
[null,"2020-10-04T10:59:59.999",10,11,2,1270.9870000000001,1257.5999999999999,1253.229]
[null,"2020-10-04T11:59:59.999",10,12,2,716.38300000000004,726.22,694.09900000000005]
[null,"2020-10-04T12:59:59.999",10,13,2,284.72899999999998,304.22000000000003,292.00700000000001]
[null,"2020-10-04T13:59:59.999",10,14,2,505.34800000000001,509.49,442.678]
[null,"2020-10-04T14:59:59.999",10,15,2,375.173,368.48,273.666]
[null,"2020-10-04T15:59:59.999",10,16,4,369.476,321.63,140.47499999999999]
[null,"2020-10-04T16:59:59.999",10,17,4,10.907,17.117999999999999,17.954000000000001]
[null,"2020-10-04T17:59:59.999",10,18,4,-1.9336,-2.7E-2,-2.1436999999999999]
[null,"2020-10-04T18:59:59.999",10,19,4,-1.9336,-2.7E-2,-2.1436999999999999]
[null,"2020-10-04T19:59:59.999",10,20,4,-1.9336,-2.7E-2,-2.1436999999999999]
[null,"2020-10-04T20:59:59.999",10,21,2,-1.9336,-2.7E-2,-2.1436999999999999]
[null,"2020-10-04T21:59:59.999",10,22,2,-1.9336,-2.7E-2,-2.1436999999999999]
[null,"2020-10-04T22:59:59.999",10,23,2,-1.9336,-2.7E-2,-2.1436999999999999]
[null,"2020-10-04T23:59:59.999",10,0,2,-1.9336,-2.7E-2,-2.1436999999999999]
[null,"2020-10-05T00:59:59.999",10,1,2,-1.9336,-2.7E-2,-2.1436999999999999]
[null,"2020-10-05T01:59:59.999",10,2,2,-1.9336,-2.7E-2,-2.1436999999999999]
[null,"2020-10-05T02:59:59.999",10,3,2,-1.9336,-2.7E-2,-2.1436999999999999]
[null,"2020-10-05T03:59:59.999",10,4,2,-1.9336,-2.7E-2,-2.1436999999999999]
[null,"2020-10-05T04:59:59.999",10,5,2,-1.9336,-2.7E-2,-2.1436999999999999]
[null,"2020-10-05T05:59:59.999",10,6,2,50.162999999999997,56.298999999999999,91.634]
[null,"2020-10-05T06:59:59.999",10,7,2,334.54199999999997,414.28,473.57400000000001]
[null,"2020-10-05T07:59:59.999",10,8,2,875.87800000000004,877.44,1156.932]
[null,"2020-10-05T08:59:59.999",10,9,2,1255.9259999999999,1253.5,1460.479]
[null,"2020-10-05T09:59:59.999",10,10,2,1059.9159999999999,1052.7,1121.048]
[null,"2020-10-05T10:59:59.999",10,11,2,1500.1659999999999,1481.4,1474.6890000000001]
[null,"2020-10-05T11:59:59.999",10,12,2,1530.69,1516.7,1401.518]
[null,"2020-10-05T12:59:59.999",10,13,2,1493.0909999999999,1448.6,1218.473]
[null,"2020-10-05T13:59:59.999",10,14,2,1265.29,1201.5999999999999,876.80600000000004]
[null,"2020-10-05T14:59:59.999",10,15,2,927.97299999999996,848.37,445.851]
[null,"2020-10-05T15:59:59.999",10,16,4,453.37299999999999,355.8,90.436000000000007]
[null,"2020-10-05T16:59:59.999",10,17,4,30.927,27.521000000000001,25.143000000000001]
[null,"2020-10-05T17:59:59.999",10,18,4,-1.9336,-2.7E-2,-2.1436999999999999]
[null,"2020-10-05T18:59:59.999",10,19,4,-1.9336,-2.7E-2,-2.1436999999999999]
[null,"2020-10-05T19:59:59.999",10,20,4,-1.9336,-2.7E-2,-2.1436999999999999]
[null,"2020-10-05T20:59:59.999",10,21,2,-1.9336,-2.7E-2,-2.1436999999999999]
[null,"2020-10-05T21:59:59.999",10,22,2,-1.9336,-2.7E-2,-2.1436999999999999]
[null,"2020-10-05T22:59:59.999",10,23,2,-1.9336,-2.7E-2,-2.1436999999999999]
[null,"2020-10-05T23:59:59.999",10,0,2,-1.9336,-2.7E-2,-2.1436999999999999]
[null,"2020-10-06T00:59:59.999",10,1,2,-1.9336,-2.7E-2,-2.1436999999999999]
[null,"2020-10-06T01:59:59.999",10,2,2,-1.9336,-2.7E-2,-2.1436999999999999]
[null,"2020-10-06T02:59:59.999",10,3,2,-1.9336,-2.7E-2,-2.1436999999999999]
[null,"2020-10-06T03:59:59.999",10,4,2,-1.9336,-2.7E-2,-2.1436999999999999]
[null,"2020-10-06T04:59:59.999",10,5,2,-1.9336,-2.7E-2,-2.1436999999999999]
[null,"2020-10-06T05:59:59.999",10,6,2,41.911000000000001,48.1,77.691000000000003]
[null,"2020-10-06T06:59:59.999",10,7,2,369.39800000000002,474.33,541.43100000000004]
[null,"2020-10-06T07:59:59.999",10,8,2,931.17600000000004,930.12,1240.97]
[null,"2020-10-06T08:59:59.999",10,9,2,1275.598,1273.4000000000001,1489.9380000000001]
[null,"2020-10-06T09:59:59.999",10,10,2,1507.9449999999999,1500.6,1604.7090000000001]
[null,"2020-10-06T10:59:59.999",10,11,2,1567.91,1585,1591.7829999999999]
[null,"2020-10-06T11:59:59.999",10,12,2,1564.4829999999999,1583.8,1457.6479999999999]
[null,"2020-10-06T12:59:59.999",10,13,2,1486.875,1440.4,1207.3320000000001]
[null,"2020-10-06T13:59:59.999",10,14,2,1260.6289999999999,1195,869.56899999999996]
[null,"2020-10-06T14:59:59.999",10,15,2,926.06700000000001,842.79,434.57600000000002]
[null,"2020-10-06T15:59:59.999",10,16,4,452.69299999999998,342.99,79.77]
[null,"2020-10-06T16:59:59.999",10,17,4,25.210999999999999,22.055,20.794]
[null,"2020-10-06T17:59:59.999",10,18,4,-1.9336,-2.7E-2,-2.1436999999999999]
[null,"2020-10-06T18:59:59.999",10,19,4,-1.9336,-2.7E-2,-2.1436999999999999]
[null,"2020-10-06T19:59:59.999",10,20,4,-1.9336,-2.7E-2,-2.1436999999999999]
[null,"2020-10-06T20:59:59.999",10,21,2,-1.9336,-2.7E-2,-2.1436999999999999]
[null,"2020-10-06T21:59:59.999",10,22,2,-1.9336,-2.7E-2,-2.1436999999999999]
[null,"2020-10-06T22:59:59.999",10,23,2,-1.9336,-2.7E-2,-2.1436999999999999]
[null,"2020-10-06T23:59:59.999",10,0,{"$f":"INDEX($AE$11:$BB$22,MATCH(C6729,$AD$11:$AD$22,0),MATCH(D6729,$AE$10:$BB$10,0))","v":2},-1.9336,-2.7E-2,-2.1436999999999999]
[null,"2020-10-07T00:59:59.999",{"$f":"MONTH(B6730)","v":10},{"$f":"HOUR(B6730)","v":1},2,-1.9336,-2.7E-2,-2.1436999999999999]
[null,{"$f":"B6730+1/24","v":"2020-10-07T01:59:59.999"},10,2,2,-1.9336,-2.7E-2,-2.1436999999999999]
[null,"2020-10-07T02:59:59.999",10,3,2,-1.9336,-2.7E-2,-2.1436999999999999]
[null,"2020-10-07T03:59:59.999",10,4,2,-1.9336,-2.7E-2,-2.1436999999999999]
[null,"2020-10-07T04:59:59.999",10,5,2,-1.9336,-2.7E-2,-2.1436999999999999]
[null,"2020-10-07T05:59:59.999",10,6,2,43.816000000000003,49.286999999999999,79.906000000000006]
[null,"2020-10-07T06:59:59.999",10,7,2,367.32100000000003,477.01,545.68899999999996]
[null,"2020-10-07T07:59:59.999",10,8,2,924.35199999999998,921.36,1229.722]
[null,"2020-10-07T08:59:59.999",10,9,2,1266.51,1262.2,1476.9839999999999]
[null,"2020-10-07T09:59:59.999",10,10,2,1494.6089999999999,1485.4,1588.087]
[null,"2020-10-07T10:59:59.999",10,11,2,1561.511,1583.4,1575.2940000000001]
[null,"2020-10-07T11:59:59.999",10,12,2,1560.001,1573.1,1447.1030000000001]
[null,"2020-10-07T12:59:59.999",10,13,2,1483.65,1435.1,1201.7280000000001]
[null,"2020-10-07T13:59:59.999",10,14,2,1229.2829999999999,1161.2,843.41399999999999]
[null,"2020-10-07T14:59:59.999",10,15,2,905.42399999999998,822.64,425.91500000000002]
[null,"2020-10-07T15:59:59.999",10,16,4,440.51499999999999,323.72000000000003,72.786000000000001]
[null,"2020-10-07T16:59:59.999",10,17,4,19.262,21.065000000000001,20.741]
[null,"2020-10-07T17:59:59.999",10,18,4,-1.9336,-2.7E-2,-2.1436999999999999]
[null,"2020-10-07T18:59:59.999",10,19,4,-1.9336,-2.7E-2,-2.1436999999999999]
[null,"2020-10-07T19:59:59.999",10,20,4,-1.9336,-2.7E-2,-2.1436999999999999]
[null,"2020-10-07T20:59:59.999",10,21,2,-1.9336,-2.7E-2,-2.1436999999999999]
[null,"2020-10-07T21:59:59.999",10,22,2,-1.9336,-2.7E-2,-2.1436999999999999]
[null,"2020-10-07T22:59:59.999",10,23,2,-1.9336,-2.7E-2,-2.1436999999999999]
[null,"2020-10-07T23:59:59.999",10,0,2,-1.9336,-2.7E-2,-2.1436999999999999]
[null,"2020-10-08T00:59:59.999",10,1,2,-1.9336,-2.7E-2,-2.1436999999999999]
[null,"2020-10-08T01:59:59.999",10,2,2,-1.9336,-2.7E-2,-2.1436999999999999]
[null,"2020-10-08T02:59:59.999",10,3,2,-1.9336,-2.7E-2,-2.1436999999999999]
[null,"2020-10-08T03:59:59.999",10,4,2,-1.9336,-2.7E-2,-2.1436999999999999]
[null,"2020-10-08T04:59:59.999",10,5,2,-1.9336,-2.7E-2,-2.1436999999999999]
[null,"2020-10-08T05:59:59.999",10,6,2,34.909999999999997,40.918999999999997,57.859000000000002]
[null,"2020-10-08T06:59:59.999",10,7,2,356.61700000000002,462.12,530.78200000000004]
[null,"2020-10-08T07:59:59.999",10,8,2,922.68200000000002,917.72,1223.779]
[null,"2020-10-08T08:59:59.999",10,9,2,1265.961,1259.9000000000001,1474.7170000000001]
[null,"2020-10-08T09:59:59.999",10,10,2,1496.0830000000001,1484.8,1587.5150000000001]
[null,"2020-10-08T10:59:59.999",10,11,2,1564.627,1583.9,1578.7460000000001]
[null,"2020-10-08T11:59:59.999",10,12,2,1560.3409999999999,1571.6,1444.5530000000001]
[null,"2020-10-08T12:59:59.999",10,13,2,1482.318,1431.5,1196.6289999999999]
[null,"2020-10-08T13:59:59.999",10,14,2,1249.1279999999999,1179.8,853.32600000000002]
[null,"2020-10-08T14:59:59.999",10,15,2,906.71799999999996,821.47,422.33]
[null,"2020-10-08T15:59:59.999",10,16,4,397.85899999999998,300.39,96.150999999999996]
[null,"2020-10-08T16:59:59.999",10,17,4,19.651,21.091000000000001,20.573]
[null,"2020-10-08T17:59:59.999",10,18,4,-1.9336,-2.7E-2,-2.1436999999999999]
[null,"2020-10-08T18:59:59.999",10,19,4,-1.9336,-2.7E-2,-2.1436999999999999]
[null,"2020-10-08T19:59:59.999",10,20,4,-1.9336,-2.7E-2,-2.1436999999999999]
[null,"2020-10-08T20:59:59.999",10,21,2,-1.9336,-2.7E-2,-2.1436999999999999]
[null,"2020-10-08T21:59:59.999",10,22,2,-1.9336,-2.7E-2,-2.1436999999999999]
[null,"2020-10-08T22:59:59.999",10,23,2,-1.9336,-2.7E-2,-2.1436999999999999]
[null,"2020-10-08T23:59:59.999",10,0,2,-1.9336,-2.7E-2,-2.1436999999999999]
[null,"2020-10-09T00:59:59.999",10,1,2,-1.9336,-2.7E-2,-2.1436999999999999]
[null,"2020-10-09T01:59:59.999",10,2,2,-1.9336,-2.7E-2,-2.1436999999999999]
[null,"2020-10-09T02:59:59.999",10,3,2,-1.9336,-2.7E-2,-2.1436999999999999]
[null,"2020-10-09T03:59:59.999",10,4,2,-1.9336,-2.7E-2,-2.1436999999999999]
[null,"2020-10-09T04:59:59.999",10,5,2,-1.9336,-2.7E-2,-2.1436999999999999]
[null,"2020-10-09T05:59:59.999",10,6,2,18.52,24.218,27.721]
[null,"2020-10-09T06:59:59.999",10,7,2,222.14,262.58999999999997,294.97899999999998]
[null,"2020-10-09T07:59:59.999",10,8,2,810.47500000000002,809.07,1044.2349999999999]
[null,"2020-10-09T08:59:59.999",10,9,2,1258.973,1248.9000000000001,1460.5889999999999]
[null,"2020-10-09T09:59:59.999",10,10,2,1493.444,1480.1,1582.2629999999999]
[null,"2020-10-09T10:59:59.999",10,11,2,1559.261,1581,1566.114]
[null,"2020-10-09T11:59:59.999",10,12,2,1558.249,1565.3,1438.0070000000001]
[null,"2020-10-09T12:59:59.999",10,13,2,1472.211,1419.7,1185.1849999999999]
[null,"2020-10-09T13:59:59.999",10,14,2,1234.1590000000001,1163.7,840.36699999999996]
[null,"2020-10-09T14:59:59.999",10,15,2,899.24400000000003,813.13,417.03300000000002]
[null,"2020-10-09T15:59:59.999",10,16,{"$f":"INDEX($AE$11:$BB$22,MATCH(C6793,$AD$11:$AD$22,0),MATCH(D6793,$AE$10:$BB$10,0))","v":4},404.65600000000001,290.72000000000003,81.725999999999999]
[null,"2020-10-09T16:59:59.999",{"$f":"MONTH(B6794)","v":10},{"$f":"HOUR(B6794)","v":17},4,14.571,14.936,14.83]
[null,{"$f":"B6794+1/24","v":"2020-10-09T17:59:59.999"},10,18,4,-1.9336,-2.7E-2,-2.1436999999999999]
[null,"2020-10-09T18:59:59.999",10,19,4,-1.9336,-2.7E-2,-2.1436999999999999]
[null,"2020-10-09T19:59:59.999",10,20,4,-1.9336,-2.7E-2,-2.1436999999999999]
[null,"2020-10-09T20:59:59.999",10,21,2,-1.9336,-2.7E-2,-2.1436999999999999]
[null,"2020-10-09T21:59:59.999",10,22,2,-1.9336,-2.7E-2,-2.1436999999999999]
[null,"2020-10-09T22:59:59.999",10,23,2,-1.9336,-2.7E-2,-2.1436999999999999]
[null,"2020-10-09T23:59:59.999",10,0,2,-1.9336,-2.7E-2,-2.1436999999999999]
[null,"2020-10-10T00:59:59.999",10,1,2,-1.9336,-2.7E-2,-2.1436999999999999]
[null,"2020-10-10T01:59:59.999",10,2,2,-1.9336,-2.7E-2,-2.1436999999999999]
[null,"2020-10-10T02:59:59.999",10,3,2,-1.9336,-2.7E-2,-2.1436999999999999]
[null,"2020-10-10T03:59:59.999",10,4,2,-1.9336,-2.7E-2,-2.1436999999999999]
[null,"2020-10-10T04:59:59.999",10,5,2,-1.9336,-2.7E-2,-2.1436999999999999]
[null,"2020-10-10T05:59:59.999",10,6,2,16.760999999999999,22.364000000000001,25.581]
[null,"2020-10-10T06:59:59.999",10,7,2,177.85400000000001,205.56,230.03100000000001]
[null,"2020-10-10T07:59:59.999",10,8,2,247.744,266.88,271.45]
[null,"2020-10-10T08:59:59.999",10,9,2,403.97800000000001,424.98,432.85]
[null,"2020-10-10T09:59:59.999",10,10,2,729.86400000000003,735.72,762.88599999999997]
[null,"2020-10-10T10:59:59.999",10,11,2,544.59100000000001,558.52,551.44600000000003]
[null,"2020-10-10T11:59:59.999",10,12,2,441.85599999999999,462.28,447.14299999999997]
[null,"2020-10-10T12:59:59.999",10,13,2,172.63300000000001,190.09,182.363]
[null,"2020-10-10T13:59:59.999",10,14,2,137.173,152.22,145.42099999999999]
[null,"2020-10-10T14:59:59.999",10,15,2,99.709000000000003,110.5,106.15900000000001]
[null,"2020-10-10T15:59:59.999",10,16,4,39.646999999999998,47.308,47.707000000000001]
[null,"2020-10-10T16:59:59.999",10,17,4,-1.9336,-2.7E-2,-2.1436999999999999]
[null,"2020-10-10T17:59:59.999",10,18,4,-1.9336,-2.7E-2,-2.1436999999999999]
[null,"2020-10-10T18:59:59.999",10,19,4,-1.9336,-2.7E-2,-2.1436999999999999]
[null,"2020-10-10T19:59:59.999",10,20,4,-1.9336,-2.7E-2,-2.1436999999999999]
[null,"2020-10-10T20:59:59.999",10,21,2,-1.9336,-2.7E-2,-2.1436999999999999]
[null,"2020-10-10T21:59:59.999",10,22,2,-1.9336,-2.7E-2,-2.1436999999999999]
[null,"2020-10-10T22:59:59.999",10,23,2,-1.9336,-2.7E-2,-2.1436999999999999]
[null,"2020-10-10T23:59:59.999",10,0,2,-1.9336,-2.7E-2,-2.1436999999999999]
[null,"2020-10-11T00:59:59.999",10,1,2,-1.9336,-2.7E-2,-2.1436999999999999]
[null,"2020-10-11T01:59:59.999",10,2,2,-1.9336,-2.7E-2,-2.1436999999999999]
[null,"2020-10-11T02:59:59.999",10,3,2,-1.9336,-2.7E-2,-2.1436999999999999]
[null,"2020-10-11T03:59:59.999",10,4,2,-1.9336,-2.7E-2,-2.1436999999999999]
[null,"2020-10-11T04:59:59.999",10,5,2,-1.9336,-2.7E-2,-2.1436999999999999]
[null,"2020-10-11T05:59:59.999",10,6,2,28.67,33.323,46.280999999999999]
[null,"2020-10-11T06:59:59.999",10,7,2,232.50800000000001,280.79000000000002,324.55700000000002]
[null,"2020-10-11T07:59:59.999",10,8,2,152.732,168.41,167.411]
[null,"2020-10-11T08:59:59.999",10,9,2,170.01300000000001,187.46,181.06]
[null,"2020-10-11T09:59:59.999",10,10,2,173.17599999999999,190.83,183.90299999999999]
[null,"2020-10-11T10:59:59.999",10,11,2,217.04300000000001,236.06,228.60300000000001]
[null,"2020-10-11T11:59:59.999",10,12,2,189.983,208.06,200.37700000000001]
[null,"2020-10-11T12:59:59.999",10,13,2,170.28700000000001,187.56,179.90100000000001]
[null,"2020-10-11T13:59:59.999",10,14,2,156.41300000000001,172.77,164.87]
[null,"2020-10-11T14:59:59.999",10,15,2,139.381,153.74,144.78200000000001]
[null,"2020-10-11T15:59:59.999",10,16,4,75.790000000000006,83.085999999999999,77.602999999999994]
[null,"2020-10-11T16:59:59.999",10,17,4,-1.9336,-2.7E-2,-2.1436999999999999]
[null,"2020-10-11T17:59:59.999",10,18,4,-1.9336,-2.7E-2,-2.1436999999999999]
[null,"2020-10-11T18:59:59.999",10,19,4,-1.9336,-2.7E-2,-2.1436999999999999]
[null,"2020-10-11T19:59:59.999",10,20,4,-1.9336,-2.7E-2,-2.1436999999999999]
[null,"2020-10-11T20:59:59.999",10,21,2,-1.9336,-2.7E-2,-2.1436999999999999]
[null,"2020-10-11T21:59:59.999",10,22,2,-1.9336,-2.7E-2,-2.1436999999999999]
[null,"2020-10-11T22:59:59.999",10,23,2,-1.9336,-2.7E-2,-2.1436999999999999]
[null,"2020-10-11T23:59:59.999",10,0,2,-1.9336,-2.7E-2,-2.1436999999999999]
[null,"2020-10-12T00:59:59.999",10,1,2,-1.9336,-2.7E-2,-2.1436999999999999]
[null,"2020-10-12T01:59:59.999",10,2,2,-1.9336,-2.7E-2,-2.1436999999999999]
[null,"2020-10-12T02:59:59.999",10,3,2,-1.9336,-2.7E-2,-2.1436999999999999]
[null,"2020-10-12T03:59:59.999",10,4,2,-1.9336,-2.7E-2,-2.1436999999999999]
[null,"2020-10-12T04:59:59.999",10,5,2,-1.9336,-2.7E-2,-2.1436999999999999]
[null,"2020-10-12T05:59:59.999",10,6,2,27.472999999999999,32.487000000000002,45.911000000000001]
[null,"2020-10-12T06:59:59.999",10,7,2,318.51,433.93,504.572]
[null,"2020-10-12T07:59:59.999",10,8,{"$f":"INDEX($AE$11:$BB$22,MATCH(C6857,$AD$11:$AD$22,0),MATCH(D6857,$AE$10:$BB$10,0))","v":2},907.72900000000004,895.26,1193.874]
[null,"2020-10-12T08:59:59.999",{"$f":"MONTH(B6858)","v":10},{"$f":"HOUR(B6858)","v":9},2,1247.789,1234,1445.1379999999999]
[null,{"$f":"B6858+1/24","v":"2020-10-12T09:59:59.999"},10,10,2,1482.144,1462.8,1563.663]
[null,"2020-10-12T10:59:59.999",10,11,2,1555.4090000000001,1567.4,1551.5940000000001]
[null,"2020-10-12T11:59:59.999",10,12,2,1549.106,1541.5,1413.739]
[null,"2020-10-12T12:59:59.999",10,13,2,1456.6690000000001,1397.1,1162.288]
[null,"2020-10-12T13:59:59.999",10,14,2,1219.3309999999999,1143.2,818.05799999999999]
[null,"2020-10-12T14:59:59.999",10,15,2,878.43899999999996,786.66,388.24200000000002]
[null,"2020-10-12T15:59:59.999",10,16,4,397.18,259.60000000000002,72.173000000000002]
[null,"2020-10-12T16:59:59.999",10,17,4,6.0438000000000001,11.954000000000001,12.942]
[null,"2020-10-12T17:59:59.999",10,18,4,-1.9336,-2.7E-2,-2.1436999999999999]
[null,"2020-10-12T18:59:59.999",10,19,4,-1.9336,-2.7E-2,-2.1436999999999999]
[null,"2020-10-12T19:59:59.999",10,20,4,-1.9336,-2.7E-2,-2.1436999999999999]
[null,"2020-10-12T20:59:59.999",10,21,2,-1.9336,-2.7E-2,-2.1436999999999999]
[null,"2020-10-12T21:59:59.999",10,22,2,-1.9336,-2.7E-2,-2.1436999999999999]
[null,"2020-10-12T22:59:59.999",10,23,2,-1.9336,-2.7E-2,-2.1436999999999999]
[null,"2020-10-12T23:59:59.999",10,0,2,-1.9336,-2.7E-2,-2.1436999999999999]
[null,"2020-10-13T00:59:59.999",10,1,2,-1.9336,-2.7E-2,-2.1436999999999999]
[null,"2020-10-13T01:59:59.999",10,2,2,-1.9336,-2.7E-2,-2.1436999999999999]
[null,"2020-10-13T02:59:59.999",10,3,2,-1.9336,-2.7E-2,-2.1436999999999999]
[null,"2020-10-13T03:59:59.999",10,4,2,-1.9336,-2.7E-2,-2.1436999999999999]
[null,"2020-10-13T04:59:59.999",10,5,2,-1.9336,-2.7E-2,-2.1436999999999999]
[null,"2020-10-13T05:59:59.999",10,6,2,4.9189999999999996,10.875,9.1952000000000016]
[null,"2020-10-13T06:59:59.999",10,7,2,157.666,179.26,194.30099999999999]
[null,"2020-10-13T07:59:59.999",10,8,2,431.13499999999999,439.72,515.45899999999995]
[null,"2020-10-13T08:59:59.999",10,9,2,936.23699999999997,932.59,1059.2180000000001]
[null,"2020-10-13T09:59:59.999",10,10,2,1343.9760000000001,1320.9,1409.8989999999999]
[null,"2020-10-13T10:59:59.999",10,11,2,1549.0989999999999,1549.6,1535.239]
[null,"2020-10-13T11:59:59.999",10,12,2,1538.076,1518.7,1393.528]
[null,"2020-10-13T12:59:59.999",10,13,2,1440.4179999999999,1379.4,1147.3119999999999]
[null,"2020-10-13T13:59:59.999",10,14,2,1215.665,1137.7,812.53200000000004]
[null,"2020-10-13T14:59:59.999",10,15,2,861.41800000000001,767.97,373.37200000000001]
[null,"2020-10-13T15:59:59.999",10,16,4,391.35399999999998,243.83,79.415000000000006]
[null,"2020-10-13T16:59:59.999",10,17,4,6.0173999999999994,11.866,12.827999999999999]
[null,"2020-10-13T17:59:59.999",10,18,4,-1.9336,-2.7E-2,-2.1436999999999999]
[null,"2020-10-13T18:59:59.999",10,19,4,-1.9336,-2.7E-2,-2.1436999999999999]
[null,"2020-10-13T19:59:59.999",10,20,4,-1.9336,-2.7E-2,-2.1436999999999999]
[null,"2020-10-13T20:59:59.999",10,21,2,-1.9336,-2.7E-2,-2.1436999999999999]
[null,"2020-10-13T21:59:59.999",10,22,2,-1.9336,-2.7E-2,-2.1436999999999999]
[null,"2020-10-13T22:59:59.999",10,23,2,-1.9336,-2.7E-2,-2.1436999999999999]
[null,"2020-10-13T23:59:59.999",10,0,2,-1.9336,-2.7E-2,-2.1436999999999999]
[null,"2020-10-14T00:59:59.999",10,1,2,-1.9336,-2.7E-2,-2.1436999999999999]
[null,"2020-10-14T01:59:59.999",10,2,2,-1.9336,-2.7E-2,-2.1436999999999999]
[null,"2020-10-14T02:59:59.999",10,3,2,-1.9336,-2.7E-2,-2.1436999999999999]
[null,"2020-10-14T03:59:59.999",10,4,2,-1.9336,-2.7E-2,-2.1436999999999999]
[null,"2020-10-14T04:59:59.999",10,5,2,-1.9336,-2.7E-2,-2.1436999999999999]
[null,"2020-10-14T05:59:59.999",10,6,2,27.489000000000001,31.463000000000001,44.234999999999999]
[null,"2020-10-14T06:59:59.999",10,7,2,290.90899999999999,384.54,450.197]
[null,"2020-10-14T07:59:59.999",10,8,2,751.346,742.52,961.68299999999999]
[null,"2020-10-14T08:59:59.999",10,9,2,1224.8869999999999,1205.7,1406.854]
[null,"2020-10-14T09:59:59.999",10,10,2,1432.921,1407.3,1504.6510000000001]
[null,"2020-10-14T10:59:59.999",10,11,2,1530.15,1511.2,1497.328]
[null,"2020-10-14T11:59:59.999",10,12,2,1536.547,1512.3,1386.8389999999999]
[null,"2020-10-14T12:59:59.999",10,13,2,1431.6320000000001,1368.6,1135.319]
[null,"2020-10-14T13:59:59.999",10,14,2,1202.2760000000001,1121.8,796.69299999999998]
[null,"2020-10-14T14:59:59.999",10,15,2,851.96100000000001,756.34,359.82900000000001]
[null,"2020-10-14T15:59:59.999",10,16,4,362.41800000000001,226.86,83.98]
[null,"2020-10-14T16:59:59.999",10,17,4,2.6133000000000002,-2.7E-2,9.8387000000000011]
[null,"2020-10-14T17:59:59.999",10,18,4,-1.9336,-2.7E-2,-2.1436999999999999]
[null,"2020-10-14T18:59:59.999",10,19,4,-1.9336,-2.7E-2,-2.1436999999999999]
[null,"2020-10-14T19:59:59.999",10,20,4,-1.9336,-2.7E-2,-2.1436999999999999]
[null,"2020-10-14T20:59:59.999",10,21,2,-1.9336,-2.7E-2,-2.1436999999999999]
[null,"2020-10-14T21:59:59.999",10,22,2,-1.9336,-2.7E-2,-2.1436999999999999]
[null,"2020-10-14T22:59:59.999",10,23,2,-1.9336,-2.7E-2,-2.1436999999999999]
[null,"2020-10-14T23:59:59.999",10,0,{"$f":"INDEX($AE$11:$BB$22,MATCH(C6921,$AD$11:$AD$22,0),MATCH(D6921,$AE$10:$BB$10,0))","v":2},-1.9336,-2.7E-2,-2.1436999999999999]
[null,"2020-10-15T00:59:59.999",{"$f":"MONTH(B6922)","v":10},{"$f":"HOUR(B6922)","v":1},2,-1.9336,-2.7E-2,-2.1436999999999999]
[null,{"$f":"B6922+1/24","v":"2020-10-15T01:59:59.999"},10,2,2,-1.9336,-2.7E-2,-2.1436999999999999]
[null,"2020-10-15T02:59:59.999",10,3,2,-1.9336,-2.7E-2,-2.1436999999999999]
[null,"2020-10-15T03:59:59.999",10,4,2,-1.9336,-2.7E-2,-2.1436999999999999]
[null,"2020-10-15T04:59:59.999",10,5,2,-1.9336,-2.7E-2,-2.1436999999999999]
[null,"2020-10-15T05:59:59.999",10,6,2,19.373999999999999,22.965,32.627000000000002]
[null,"2020-10-15T06:59:59.999",10,7,2,290.18700000000001,404.27,474.40499999999997]
[null,"2020-10-15T07:59:59.999",10,8,2,877.32500000000005,858.64,1146.327]
[null,"2020-10-15T08:59:59.999",10,9,2,1198.3589999999999,1179.2,1380.76]
[null,"2020-10-15T09:59:59.999",10,10,2,1421.367,1396.4,1491.713]
[null,"2020-10-15T10:59:59.999",10,11,2,1523.2729999999999,1499.2,1482.7919999999999]
[null,"2020-10-15T11:59:59.999",10,12,2,1504.88,1458.3,1336.3309999999999]
[null,"2020-10-15T12:59:59.999",10,13,2,1370.6189999999999,1305.8,1084.579]
[null,"2020-10-15T13:59:59.999",10,14,2,1176.556,1093.5999999999999,772.44399999999996]
[null,"2020-10-15T14:59:59.999",10,15,2,828.02800000000002,733.05,346.577]
[null,"2020-10-15T15:59:59.999",10,16,4,345.33800000000002,211.85,81.962000000000003]
[null,"2020-10-15T16:59:59.999",10,17,4,-0.65683000000000002,-2.7E-2,6.8456999999999999]
[null,"2020-10-15T17:59:59.999",10,18,4,-1.9336,-2.7E-2,-2.1436999999999999]
[null,"2020-10-15T18:59:59.999",10,19,4,-1.9336,-2.7E-2,-2.1436999999999999]
[null,"2020-10-15T19:59:59.999",10,20,4,-1.9336,-2.7E-2,-2.1436999999999999]
[null,"2020-10-15T20:59:59.999",10,21,2,-1.9336,-2.7E-2,-2.1436999999999999]
[null,"2020-10-15T21:59:59.999",10,22,2,-1.9336,-2.7E-2,-2.1436999999999999]
[null,"2020-10-15T22:59:59.999",10,23,2,-1.9336,-2.7E-2,-2.1436999999999999]
[null,"2020-10-15T23:59:59.999",10,0,2,-1.9336,-2.7E-2,-2.1436999999999999]
[null,"2020-10-16T00:59:59.999",10,1,2,-1.9336,-2.7E-2,-2.1436999999999999]
[null,"2020-10-16T01:59:59.999",10,2,2,-1.9336,-2.7E-2,-2.1436999999999999]
[null,"2020-10-16T02:59:59.999",10,3,2,-1.9336,-2.7E-2,-2.1436999999999999]
[null,"2020-10-16T03:59:59.999",10,4,2,-1.9336,-2.7E-2,-2.1436999999999999]
[null,"2020-10-16T04:59:59.999",10,5,2,-1.9336,-2.7E-2,-2.1436999999999999]
[null,"2020-10-16T05:59:59.999",10,6,2,16.93,21.872,26.193000000000001]
[null,"2020-10-16T06:59:59.999",10,7,2,288.13600000000002,403.91,481.358]
[null,"2020-10-16T07:59:59.999",10,8,2,869.95299999999997,849.15,1137.835]
[null,"2020-10-16T08:59:59.999",10,9,2,1204.4369999999999,1183.5,1386.3230000000001]
[null,"2020-10-16T09:59:59.999",10,10,2,1421.12,1394.2,1489.366]
[null,"2020-10-16T10:59:59.999",10,11,2,1519.856,1490.9,1474.259]
[null,"2020-10-16T11:59:59.999",10,12,2,1503.6420000000001,1455.2,1332.2439999999999]
[null,"2020-10-16T12:59:59.999",10,13,2,1369.34,1302.4000000000001,1078.8879999999999]
[null,"2020-10-16T13:59:59.999",10,14,2,1126.913,1045.8,739.53300000000002]
[null,"2020-10-16T14:59:59.999",10,15,2,800.10299999999995,706.54,332.90699999999998]
[null,"2020-10-16T15:59:59.999",10,16,4,322.34800000000001,197.04,81.884]
[null,"2020-10-16T16:59:59.999",10,17,4,-1.9336,-2.7E-2,-2.1436999999999999]
[null,"2020-10-16T17:59:59.999",10,18,4,-1.9336,-2.7E-2,-2.1436999999999999]
[null,"2020-10-16T18:59:59.999",10,19,4,-1.9336,-2.7E-2,-2.1436999999999999]
[null,"2020-10-16T19:59:59.999",10,20,4,-1.9336,-2.7E-2,-2.1436999999999999]
[null,"2020-10-16T20:59:59.999",10,21,2,-1.9336,-2.7E-2,-2.1436999999999999]
[null,"2020-10-16T21:59:59.999",10,22,2,-1.9336,-2.7E-2,-2.1436999999999999]
[null,"2020-10-16T22:59:59.999",10,23,2,-1.9336,-2.7E-2,-2.1436999999999999]
[null,"2020-10-16T23:59:59.999",10,0,2,-1.9336,-2.7E-2,-2.1436999999999999]
[null,"2020-10-17T00:59:59.999",10,1,2,-1.9336,-2.7E-2,-2.1436999999999999]
[null,"2020-10-17T01:59:59.999",10,2,2,-1.9336,-2.7E-2,-2.1436999999999999]
[null,"2020-10-17T02:59:59.999",10,3,2,-1.9336,-2.7E-2,-2.1436999999999999]
[null,"2020-10-17T03:59:59.999",10,4,2,-1.9336,-2.7E-2,-2.1436999999999999]
[null,"2020-10-17T04:59:59.999",10,5,2,-1.9336,-2.7E-2,-2.1436999999999999]
[null,"2020-10-17T05:59:59.999",10,6,2,17.228999999999999,22.192,26.806000000000001]
[null,"2020-10-17T06:59:59.999",10,7,2,278.95699999999999,385.05,464.87299999999999]
[null,"2020-10-17T07:59:59.999",10,8,2,868.02300000000002,845.84,1131.3330000000001]
[null,"2020-10-17T08:59:59.999",10,9,2,1205.038,1181.2,1384.34]
[null,"2020-10-17T09:59:59.999",10,10,2,1429.2829999999999,1400.6,1496.5239999999999]
[null,"2020-10-17T10:59:59.999",10,11,2,1524.2070000000001,1495.8,1478.8510000000001]
[null,"2020-10-17T11:59:59.999",10,12,2,1507.7349999999999,1457,1332.249]
[null,"2020-10-17T12:59:59.999",10,13,2,1371.8219999999999,1305.5,1081.576]
[null,"2020-10-17T13:59:59.999",10,14,2,1152.787,1067.4000000000001,748.83900000000006]
[null,"2020-10-17T14:59:59.999",10,15,2,809.95299999999997,712.9,331.47699999999998]
[null,"2020-10-17T15:59:59.999",10,16,{"$f":"INDEX($AE$11:$BB$22,MATCH(C6985,$AD$11:$AD$22,0),MATCH(D6985,$AE$10:$BB$10,0))","v":4},338.48200000000003,192.88,73.914000000000001]
[null,"2020-10-17T16:59:59.999",{"$f":"MONTH(B6986)","v":10},{"$f":"HOUR(B6986)","v":17},4,-0.63211000000000006,-2.7E-2,6.6597]
[null,{"$f":"B6986+1/24","v":"2020-10-17T17:59:59.999"},10,18,4,-1.9336,-2.7E-2,-2.1436999999999999]
[null,"2020-10-17T18:59:59.999",10,19,4,-1.9336,-2.7E-2,-2.1436999999999999]
[null,"2020-10-17T19:59:59.999",10,20,4,-1.9336,-2.7E-2,-2.1436999999999999]
[null,"2020-10-17T20:59:59.999",10,21,2,-1.9336,-2.7E-2,-2.1436999999999999]
[null,"2020-10-17T21:59:59.999",10,22,2,-1.9336,-2.7E-2,-2.1436999999999999]
[null,"2020-10-17T22:59:59.999",10,23,2,-1.9336,-2.7E-2,-2.1436999999999999]
[null,"2020-10-17T23:59:59.999",10,0,2,-1.9336,-2.7E-2,-2.1436999999999999]
[null,"2020-10-18T00:59:59.999",10,1,2,-1.9336,-2.7E-2,-2.1436999999999999]
[null,"2020-10-18T01:59:59.999",10,2,2,-1.9336,-2.7E-2,-2.1436999999999999]
[null,"2020-10-18T02:59:59.999",10,3,2,-1.9336,-2.7E-2,-2.1436999999999999]
[null,"2020-10-18T03:59:59.999",10,4,2,-1.9336,-2.7E-2,-2.1436999999999999]
[null,"2020-10-18T04:59:59.999",10,5,2,-1.9336,-2.7E-2,-2.1436999999999999]
[null,"2020-10-18T05:59:59.999",10,6,2,-1.9336,-2.7E-2,-2.1436999999999999]
[null,"2020-10-18T06:59:59.999",10,7,2,42.640999999999998,49.798000000000002,46.548999999999999]
[null,"2020-10-18T07:59:59.999",10,8,2,183.089,200.06,197.976]
[null,"2020-10-18T08:59:59.999",10,9,2,210.77,229.07,224.03899999999999]
[null,"2020-10-18T09:59:59.999",10,10,2,321.173,340.89,337.03800000000001]
[null,"2020-10-18T10:59:59.999",10,11,2,894.73800000000006,879.23,871.08199999999999]
[null,"2020-10-18T11:59:59.999",10,12,2,1499.05,1443.6,1326.8050000000001]
[null,"2020-10-18T12:59:59.999",10,13,2,1384.807,1316,1088.4000000000001]
[null,"2020-10-18T13:59:59.999",10,14,2,1164.0909999999999,1076.0999999999999,752.69200000000001]
[null,"2020-10-18T14:59:59.999",10,15,2,814.46299999999997,714.8,330.40600000000001]
[null,"2020-10-18T15:59:59.999",10,16,4,319.06900000000002,187.55,82.218999999999994]
[null,"2020-10-18T16:59:59.999",10,17,4,-1.9336,-2.7E-2,-2.1436999999999999]
[null,"2020-10-18T17:59:59.999",10,18,4,-1.9336,-2.7E-2,-2.1436999999999999]
[null,"2020-10-18T18:59:59.999",10,19,4,-1.9336,-2.7E-2,-2.1436999999999999]
[null,"2020-10-18T19:59:59.999",10,20,4,-1.9336,-2.7E-2,-2.1436999999999999]
[null,"2020-10-18T20:59:59.999",10,21,2,-1.9336,-2.7E-2,-2.1436999999999999]
[null,"2020-10-18T21:59:59.999",10,22,2,-1.9336,-2.7E-2,-2.1436999999999999]
[null,"2020-10-18T22:59:59.999",10,23,2,-1.9336,-2.7E-2,-2.1436999999999999]
[null,"2020-10-18T23:59:59.999",10,0,2,-1.9336,-2.7E-2,-2.1436999999999999]
[null,"2020-10-19T00:59:59.999",10,1,2,-1.9336,-2.7E-2,-2.1436999999999999]
[null,"2020-10-19T01:59:59.999",10,2,2,-1.9336,-2.7E-2,-2.1436999999999999]
[null,"2020-10-19T02:59:59.999",10,3,2,-1.9336,-2.7E-2,-2.1436999999999999]
[null,"2020-10-19T03:59:59.999",10,4,2,-1.9336,-2.7E-2,-2.1436999999999999]
[null,"2020-10-19T04:59:59.999",10,5,2,-1.9336,-2.7E-2,-2.1436999999999999]
[null,"2020-10-19T05:59:59.999",10,6,2,-9.0628E-2,-2.7E-2,-2.1436999999999999]
[null,"2020-10-19T06:59:59.999",10,7,2,131.214,149.25,162.13800000000001]
[null,"2020-10-19T07:59:59.999",10,8,2,558.44000000000005,555.27,689.35799999999995]
[null,"2020-10-19T08:59:59.999",10,9,2,1188.6880000000001,1160.5999999999999,1355.354]
[null,"2020-10-19T09:59:59.999",10,10,2,1444.3050000000001,1410.2,1507.5260000000001]
[null,"2020-10-19T10:59:59.999",10,11,2,1539.546,1521.2,1503.6130000000001]
[null,"2020-10-19T11:59:59.999",10,12,2,1530.557,1490.7,1360.7950000000001]
[null,"2020-10-19T12:59:59.999",10,13,2,1392.1559999999999,1320.8,1090.403]
[null,"2020-10-19T13:59:59.999",10,14,2,1162.0809999999999,1072,746.69600000000003]
[null,"2020-10-19T14:59:59.999",10,15,2,805.08299999999997,704.31,321.767]
[null,"2020-10-19T15:59:59.999",10,16,4,332.92399999999998,178.75,70.492999999999995]
[null,"2020-10-19T16:59:59.999",10,17,4,-0.32186999999999999,-2.7E-2,-2.1436999999999999]
[null,"2020-10-19T17:59:59.999",10,18,4,-1.9336,-2.7E-2,-2.1436999999999999]
[null,"2020-10-19T18:59:59.999",10,19,4,-1.9336,-2.7E-2,-2.1436999999999999]
[null,"2020-10-19T19:59:59.999",10,20,4,-1.9336,-2.7E-2,-2.1436999999999999]
[null,"2020-10-19T20:59:59.999",10,21,2,-1.9336,-2.7E-2,-2.1436999999999999]
[null,"2020-10-19T21:59:59.999",10,22,2,-1.9336,-2.7E-2,-2.1436999999999999]
[null,"2020-10-19T22:59:59.999",10,23,2,-1.9336,-2.7E-2,-2.1436999999999999]
[null,"2020-10-19T23:59:59.999",10,0,2,-1.9336,-2.7E-2,-2.1436999999999999]
[null,"2020-10-20T00:59:59.999",10,1,2,-1.9336,-2.7E-2,-2.1436999999999999]
[null,"2020-10-20T01:59:59.999",10,2,2,-1.9336,-2.7E-2,-2.1436999999999999]
[null,"2020-10-20T02:59:59.999",10,3,2,-1.9336,-2.7E-2,-2.1436999999999999]
[null,"2020-10-20T03:59:59.999",10,4,2,-1.9336,-2.7E-2,-2.1436999999999999]
[null,"2020-10-20T04:59:59.999",10,5,2,-1.9336,-2.7E-2,-2.1436999999999999]
[null,"2020-10-20T05:59:59.999",10,6,2,6.7018000000000004,12.805,11.731]
[null,"2020-10-20T06:59:59.999",10,7,2,79.305000000000007,91.899000000000001,95.055999999999997]
[null,"2020-10-20T07:59:59.999",10,8,{"$f":"INDEX($AE$11:$BB$22,MATCH(C7049,$AD$11:$AD$22,0),MATCH(D7049,$AE$10:$BB$10,0))","v":2},249.143,266.29000000000002,276.005]
[null,"2020-10-20T08:59:59.999",{"$f":"MONTH(B7050)","v":10},{"$f":"HOUR(B7050)","v":9},2,630.08600000000001,633.23,692.52]
[null,{"$f":"B7050+1/24","v":"2020-10-20T09:59:59.999"},10,10,2,700.053,699.6,726.02200000000005]
[null,"2020-10-20T10:59:59.999",10,11,2,935.42499999999995,915.51,905.27599999999995]
[null,"2020-10-20T11:59:59.999",10,12,2,804.13199999999995,792.76,743.89700000000005]
[null,"2020-10-20T12:59:59.999",10,13,2,905.16300000000001,873.54,760.154]
[null,"2020-10-20T13:59:59.999",10,14,2,903.96100000000001,844.78,628.96299999999997]
[null,"2020-10-20T14:59:59.999",10,15,2,609.02099999999996,549.19000000000005,309.28199999999998]
[null,"2020-10-20T15:59:59.999",10,16,4,266.98599999999999,168.35,87.977000000000004]
[null,"2020-10-20T16:59:59.999",10,17,4,-1.9336,-2.7E-2,-2.1436999999999999]
[null,"2020-10-20T17:59:59.999",10,18,4,-1.9336,-2.7E-2,-2.1436999999999999]
[null,"2020-10-20T18:59:59.999",10,19,4,-1.9336,-2.7E-2,-2.1436999999999999]
[null,"2020-10-20T19:59:59.999",10,20,4,-1.9336,-2.7E-2,-2.1436999999999999]
[null,"2020-10-20T20:59:59.999",10,21,2,-1.9336,-2.7E-2,-2.1436999999999999]
[null,"2020-10-20T21:59:59.999",10,22,2,-1.9336,-2.7E-2,-2.1436999999999999]
[null,"2020-10-20T22:59:59.999",10,23,2,-1.9336,-2.7E-2,-2.1436999999999999]
[null,"2020-10-20T23:59:59.999",10,0,2,-1.9336,-2.7E-2,-2.1436999999999999]
[null,"2020-10-21T00:59:59.999",10,1,2,-1.9336,-2.7E-2,-2.1436999999999999]
[null,"2020-10-21T01:59:59.999",10,2,2,-1.9336,-2.7E-2,-2.1436999999999999]
[null,"2020-10-21T02:59:59.999",10,3,2,-1.9336,-2.7E-2,-2.1436999999999999]
[null,"2020-10-21T03:59:59.999",10,4,2,-1.9336,-2.7E-2,-2.1436999999999999]
[null,"2020-10-21T04:59:59.999",10,5,2,-1.9336,-2.7E-2,-2.1436999999999999]
[null,"2020-10-21T05:59:59.999",10,6,2,-1.9336,-2.7E-2,-2.1436999999999999]
[null,"2020-10-21T06:59:59.999",10,7,2,31.204000000000001,38.292000000000002,35.167999999999999]
[null,"2020-10-21T07:59:59.999",10,8,2,247.005,259.45999999999998,283.51299999999998]
[null,"2020-10-21T08:59:59.999",10,9,2,1070.3109999999999,1049.4000000000001,1204.6569999999999]
[null,"2020-10-21T09:59:59.999",10,10,2,1207.3900000000001,1176.7,1253.212]
[null,"2020-10-21T10:59:59.999",10,11,2,1301.1310000000001,1266.3,1256.394]
[null,"2020-10-21T11:59:59.999",10,12,2,689.47299999999996,672.42,625.875]
[null,"2020-10-21T12:59:59.999",10,13,2,1095.3230000000001,1050.3,900.36300000000006]
[null,"2020-10-21T13:59:59.999",10,14,2,1139.2639999999999,1050.3,743.12699999999995]
[null,"2020-10-21T14:59:59.999",10,15,2,818.19600000000003,711.93,319.31200000000001]
[null,"2020-10-21T15:59:59.999",10,16,4,314.26100000000002,168.05,72.936000000000007]
[null,"2020-10-21T16:59:59.999",10,17,4,-1.9336,-2.7E-2,-2.1436999999999999]
[null,"2020-10-21T17:59:59.999",10,18,4,-1.9336,-2.7E-2,-2.1436999999999999]
[null,"2020-10-21T18:59:59.999",10,19,4,-1.9336,-2.7E-2,-2.1436999999999999]
[null,"2020-10-21T19:59:59.999",10,20,4,-1.9336,-2.7E-2,-2.1436999999999999]
[null,"2020-10-21T20:59:59.999",10,21,2,-1.9336,-2.7E-2,-2.1436999999999999]
[null,"2020-10-21T21:59:59.999",10,22,2,-1.9336,-2.7E-2,-2.1436999999999999]
[null,"2020-10-21T22:59:59.999",10,23,2,-1.9336,-2.7E-2,-2.1436999999999999]
[null,"2020-10-21T23:59:59.999",10,0,2,-1.9336,-2.7E-2,-2.1436999999999999]
[null,"2020-10-22T00:59:59.999",10,1,2,-1.9336,-2.7E-2,-2.1436999999999999]
[null,"2020-10-22T01:59:59.999",10,2,2,-1.9336,-2.7E-2,-2.1436999999999999]
[null,"2020-10-22T02:59:59.999",10,3,2,-1.9336,-2.7E-2,-2.1436999999999999]
[null,"2020-10-22T03:59:59.999",10,4,2,-1.9336,-2.7E-2,-2.1436999999999999]
[null,"2020-10-22T04:59:59.999",10,5,2,-1.9336,-2.7E-2,-2.1436999999999999]
[null,"2020-10-22T05:59:59.999",10,6,2,3.3369,-2.7E-2,8.2375000000000007]
[null,"2020-10-22T06:59:59.999",10,7,2,200.167,257.02999999999997,322.64699999999999]
[null,"2020-10-22T07:59:59.999",10,8,2,596.96600000000001,588.75,708.40800000000002]
[null,"2020-10-22T08:59:59.999",10,9,2,564.20899999999995,566.15,622.73599999999999]
[null,"2020-10-22T09:59:59.999",10,10,2,992.53,974.76,1028.3240000000001]
[null,"2020-10-22T10:59:59.999",10,11,2,847.88400000000001,819.63,810.298]
[null,"2020-10-22T11:59:59.999",10,12,2,1160.567,1116.3,1030.7909999999999]
[null,"2020-10-22T12:59:59.999",10,13,2,1119.19,1062.4000000000001,898.99900000000002]
[null,"2020-10-22T13:59:59.999",10,14,2,973.54,901.54,649.33699999999999]
[null,"2020-10-22T14:59:59.999",10,15,2,777.5,677.85,314.58699999999999]
[null,"2020-10-22T15:59:59.999",10,16,4,290.471,159.56,75.424999999999997]
[null,"2020-10-22T16:59:59.999",10,17,4,-1.9336,-2.7E-2,-2.1436999999999999]
[null,"2020-10-22T17:59:59.999",10,18,4,-1.9336,-2.7E-2,-2.1436999999999999]
[null,"2020-10-22T18:59:59.999",10,19,4,-1.9336,-2.7E-2,-2.1436999999999999]
[null,"2020-10-22T19:59:59.999",10,20,4,-1.9336,-2.7E-2,-2.1436999999999999]
[null,"2020-10-22T20:59:59.999",10,21,2,-1.9336,-2.7E-2,-2.1436999999999999]
[null,"2020-10-22T21:59:59.999",10,22,2,-1.9336,-2.7E-2,-2.1436999999999999]
[null,"2020-10-22T22:59:59.999",10,23,2,-1.9336,-2.7E-2,-2.1436999999999999]
[null,"2020-10-22T23:59:59.999",10,0,{"$f":"INDEX($AE$11:$BB$22,MATCH(C7113,$AD$11:$AD$22,0),MATCH(D7113,$AE$10:$BB$10,0))","v":2},-1.9336,-2.7E-2,-2.1436999999999999]
[null,"2020-10-23T00:59:59.999",{"$f":"MONTH(B7114)","v":10},{"$f":"HOUR(B7114)","v":1},2,-1.9336,-2.7E-2,-2.1436999999999999]
[null,{"$f":"B7114+1/24","v":"2020-10-23T01:59:59.999"},10,2,2,-1.9336,-2.7E-2,-2.1436999999999999]
[null,"2020-10-23T02:59:59.999",10,3,2,-1.9336,-2.7E-2,-2.1436999999999999]
[null,"2020-10-23T03:59:59.999",10,4,2,-1.9336,-2.7E-2,-2.1436999999999999]
[null,"2020-10-23T04:59:59.999",10,5,2,-1.9336,-2.7E-2,-2.1436999999999999]
[null,"2020-10-23T05:59:59.999",10,6,2,-1.9336,-2.7E-2,-2.1436999999999999]
[null,"2020-10-23T06:59:59.999",10,7,2,212.22399999999999,273.13,348.24400000000003]
[null,"2020-10-23T07:59:59.999",10,8,2,546.899,538.34,621.15700000000004]
[null,"2020-10-23T08:59:59.999",10,9,2,840.44399999999996,828.14,938.52300000000002]
[null,"2020-10-23T09:59:59.999",10,10,2,478.649,488.77,497.44900000000001]
[null,"2020-10-23T10:59:59.999",10,11,2,616.93399999999997,622.9,613.62599999999998]
[null,"2020-10-23T11:59:59.999",10,12,2,777.54899999999998,764.4,715.17600000000004]
[null,"2020-10-23T12:59:59.999",10,13,2,1294.067,1221.4000000000001,1021.349]
[null,"2020-10-23T13:59:59.999",10,14,2,1146.172,1049.9000000000001,729.14]
[null,"2020-10-23T14:59:59.999",10,15,2,780.59900000000005,681.11,323.88499999999999]
[null,"2020-10-23T15:59:59.999",10,16,4,205.19399999999999,133.11000000000001,78.823999999999998]
[null,"2020-10-23T16:59:59.999",10,17,4,-1.9336,-2.7E-2,-2.1436999999999999]
[null,"2020-10-23T17:59:59.999",10,18,4,-1.9336,-2.7E-2,-2.1436999999999999]
[null,"2020-10-23T18:59:59.999",10,19,4,-1.9336,-2.7E-2,-2.1436999999999999]
[null,"2020-10-23T19:59:59.999",10,20,4,-1.9336,-2.7E-2,-2.1436999999999999]
[null,"2020-10-23T20:59:59.999",10,21,2,-1.9336,-2.7E-2,-2.1436999999999999]
[null,"2020-10-23T21:59:59.999",10,22,2,-1.9336,-2.7E-2,-2.1436999999999999]
[null,"2020-10-23T22:59:59.999",10,23,2,-1.9336,-2.7E-2,-2.1436999999999999]
[null,"2020-10-23T23:59:59.999",10,0,2,-1.9336,-2.7E-2,-2.1436999999999999]
[null,"2020-10-24T00:59:59.999",10,1,2,-1.9336,-2.7E-2,-2.1436999999999999]
[null,"2020-10-24T01:59:59.999",10,2,2,-1.9336,-2.7E-2,-2.1436999999999999]
[null,"2020-10-24T02:59:59.999",10,3,2,-1.9336,-2.7E-2,-2.1436999999999999]
[null,"2020-10-24T03:59:59.999",10,4,2,-1.9336,-2.7E-2,-2.1436999999999999]
[null,"2020-10-24T04:59:59.999",10,5,2,-1.9336,-2.7E-2,-2.1436999999999999]
[null,"2020-10-24T05:59:59.999",10,6,2,-1.9336,-2.7E-2,-2.1436999999999999]
[null,"2020-10-24T06:59:59.999",10,7,2,126.961,148.66,167.24299999999999]
[null,"2020-10-24T07:59:59.999",10,8,2,218.96,235.66,237.72499999999999]
[null,"2020-10-24T08:59:59.999",10,9,2,597.18200000000002,597.96,656.76]
[null,"2020-10-24T09:59:59.999",10,10,2,797.43700000000001,782.92,823.57500000000005]
[null,"2020-10-24T10:59:59.999",10,11,2,1496.2270000000001,1442.6,1428.7760000000001]
[null,"2020-10-24T11:59:59.999",10,12,2,1521.1669999999999,1463.3,1334.2739999999999]
[null,"2020-10-24T12:59:59.999",10,13,2,1385.335,1303.7,1071.5920000000001]
[null,"2020-10-24T13:59:59.999",10,14,2,1159.6310000000001,1061.2,730.36900000000003]
[null,"2020-10-24T14:59:59.999",10,15,2,800.976,689.19,296.142]
[null,"2020-10-24T15:59:59.999",10,16,4,276.12799999999999,143.68,70.052000000000007]
[null,"2020-10-24T16:59:59.999",10,17,4,-1.9336,-2.7E-2,-2.1436999999999999]
[null,"2020-10-24T17:59:59.999",10,18,4,-1.9336,-2.7E-2,-2.1436999999999999]
[null,"2020-10-24T18:59:59.999",10,19,4,-1.9336,-2.7E-2,-2.1436999999999999]
[null,"2020-10-24T19:59:59.999",10,20,4,-1.9336,-2.7E-2,-2.1436999999999999]
[null,"2020-10-24T20:59:59.999",10,21,2,-1.9336,-2.7E-2,-2.1436999999999999]
[null,"2020-10-24T21:59:59.999",10,22,2,-1.9336,-2.7E-2,-2.1436999999999999]
[null,"2020-10-24T22:59:59.999",10,23,2,-1.9336,-2.7E-2,-2.1436999999999999]
[null,"2020-10-24T23:59:59.999",10,0,2,-1.9336,-2.7E-2,-2.1436999999999999]
[null,"2020-10-25T00:59:59.999",10,1,2,-1.9336,-2.7E-2,-2.1436999999999999]
[null,"2020-10-25T01:59:59.999",10,2,2,-1.9336,-2.7E-2,-2.1436999999999999]
[null,"2020-10-25T02:59:59.999",10,3,2,-1.9336,-2.7E-2,-2.1436999999999999]
[null,"2020-10-25T03:59:59.999",10,4,2,-1.9336,-2.7E-2,-2.1436999999999999]
[null,"2020-10-25T04:59:59.999",10,5,2,-1.9336,-2.7E-2,-2.1436999999999999]
[null,"2020-10-25T05:59:59.999",10,6,2,3.4177,-2.7E-2,8.6827999999999985]
[null,"2020-10-25T06:59:59.998",10,7,2,216.214,298.13,409]
[null,"2020-10-25T07:59:59.998",10,8,2,841.26700000000005,811.7,830.697]
[null,"2020-10-25T08:59:59.998",10,9,2,1189.297,1149.7,1354.5609999999999]
[null,"2020-10-25T09:59:59.998",10,10,2,1420.9280000000001,1376.1,1472.3109999999999]
[null,"2020-10-25T10:59:59.998",10,11,2,1525.413,1482.6,1464.366]
[null,"2020-10-25T11:59:59.998",10,12,2,1521.4010000000001,1461.4,1329.057]
[null,"2020-10-25T12:59:59.998",10,13,2,1381.346,1297.5999999999999,1063.6790000000001]
[null,"2020-10-25T13:59:59.998",10,14,2,1136.69,1036.0999999999999,708.36400000000003]
[null,"2020-10-25T14:59:59.998",10,15,2,771.94899999999996,662.83,284.95100000000002]
[null,"2020-10-25T15:59:59.998",10,16,{"$f":"INDEX($AE$11:$BB$22,MATCH(C7177,$AD$11:$AD$22,0),MATCH(D7177,$AE$10:$BB$10,0))","v":4},236.59100000000001,133.6,72.484999999999999]
[null,"2020-10-25T16:59:59.998",{"$f":"MONTH(B7178)","v":10},{"$f":"HOUR(B7178)","v":17},4,-1.9336,-2.7E-2,-2.1436999999999999]
[null,{"$f":"B7178+1/24","v":"2020-10-25T17:59:59.998"},10,18,4,-1.9336,-2.7E-2,-2.1436999999999999]
[null,"2020-10-25T18:59:59.998",10,19,4,-1.9336,-2.7E-2,-2.1436999999999999]
[null,"2020-10-25T19:59:59.998",10,20,4,-1.9336,-2.7E-2,-2.1436999999999999]
[null,"2020-10-25T20:59:59.998",10,21,2,-1.9336,-2.7E-2,-2.1436999999999999]
[null,"2020-10-25T21:59:59.998",10,22,2,-1.9336,-2.7E-2,-2.1436999999999999]
[null,"2020-10-25T22:59:59.998",10,23,2,-1.9336,-2.7E-2,-2.1436999999999999]
[null,"2020-10-25T23:59:59.998",10,0,2,-1.9336,-2.7E-2,-2.1436999999999999]
[null,"2020-10-26T00:59:59.998",10,1,2,-1.9336,-2.7E-2,-2.1436999999999999]
[null,"2020-10-26T01:59:59.998",10,2,2,-1.9336,-2.7E-2,-2.1436999999999999]
[null,"2020-10-26T02:59:59.998",10,3,2,-1.9336,-2.7E-2,-2.1436999999999999]
[null,"2020-10-26T03:59:59.998",10,4,2,-1.9336,-2.7E-2,-2.1436999999999999]
[null,"2020-10-26T04:59:59.998",10,5,2,-1.9336,-2.7E-2,-2.1436999999999999]
[null,"2020-10-26T05:59:59.998",10,6,2,3.4045000000000001,-2.7E-2,8.6916000000000011]
[null,"2020-10-26T06:59:59.998",10,7,2,208.81399999999999,292.95999999999998,412.93799999999999]
[null,"2020-10-26T07:59:59.998",10,8,2,829.80700000000002,798.99,746.23]
[null,"2020-10-26T08:59:59.998",10,9,2,1170.7950000000001,1131.8,1331.5820000000001]
[null,"2020-10-26T09:59:59.998",10,10,2,1398.6790000000001,1352.5,1447.027]
[null,"2020-10-26T10:59:59.998",10,11,2,1516.95,1464.6,1446.3330000000001]
[null,"2020-10-26T11:59:59.998",10,12,2,1486.5640000000001,1417.7,1288.961]
[null,"2020-10-26T12:59:59.998",10,13,2,1333.741,1251,1024.8579999999999]
[null,"2020-10-26T13:59:59.998",10,14,2,1099.758,1000.9,684.52099999999996]
[null,"2020-10-26T14:59:59.998",10,15,2,758.75699999999995,649.28,275.73599999999999]
[null,"2020-10-26T15:59:59.998",10,16,4,231.785,125.85,68.581999999999994]
[null,"2020-10-26T16:59:59.998",10,17,4,-1.9336,-2.7E-2,-2.1436999999999999]
[null,"2020-10-26T17:59:59.998",10,18,4,-1.9336,-2.7E-2,-2.1436999999999999]
[null,"2020-10-26T18:59:59.998",10,19,4,-1.9336,-2.7E-2,-2.1436999999999999]
[null,"2020-10-26T19:59:59.998",10,20,4,-1.9336,-2.7E-2,-2.1436999999999999]
[null,"2020-10-26T20:59:59.998",10,21,2,-1.9336,-2.7E-2,-2.1436999999999999]
[null,"2020-10-26T21:59:59.998",10,22,2,-1.9336,-2.7E-2,-2.1436999999999999]
[null,"2020-10-26T22:59:59.998",10,23,2,-1.9336,-2.7E-2,-2.1436999999999999]
[null,"2020-10-26T23:59:59.998",10,0,2,-1.9336,-2.7E-2,-2.1436999999999999]
[null,"2020-10-27T00:59:59.998",10,1,2,-1.9336,-2.7E-2,-2.1436999999999999]
[null,"2020-10-27T01:59:59.998",10,2,2,-1.9336,-2.7E-2,-2.1436999999999999]
[null,"2020-10-27T02:59:59.998",10,3,2,-1.9336,-2.7E-2,-2.1436999999999999]
[null,"2020-10-27T03:59:59.998",10,4,2,-1.9336,-2.7E-2,-2.1436999999999999]
[null,"2020-10-27T04:59:59.998",10,5,2,-1.9336,-2.7E-2,-2.1436999999999999]
[null,"2020-10-27T05:59:59.998",10,6,2,1.704,-2.7E-2,6.9836999999999998]
[null,"2020-10-27T06:59:59.998",10,7,2,204.809,287.55,411.44200000000001]
[null,"2020-10-27T07:59:59.998",10,8,2,823.87900000000002,791.7,673.39599999999996]
[null,"2020-10-27T08:59:59.998",10,9,2,1169.713,1126.2,1328.11]
[null,"2020-10-27T09:59:59.998",10,10,2,1397.999,1349.9,1444.5540000000001]
[null,"2020-10-27T10:59:59.998",10,11,2,1499.93,1443.2,1425.095]
[null,"2020-10-27T11:59:59.998",10,12,2,1482.2940000000001,1412,1284.479]
[null,"2020-10-27T12:59:59.998",10,13,2,1322.616,1236.0999999999999,1010.096]
[null,"2020-10-27T13:59:59.998",10,14,2,1088.492,989.02,675.58299999999997]
[null,"2020-10-27T14:59:59.998",10,15,2,756.77300000000002,644.82000000000005,267.68599999999998]
[null,"2020-10-27T15:59:59.998",10,16,4,260.95600000000002,121.81,62.003999999999998]
[null,"2020-10-27T16:59:59.998",10,17,4,-1.9336,-2.7E-2,-2.1436999999999999]
[null,"2020-10-27T17:59:59.998",10,18,4,-1.9336,-2.7E-2,-2.1436999999999999]
[null,"2020-10-27T18:59:59.998",10,19,4,-1.9336,-2.7E-2,-2.1436999999999999]
[null,"2020-10-27T19:59:59.998",10,20,4,-1.9336,-2.7E-2,-2.1436999999999999]
[null,"2020-10-27T20:59:59.998",10,21,2,-1.9336,-2.7E-2,-2.1436999999999999]
[null,"2020-10-27T21:59:59.998",10,22,2,-1.9336,-2.7E-2,-2.1436999999999999]
[null,"2020-10-27T22:59:59.998",10,23,2,-1.9336,-2.7E-2,-2.1436999999999999]
[null,"2020-10-27T23:59:59.998",10,0,2,-1.9336,-2.7E-2,-2.1436999999999999]
[null,"2020-10-28T00:59:59.998",10,1,2,-1.9336,-2.7E-2,-2.1436999999999999]
[null,"2020-10-28T01:59:59.998",10,2,2,-1.9336,-2.7E-2,-2.1436999999999999]
[null,"2020-10-28T02:59:59.998",10,3,2,-1.9336,-2.7E-2,-2.1436999999999999]
[null,"2020-10-28T03:59:59.998",10,4,2,-1.9336,-2.7E-2,-2.1436999999999999]
[null,"2020-10-28T04:59:59.998",10,5,2,-1.9336,-2.7E-2,-2.1436999999999999]
[null,"2020-10-28T05:59:59.998",10,6,2,-1.9336,-2.7E-2,-2.1436999999999999]
[null,"2020-10-28T06:59:59.998",10,7,2,135.131,158.75,194.74600000000001]
[null,"2020-10-28T07:59:59.998",10,8,{"$f":"INDEX($AE$11:$BB$22,MATCH(C7241,$AD$11:$AD$22,0),MATCH(D7241,$AE$10:$BB$10,0))","v":2},546.41600000000005,537.91999999999996,520.33399999999995]
[null,"2020-10-28T08:59:59.998",{"$f":"MONTH(B7242)","v":10},{"$f":"HOUR(B7242)","v":9},2,1140.0129999999999,1098,1286.2260000000001]
[null,{"$f":"B7242+1/24","v":"2020-10-28T09:59:59.998"},10,10,2,1392.453,1343,1437.8579999999999]
[null,"2020-10-28T10:59:59.998",10,11,2,1511.6189999999999,1452.8,1435.0050000000001]
[null,"2020-10-28T11:59:59.998",10,12,2,1495.895,1423.1,1293.1510000000001]
[null,"2020-10-28T12:59:59.998",10,13,2,1344.7139999999999,1257.7,1028.202]
[null,"2020-10-28T13:59:59.998",10,14,2,1113.7850000000001,1009.2,682.64700000000005]
[null,"2020-10-28T14:59:59.998",10,15,2,752.99400000000003,640.53,267.78800000000001]
[null,"2020-10-28T15:59:59.998",10,16,4,219.4,116.82,66.233999999999995]
[null,"2020-10-28T16:59:59.998",10,17,4,-1.9336,-2.7E-2,-2.1436999999999999]
[null,"2020-10-28T17:59:59.998",10,18,4,-1.9336,-2.7E-2,-2.1436999999999999]
[null,"2020-10-28T18:59:59.998",10,19,4,-1.9336,-2.7E-2,-2.1436999999999999]
[null,"2020-10-28T19:59:59.998",10,20,4,-1.9336,-2.7E-2,-2.1436999999999999]
[null,"2020-10-28T20:59:59.998",10,21,2,-1.9336,-2.7E-2,-2.1436999999999999]
[null,"2020-10-28T21:59:59.998",10,22,2,-1.9336,-2.7E-2,-2.1436999999999999]
[null,"2020-10-28T22:59:59.998",10,23,2,-1.9336,-2.7E-2,-2.1436999999999999]
[null,"2020-10-28T23:59:59.998",10,0,2,-1.9336,-2.7E-2,-2.1436999999999999]
[null,"2020-10-29T00:59:59.998",10,1,2,-1.9336,-2.7E-2,-2.1436999999999999]
[null,"2020-10-29T01:59:59.998",10,2,2,-1.9336,-2.7E-2,-2.1436999999999999]
[null,"2020-10-29T02:59:59.998",10,3,2,-1.9336,-2.7E-2,-2.1436999999999999]
[null,"2020-10-29T03:59:59.998",10,4,2,-1.9336,-2.7E-2,-2.1436999999999999]
[null,"2020-10-29T04:59:59.998",10,5,2,-1.9336,-2.7E-2,-2.1436999999999999]
[null,"2020-10-29T05:59:59.998",10,6,2,-1.9336,-2.7E-2,-2.1436999999999999]
[null,"2020-10-29T06:59:59.998",10,7,2,91.768000000000001,108.08,122.63500000000001]
[null,"2020-10-29T07:59:59.998",10,8,2,557.03399999999999,548.47,524.9]
[null,"2020-10-29T08:59:59.998",10,9,2,1049.3869999999999,1010.7,1179.692]
[null,"2020-10-29T09:59:59.998",10,10,2,1380.7639999999999,1327,1421.251]
[null,"2020-10-29T10:59:59.998",10,11,2,1500.817,1439.2,1421.5160000000001]
[null,"2020-10-29T11:59:59.998",10,12,2,1489.491,1414.9,1284.7080000000001]
[null,"2020-10-29T12:59:59.998",10,13,2,1336.444,1248,1019.3579999999999]
[null,"2020-10-29T13:59:59.998",10,14,2,1092.4110000000001,990.3,678.39200000000005]
[null,"2020-10-29T14:59:59.998",10,15,2,610.29899999999998,528.66999999999996,251.845]
[null,"2020-10-29T15:59:59.998",10,16,4,219.482,118.96,69.054000000000002]
[null,"2020-10-29T16:59:59.998",10,17,4,-1.9336,-2.7E-2,-2.1436999999999999]
[null,"2020-10-29T17:59:59.998",10,18,4,-1.9336,-2.7E-2,-2.1436999999999999]
[null,"2020-10-29T18:59:59.998",10,19,4,-1.9336,-2.7E-2,-2.1436999999999999]
[null,"2020-10-29T19:59:59.998",10,20,4,-1.9336,-2.7E-2,-2.1436999999999999]
[null,"2020-10-29T20:59:59.998",10,21,2,-1.9336,-2.7E-2,-2.1436999999999999]
[null,"2020-10-29T21:59:59.998",10,22,2,-1.9336,-2.7E-2,-2.1436999999999999]
[null,"2020-10-29T22:59:59.998",10,23,2,-1.9336,-2.7E-2,-2.1436999999999999]
[null,"2020-10-29T23:59:59.998",10,0,2,-1.9336,-2.7E-2,-2.1436999999999999]
[null,"2020-10-30T00:59:59.998",10,1,2,-1.9336,-2.7E-2,-2.1436999999999999]
[null,"2020-10-30T01:59:59.998",10,2,2,-1.9336,-2.7E-2,-2.1436999999999999]
[null,"2020-10-30T02:59:59.998",10,3,2,-1.9336,-2.7E-2,-2.1436999999999999]
[null,"2020-10-30T03:59:59.998",10,4,2,-1.9336,-2.7E-2,-2.1436999999999999]
[null,"2020-10-30T04:59:59.998",10,5,2,-1.9336,-2.7E-2,-2.1436999999999999]
[null,"2020-10-30T05:59:59.998",10,6,2,-1.9336,-2.7E-2,-2.1436999999999999]
[null,"2020-10-30T06:59:59.998",10,7,2,23.841999999999999,30.702999999999999,27.986999999999998]
[null,"2020-10-30T07:59:59.998",10,8,2,131.404,145.21,140.84899999999999]
[null,"2020-10-30T08:59:59.998",10,9,2,209.41399999999999,227.11,222.928]
[null,"2020-10-30T09:59:59.998",10,10,2,285.27199999999999,304.56,299.428]
[null,"2020-10-30T10:59:59.998",10,11,2,348.45,366.69,358.44299999999998]
[null,"2020-10-30T11:59:59.998",10,12,2,217.54400000000001,235.67,227.024]
[null,"2020-10-30T12:59:59.998",10,13,2,239.66300000000001,257.42,246.21600000000001]
[null,"2020-10-30T13:59:59.998",10,14,2,179.41,195.67,185.36600000000001]
[null,"2020-10-30T14:59:59.998",10,15,2,99.918000000000006,109.89,104.16]
[null,"2020-10-30T15:59:59.998",10,16,4,18.157,25.173999999999999,26.696000000000002]
[null,"2020-10-30T16:59:59.998",10,17,4,-1.9336,-2.7E-2,-2.1436999999999999]
[null,"2020-10-30T17:59:59.998",10,18,4,-1.9336,-2.7E-2,-2.1436999999999999]
[null,"2020-10-30T18:59:59.998",10,19,4,-1.9336,-2.7E-2,-2.1436999999999999]
[null,"2020-10-30T19:59:59.998",10,20,4,-1.9336,-2.7E-2,-2.1436999999999999]
[null,"2020-10-30T20:59:59.998",10,21,2,-1.9336,-2.7E-2,-2.1436999999999999]
[null,"2020-10-30T21:59:59.998",10,22,2,-1.9336,-2.7E-2,-2.1436999999999999]
[null,"2020-10-30T22:59:59.998",10,23,2,-1.9336,-2.7E-2,-2.1436999999999999]
[null,"2020-10-30T23:59:59.998",10,0,{"$f":"INDEX($AE$11:$BB$22,MATCH(C7305,$AD$11:$AD$22,0),MATCH(D7305,$AE$10:$BB$10,0))","v":2},-1.9336,-2.7E-2,-2.1436999999999999]
[null,"2020-10-31T00:59:59.998",{"$f":"MONTH(B7306)","v":10},{"$f":"HOUR(B7306)","v":1},2,-1.9336,-2.7E-2,-2.1436999999999999]
[null,{"$f":"B7306+1/24","v":"2020-10-31T01:59:59.998"},10,2,2,-1.9336,-2.7E-2,-2.1436999999999999]
[null,"2020-10-31T02:59:59.998",10,3,2,-1.9336,-2.7E-2,-2.1436999999999999]
[null,"2020-10-31T03:59:59.998",10,4,2,-1.9336,-2.7E-2,-2.1436999999999999]
[null,"2020-10-31T04:59:59.998",10,5,2,-1.9336,-2.7E-2,-2.1436999999999999]
[null,"2020-10-31T05:59:59.998",10,6,2,-1.9336,-2.7E-2,-2.1436999999999999]
[null,"2020-10-31T06:59:59.998",10,7,2,149.78,189.12,264.52499999999998]
[null,"2020-10-31T07:59:59.998",10,8,2,598.77599999999995,605.74,558.75800000000004]
[null,"2020-10-31T08:59:59.998",10,9,2,1070.509,1028.9000000000001,1189.2719999999999]
[null,"2020-10-31T09:59:59.998",10,10,2,1202.104,1154.4000000000001,1218.5419999999999]
[null,"2020-10-31T10:59:59.998",10,11,2,1243.22,1193.7,1165.3889999999999]
[null,"2020-10-31T11:59:59.998",10,12,2,1266.7139999999999,1207,1092.5060000000001]
[null,"2020-10-31T12:59:59.998",10,13,2,770.29499999999996,746.18,644.87400000000002]
[null,"2020-10-31T13:59:59.998",10,14,2,479.53699999999998,471.69,389.45100000000002]
[null,"2020-10-31T14:59:59.998",10,15,2,396.15199999999999,367.66,230.20599999999999]
[null,"2020-10-31T15:59:59.998",10,16,4,48.838999999999999,46.738,40.975000000000001]
[null,"2020-10-31T16:59:59.998",10,17,4,-1.9336,-2.7E-2,-2.1436999999999999]
[null,"2020-10-31T17:59:59.998",10,18,4,-1.9336,-2.7E-2,-2.1436999999999999]
[null,"2020-10-31T18:59:59.998",10,19,4,-1.9336,-2.7E-2,-2.1436999999999999]
[null,"2020-10-31T19:59:59.998",10,20,4,-1.9336,-2.7E-2,-2.1436999999999999]
[null,"2020-10-31T20:59:59.998",10,21,2,-1.9336,-2.7E-2,-2.1436999999999999]
[null,"2020-10-31T21:59:59.998",10,22,2,-1.9336,-2.7E-2,-2.1436999999999999]
[null,"2020-10-31T22:59:59.998",10,23,2,-1.9336,-2.7E-2,-2.1436999999999999]
[null,"2020-10-31T23:59:59.998",11,0,2,-1.9336,-2.7E-2,-2.1436999999999999]
[null,"2020-11-01T00:59:59.998",11,1,2,-1.9336,-2.7E-2,-2.1436999999999999]
[null,"2020-11-01T01:59:59.998",11,2,2,-1.9336,-2.7E-2,-2.1436999999999999]
[null,"2020-11-01T02:59:59.998",11,3,2,-1.9336,-2.7E-2,-2.1436999999999999]
[null,"2020-11-01T03:59:59.998",11,4,2,-1.9336,-2.7E-2,-2.1436999999999999]
[null,"2020-11-01T04:59:59.998",11,5,2,-1.9336,-2.7E-2,-2.1436999999999999]
[null,"2020-11-01T05:59:59.998",11,6,2,-1.9336,-2.7E-2,-2.1436999999999999]
[null,"2020-11-01T06:59:59.998",11,7,2,34.459000000000003,41.81,38.418999999999997]
[null,"2020-11-01T07:59:59.998",11,8,2,430.08100000000002,440.85,431.84800000000001]
[null,"2020-11-01T08:59:59.998",11,9,2,803.90800000000002,785.87,879.75800000000004]
[null,"2020-11-01T09:59:59.998",11,10,2,376.00400000000002,387.04,385.39]
[null,"2020-11-01T10:59:59.998",11,11,2,946.60500000000002,919.53,897.31399999999996]
[null,"2020-11-01T11:59:59.998",11,12,2,1218.9110000000001,1163.3,1057.28]
[null,"2020-11-01T12:59:59.998",11,13,2,739.84699999999998,716.94,620.12900000000002]
[null,"2020-11-01T13:59:59.998",11,14,2,928.77800000000002,850.62,600.928]
[null,"2020-11-01T14:59:59.998",11,15,2,679.71100000000001,581.74,245.86699999999999]
[null,"2020-11-01T15:59:59.998",11,16,4,198.98699999999999,97.308999999999997,56.435000000000002]
[null,"2020-11-01T16:59:59.998",11,17,4,-1.9336,-2.7E-2,-2.1436999999999999]
[null,"2020-11-01T17:59:59.998",11,18,4,-1.9336,-2.7E-2,-2.1436999999999999]
[null,"2020-11-01T18:59:59.998",11,19,4,-1.9336,-2.7E-2,-2.1436999999999999]
[null,"2020-11-01T19:59:59.998",11,20,4,-1.9336,-2.7E-2,-2.1436999999999999]
[null,"2020-11-01T20:59:59.998",11,21,2,-1.9336,-2.7E-2,-2.1436999999999999]
[null,"2020-11-01T21:59:59.998",11,22,2,-1.9336,-2.7E-2,-2.1436999999999999]
[null,"2020-11-01T22:59:59.998",11,23,2,-1.9336,-2.7E-2,-2.1436999999999999]
[null,"2020-11-01T23:59:59.998",11,0,2,-1.9336,-2.7E-2,-2.1436999999999999]
[null,"2020-11-02T00:59:59.998",11,1,2,-1.9336,-2.7E-2,-2.1436999999999999]
[null,"2020-11-02T01:59:59.998",11,2,2,-1.9336,-2.7E-2,-2.1436999999999999]
[null,"2020-11-02T02:59:59.998",11,3,2,-1.9336,-2.7E-2,-2.1436999999999999]
[null,"2020-11-02T03:59:59.998",11,4,2,-1.9336,-2.7E-2,-2.1436999999999999]
[null,"2020-11-02T04:59:59.998",11,5,2,-1.9336,-2.7E-2,-2.1436999999999999]
[null,"2020-11-02T05:59:59.998",11,6,2,-1.9336,-2.7E-2,-2.1436999999999999]
[null,"2020-11-02T06:59:59.998",11,7,2,143.93700000000001,175.69,254.24799999999999]
[null,"2020-11-02T07:59:59.998",11,8,2,720.22500000000002,748.02,672.05399999999997]
[null,"2020-11-02T08:59:59.998",11,9,2,863.46400000000006,839.04,956.56200000000001]
[null,"2020-11-02T09:59:59.998",11,10,2,829.77099999999996,809.45,840.02]
[null,"2020-11-02T10:59:59.998",11,11,2,1204.3900000000001,1156.4000000000001,1129.723]
[null,"2020-11-02T11:59:59.998",11,12,2,880.53899999999999,849.05,777.13499999999999]
[null,"2020-11-02T12:59:59.998",11,13,2,937.58500000000004,891.31,752.56399999999996]
[null,"2020-11-02T13:59:59.998",11,14,2,857.41700000000003,794.41,578.57600000000002]
[null,"2020-11-02T14:59:59.998",11,15,2,172.33600000000001,182.85,155.27000000000001]
[null,"2020-11-02T15:59:59.998",11,16,{"$f":"INDEX($AE$11:$BB$22,MATCH(C7369,$AD$11:$AD$22,0),MATCH(D7369,$AE$10:$BB$10,0))","v":4},80.619,65.33,49.228000000000002]
[null,"2020-11-02T16:59:59.998",{"$f":"MONTH(B7370)","v":11},{"$f":"HOUR(B7370)","v":17},4,-1.9336,-2.7E-2,-2.1436999999999999]
[null,{"$f":"B7370+1/24","v":"2020-11-02T17:59:59.998"},11,18,4,-1.9336,-2.7E-2,-2.1436999999999999]
[null,"2020-11-02T18:59:59.998",11,19,4,-1.9336,-2.7E-2,-2.1436999999999999]
[null,"2020-11-02T19:59:59.998",11,20,4,-1.9336,-2.7E-2,-2.1436999999999999]
[null,"2020-11-02T20:59:59.998",11,21,2,-1.9336,-2.7E-2,-2.1436999999999999]
[null,"2020-11-02T21:59:59.998",11,22,2,-1.9336,-2.7E-2,-2.1436999999999999]
[null,"2020-11-02T22:59:59.998",11,23,2,-1.9336,-2.7E-2,-2.1436999999999999]
[null,"2020-11-02T23:59:59.998",11,0,2,-1.9336,-2.7E-2,-2.1436999999999999]
[null,"2020-11-03T00:59:59.998",11,1,2,-1.9336,-2.7E-2,-2.1436999999999999]
[null,"2020-11-03T01:59:59.998",11,2,2,-1.9336,-2.7E-2,-2.1436999999999999]
[null,"2020-11-03T02:59:59.998",11,3,2,-1.9336,-2.7E-2,-2.1436999999999999]
[null,"2020-11-03T03:59:59.998",11,4,2,-1.9336,-2.7E-2,-2.1436999999999999]
[null,"2020-11-03T04:59:59.998",11,5,2,-1.9336,-2.7E-2,-2.1436999999999999]
[null,"2020-11-03T05:59:59.998",11,6,2,-1.9336,-2.7E-2,-2.1436999999999999]
[null,"2020-11-03T06:59:59.998",11,7,2,82.677000000000007,88.828999999999994,93.093000000000004]
[null,"2020-11-03T07:59:59.998",11,8,2,349.87400000000002,366.18,364.95100000000002]
[null,"2020-11-03T08:59:59.998",11,9,2,337.80799999999999,342.04,366.95299999999997]
[null,"2020-11-03T09:59:59.998",11,10,2,712.745,693.08,720.88300000000004]
[null,"2020-11-03T10:59:59.998",11,11,2,634.154,627.21,609.755]
[null,"2020-11-03T11:59:59.998",11,12,2,1049.7829999999999,1006.9,916.73699999999997]
[null,"2020-11-03T12:59:59.998",11,13,2,1231.68,1144.9000000000001,931.37099999999998]
[null,"2020-11-03T13:59:59.998",11,14,2,1088.6510000000001,977.99,647.76199999999994]
[null,"2020-11-03T14:59:59.998",11,15,2,705.89599999999996,601.38,247.36199999999999]
[null,"2020-11-03T15:59:59.998",11,16,4,163.13,91.185000000000002,55.353000000000002]
[null,"2020-11-03T16:59:59.998",11,17,4,-1.9336,-2.7E-2,-2.1436999999999999]
[null,"2020-11-03T17:59:59.998",11,18,4,-1.9336,-2.7E-2,-2.1436999999999999]
[null,"2020-11-03T18:59:59.998",11,19,4,-1.9336,-2.7E-2,-2.1436999999999999]
[null,"2020-11-03T19:59:59.998",11,20,4,-1.9336,-2.7E-2,-2.1436999999999999]
[null,"2020-11-03T20:59:59.998",11,21,2,-1.9336,-2.7E-2,-2.1436999999999999]
[null,"2020-11-03T21:59:59.998",11,22,2,-1.9336,-2.7E-2,-2.1436999999999999]
[null,"2020-11-03T22:59:59.998",11,23,2,-1.9336,-2.7E-2,-2.1436999999999999]
[null,"2020-11-03T23:59:59.998",11,0,2,-1.9336,-2.7E-2,-2.1436999999999999]
[null,"2020-11-04T00:59:59.998",11,1,2,-1.9336,-2.7E-2,-2.1436999999999999]
[null,"2020-11-04T01:59:59.998",11,2,2,-1.9336,-2.7E-2,-2.1436999999999999]
[null,"2020-11-04T02:59:59.998",11,3,2,-1.9336,-2.7E-2,-2.1436999999999999]
[null,"2020-11-04T03:59:59.998",11,4,2,-1.9336,-2.7E-2,-2.1436999999999999]
[null,"2020-11-04T04:59:59.998",11,5,2,-1.9336,-2.7E-2,-2.1436999999999999]
[null,"2020-11-04T05:59:59.998",11,6,2,-1.9336,-2.7E-2,-2.1436999999999999]
[null,"2020-11-04T06:59:59.998",11,7,2,169.833,202.67,334.62099999999998]
[null,"2020-11-04T07:59:59.998",11,8,2,687.21199999999999,736.53,653.72400000000005]
[null,"2020-11-04T08:59:59.998",11,9,2,1148.002,1106.8,1290.674]
[null,"2020-11-04T09:59:59.998",11,10,2,1375.0150000000001,1312.4,1391.229]
[null,"2020-11-04T10:59:59.998",11,11,2,1500.269,1429.9,1394.037]
[null,"2020-11-04T11:59:59.998",11,12,2,1490.1959999999999,1406.6,1257.212]
[null,"2020-11-04T12:59:59.998",11,13,2,1355.694,1256.4000000000001,1007.841]
[null,"2020-11-04T13:59:59.998",11,14,2,1066.3440000000001,956.62,633.74900000000002]
[null,"2020-11-04T14:59:59.998",11,15,2,681.51900000000001,579.51,236.03700000000001]
[null,"2020-11-04T15:59:59.998",11,16,4,178.38499999999999,87.787000000000006,52.484000000000002]
[null,"2020-11-04T16:59:59.998",11,17,4,-1.9336,-2.7E-2,-2.1436999999999999]
[null,"2020-11-04T17:59:59.998",11,18,4,-1.9336,-2.7E-2,-2.1436999999999999]
[null,"2020-11-04T18:59:59.998",11,19,4,-1.9336,-2.7E-2,-2.1436999999999999]
[null,"2020-11-04T19:59:59.998",11,20,4,-1.9336,-2.7E-2,-2.1436999999999999]
[null,"2020-11-04T20:59:59.998",11,21,2,-1.9336,-2.7E-2,-2.1436999999999999]
[null,"2020-11-04T21:59:59.998",11,22,2,-1.9336,-2.7E-2,-2.1436999999999999]
[null,"2020-11-04T22:59:59.998",11,23,2,-1.9336,-2.7E-2,-2.1436999999999999]
[null,"2020-11-04T23:59:59.998",11,0,2,-1.9336,-2.7E-2,-2.1436999999999999]
[null,"2020-11-05T00:59:59.998",11,1,2,-1.9336,-2.7E-2,-2.1436999999999999]
[null,"2020-11-05T01:59:59.998",11,2,2,-1.9336,-2.7E-2,-2.1436999999999999]
[null,"2020-11-05T02:59:59.998",11,3,2,-1.9336,-2.7E-2,-2.1436999999999999]
[null,"2020-11-05T03:59:59.998",11,4,2,-1.9336,-2.7E-2,-2.1436999999999999]
[null,"2020-11-05T04:59:59.998",11,5,2,-1.9336,-2.7E-2,-2.1436999999999999]
[null,"2020-11-05T05:59:59.998",11,6,2,-1.9336,-2.7E-2,-2.1436999999999999]
[null,"2020-11-05T06:59:59.998",11,7,2,84.097999999999999,92.558000000000007,104.883]
[null,"2020-11-05T07:59:59.998",11,8,{"$f":"INDEX($AE$11:$BB$22,MATCH(C7433,$AD$11:$AD$22,0),MATCH(D7433,$AE$10:$BB$10,0))","v":2},369.44900000000001,393.55,383.62700000000001]
[null,"2020-11-05T08:59:59.998",{"$f":"MONTH(B7434)","v":11},{"$f":"HOUR(B7434)","v":9},2,482.69400000000002,489.69,518.91600000000005]
[null,{"$f":"B7434+1/24","v":"2020-11-05T09:59:59.998"},11,10,2,771.17499999999995,759.37,781.06600000000003]
[null,"2020-11-05T10:59:59.998",11,11,2,625.09799999999996,627.48,609.51400000000001]
[null,"2020-11-05T11:59:59.998",11,12,2,423.41899999999998,439.78,416.71]
[null,"2020-11-05T12:59:59.998",11,13,2,289.42399999999998,307.52999999999997,288.27600000000001]
[null,"2020-11-05T13:59:59.998",11,14,2,291.983,298.36,259.935]
[null,"2020-11-05T14:59:59.998",11,15,2,227.79599999999999,228.09,174.86799999999999]
[null,"2020-11-05T15:59:59.998",11,16,4,50.762,49.707999999999998,41.579000000000001]
[null,"2020-11-05T16:59:59.998",11,17,4,-1.9336,-2.7E-2,-2.1436999999999999]
[null,"2020-11-05T17:59:59.998",11,18,4,-1.9336,-2.7E-2,-2.1436999999999999]
[null,"2020-11-05T18:59:59.998",11,19,4,-1.9336,-2.7E-2,-2.1436999999999999]
[null,"2020-11-05T19:59:59.998",11,20,4,-1.9336,-2.7E-2,-2.1436999999999999]
[null,"2020-11-05T20:59:59.998",11,21,2,-1.9336,-2.7E-2,-2.1436999999999999]
[null,"2020-11-05T21:59:59.998",11,22,2,-1.9336,-2.7E-2,-2.1436999999999999]
[null,"2020-11-05T22:59:59.998",11,23,2,-1.9336,-2.7E-2,-2.1436999999999999]
[null,"2020-11-05T23:59:59.998",11,0,2,-1.9336,-2.7E-2,-2.1436999999999999]
[null,"2020-11-06T00:59:59.998",11,1,2,-1.9336,-2.7E-2,-2.1436999999999999]
[null,"2020-11-06T01:59:59.998",11,2,2,-1.9336,-2.7E-2,-2.1436999999999999]
[null,"2020-11-06T02:59:59.998",11,3,2,-1.9336,-2.7E-2,-2.1436999999999999]
[null,"2020-11-06T03:59:59.998",11,4,2,-1.9336,-2.7E-2,-2.1436999999999999]
[null,"2020-11-06T04:59:59.998",11,5,2,-1.9336,-2.7E-2,-2.1436999999999999]
[null,"2020-11-06T05:59:59.998",11,6,2,-1.9336,-2.7E-2,-2.1436999999999999]
[null,"2020-11-06T06:59:59.998",11,7,2,30.902000000000001,38.087000000000003,35.090000000000003]
[null,"2020-11-06T07:59:59.998",11,8,2,114.1,126.5,120.482]
[null,"2020-11-06T08:59:59.998",11,9,2,276.59199999999998,294.64,292.24700000000001]
[null,"2020-11-06T09:59:59.998",11,10,2,231.315,250.25,240.87100000000001]
[null,"2020-11-06T10:59:59.998",11,11,2,157.21799999999999,174.47,164.9]
[null,"2020-11-06T11:59:59.998",11,12,2,160.1,177.39,167.541]
[null,"2020-11-06T12:59:59.998",11,13,2,135.60400000000001,150.99,142.131]
[null,"2020-11-06T13:59:59.998",11,14,2,102.75,114.34,108.137]
[null,"2020-11-06T14:59:59.998",11,15,2,53.487000000000002,61.863,60.112000000000002]
[null,"2020-11-06T15:59:59.998",11,16,4,16.591999999999999,23.568999999999999,24.314]
[null,"2020-11-06T16:59:59.998",11,17,4,-1.9336,-2.7E-2,-2.1436999999999999]
[null,"2020-11-06T17:59:59.998",11,18,4,-1.9336,-2.7E-2,-2.1436999999999999]
[null,"2020-11-06T18:59:59.998",11,19,4,-1.9336,-2.7E-2,-2.1436999999999999]
[null,"2020-11-06T19:59:59.998",11,20,4,-1.9336,-2.7E-2,-2.1436999999999999]
[null,"2020-11-06T20:59:59.998",11,21,2,-1.9336,-2.7E-2,-2.1436999999999999]
[null,"2020-11-06T21:59:59.998",11,22,2,-1.9336,-2.7E-2,-2.1436999999999999]
[null,"2020-11-06T22:59:59.998",11,23,2,-1.9336,-2.7E-2,-2.1436999999999999]
[null,"2020-11-06T23:59:59.998",11,0,2,-1.9336,-2.7E-2,-2.1436999999999999]
[null,"2020-11-07T00:59:59.998",11,1,2,-1.9336,-2.7E-2,-2.1436999999999999]
[null,"2020-11-07T01:59:59.998",11,2,2,-1.9336,-2.7E-2,-2.1436999999999999]
[null,"2020-11-07T02:59:59.998",11,3,2,-1.9336,-2.7E-2,-2.1436999999999999]
[null,"2020-11-07T03:59:59.998",11,4,2,-1.9336,-2.7E-2,-2.1436999999999999]
[null,"2020-11-07T04:59:59.998",11,5,2,-1.9336,-2.7E-2,-2.1436999999999999]
[null,"2020-11-07T05:59:59.998",11,6,2,-1.9336,-2.7E-2,-2.1436999999999999]
[null,"2020-11-07T06:59:59.998",11,7,2,72.325000000000003,79.48,101.511]
[null,"2020-11-07T07:59:59.998",11,8,2,411.04,445.32,430.80799999999999]
[null,"2020-11-07T08:59:59.998",11,9,2,650.18399999999997,638.97,711.69500000000005]
[null,"2020-11-07T09:59:59.998",11,10,2,997.99900000000002,964.67,1007.93]
[null,"2020-11-07T10:59:59.998",11,11,2,1338.7329999999999,1271.3,1242.402]
[null,"2020-11-07T11:59:59.998",11,12,2,1356.9590000000001,1278.0999999999999,1152.453]
[null,"2020-11-07T12:59:59.998",11,13,2,781.06600000000003,739.7,622.197]
[null,"2020-11-07T13:59:59.998",11,14,2,505.55500000000001,483.21,379.97300000000001]
[null,"2020-11-07T14:59:59.998",11,15,2,188.03800000000001,189.33,141.684]
[null,"2020-11-07T15:59:59.998",11,16,4,90.617000000000004,58.814,40.584000000000003]
[null,"2020-11-07T16:59:59.998",11,17,4,-1.9336,-2.7E-2,-2.1436999999999999]
[null,"2020-11-07T17:59:59.998",11,18,4,-1.9336,-2.7E-2,-2.1436999999999999]
[null,"2020-11-07T18:59:59.998",11,19,4,-1.9336,-2.7E-2,-2.1436999999999999]
[null,"2020-11-07T19:59:59.998",11,20,4,-1.9336,-2.7E-2,-2.1436999999999999]
[null,"2020-11-07T20:59:59.998",11,21,2,-1.9336,-2.7E-2,-2.1436999999999999]
[null,"2020-11-07T21:59:59.998",11,22,2,-1.9336,-2.7E-2,-2.1436999999999999]
[null,"2020-11-07T22:59:59.998",11,23,2,-1.9336,-2.7E-2,-2.1436999999999999]
[null,"2020-11-07T23:59:59.998",11,0,{"$f":"INDEX($AE$11:$BB$22,MATCH(C7497,$AD$11:$AD$22,0),MATCH(D7497,$AE$10:$BB$10,0))","v":2},-1.9336,-2.7E-2,-2.1436999999999999]
[null,"2020-11-08T00:59:59.998",{"$f":"MONTH(B7498)","v":11},{"$f":"HOUR(B7498)","v":1},2,-1.9336,-2.7E-2,-2.1436999999999999]
[null,{"$f":"B7498+1/24","v":"2020-11-08T01:59:59.998"},11,2,2,-1.9336,-2.7E-2,-2.1436999999999999]
[null,"2020-11-08T02:59:59.998",11,3,2,-1.9336,-2.7E-2,-2.1436999999999999]
[null,"2020-11-08T03:59:59.998",11,4,2,-1.9336,-2.7E-2,-2.1436999999999999]
[null,"2020-11-08T04:59:59.998",11,5,2,-1.9336,-2.7E-2,-2.1436999999999999]
[null,"2020-11-08T05:59:59.998",11,6,2,-1.9336,-2.7E-2,-2.1436999999999999]
[null,"2020-11-08T06:59:59.998",11,7,2,148.82499999999999,160.83000000000001,288.68299999999999]
[null,"2020-11-08T07:59:59.998",11,8,2,589.65499999999997,673.2,602.09199999999998]
[null,"2020-11-08T08:59:59.998",11,9,2,1085.154,1043.4000000000001,1220.472]
[null,"2020-11-08T09:59:59.998",11,10,2,1291.836,1227.0999999999999,1300.922]
[null,"2020-11-08T10:59:59.998",11,11,2,1342.7550000000001,1270.8,1240.0630000000001]
[null,"2020-11-08T11:59:59.998",11,12,2,1387.125,1299.5,1161.3219999999999]
[null,"2020-11-08T12:59:59.998",11,13,2,1246.9449999999999,1147.2,919.37199999999996]
[null,"2020-11-08T13:59:59.998",11,14,2,888.15099999999995,802.73,555.84500000000003]
[null,"2020-11-08T14:59:59.998",11,15,2,452.11700000000002,400.23,207.69]
[null,"2020-11-08T15:59:59.998",11,16,4,125.517,83.143000000000001,54.171999999999997]
[null,"2020-11-08T16:59:59.998",11,17,4,-1.9336,-2.7E-2,-2.1436999999999999]
[null,"2020-11-08T17:59:59.998",11,18,4,-1.9336,-2.7E-2,-2.1436999999999999]
[null,"2020-11-08T18:59:59.998",11,19,4,-1.9336,-2.7E-2,-2.1436999999999999]
[null,"2020-11-08T19:59:59.998",11,20,4,-1.9336,-2.7E-2,-2.1436999999999999]
[null,"2020-11-08T20:59:59.998",11,21,2,-1.9336,-2.7E-2,-2.1436999999999999]
[null,"2020-11-08T21:59:59.998",11,22,2,-1.9336,-2.7E-2,-2.1436999999999999]
[null,"2020-11-08T22:59:59.998",11,23,2,-1.9336,-2.7E-2,-2.1436999999999999]
[null,"2020-11-08T23:59:59.998",11,0,2,-1.9336,-2.7E-2,-2.1436999999999999]
[null,"2020-11-09T00:59:59.998",11,1,2,-1.9336,-2.7E-2,-2.1436999999999999]
[null,"2020-11-09T01:59:59.998",11,2,2,-1.9336,-2.7E-2,-2.1436999999999999]
[null,"2020-11-09T02:59:59.998",11,3,2,-1.9336,-2.7E-2,-2.1436999999999999]
[null,"2020-11-09T03:59:59.998",11,4,2,-1.9336,-2.7E-2,-2.1436999999999999]
[null,"2020-11-09T04:59:59.998",11,5,2,-1.9336,-2.7E-2,-2.1436999999999999]
[null,"2020-11-09T05:59:59.998",11,6,2,-1.9336,-2.7E-2,-2.1436999999999999]
[null,"2020-11-09T06:59:59.998",11,7,2,142.82900000000001,150.75,259.38]
[null,"2020-11-09T07:59:59.998",11,8,2,579.98,665.04,606.077]
[null,"2020-11-09T08:59:59.998",11,9,2,1103.1199999999999,1060.3,1239.6569999999999]
[null,"2020-11-09T09:59:59.998",11,10,2,1348.7249999999999,1279.5999999999999,1356.74]
[null,"2020-11-09T10:59:59.998",11,11,2,1365.269,1292.9000000000001,1262.8430000000001]
[null,"2020-11-09T11:59:59.998",11,12,2,974.774,931.4,849.34500000000003]
[null,"2020-11-09T12:59:59.998",11,13,2,648.59100000000001,626,540.67100000000005]
[null,"2020-11-09T13:59:59.998",11,14,2,781.15599999999995,709.04,500.55799999999999]
[null,"2020-11-09T14:59:59.998",11,15,2,602.68700000000001,515.05999999999995,219.423]
[null,"2020-11-09T15:59:59.998",11,16,4,114.93899999999999,69.287000000000006,46.31]
[null,"2020-11-09T16:59:59.998",11,17,4,-1.9336,-2.7E-2,-2.1436999999999999]
[null,"2020-11-09T17:59:59.998",11,18,4,-1.9336,-2.7E-2,-2.1436999999999999]
[null,"2020-11-09T18:59:59.998",11,19,4,-1.9336,-2.7E-2,-2.1436999999999999]
[null,"2020-11-09T19:59:59.998",11,20,4,-1.9336,-2.7E-2,-2.1436999999999999]
[null,"2020-11-09T20:59:59.998",11,21,2,-1.9336,-2.7E-2,-2.1436999999999999]
[null,"2020-11-09T21:59:59.998",11,22,2,-1.9336,-2.7E-2,-2.1436999999999999]
[null,"2020-11-09T22:59:59.998",11,23,2,-1.9336,-2.7E-2,-2.1436999999999999]
[null,"2020-11-09T23:59:59.998",11,0,2,-1.9336,-2.7E-2,-2.1436999999999999]
[null,"2020-11-10T00:59:59.998",11,1,2,-1.9336,-2.7E-2,-2.1436999999999999]
[null,"2020-11-10T01:59:59.998",11,2,2,-1.9336,-2.7E-2,-2.1436999999999999]
[null,"2020-11-10T02:59:59.998",11,3,2,-1.9336,-2.7E-2,-2.1436999999999999]
[null,"2020-11-10T03:59:59.998",11,4,2,-1.9336,-2.7E-2,-2.1436999999999999]
[null,"2020-11-10T04:59:59.998",11,5,2,-1.9336,-2.7E-2,-2.1436999999999999]
[null,"2020-11-10T05:59:59.998",11,6,2,-1.9336,-2.7E-2,-2.1436999999999999]
[null,"2020-11-10T06:59:59.998",11,7,2,112.863,118.38,168.25299999999999]
[null,"2020-11-10T07:59:59.998",11,8,2,364.57400000000001,400.05,397.01]
[null,"2020-11-10T08:59:59.998",11,9,2,480.75700000000001,480.45,520.45699999999999]
[null,"2020-11-10T09:59:59.998",11,10,2,558.673,553.59,564.99400000000003]
[null,"2020-11-10T10:59:59.998",11,11,2,326.02600000000001,345.66,332.71199999999999]
[null,"2020-11-10T11:59:59.998",11,12,2,356.464,374.48,355.928]
[null,"2020-11-10T12:59:59.998",11,13,2,483.33499999999998,481.55,429.678]
[null,"2020-11-10T13:59:59.998",11,14,2,536.54700000000003,509.1,395.6]
[null,"2020-11-10T14:59:59.998",11,15,2,353.274,322.02,193.47900000000001]
[null,"2020-11-10T15:59:59.998",11,16,{"$f":"INDEX($AE$11:$BB$22,MATCH(C7561,$AD$11:$AD$22,0),MATCH(D7561,$AE$10:$BB$10,0))","v":4},54.801000000000002,49.12,40.061999999999998]
[null,"2020-11-10T16:59:59.998",{"$f":"MONTH(B7562)","v":11},{"$f":"HOUR(B7562)","v":17},4,-1.9336,-2.7E-2,-2.1436999999999999]
[null,{"$f":"B7562+1/24","v":"2020-11-10T17:59:59.998"},11,18,4,-1.9336,-2.7E-2,-2.1436999999999999]
[null,"2020-11-10T18:59:59.998",11,19,4,-1.9336,-2.7E-2,-2.1436999999999999]
[null,"2020-11-10T19:59:59.998",11,20,4,-1.9336,-2.7E-2,-2.1436999999999999]
[null,"2020-11-10T20:59:59.998",11,21,2,-1.9336,-2.7E-2,-2.1436999999999999]
[null,"2020-11-10T21:59:59.998",11,22,2,-1.9336,-2.7E-2,-2.1436999999999999]
[null,"2020-11-10T22:59:59.998",11,23,2,-1.9336,-2.7E-2,-2.1436999999999999]
[null,"2020-11-10T23:59:59.998",11,0,2,-1.9336,-2.7E-2,-2.1436999999999999]
[null,"2020-11-11T00:59:59.998",11,1,2,-1.9336,-2.7E-2,-2.1436999999999999]
[null,"2020-11-11T01:59:59.998",11,2,2,-1.9336,-2.7E-2,-2.1436999999999999]
[null,"2020-11-11T02:59:59.998",11,3,2,-1.9336,-2.7E-2,-2.1436999999999999]
[null,"2020-11-11T03:59:59.998",11,4,2,-1.9336,-2.7E-2,-2.1436999999999999]
[null,"2020-11-11T04:59:59.998",11,5,2,-1.9336,-2.7E-2,-2.1436999999999999]
[null,"2020-11-11T05:59:59.998",11,6,2,-1.9336,-2.7E-2,-2.1436999999999999]
[null,"2020-11-11T06:59:59.998",11,7,2,124.515,128.84,177.44200000000001]
[null,"2020-11-11T07:59:59.998",11,8,2,529.79,619.79,574.29100000000005]
[null,"2020-11-11T08:59:59.998",11,9,2,1000.938,961.53,1122.9190000000001]
[null,"2020-11-11T09:59:59.998",11,10,2,1251.6500000000001,1183.4000000000001,1255.6189999999999]
[null,"2020-11-11T10:59:59.998",11,11,2,1288.6880000000001,1216.3,1187.624]
[null,"2020-11-11T11:59:59.998",11,12,2,1131.327,1065.9000000000001,964.03300000000002]
[null,"2020-11-11T12:59:59.998",11,13,2,1013.789,940.68,774.11500000000001]
[null,"2020-11-11T13:59:59.998",11,14,2,887.31899999999996,795.42,539.93799999999999]
[null,"2020-11-11T14:59:59.998",11,15,2,642.226,526.05999999999995,209.709]
[null,"2020-11-11T15:59:59.998",11,16,4,102.821,67.832999999999998,45.018000000000001]
[null,"2020-11-11T16:59:59.998",11,17,4,-1.9336,-2.7E-2,-2.1436999999999999]
[null,"2020-11-11T17:59:59.998",11,18,4,-1.9336,-2.7E-2,-2.1436999999999999]
[null,"2020-11-11T18:59:59.998",11,19,4,-1.9336,-2.7E-2,-2.1436999999999999]
[null,"2020-11-11T19:59:59.998",11,20,4,-1.9336,-2.7E-2,-2.1436999999999999]
[null,"2020-11-11T20:59:59.998",11,21,2,-1.9336,-2.7E-2,-2.1436999999999999]
[null,"2020-11-11T21:59:59.998",11,22,2,-1.9336,-2.7E-2,-2.1436999999999999]
[null,"2020-11-11T22:59:59.998",11,23,2,-1.9336,-2.7E-2,-2.1436999999999999]
[null,"2020-11-11T23:59:59.998",11,0,2,-1.9336,-2.7E-2,-2.1436999999999999]
[null,"2020-11-12T00:59:59.998",11,1,2,-1.9336,-2.7E-2,-2.1436999999999999]
[null,"2020-11-12T01:59:59.998",11,2,2,-1.9336,-2.7E-2,-2.1436999999999999]
[null,"2020-11-12T02:59:59.998",11,3,2,-1.9336,-2.7E-2,-2.1436999999999999]
[null,"2020-11-12T03:59:59.998",11,4,2,-1.9336,-2.7E-2,-2.1436999999999999]
[null,"2020-11-12T04:59:59.998",11,5,2,-1.9336,-2.7E-2,-2.1436999999999999]
[null,"2020-11-12T05:59:59.998",11,6,2,-1.9336,-2.7E-2,-2.1436999999999999]
[null,"2020-11-12T06:59:59.998",11,7,2,132.84899999999999,131.62,181.07499999999999]
[null,"2020-11-12T07:59:59.998",11,8,2,484.79899999999998,573.23,535.101]
[null,"2020-11-12T08:59:59.998",11,9,2,932.75800000000004,900.32,1040.538]
[null,"2020-11-12T09:59:59.998",11,10,2,1071.19,1020.3,1074.1089999999999]
[null,"2020-11-12T10:59:59.998",11,11,2,1101.2329999999999,1046.8,1022.307]
[null,"2020-11-12T11:59:59.998",11,12,2,1335.998,1247.5,1118.6369999999999]
[null,"2020-11-12T12:59:59.998",11,13,2,1250.3510000000001,1147.3,924.87099999999998]
[null,"2020-11-12T13:59:59.998",11,14,2,719.41300000000001,658.19,473.06400000000002]
[null,"2020-11-12T14:59:59.998",11,15,2,447.68,375.83,184.18299999999999]
[null,"2020-11-12T15:59:59.998",11,16,4,85.927999999999997,62.18,44.39]
[null,"2020-11-12T16:59:59.998",11,17,4,-1.9336,-2.7E-2,-2.1436999999999999]
[null,"2020-11-12T17:59:59.998",11,18,4,-1.9336,-2.7E-2,-2.1436999999999999]
[null,"2020-11-12T18:59:59.998",11,19,4,-1.9336,-2.7E-2,-2.1436999999999999]
[null,"2020-11-12T19:59:59.998",11,20,4,-1.9336,-2.7E-2,-2.1436999999999999]
[null,"2020-11-12T20:59:59.998",11,21,2,-1.9336,-2.7E-2,-2.1436999999999999]
[null,"2020-11-12T21:59:59.998",11,22,2,-1.9336,-2.7E-2,-2.1436999999999999]
[null,"2020-11-12T22:59:59.998",11,23,2,-1.9336,-2.7E-2,-2.1436999999999999]
[null,"2020-11-12T23:59:59.998",11,0,2,-1.9336,-2.7E-2,-2.1436999999999999]
[null,"2020-11-13T00:59:59.998",11,1,2,-1.9336,-2.7E-2,-2.1436999999999999]
[null,"2020-11-13T01:59:59.998",11,2,2,-1.9336,-2.7E-2,-2.1436999999999999]
[null,"2020-11-13T02:59:59.998",11,3,2,-1.9336,-2.7E-2,-2.1436999999999999]
[null,"2020-11-13T03:59:59.998",11,4,2,-1.9336,-2.7E-2,-2.1436999999999999]
[null,"2020-11-13T04:59:59.998",11,5,2,-1.9336,-2.7E-2,-2.1436999999999999]
[null,"2020-11-13T05:59:59.998",11,6,2,-1.9336,-2.7E-2,-2.1436999999999999]
[null,"2020-11-13T06:59:59.998",11,7,2,131.07499999999999,130.22,171.465]
[null,"2020-11-13T07:59:59.998",11,8,{"$f":"INDEX($AE$11:$BB$22,MATCH(C7625,$AD$11:$AD$22,0),MATCH(D7625,$AE$10:$BB$10,0))","v":2},555.96500000000003,682.1,622.32100000000003]
[null,"2020-11-13T08:59:59.998",{"$f":"MONTH(B7626)","v":11},{"$f":"HOUR(B7626)","v":9},2,1084.549,1040.8,1222.028]
[null,{"$f":"B7626+1/24","v":"2020-11-13T09:59:59.998"},11,10,2,1261.9680000000001,1190.0999999999999,1263.5920000000001]
[null,"2020-11-13T10:59:59.998",11,11,2,1356.0519999999999,1275.2,1244.0550000000001]
[null,"2020-11-13T11:59:59.998",11,12,2,1325.3389999999999,1233.5,1101.3030000000001]
[null,"2020-11-13T12:59:59.998",11,13,2,1214.537,1109.3,885.85500000000002]
[null,"2020-11-13T13:59:59.998",11,14,2,1033.0350000000001,911.99,591.85500000000002]
[null,"2020-11-13T14:59:59.998",11,15,2,601.78200000000004,479.61,197.91]
[null,"2020-11-13T15:59:59.998",11,16,4,133.15799999999999,67.058999999999997,41.05]
[null,"2020-11-13T16:59:59.998",11,17,4,-1.9336,-2.7E-2,-2.1436999999999999]
[null,"2020-11-13T17:59:59.998",11,18,4,-1.9336,-2.7E-2,-2.1436999999999999]
[null,"2020-11-13T18:59:59.998",11,19,4,-1.9336,-2.7E-2,-2.1436999999999999]
[null,"2020-11-13T19:59:59.998",11,20,4,-1.9336,-2.7E-2,-2.1436999999999999]
[null,"2020-11-13T20:59:59.998",11,21,2,-1.9336,-2.7E-2,-2.1436999999999999]
[null,"2020-11-13T21:59:59.998",11,22,2,-1.9336,-2.7E-2,-2.1436999999999999]
[null,"2020-11-13T22:59:59.998",11,23,2,-1.9336,-2.7E-2,-2.1436999999999999]
[null,"2020-11-13T23:59:59.998",11,0,2,-1.9336,-2.7E-2,-2.1436999999999999]
[null,"2020-11-14T00:59:59.998",11,1,2,-1.9336,-2.7E-2,-2.1436999999999999]
[null,"2020-11-14T01:59:59.998",11,2,2,-1.9336,-2.7E-2,-2.1436999999999999]
[null,"2020-11-14T02:59:59.998",11,3,2,-1.9336,-2.7E-2,-2.1436999999999999]
[null,"2020-11-14T03:59:59.998",11,4,2,-1.9336,-2.7E-2,-2.1436999999999999]
[null,"2020-11-14T04:59:59.998",11,5,2,-1.9336,-2.7E-2,-2.1436999999999999]
[null,"2020-11-14T05:59:59.998",11,6,2,-1.9336,-2.7E-2,-2.1436999999999999]
[null,"2020-11-14T06:59:59.998",11,7,2,136.17400000000001,131.56,177.81]
[null,"2020-11-14T07:59:59.998",11,8,2,479.94600000000003,584.54999999999995,545.55200000000002]
[null,"2020-11-14T08:59:59.998",11,9,2,856.99900000000002,826.93,951.88199999999995]
[null,"2020-11-14T09:59:59.998",11,10,2,1196.4860000000001,1130.8,1196.742]
[null,"2020-11-14T10:59:59.998",11,11,2,1155.3420000000001,1093.0999999999999,1067.0329999999999]
[null,"2020-11-14T11:59:59.998",11,12,2,1305.6420000000001,1215.7,1088.489]
[null,"2020-11-14T12:59:59.998",11,13,2,1157.1410000000001,1060.4000000000001,857.47299999999996]
[null,"2020-11-14T13:59:59.998",11,14,2,1045.3520000000001,922.75,601.24699999999996]
[null,"2020-11-14T14:59:59.998",11,15,2,630.11599999999999,489.68,192.28700000000001]
[null,"2020-11-14T15:59:59.998",11,16,4,88.040999999999997,57.442,38.856000000000002]
[null,"2020-11-14T16:59:59.998",11,17,4,-1.9336,-2.7E-2,-2.1436999999999999]
[null,"2020-11-14T17:59:59.998",11,18,4,-1.9336,-2.7E-2,-2.1436999999999999]
[null,"2020-11-14T18:59:59.998",11,19,4,-1.9336,-2.7E-2,-2.1436999999999999]
[null,"2020-11-14T19:59:59.998",11,20,4,-1.9336,-2.7E-2,-2.1436999999999999]
[null,"2020-11-14T20:59:59.998",11,21,2,-1.9336,-2.7E-2,-2.1436999999999999]
[null,"2020-11-14T21:59:59.998",11,22,2,-1.9336,-2.7E-2,-2.1436999999999999]
[null,"2020-11-14T22:59:59.998",11,23,2,-1.9336,-2.7E-2,-2.1436999999999999]
[null,"2020-11-14T23:59:59.998",11,0,2,-1.9336,-2.7E-2,-2.1436999999999999]
[null,"2020-11-15T00:59:59.998",11,1,2,-1.9336,-2.7E-2,-2.1436999999999999]
[null,"2020-11-15T01:59:59.998",11,2,2,-1.9336,-2.7E-2,-2.1436999999999999]
[null,"2020-11-15T02:59:59.998",11,3,2,-1.9336,-2.7E-2,-2.1436999999999999]
[null,"2020-11-15T03:59:59.998",11,4,2,-1.9336,-2.7E-2,-2.1436999999999999]
[null,"2020-11-15T04:59:59.998",11,5,2,-1.9336,-2.7E-2,-2.1436999999999999]
[null,"2020-11-15T05:59:59.998",11,6,2,-1.9336,-2.7E-2,-2.1436999999999999]
[null,"2020-11-15T06:59:59.998",11,7,2,133.12799999999999,128.32,174.18299999999999]
[null,"2020-11-15T07:59:59.998",11,8,2,517.73500000000001,656.22,601.62300000000005]
[null,"2020-11-15T08:59:59.998",11,9,2,1038.961,995.81,1170.0840000000001]
[null,"2020-11-15T09:59:59.998",11,10,2,1231.761,1159.2,1231.3399999999999]
[null,"2020-11-15T10:59:59.998",11,11,2,1350.096,1267.3,1237.0319999999999]
[null,"2020-11-15T11:59:59.998",11,12,2,1339.4849999999999,1245.3,1112.4480000000001]
[null,"2020-11-15T12:59:59.998",11,13,2,1256.271,1146.5,916.90300000000002]
[null,"2020-11-15T13:59:59.998",11,14,2,1052.9290000000001,924.79,593.46100000000001]
[null,"2020-11-15T14:59:59.998",11,15,2,663.01700000000005,502.47,188.21100000000001]
[null,"2020-11-15T15:59:59.998",11,16,4,97.007999999999996,61.926000000000002,41.286999999999999]
[null,"2020-11-15T16:59:59.998",11,17,4,-1.9336,-2.7E-2,-2.1436999999999999]
[null,"2020-11-15T17:59:59.998",11,18,4,-1.9336,-2.7E-2,-2.1436999999999999]
[null,"2020-11-15T18:59:59.998",11,19,4,-1.9336,-2.7E-2,-2.1436999999999999]
[null,"2020-11-15T19:59:59.998",11,20,4,-1.9336,-2.7E-2,-2.1436999999999999]
[null,"2020-11-15T20:59:59.998",11,21,2,-1.9336,-2.7E-2,-2.1436999999999999]
[null,"2020-11-15T21:59:59.998",11,22,2,-1.9336,-2.7E-2,-2.1436999999999999]
[null,"2020-11-15T22:59:59.998",11,23,2,-1.9336,-2.7E-2,-2.1436999999999999]
[null,"2020-11-15T23:59:59.998",11,0,{"$f":"INDEX($AE$11:$BB$22,MATCH(C7689,$AD$11:$AD$22,0),MATCH(D7689,$AE$10:$BB$10,0))","v":2},-1.9336,-2.7E-2,-2.1436999999999999]
[null,"2020-11-16T00:59:59.998",{"$f":"MONTH(B7690)","v":11},{"$f":"HOUR(B7690)","v":1},2,-1.9336,-2.7E-2,-2.1436999999999999]
[null,{"$f":"B7690+1/24","v":"2020-11-16T01:59:59.998"},11,2,2,-1.9336,-2.7E-2,-2.1436999999999999]
[null,"2020-11-16T02:59:59.998",11,3,2,-1.9336,-2.7E-2,-2.1436999999999999]
[null,"2020-11-16T03:59:59.998",11,4,2,-1.9336,-2.7E-2,-2.1436999999999999]
[null,"2020-11-16T04:59:59.998",11,5,2,-1.9336,-2.7E-2,-2.1436999999999999]
[null,"2020-11-16T05:59:59.998",11,6,2,-1.9336,-2.7E-2,-2.1436999999999999]
[null,"2020-11-16T06:59:59.998",11,7,2,121.49,113.58,159.65100000000001]
[null,"2020-11-16T07:59:59.998",11,8,2,488.06799999999998,618.71,575.40800000000002]
[null,"2020-11-16T08:59:59.998",11,9,2,1037.4280000000001,994.12,1168.8910000000001]
[null,"2020-11-16T09:59:59.998",11,10,2,1258.0419999999999,1183.0999999999999,1257.6030000000001]
[null,"2020-11-16T10:59:59.998",11,11,2,1370.759,1286.3,1256.3330000000001]
[null,"2020-11-16T11:59:59.998",11,12,2,1389.7080000000001,1291.5999999999999,1154.9490000000001]
[null,"2020-11-16T12:59:59.998",11,13,2,1262.325,1148.8,914.08100000000002]
[null,"2020-11-16T13:59:59.998",11,14,2,1039.3869999999999,910.38,580.04899999999998]
[null,"2020-11-16T14:59:59.998",11,15,2,652.69500000000005,487.59,184.85]
[null,"2020-11-16T15:59:59.998",11,16,4,92.697999999999993,57.533000000000001,38.75]
[null,"2020-11-16T16:59:59.998",11,17,4,-1.9336,-2.7E-2,-2.1436999999999999]
[null,"2020-11-16T17:59:59.998",11,18,4,-1.9336,-2.7E-2,-2.1436999999999999]
[null,"2020-11-16T18:59:59.998",11,19,4,-1.9336,-2.7E-2,-2.1436999999999999]
[null,"2020-11-16T19:59:59.998",11,20,4,-1.9336,-2.7E-2,-2.1436999999999999]
[null,"2020-11-16T20:59:59.998",11,21,2,-1.9336,-2.7E-2,-2.1436999999999999]
[null,"2020-11-16T21:59:59.998",11,22,2,-1.9336,-2.7E-2,-2.1436999999999999]
[null,"2020-11-16T22:59:59.998",11,23,2,-1.9336,-2.7E-2,-2.1436999999999999]
[null,"2020-11-16T23:59:59.998",11,0,2,-1.9336,-2.7E-2,-2.1436999999999999]
[null,"2020-11-17T00:59:59.998",11,1,2,-1.9336,-2.7E-2,-2.1436999999999999]
[null,"2020-11-17T01:59:59.998",11,2,2,-1.9336,-2.7E-2,-2.1436999999999999]
[null,"2020-11-17T02:59:59.998",11,3,2,-1.9336,-2.7E-2,-2.1436999999999999]
[null,"2020-11-17T03:59:59.998",11,4,2,-1.9336,-2.7E-2,-2.1436999999999999]
[null,"2020-11-17T04:59:59.998",11,5,2,-1.9336,-2.7E-2,-2.1436999999999999]
[null,"2020-11-17T05:59:59.998",11,6,2,-1.9336,-2.7E-2,-2.1436999999999999]
[null,"2020-11-17T06:59:59.998",11,7,2,130.839,116.83,167.74199999999999]
[null,"2020-11-17T07:59:59.998",11,8,2,500.089,663.28,603.27]
[null,"2020-11-17T08:59:59.998",11,9,2,1022.076,979.46,1154.326]
[null,"2020-11-17T09:59:59.998",11,10,2,1247.268,1171.4000000000001,1246.1659999999999]
[null,"2020-11-17T10:59:59.998",11,11,2,1348.058,1262.5,1232.816]
[null,"2020-11-17T11:59:59.998",11,12,2,1377.3420000000001,1278.2,1142.4480000000001]
[null,"2020-11-17T12:59:59.998",11,13,2,1274.82,1160.2,925.83299999999997]
[null,"2020-11-17T13:59:59.998",11,14,2,992.06100000000004,869.69,560.274]
[null,"2020-11-17T14:59:59.998",11,15,2,573.01099999999997,435.03,190.435]
[null,"2020-11-17T15:59:59.998",11,16,4,71.013000000000005,48.442,36.155000000000001]
[null,"2020-11-17T16:59:59.998",11,17,4,-1.9336,-2.7E-2,-2.1436999999999999]
[null,"2020-11-17T17:59:59.998",11,18,4,-1.9336,-2.7E-2,-2.1436999999999999]
[null,"2020-11-17T18:59:59.998",11,19,4,-1.9336,-2.7E-2,-2.1436999999999999]
[null,"2020-11-17T19:59:59.998",11,20,4,-1.9336,-2.7E-2,-2.1436999999999999]
[null,"2020-11-17T20:59:59.998",11,21,2,-1.9336,-2.7E-2,-2.1436999999999999]
[null,"2020-11-17T21:59:59.998",11,22,2,-1.9336,-2.7E-2,-2.1436999999999999]
[null,"2020-11-17T22:59:59.998",11,23,2,-1.9336,-2.7E-2,-2.1436999999999999]
[null,"2020-11-17T23:59:59.998",11,0,2,-1.9336,-2.7E-2,-2.1436999999999999]
[null,"2020-11-18T00:59:59.998",11,1,2,-1.9336,-2.7E-2,-2.1436999999999999]
[null,"2020-11-18T01:59:59.998",11,2,2,-1.9336,-2.7E-2,-2.1436999999999999]
[null,"2020-11-18T02:59:59.998",11,3,2,-1.9336,-2.7E-2,-2.1436999999999999]
[null,"2020-11-18T03:59:59.998",11,4,2,-1.9336,-2.7E-2,-2.1436999999999999]
[null,"2020-11-18T04:59:59.998",11,5,2,-1.9336,-2.7E-2,-2.1436999999999999]
[null,"2020-11-18T05:59:59.998",11,6,2,-1.9336,-2.7E-2,-2.1436999999999999]
[null,"2020-11-18T06:59:59.998",11,7,2,120.128,112.53,157.86500000000001]
[null,"2020-11-18T07:59:59.998",11,8,2,482.28100000000001,626.61,586.56500000000005]
[null,"2020-11-18T08:59:59.998",11,9,2,1054.644,1010.5,1192.7159999999999]
[null,"2020-11-18T09:59:59.998",11,10,2,1317.088,1237.2,1316.8019999999999]
[null,"2020-11-18T10:59:59.998",11,11,2,1418.23,1329.2,1297.9770000000001]
[null,"2020-11-18T11:59:59.998",11,12,2,1413.7539999999999,1309.4000000000001,1167.6410000000001]
[null,"2020-11-18T12:59:59.998",11,13,2,1289.826,1173,932.81799999999998]
[null,"2020-11-18T13:59:59.998",11,14,2,1053.4480000000001,920.52,586.20299999999997]
[null,"2020-11-18T14:59:59.998",11,15,2,626.40599999999995,462.15,191.75299999999999]
[null,"2020-11-18T15:59:59.998",11,16,{"$f":"INDEX($AE$11:$BB$22,MATCH(C7753,$AD$11:$AD$22,0),MATCH(D7753,$AE$10:$BB$10,0))","v":4},116.82299999999999,58.106000000000002,35.85]
[null,"2020-11-18T16:59:59.998",{"$f":"MONTH(B7754)","v":11},{"$f":"HOUR(B7754)","v":17},4,-1.9336,-2.7E-2,-2.1436999999999999]
[null,{"$f":"B7754+1/24","v":"2020-11-18T17:59:59.998"},11,18,4,-1.9336,-2.7E-2,-2.1436999999999999]
[null,"2020-11-18T18:59:59.998",11,19,4,-1.9336,-2.7E-2,-2.1436999999999999]
[null,"2020-11-18T19:59:59.998",11,20,4,-1.9336,-2.7E-2,-2.1436999999999999]
[null,"2020-11-18T20:59:59.998",11,21,2,-1.9336,-2.7E-2,-2.1436999999999999]
[null,"2020-11-18T21:59:59.998",11,22,2,-1.9336,-2.7E-2,-2.1436999999999999]
[null,"2020-11-18T22:59:59.998",11,23,2,-1.9336,-2.7E-2,-2.1436999999999999]
[null,"2020-11-18T23:59:59.998",11,0,2,-1.9336,-2.7E-2,-2.1436999999999999]
[null,"2020-11-19T00:59:59.998",11,1,2,-1.9336,-2.7E-2,-2.1436999999999999]
[null,"2020-11-19T01:59:59.998",11,2,2,-1.9336,-2.7E-2,-2.1436999999999999]
[null,"2020-11-19T02:59:59.998",11,3,2,-1.9336,-2.7E-2,-2.1436999999999999]
[null,"2020-11-19T03:59:59.998",11,4,2,-1.9336,-2.7E-2,-2.1436999999999999]
[null,"2020-11-19T04:59:59.998",11,5,2,-1.9336,-2.7E-2,-2.1436999999999999]
[null,"2020-11-19T05:59:59.998",11,6,2,-1.9336,-2.7E-2,-2.1436999999999999]
[null,"2020-11-19T06:59:59.998",11,7,2,116.169,106.66,153.03200000000001]
[null,"2020-11-19T07:59:59.998",11,8,2,451.22899999999998,601.62,561.99400000000003]
[null,"2020-11-19T08:59:59.998",11,9,2,973.53,931.59,1099.99]
[null,"2020-11-19T09:59:59.998",11,10,2,1210.6769999999999,1143.7,1218.1569999999999]
[null,"2020-11-19T10:59:59.998",11,11,2,1308.9680000000001,1223.7,1195.9590000000001]
[null,"2020-11-19T11:59:59.998",11,12,2,1349.3050000000001,1248.3,1116.146]
[null,"2020-11-19T12:59:59.998",11,13,2,1201.0329999999999,1091.7,875.16099999999994]
[null,"2020-11-19T13:59:59.998",11,14,2,1002.05,878.51,571.14599999999996]
[null,"2020-11-19T14:59:59.998",11,15,2,597.125,435.37,186.696]
[null,"2020-11-19T15:59:59.998",11,16,4,82.533000000000001,51.411000000000001,35.091000000000001]
[null,"2020-11-19T16:59:59.998",11,17,4,-1.9336,-2.7E-2,-2.1436999999999999]
[null,"2020-11-19T17:59:59.998",11,18,4,-1.9336,-2.7E-2,-2.1436999999999999]
[null,"2020-11-19T18:59:59.998",11,19,4,-1.9336,-2.7E-2,-2.1436999999999999]
[null,"2020-11-19T19:59:59.998",11,20,4,-1.9336,-2.7E-2,-2.1436999999999999]
[null,"2020-11-19T20:59:59.998",11,21,2,-1.9336,-2.7E-2,-2.1436999999999999]
[null,"2020-11-19T21:59:59.998",11,22,2,-1.9336,-2.7E-2,-2.1436999999999999]
[null,"2020-11-19T22:59:59.998",11,23,2,-1.9336,-2.7E-2,-2.1436999999999999]
[null,"2020-11-19T23:59:59.998",11,0,2,-1.9336,-2.7E-2,-2.1436999999999999]
[null,"2020-11-20T00:59:59.998",11,1,2,-1.9336,-2.7E-2,-2.1436999999999999]
[null,"2020-11-20T01:59:59.998",11,2,2,-1.9336,-2.7E-2,-2.1436999999999999]
[null,"2020-11-20T02:59:59.998",11,3,2,-1.9336,-2.7E-2,-2.1436999999999999]
[null,"2020-11-20T03:59:59.998",11,4,2,-1.9336,-2.7E-2,-2.1436999999999999]
[null,"2020-11-20T04:59:59.998",11,5,2,-1.9336,-2.7E-2,-2.1436999999999999]
[null,"2020-11-20T05:59:59.998",11,6,2,-1.9336,-2.7E-2,-2.1436999999999999]
[null,"2020-11-20T06:59:59.998",11,7,2,116.453,105.5,153.244]
[null,"2020-11-20T07:59:59.998",11,8,2,459.06799999999998,616.99,579.22299999999996]
[null,"2020-11-20T08:59:59.998",11,9,2,999.678,957.61,1130.1089999999999]
[null,"2020-11-20T09:59:59.998",11,10,2,1224.191,1159.0999999999999,1234.722]
[null,"2020-11-20T10:59:59.998",11,11,2,1312.9010000000001,1225.2,1197.3820000000001]
[null,"2020-11-20T11:59:59.998",11,12,2,1300.529,1202.7,1076.616]
[null,"2020-11-20T12:59:59.998",11,13,2,1265.461,1148.8,919.10299999999995]
[null,"2020-11-20T13:59:59.998",11,14,2,1030.7950000000001,900.28,578.17399999999998]
[null,"2020-11-20T14:59:59.998",11,15,2,609.20500000000004,432.27,179.86699999999999]
[null,"2020-11-20T15:59:59.998",11,16,4,59.655999999999999,42.195999999999998,32.271999999999998]
[null,"2020-11-20T16:59:59.998",11,17,4,-1.9336,-2.7E-2,-2.1436999999999999]
[null,"2020-11-20T17:59:59.998",11,18,4,-1.9336,-2.7E-2,-2.1436999999999999]
[null,"2020-11-20T18:59:59.998",11,19,4,-1.9336,-2.7E-2,-2.1436999999999999]
[null,"2020-11-20T19:59:59.998",11,20,4,-1.9336,-2.7E-2,-2.1436999999999999]
[null,"2020-11-20T20:59:59.998",11,21,2,-1.9336,-2.7E-2,-2.1436999999999999]
[null,"2020-11-20T21:59:59.998",11,22,2,-1.9336,-2.7E-2,-2.1436999999999999]
[null,"2020-11-20T22:59:59.998",11,23,2,-1.9336,-2.7E-2,-2.1436999999999999]
[null,"2020-11-20T23:59:59.998",11,0,2,-1.9336,-2.7E-2,-2.1436999999999999]
[null,"2020-11-21T00:59:59.998",11,1,2,-1.9336,-2.7E-2,-2.1436999999999999]
[null,"2020-11-21T01:59:59.998",11,2,2,-1.9336,-2.7E-2,-2.1436999999999999]
[null,"2020-11-21T02:59:59.998",11,3,2,-1.9336,-2.7E-2,-2.1436999999999999]
[null,"2020-11-21T03:59:59.998",11,4,2,-1.9336,-2.7E-2,-2.1436999999999999]
[null,"2020-11-21T04:59:59.998",11,5,2,-1.9336,-2.7E-2,-2.1436999999999999]
[null,"2020-11-21T05:59:59.998",11,6,2,-1.9336,-2.7E-2,-2.1436999999999999]
[null,"2020-11-21T06:59:59.998",11,7,2,60.805,58.82,80.134]
[null,"2020-11-21T07:59:59.998",11,8,{"$f":"INDEX($AE$11:$BB$22,MATCH(C7817,$AD$11:$AD$22,0),MATCH(D7817,$AE$10:$BB$10,0))","v":2},424.404,565.52,538.20399999999995]
[null,"2020-11-21T08:59:59.998",{"$f":"MONTH(B7818)","v":11},{"$f":"HOUR(B7818)","v":9},2,1009.543,966.71,1138.74]
[null,{"$f":"B7818+1/24","v":"2020-11-21T09:59:59.998"},11,10,2,1272.451,1205.2,1285.489]
[null,"2020-11-21T10:59:59.998",11,11,2,1419.6089999999999,1326.6,1296.664]
[null,"2020-11-21T11:59:59.998",11,12,2,1425.924,1318.4,1177.057]
[null,"2020-11-21T12:59:59.998",11,13,2,1288.5899999999999,1168.2,928.928]
[null,"2020-11-21T13:59:59.998",11,14,2,1010.561,880.38,562.471]
[null,"2020-11-21T14:59:59.998",11,15,2,617.79200000000003,427.95,175.351]
[null,"2020-11-21T15:59:59.998",11,16,4,82.302999999999997,51.238,34.869]
[null,"2020-11-21T16:59:59.998",11,17,4,-1.9336,-2.7E-2,-2.1436999999999999]
[null,"2020-11-21T17:59:59.998",11,18,4,-1.9336,-2.7E-2,-2.1436999999999999]
[null,"2020-11-21T18:59:59.998",11,19,4,-1.9336,-2.7E-2,-2.1436999999999999]
[null,"2020-11-21T19:59:59.998",11,20,4,-1.9336,-2.7E-2,-2.1436999999999999]
[null,"2020-11-21T20:59:59.998",11,21,2,-1.9336,-2.7E-2,-2.1436999999999999]
[null,"2020-11-21T21:59:59.998",11,22,2,-1.9336,-2.7E-2,-2.1436999999999999]
[null,"2020-11-21T22:59:59.998",11,23,2,-1.9336,-2.7E-2,-2.1436999999999999]
[null,"2020-11-21T23:59:59.998",11,0,2,-1.9336,-2.7E-2,-2.1436999999999999]
[null,"2020-11-22T00:59:59.998",11,1,2,-1.9336,-2.7E-2,-2.1436999999999999]
[null,"2020-11-22T01:59:59.998",11,2,2,-1.9336,-2.7E-2,-2.1436999999999999]
[null,"2020-11-22T02:59:59.998",11,3,2,-1.9336,-2.7E-2,-2.1436999999999999]
[null,"2020-11-22T03:59:59.998",11,4,2,-1.9336,-2.7E-2,-2.1436999999999999]
[null,"2020-11-22T04:59:59.998",11,5,2,-1.9336,-2.7E-2,-2.1436999999999999]
[null,"2020-11-22T05:59:59.998",11,6,2,-1.9336,-2.7E-2,-2.1436999999999999]
[null,"2020-11-22T06:59:59.998",11,7,2,96.090999999999994,84.299000000000007,119.68]
[null,"2020-11-22T07:59:59.998",11,8,2,434.61700000000002,608.41,571.22299999999996]
[null,"2020-11-22T08:59:59.998",11,9,2,992.87699999999995,948.98,1123.155]
[null,"2020-11-22T09:59:59.998",11,10,2,1285.2439999999999,1218.8,1300.6020000000001]
[null,"2020-11-22T10:59:59.998",11,11,2,1425.1579999999999,1329.9,1299.7850000000001]
[null,"2020-11-22T11:59:59.998",11,12,2,1418.3240000000001,1309.8,1168.4359999999999]
[null,"2020-11-22T12:59:59.998",11,13,2,1286.9259999999999,1164.7,925.79300000000001]
[null,"2020-11-22T13:59:59.998",11,14,2,1010.472,879.83,563.64200000000005]
[null,"2020-11-22T14:59:59.998",11,15,2,567.96799999999996,395.07,174.017]
[null,"2020-11-22T15:59:59.998",11,16,4,62.231000000000002,44.115000000000002,33.106000000000002]
[null,"2020-11-22T16:59:59.998",11,17,4,-1.9336,-2.7E-2,-2.1436999999999999]
[null,"2020-11-22T17:59:59.998",11,18,4,-1.9336,-2.7E-2,-2.1436999999999999]
[null,"2020-11-22T18:59:59.998",11,19,4,-1.9336,-2.7E-2,-2.1436999999999999]
[null,"2020-11-22T19:59:59.998",11,20,4,-1.9336,-2.7E-2,-2.1436999999999999]
[null,"2020-11-22T20:59:59.998",11,21,2,-1.9336,-2.7E-2,-2.1436999999999999]
[null,"2020-11-22T21:59:59.998",11,22,2,-1.9336,-2.7E-2,-2.1436999999999999]
[null,"2020-11-22T22:59:59.998",11,23,2,-1.9336,-2.7E-2,-2.1436999999999999]
[null,"2020-11-22T23:59:59.998",11,0,2,-1.9336,-2.7E-2,-2.1436999999999999]
[null,"2020-11-23T00:59:59.998",11,1,2,-1.9336,-2.7E-2,-2.1436999999999999]
[null,"2020-11-23T01:59:59.998",11,2,2,-1.9336,-2.7E-2,-2.1436999999999999]
[null,"2020-11-23T02:59:59.998",11,3,2,-1.9336,-2.7E-2,-2.1436999999999999]
[null,"2020-11-23T03:59:59.998",11,4,2,-1.9336,-2.7E-2,-2.1436999999999999]
[null,"2020-11-23T04:59:59.998",11,5,2,-1.9336,-2.7E-2,-2.1436999999999999]
[null,"2020-11-23T05:59:59.998",11,6,2,-1.9336,-2.7E-2,-2.1436999999999999]
[null,"2020-11-23T06:59:59.998",11,7,2,57.481999999999999,58.625,73.340999999999994]
[null,"2020-11-23T07:59:59.998",11,8,2,239.435,288.60000000000002,287.572]
[null,"2020-11-23T08:59:59.998",11,9,2,336.26100000000002,345.01,360.01600000000002]
[null,"2020-11-23T09:59:59.998",11,10,2,655.41200000000003,644.23,663.31100000000004]
[null,"2020-11-23T10:59:59.998",11,11,2,748.43899999999996,723.68,704.90499999999997]
[null,"2020-11-23T11:59:59.998",11,12,2,898.23800000000006,851.93,779.58]
[null,"2020-11-23T12:59:59.998",11,13,2,304.41899999999998,318.33,294.339]
[null,"2020-11-23T13:59:59.998",11,14,2,628.00400000000002,570.14,411.18099999999998]
[null,"2020-11-23T14:59:59.998",11,15,2,336.214,268.79000000000002,161.476]
[null,"2020-11-23T15:59:59.998",11,16,4,51.152000000000001,38.414999999999999,29.849]
[null,"2020-11-23T16:59:59.998",11,17,4,-1.9336,-2.7E-2,-2.1436999999999999]
[null,"2020-11-23T17:59:59.998",11,18,4,-1.9336,-2.7E-2,-2.1436999999999999]
[null,"2020-11-23T18:59:59.998",11,19,4,-1.9336,-2.7E-2,-2.1436999999999999]
[null,"2020-11-23T19:59:59.998",11,20,4,-1.9336,-2.7E-2,-2.1436999999999999]
[null,"2020-11-23T20:59:59.998",11,21,2,-1.9336,-2.7E-2,-2.1436999999999999]
[null,"2020-11-23T21:59:59.998",11,22,2,-1.9336,-2.7E-2,-2.1436999999999999]
[null,"2020-11-23T22:59:59.998",11,23,2,-1.9336,-2.7E-2,-2.1436999999999999]
[null,"2020-11-23T23:59:59.998",11,0,{"$f":"INDEX($AE$11:$BB$22,MATCH(C7881,$AD$11:$AD$22,0),MATCH(D7881,$AE$10:$BB$10,0))","v":2},-1.9336,-2.7E-2,-2.1436999999999999]
[null,"2020-11-24T00:59:59.998",{"$f":"MONTH(B7882)","v":11},{"$f":"HOUR(B7882)","v":1},2,-1.9336,-2.7E-2,-2.1436999999999999]
[null,{"$f":"B7882+1/24","v":"2020-11-24T01:59:59.998"},11,2,2,-1.9336,-2.7E-2,-2.1436999999999999]
[null,"2020-11-24T02:59:59.998",11,3,2,-1.9336,-2.7E-2,-2.1436999999999999]
[null,"2020-11-24T03:59:59.998",11,4,2,-1.9336,-2.7E-2,-2.1436999999999999]
[null,"2020-11-24T04:59:59.998",11,5,2,-1.9336,-2.7E-2,-2.1436999999999999]
[null,"2020-11-24T05:59:59.998",11,6,2,-1.9336,-2.7E-2,-2.1436999999999999]
[null,"2020-11-24T06:59:59.998",11,7,2,8.2285000000000004,14.885,12.747999999999999]
[null,"2020-11-24T07:59:59.998",11,8,2,63.761000000000003,72.117999999999995,67.462000000000003]
[null,"2020-11-24T08:59:59.998",11,9,2,95.703000000000003,106.56,100.01600000000001]
[null,"2020-11-24T09:59:59.998",11,10,2,184.363,201.37,192.916]
[null,"2020-11-24T10:59:59.998",11,11,2,996.803,945.28,923.65800000000002]
[null,"2020-11-24T11:59:59.998",11,12,2,1325.3219999999999,1222,1095.367]
[null,"2020-11-24T12:59:59.998",11,13,2,1274.1579999999999,1149.4000000000001,913.55899999999997]
[null,"2020-11-24T13:59:59.998",11,14,2,1039.8510000000001,900.96,571.48]
[null,"2020-11-24T14:59:59.998",11,15,2,603.01199999999994,401.83,173.50800000000001]
[null,"2020-11-24T15:59:59.998",11,16,4,109.935,57.146000000000001,35.094999999999999]
[null,"2020-11-24T16:59:59.998",11,17,4,-1.9336,-2.7E-2,-2.1436999999999999]
[null,"2020-11-24T17:59:59.998",11,18,4,-1.9336,-2.7E-2,-2.1436999999999999]
[null,"2020-11-24T18:59:59.998",11,19,4,-1.9336,-2.7E-2,-2.1436999999999999]
[null,"2020-11-24T19:59:59.998",11,20,4,-1.9336,-2.7E-2,-2.1436999999999999]
[null,"2020-11-24T20:59:59.998",11,21,2,-1.9336,-2.7E-2,-2.1436999999999999]
[null,"2020-11-24T21:59:59.998",11,22,2,-1.9336,-2.7E-2,-2.1436999999999999]
[null,"2020-11-24T22:59:59.998",11,23,2,-1.9336,-2.7E-2,-2.1436999999999999]
[null,"2020-11-24T23:59:59.998",11,0,2,-1.9336,-2.7E-2,-2.1436999999999999]
[null,"2020-11-25T00:59:59.998",11,1,2,-1.9336,-2.7E-2,-2.1436999999999999]
[null,"2020-11-25T01:59:59.998",11,2,2,-1.9336,-2.7E-2,-2.1436999999999999]
[null,"2020-11-25T02:59:59.998",11,3,2,-1.9336,-2.7E-2,-2.1436999999999999]
[null,"2020-11-25T03:59:59.998",11,4,2,-1.9336,-2.7E-2,-2.1436999999999999]
[null,"2020-11-25T04:59:59.998",11,5,2,-1.9336,-2.7E-2,-2.1436999999999999]
[null,"2020-11-25T05:59:59.998",11,6,2,-1.9336,-2.7E-2,-2.1436999999999999]
[null,"2020-11-25T06:59:59.998",11,7,2,75.997,69.697999999999993,98.165000000000006]
[null,"2020-11-25T07:59:59.998",11,8,2,388.452,561.67999999999995,537.44100000000003]
[null,"2020-11-25T08:59:59.998",11,9,2,946.63400000000001,903.54,1073.4659999999999]
[null,"2020-11-25T09:59:59.998",11,10,2,1159.3810000000001,1101.5,1176.4739999999999]
[null,"2020-11-25T10:59:59.998",11,11,2,1329.704,1234.5999999999999,1208.5260000000001]
[null,"2020-11-25T11:59:59.998",11,12,2,1318.383,1213.4000000000001,1086.182]
[null,"2020-11-25T12:59:59.998",11,13,2,1169.854,1059.2,853.35900000000004]
[null,"2020-11-25T13:59:59.998",11,14,2,1014.053,880.49,566.28399999999999]
[null,"2020-11-25T14:59:59.998",11,15,2,592.41899999999998,391.64,173.08799999999999]
[null,"2020-11-25T15:59:59.998",11,16,4,61.95,43.543999999999997,32.784999999999997]
[null,"2020-11-25T16:59:59.998",11,17,4,-1.9336,-2.7E-2,-2.1436999999999999]
[null,"2020-11-25T17:59:59.998",11,18,4,-1.9336,-2.7E-2,-2.1436999999999999]
[null,"2020-11-25T18:59:59.998",11,19,4,-1.9336,-2.7E-2,-2.1436999999999999]
[null,"2020-11-25T19:59:59.998",11,20,4,-1.9336,-2.7E-2,-2.1436999999999999]
[null,"2020-11-25T20:59:59.998",11,21,2,-1.9336,-2.7E-2,-2.1436999999999999]
[null,"2020-11-25T21:59:59.998",11,22,2,-1.9336,-2.7E-2,-2.1436999999999999]
[null,"2020-11-25T22:59:59.998",11,23,2,-1.9336,-2.7E-2,-2.1436999999999999]
[null,"2020-11-25T23:59:59.998",11,0,2,-1.9336,-2.7E-2,-2.1436999999999999]
[null,"2020-11-26T00:59:59.998",11,1,2,-1.9336,-2.7E-2,-2.1436999999999999]
[null,"2020-11-26T01:59:59.998",11,2,2,-1.9336,-2.7E-2,-2.1436999999999999]
[null,"2020-11-26T02:59:59.998",11,3,2,-1.9336,-2.7E-2,-2.1436999999999999]
[null,"2020-11-26T03:59:59.998",11,4,2,-1.9336,-2.7E-2,-2.1436999999999999]
[null,"2020-11-26T04:59:59.998",11,5,2,-1.9336,-2.7E-2,-2.1436999999999999]
[null,"2020-11-26T05:59:59.998",11,6,2,-1.9336,-2.7E-2,-2.1436999999999999]
[null,"2020-11-26T06:59:59.998",11,7,2,109.163,83.405000000000001,133.648]
[null,"2020-11-26T07:59:59.998",11,8,2,394.31299999999999,571.19000000000005,551.49900000000002]
[null,"2020-11-26T08:59:59.998",11,9,2,895.01199999999994,858.95,1007.399]
[null,"2020-11-26T09:59:59.998",11,10,2,791.62800000000004,766.88,801.84199999999998]
[null,"2020-11-26T10:59:59.998",11,11,2,1124.6410000000001,1053.8,1032.2159999999999]
[null,"2020-11-26T11:59:59.998",11,12,2,1244.818,1148.5999999999999,1033.327]
[null,"2020-11-26T12:59:59.998",11,13,2,1247.8330000000001,1124.9000000000001,898.10699999999997]
[null,"2020-11-26T13:59:59.998",11,14,2,1018.729,881.35,560.66999999999996]
[null,"2020-11-26T14:59:59.998",11,15,2,638.346,414.39,183.489]
[null,"2020-11-26T15:59:59.998",11,16,{"$f":"INDEX($AE$11:$BB$22,MATCH(C7945,$AD$11:$AD$22,0),MATCH(D7945,$AE$10:$BB$10,0))","v":4},89.144000000000005,52.561,35.414999999999999]
[null,"2020-11-26T16:59:59.998",{"$f":"MONTH(B7946)","v":11},{"$f":"HOUR(B7946)","v":17},4,-1.9336,-2.7E-2,-2.1436999999999999]
[null,{"$f":"B7946+1/24","v":"2020-11-26T17:59:59.998"},11,18,4,-1.9336,-2.7E-2,-2.1436999999999999]
[null,"2020-11-26T18:59:59.998",11,19,4,-1.9336,-2.7E-2,-2.1436999999999999]
[null,"2020-11-26T19:59:59.998",11,20,4,-1.9336,-2.7E-2,-2.1436999999999999]
[null,"2020-11-26T20:59:59.998",11,21,2,-1.9336,-2.7E-2,-2.1436999999999999]
[null,"2020-11-26T21:59:59.998",11,22,2,-1.9336,-2.7E-2,-2.1436999999999999]
[null,"2020-11-26T22:59:59.998",11,23,2,-1.9336,-2.7E-2,-2.1436999999999999]
[null,"2020-11-26T23:59:59.998",11,0,2,-1.9336,-2.7E-2,-2.1436999999999999]
[null,"2020-11-27T00:59:59.998",11,1,2,-1.9336,-2.7E-2,-2.1436999999999999]
[null,"2020-11-27T01:59:59.998",11,2,2,-1.9336,-2.7E-2,-2.1436999999999999]
[null,"2020-11-27T02:59:59.998",11,3,2,-1.9336,-2.7E-2,-2.1436999999999999]
[null,"2020-11-27T03:59:59.998",11,4,2,-1.9336,-2.7E-2,-2.1436999999999999]
[null,"2020-11-27T04:59:59.998",11,5,2,-1.9336,-2.7E-2,-2.1436999999999999]
[null,"2020-11-27T05:59:59.998",11,6,2,-1.9336,-2.7E-2,-2.1436999999999999]
[null,"2020-11-27T06:59:59.998",11,7,2,6.9151000000000007,13.755000000000001,11.599]
[null,"2020-11-27T07:59:59.998",11,8,2,75.569000000000003,84.369,79.501999999999995]
[null,"2020-11-27T08:59:59.998",11,9,2,255.39400000000001,266.20999999999998,273.88]
[null,"2020-11-27T09:59:59.998",11,10,2,215.215,233.51,224.31399999999999]
[null,"2020-11-27T10:59:59.998",11,11,2,388.65699999999998,395.84,383.04199999999997]
[null,"2020-11-27T11:59:59.998",11,12,2,267.447,277.23,259.26400000000001]
[null,"2020-11-27T12:59:59.998",11,13,2,185.56299999999999,203.21,190.96600000000001]
[null,"2020-11-27T13:59:59.998",11,14,2,174.26,189.88,175.196]
[null,"2020-11-27T14:59:59.998",11,15,2,46.01,54.488,53.122]
[null,"2020-11-27T15:59:59.998",11,16,4,-1.9336,-2.7E-2,-2.1436999999999999]
[null,"2020-11-27T16:59:59.998",11,17,4,-1.9336,-2.7E-2,-2.1436999999999999]
[null,"2020-11-27T17:59:59.998",11,18,4,-1.9336,-2.7E-2,-2.1436999999999999]
[null,"2020-11-27T18:59:59.998",11,19,4,-1.9336,-2.7E-2,-2.1436999999999999]
[null,"2020-11-27T19:59:59.998",11,20,4,-1.9336,-2.7E-2,-2.1436999999999999]
[null,"2020-11-27T20:59:59.998",11,21,2,-1.9336,-2.7E-2,-2.1436999999999999]
[null,"2020-11-27T21:59:59.998",11,22,2,-1.9336,-2.7E-2,-2.1436999999999999]
[null,"2020-11-27T22:59:59.998",11,23,2,-1.9336,-2.7E-2,-2.1436999999999999]
[null,"2020-11-27T23:59:59.998",11,0,2,-1.9336,-2.7E-2,-2.1436999999999999]
[null,"2020-11-28T00:59:59.998",11,1,2,-1.9336,-2.7E-2,-2.1436999999999999]
[null,"2020-11-28T01:59:59.998",11,2,2,-1.9336,-2.7E-2,-2.1436999999999999]
[null,"2020-11-28T02:59:59.998",11,3,2,-1.9336,-2.7E-2,-2.1436999999999999]
[null,"2020-11-28T03:59:59.998",11,4,2,-1.9336,-2.7E-2,-2.1436999999999999]
[null,"2020-11-28T04:59:59.998",11,5,2,-1.9336,-2.7E-2,-2.1436999999999999]
[null,"2020-11-28T05:59:59.998",11,6,2,-1.9336,-2.7E-2,-2.1436999999999999]
[null,"2020-11-28T06:59:59.998",11,7,2,-1.9336,-2.7E-2,-2.1436999999999999]
[null,"2020-11-28T07:59:59.998",11,8,2,68.659000000000006,77.141000000000005,72.507999999999996]
[null,"2020-11-28T08:59:59.998",11,9,2,136.94200000000001,152.01,144.185]
[null,"2020-11-28T09:59:59.998",11,10,2,172.584,190.25,180.958]
[null,"2020-11-28T10:59:59.998",11,11,2,145.79499999999999,162.35,152.958]
[null,"2020-11-28T11:59:59.998",11,12,2,222.227,240.59,228.18700000000001]
[null,"2020-11-28T12:59:59.998",11,13,2,132.10599999999999,147.01,138.191]
[null,"2020-11-28T13:59:59.998",11,14,2,173.71700000000001,187,169.02]
[null,"2020-11-28T14:59:59.998",11,15,2,50.978999999999999,59.298999999999999,57.313000000000002]
[null,"2020-11-28T15:59:59.998",11,16,4,-1.9336,-2.7E-2,-2.1436999999999999]
[null,"2020-11-28T16:59:59.998",11,17,4,-1.9336,-2.7E-2,-2.1436999999999999]
[null,"2020-11-28T17:59:59.998",11,18,4,-1.9336,-2.7E-2,-2.1436999999999999]
[null,"2020-11-28T18:59:59.998",11,19,4,-1.9336,-2.7E-2,-2.1436999999999999]
[null,"2020-11-28T19:59:59.998",11,20,4,-1.9336,-2.7E-2,-2.1436999999999999]
[null,"2020-11-28T20:59:59.998",11,21,2,-1.9336,-2.7E-2,-2.1436999999999999]
[null,"2020-11-28T21:59:59.998",11,22,2,-1.9336,-2.7E-2,-2.1436999999999999]
[null,"2020-11-28T22:59:59.998",11,23,2,-1.9336,-2.7E-2,-2.1436999999999999]
[null,"2020-11-28T23:59:59.998",11,0,2,-1.9336,-2.7E-2,-2.1436999999999999]
[null,"2020-11-29T00:59:59.998",11,1,2,-1.9336,-2.7E-2,-2.1436999999999999]
[null,"2020-11-29T01:59:59.998",11,2,2,-1.9336,-2.7E-2,-2.1436999999999999]
[null,"2020-11-29T02:59:59.998",11,3,2,-1.9336,-2.7E-2,-2.1436999999999999]
[null,"2020-11-29T03:59:59.998",11,4,2,-1.9336,-2.7E-2,-2.1436999999999999]
[null,"2020-11-29T04:59:59.998",11,5,2,-1.9336,-2.7E-2,-2.1436999999999999]
[null,"2020-11-29T05:59:59.998",11,6,2,-1.9336,-2.7E-2,-2.1436999999999999]
[null,"2020-11-29T06:59:59.998",11,7,2,41.12,39.055999999999997,56.231000000000002]
[null,"2020-11-29T07:59:59.998",11,8,{"$f":"INDEX($AE$11:$BB$22,MATCH(C8009,$AD$11:$AD$22,0),MATCH(D8009,$AE$10:$BB$10,0))","v":2},355.96499999999997,517.82000000000005,513.36699999999996]
[null,"2020-11-29T08:59:59.998",{"$f":"MONTH(B8010)","v":11},{"$f":"HOUR(B8010)","v":9},2,836.20799999999997,803.58,910.024]
[null,{"$f":"B8010+1/24","v":"2020-11-29T09:59:59.998"},11,10,2,606.43200000000002,590.04999999999995,615.62199999999996]
[null,"2020-11-29T10:59:59.998",11,11,2,923.69899999999996,872.77,853.53399999999999]
[null,"2020-11-29T11:59:59.998",11,12,2,904.38699999999994,848.97,771.57500000000005]
[null,"2020-11-29T12:59:59.998",11,13,2,410.58499999999998,393.98,337.69400000000002]
[null,"2020-11-29T13:59:59.998",11,14,2,111.119,123.57,115.938]
[null,"2020-11-29T14:59:59.998",11,15,2,38.665999999999997,47.058,46.488999999999997]
[null,"2020-11-29T15:59:59.998",11,16,4,-0.29426999999999998,-2.7E-2,9.1321000000000012]
[null,"2020-11-29T16:59:59.998",11,17,4,-1.9336,-2.7E-2,-2.1436999999999999]
[null,"2020-11-29T17:59:59.998",11,18,4,-1.9336,-2.7E-2,-2.1436999999999999]
[null,"2020-11-29T18:59:59.998",11,19,4,-1.9336,-2.7E-2,-2.1436999999999999]
[null,"2020-11-29T19:59:59.998",11,20,4,-1.9336,-2.7E-2,-2.1436999999999999]
[null,"2020-11-29T20:59:59.998",11,21,2,-1.9336,-2.7E-2,-2.1436999999999999]
[null,"2020-11-29T21:59:59.998",11,22,2,-1.9336,-2.7E-2,-2.1436999999999999]
[null,"2020-11-29T22:59:59.998",11,23,2,-1.9336,-2.7E-2,-2.1436999999999999]
[null,"2020-11-29T23:59:59.998",11,0,2,-1.9336,-2.7E-2,-2.1436999999999999]
[null,"2020-11-30T00:59:59.998",11,1,2,-1.9336,-2.7E-2,-2.1436999999999999]
[null,"2020-11-30T01:59:59.998",11,2,2,-1.9336,-2.7E-2,-2.1436999999999999]
[null,"2020-11-30T02:59:59.998",11,3,2,-1.9336,-2.7E-2,-2.1436999999999999]
[null,"2020-11-30T03:59:59.998",11,4,2,-1.9336,-2.7E-2,-2.1436999999999999]
[null,"2020-11-30T04:59:59.998",11,5,2,-1.9336,-2.7E-2,-2.1436999999999999]
[null,"2020-11-30T05:59:59.998",11,6,2,-1.9336,-2.7E-2,-2.1436999999999999]
[null,"2020-11-30T06:59:59.998",11,7,2,80.744,66.977000000000004,97.49]
[null,"2020-11-30T07:59:59.998",11,8,2,361.54700000000003,556.91999999999996,544.21699999999998]
[null,"2020-11-30T08:59:59.998",11,9,2,1008.184,961.39,1046.684]
[null,"2020-11-30T09:59:59.998",11,10,2,1260.29,1205,1281.576]
[null,"2020-11-30T10:59:59.998",11,11,2,1409.5920000000001,1303.7,1267.4110000000001]
[null,"2020-11-30T11:59:59.998",11,12,2,1385.4849999999999,1269.5999999999999,1125.5429999999999]
[null,"2020-11-30T12:59:59.998",11,13,2,1249.77,1133,896.26400000000001]
[null,"2020-11-30T13:59:59.998",11,14,2,1002.489,865.56,549.83100000000002]
[null,"2020-11-30T14:59:59.998",11,15,2,556.19000000000005,357.48,173.55099999999999]
[null,"2020-11-30T15:59:59.998",11,16,4,60.411999999999999,45.48,33.115000000000002]
[null,"2020-11-30T16:59:59.998",11,17,4,-1.9336,-2.7E-2,-2.1436999999999999]
[null,"2020-11-30T17:59:59.998",11,18,4,-1.9336,-2.7E-2,-2.1436999999999999]
[null,"2020-11-30T18:59:59.998",11,19,4,-1.9336,-2.7E-2,-2.1436999999999999]
[null,"2020-11-30T19:59:59.998",11,20,4,-1.9336,-2.7E-2,-2.1436999999999999]
[null,"2020-11-30T20:59:59.998",11,21,2,-1.9336,-2.7E-2,-2.1436999999999999]
[null,"2020-11-30T21:59:59.998",11,22,2,-1.9336,-2.7E-2,-2.1436999999999999]
[null,"2020-11-30T22:59:59.998",11,23,2,-1.9336,-2.7E-2,-2.1436999999999999]
[null,"2020-11-30T23:59:59.998",12,0,2,-1.9336,-2.7E-2,-2.1436999999999999]
[null,"2020-12-01T00:59:59.998",12,1,2,-1.9336,-2.7E-2,-2.1436999999999999]
[null,"2020-12-01T01:59:59.998",12,2,2,-1.9336,-2.7E-2,-2.1436999999999999]
[null,"2020-12-01T02:59:59.998",12,3,2,-1.9336,-2.7E-2,-2.1436999999999999]
[null,"2020-12-01T03:59:59.998",12,4,2,-1.9336,-2.7E-2,-2.1436999999999999]
[null,"2020-12-01T04:59:59.998",12,5,2,-1.9336,-2.7E-2,-2.1436999999999999]
[null,"2020-12-01T05:59:59.998",12,6,2,-1.9336,-2.7E-2,-2.1436999999999999]
[null,"2020-12-01T06:59:59.998",12,7,2,58.2,56.156999999999996,73.055000000000007]
[null,"2020-12-01T07:59:59.998",12,8,2,338.05,498.66,496.27600000000001]
[null,"2020-12-01T08:59:59.998",12,9,2,986.31500000000005,940.05,975.25900000000001]
[null,"2020-12-01T09:59:59.998",12,10,2,1232.182,1178.9000000000001,1254.5519999999999]
[null,"2020-12-01T10:59:59.998",12,11,2,1399.663,1293.5999999999999,1258.117]
[null,"2020-12-01T11:59:59.998",12,12,2,1395.327,1277.3,1132.0250000000001]
[null,"2020-12-01T12:59:59.998",12,13,2,1265.586,1145.2,901.41]
[null,"2020-12-01T13:59:59.998",12,14,2,1035.25,891.8,562.98500000000001]
[null,"2020-12-01T14:59:59.998",12,15,2,602.79399999999998,373.41,173.43100000000001]
[null,"2020-12-01T15:59:59.998",12,16,4,49.543999999999997,36.442999999999998,27.821999999999999]
[null,"2020-12-01T16:59:59.998",12,17,4,-1.9336,-2.7E-2,-2.1436999999999999]
[null,"2020-12-01T17:59:59.998",12,18,4,-1.9336,-2.7E-2,-2.1436999999999999]
[null,"2020-12-01T18:59:59.998",12,19,4,-1.9336,-2.7E-2,-2.1436999999999999]
[null,"2020-12-01T19:59:59.998",12,20,4,-1.9336,-2.7E-2,-2.1436999999999999]
[null,"2020-12-01T20:59:59.998",12,21,2,-1.9336,-2.7E-2,-2.1436999999999999]
[null,"2020-12-01T21:59:59.998",12,22,2,-1.9336,-2.7E-2,-2.1436999999999999]
[null,"2020-12-01T22:59:59.998",12,23,2,-1.9336,-2.7E-2,-2.1436999999999999]
[null,"2020-12-01T23:59:59.998",12,0,{"$f":"INDEX($AE$11:$BB$22,MATCH(C8073,$AD$11:$AD$22,0),MATCH(D8073,$AE$10:$BB$10,0))","v":2},-1.9336,-2.7E-2,-2.1436999999999999]
[null,"2020-12-02T00:59:59.998",{"$f":"MONTH(B8074)","v":12},{"$f":"HOUR(B8074)","v":1},2,-1.9336,-2.7E-2,-2.1436999999999999]
[null,{"$f":"B8074+1/24","v":"2020-12-02T01:59:59.998"},12,2,2,-1.9336,-2.7E-2,-2.1436999999999999]
[null,"2020-12-02T02:59:59.998",12,3,2,-1.9336,-2.7E-2,-2.1436999999999999]
[null,"2020-12-02T03:59:59.998",12,4,2,-1.9336,-2.7E-2,-2.1436999999999999]
[null,"2020-12-02T04:59:59.998",12,5,2,-1.9336,-2.7E-2,-2.1436999999999999]
[null,"2020-12-02T05:59:59.998",12,6,2,-1.9336,-2.7E-2,-2.1436999999999999]
[null,"2020-12-02T06:59:59.998",12,7,2,47.756,46.168999999999997,60.246000000000002]
[null,"2020-12-02T07:59:59.998",12,8,2,319.51900000000001,468.82,471.00400000000002]
[null,"2020-12-02T08:59:59.998",12,9,2,937.99599999999998,892.91,888.31600000000003]
[null,"2020-12-02T09:59:59.998",12,10,2,1151.5519999999999,1102.0999999999999,1171.8889999999999]
[null,"2020-12-02T10:59:59.998",12,11,2,1288.6579999999999,1190.4000000000001,1158.058]
[null,"2020-12-02T11:59:59.998",12,12,2,1291.222,1182.4000000000001,1050.92]
[null,"2020-12-02T12:59:59.998",12,13,2,1227.675,1112.5,882.48]
[null,"2020-12-02T13:59:59.998",12,14,2,936.73900000000003,810.55,523.06899999999996]
[null,"2020-12-02T14:59:59.998",12,15,2,518.15200000000004,328.87,161.52600000000001]
[null,"2020-12-02T15:59:59.998",12,16,4,44.478000000000002,32.128,25.131]
[null,"2020-12-02T16:59:59.998",12,17,4,-1.9336,-2.7E-2,-2.1436999999999999]
[null,"2020-12-02T17:59:59.998",12,18,4,-1.9336,-2.7E-2,-2.1436999999999999]
[null,"2020-12-02T18:59:59.998",12,19,4,-1.9336,-2.7E-2,-2.1436999999999999]
[null,"2020-12-02T19:59:59.998",12,20,4,-1.9336,-2.7E-2,-2.1436999999999999]
[null,"2020-12-02T20:59:59.998",12,21,2,-1.9336,-2.7E-2,-2.1436999999999999]
[null,"2020-12-02T21:59:59.998",12,22,2,-1.9336,-2.7E-2,-2.1436999999999999]
[null,"2020-12-02T22:59:59.998",12,23,2,-1.9336,-2.7E-2,-2.1436999999999999]
[null,"2020-12-02T23:59:59.998",12,0,2,-1.9336,-2.7E-2,-2.1436999999999999]
[null,"2020-12-03T00:59:59.998",12,1,2,-1.9336,-2.7E-2,-2.1436999999999999]
[null,"2020-12-03T01:59:59.998",12,2,2,-1.9336,-2.7E-2,-2.1436999999999999]
[null,"2020-12-03T02:59:59.998",12,3,2,-1.9336,-2.7E-2,-2.1436999999999999]
[null,"2020-12-03T03:59:59.998",12,4,2,-1.9336,-2.7E-2,-2.1436999999999999]
[null,"2020-12-03T04:59:59.998",12,5,2,-1.9336,-2.7E-2,-2.1436999999999999]
[null,"2020-12-03T05:59:59.998",12,6,2,-1.9336,-2.7E-2,-2.1436999999999999]
[null,"2020-12-03T06:59:59.998",12,7,2,50.656999999999996,45.506,66.375]
[null,"2020-12-03T07:59:59.998",12,8,2,339.87599999999998,538.66999999999996,537.38900000000001]
[null,"2020-12-03T08:59:59.998",12,9,2,994.04600000000005,946.16,885.822]
[null,"2020-12-03T09:59:59.998",12,10,2,1236.1400000000001,1184.9000000000001,1262.4780000000001]
[null,"2020-12-03T10:59:59.998",12,11,2,1362.44,1258.5,1225.412]
[null,"2020-12-03T11:59:59.998",12,12,2,1411.4349999999999,1290.8,1145.2]
[null,"2020-12-03T12:59:59.998",12,13,2,1261.8340000000001,1143,900.93899999999996]
[null,"2020-12-03T13:59:59.998",12,14,2,1051.1559999999999,902.15,564.78]
[null,"2020-12-03T14:59:59.998",12,15,2,635.84799999999996,378.12,170.298]
[null,"2020-12-03T15:59:59.998",12,16,4,102.30200000000001,52.676000000000002,31.827000000000002]
[null,"2020-12-03T16:59:59.998",12,17,4,-1.9336,-2.7E-2,-2.1436999999999999]
[null,"2020-12-03T17:59:59.998",12,18,4,-1.9336,-2.7E-2,-2.1436999999999999]
[null,"2020-12-03T18:59:59.998",12,19,4,-1.9336,-2.7E-2,-2.1436999999999999]
[null,"2020-12-03T19:59:59.998",12,20,4,-1.9336,-2.7E-2,-2.1436999999999999]
[null,"2020-12-03T20:59:59.998",12,21,2,-1.9336,-2.7E-2,-2.1436999999999999]
[null,"2020-12-03T21:59:59.998",12,22,2,-1.9336,-2.7E-2,-2.1436999999999999]
[null,"2020-12-03T22:59:59.998",12,23,2,-1.9336,-2.7E-2,-2.1436999999999999]
[null,"2020-12-03T23:59:59.998",12,0,2,-1.9336,-2.7E-2,-2.1436999999999999]
[null,"2020-12-04T00:59:59.998",12,1,2,-1.9336,-2.7E-2,-2.1436999999999999]
[null,"2020-12-04T01:59:59.998",12,2,2,-1.9336,-2.7E-2,-2.1436999999999999]
[null,"2020-12-04T02:59:59.998",12,3,2,-1.9336,-2.7E-2,-2.1436999999999999]
[null,"2020-12-04T03:59:59.998",12,4,2,-1.9336,-2.7E-2,-2.1436999999999999]
[null,"2020-12-04T04:59:59.998",12,5,2,-1.9336,-2.7E-2,-2.1436999999999999]
[null,"2020-12-04T05:59:59.998",12,6,2,-1.9336,-2.7E-2,-2.1436999999999999]
[null,"2020-12-04T06:59:59.998",12,7,2,55.933999999999997,53.220999999999997,70.426000000000002]
[null,"2020-12-04T07:59:59.998",12,8,2,320.39,493.16,503.40899999999999]
[null,"2020-12-04T08:59:59.998",12,9,2,964.80200000000002,917.89,817.18600000000004]
[null,"2020-12-04T09:59:59.998",12,10,2,1209.578,1159.3,1236.011]
[null,"2020-12-04T10:59:59.998",12,11,2,1407.348,1300.4000000000001,1266.3720000000001]
[null,"2020-12-04T11:59:59.998",12,12,2,1405.67,1284.8,1140.444]
[null,"2020-12-04T12:59:59.998",12,13,2,1214.4739999999999,1099.4000000000001,870.577]
[null,"2020-12-04T13:59:59.998",12,14,2,941.32799999999997,811.75,521.52800000000002]
[null,"2020-12-04T14:59:59.998",12,15,2,532.92999999999995,338.59,173.92099999999999]
[null,"2020-12-04T15:59:59.998",12,16,{"$f":"INDEX($AE$11:$BB$22,MATCH(C8137,$AD$11:$AD$22,0),MATCH(D8137,$AE$10:$BB$10,0))","v":4},64.662000000000006,48.768999999999998,34.747999999999998]
[null,"2020-12-04T16:59:59.998",{"$f":"MONTH(B8138)","v":12},{"$f":"HOUR(B8138)","v":17},4,-1.9336,-2.7E-2,-2.1436999999999999]
[null,{"$f":"B8138+1/24","v":"2020-12-04T17:59:59.998"},12,18,4,-1.9336,-2.7E-2,-2.1436999999999999]
[null,"2020-12-04T18:59:59.998",12,19,4,-1.9336,-2.7E-2,-2.1436999999999999]
[null,"2020-12-04T19:59:59.998",12,20,4,-1.9336,-2.7E-2,-2.1436999999999999]
[null,"2020-12-04T20:59:59.998",12,21,2,-1.9336,-2.7E-2,-2.1436999999999999]
[null,"2020-12-04T21:59:59.998",12,22,2,-1.9336,-2.7E-2,-2.1436999999999999]
[null,"2020-12-04T22:59:59.998",12,23,2,-1.9336,-2.7E-2,-2.1436999999999999]
[null,"2020-12-04T23:59:59.998",12,0,2,-1.9336,-2.7E-2,-2.1436999999999999]
[null,"2020-12-05T00:59:59.998",12,1,2,-1.9336,-2.7E-2,-2.1436999999999999]
[null,"2020-12-05T01:59:59.998",12,2,2,-1.9336,-2.7E-2,-2.1436999999999999]
[null,"2020-12-05T02:59:59.998",12,3,2,-1.9336,-2.7E-2,-2.1436999999999999]
[null,"2020-12-05T03:59:59.998",12,4,2,-1.9336,-2.7E-2,-2.1436999999999999]
[null,"2020-12-05T04:59:59.998",12,5,2,-1.9336,-2.7E-2,-2.1436999999999999]
[null,"2020-12-05T05:59:59.998",12,6,2,-1.9336,-2.7E-2,-2.1436999999999999]
[null,"2020-12-05T06:59:59.998",12,7,2,41.811,38.473999999999997,56.072000000000003]
[null,"2020-12-05T07:59:59.998",12,8,2,302.495,451.39,471.42700000000002]
[null,"2020-12-05T08:59:59.998",12,9,2,917.28099999999995,872.42,741.34500000000003]
[null,"2020-12-05T09:59:59.998",12,10,2,1148.211,1099.5,1171.6479999999999]
[null,"2020-12-05T10:59:59.998",12,11,2,1370.039,1265.9000000000001,1234.4739999999999]
[null,"2020-12-05T11:59:59.998",12,12,2,1382.825,1262.3,1120.675]
[null,"2020-12-05T12:59:59.998",12,13,2,1248.0450000000001,1127.8,888.79300000000001]
[null,"2020-12-05T13:59:59.998",12,14,2,1004.146,861.26,542.81899999999996]
[null,"2020-12-05T14:59:59.998",12,15,2,617.76800000000003,370.21,176.00700000000001]
[null,"2020-12-05T15:59:59.998",12,16,4,67.551000000000002,40.893000000000001,27.867999999999999]
[null,"2020-12-05T16:59:59.998",12,17,4,-1.9336,-2.7E-2,-2.1436999999999999]
[null,"2020-12-05T17:59:59.998",12,18,4,-1.9336,-2.7E-2,-2.1436999999999999]
[null,"2020-12-05T18:59:59.998",12,19,4,-1.9336,-2.7E-2,-2.1436999999999999]
[null,"2020-12-05T19:59:59.998",12,20,4,-1.9336,-2.7E-2,-2.1436999999999999]
[null,"2020-12-05T20:59:59.998",12,21,2,-1.9336,-2.7E-2,-2.1436999999999999]
[null,"2020-12-05T21:59:59.998",12,22,2,-1.9336,-2.7E-2,-2.1436999999999999]
[null,"2020-12-05T22:59:59.998",12,23,2,-1.9336,-2.7E-2,-2.1436999999999999]
[null,"2020-12-05T23:59:59.998",12,0,2,-1.9336,-2.7E-2,-2.1436999999999999]
[null,"2020-12-06T00:59:59.998",12,1,2,-1.9336,-2.7E-2,-2.1436999999999999]
[null,"2020-12-06T01:59:59.998",12,2,2,-1.9336,-2.7E-2,-2.1436999999999999]
[null,"2020-12-06T02:59:59.998",12,3,2,-1.9336,-2.7E-2,-2.1436999999999999]
[null,"2020-12-06T03:59:59.998",12,4,2,-1.9336,-2.7E-2,-2.1436999999999999]
[null,"2020-12-06T04:59:59.998",12,5,2,-1.9336,-2.7E-2,-2.1436999999999999]
[null,"2020-12-06T05:59:59.998",12,6,2,-1.9336,-2.7E-2,-2.1436999999999999]
[null,"2020-12-06T06:59:59.998",12,7,2,44.451000000000001,40.911999999999999,59.225000000000001]
[null,"2020-12-06T07:59:59.998",12,8,2,298.07400000000001,451.4,479.69299999999998]
[null,"2020-12-06T08:59:59.998",12,9,2,900.98199999999997,856.69,694.86]
[null,"2020-12-06T09:59:59.998",12,10,2,1119.8920000000001,1074.0999999999999,1145.26]
[null,"2020-12-06T10:59:59.998",12,11,2,1275.4580000000001,1175.4000000000001,1145.835]
[null,"2020-12-06T11:59:59.998",12,12,2,1264.8240000000001,1154.8,1027.905]
[null,"2020-12-06T12:59:59.998",12,13,2,1164.625,1054.4000000000001,839.13099999999997]
[null,"2020-12-06T13:59:59.998",12,14,2,939.06299999999999,809.78,522.56600000000003]
[null,"2020-12-06T14:59:59.998",12,15,2,539.81700000000001,330.69,163.75399999999999]
[null,"2020-12-06T15:59:59.998",12,16,4,89.763999999999996,48.784999999999997,29.364999999999998]
[null,"2020-12-06T16:59:59.998",12,17,4,-1.9336,-2.7E-2,-2.1436999999999999]
[null,"2020-12-06T17:59:59.998",12,18,4,-1.9336,-2.7E-2,-2.1436999999999999]
[null,"2020-12-06T18:59:59.998",12,19,4,-1.9336,-2.7E-2,-2.1436999999999999]
[null,"2020-12-06T19:59:59.998",12,20,4,-1.9336,-2.7E-2,-2.1436999999999999]
[null,"2020-12-06T20:59:59.998",12,21,2,-1.9336,-2.7E-2,-2.1436999999999999]
[null,"2020-12-06T21:59:59.998",12,22,2,-1.9336,-2.7E-2,-2.1436999999999999]
[null,"2020-12-06T22:59:59.998",12,23,2,-1.9336,-2.7E-2,-2.1436999999999999]
[null,"2020-12-06T23:59:59.998",12,0,2,-1.9336,-2.7E-2,-2.1436999999999999]
[null,"2020-12-07T00:59:59.998",12,1,2,-1.9336,-2.7E-2,-2.1436999999999999]
[null,"2020-12-07T01:59:59.998",12,2,2,-1.9336,-2.7E-2,-2.1436999999999999]
[null,"2020-12-07T02:59:59.998",12,3,2,-1.9336,-2.7E-2,-2.1436999999999999]
[null,"2020-12-07T03:59:59.998",12,4,2,-1.9336,-2.7E-2,-2.1436999999999999]
[null,"2020-12-07T04:59:59.998",12,5,2,-1.9336,-2.7E-2,-2.1436999999999999]
[null,"2020-12-07T05:59:59.998",12,6,2,-1.9336,-2.7E-2,-2.1436999999999999]
[null,"2020-12-07T06:59:59.998",12,7,2,-1.9336,-2.7E-2,-2.1436999999999999]
[null,"2020-12-07T07:59:59.998",12,8,{"$f":"INDEX($AE$11:$BB$22,MATCH(C8201,$AD$11:$AD$22,0),MATCH(D8201,$AE$10:$BB$10,0))","v":2},49.573,58.021999999999998,53.145000000000003]
[null,"2020-12-07T08:59:59.998",{"$f":"MONTH(B8202)","v":12},{"$f":"HOUR(B8202)","v":9},2,84.93,95.022999999999996,87.878]
[null,{"$f":"B8202+1/24","v":"2020-12-07T09:59:59.998"},12,10,2,128.65100000000001,143.65,133.733]
[null,"2020-12-07T10:59:59.998",12,11,2,855.14599999999996,806.65,783.48699999999997]
[null,"2020-12-07T11:59:59.998",12,12,2,1034.585,965.8,872.44100000000003]
[null,"2020-12-07T12:59:59.998",12,13,2,273.66699999999997,276.14999999999998,241.87899999999999]
[null,"2020-12-07T13:59:59.998",12,14,2,76.512,85.763999999999996,80.888999999999996]
[null,"2020-12-07T14:59:59.998",12,15,2,210.74299999999999,167.45,113.637]
[null,"2020-12-07T15:59:59.998",12,16,4,28.131,26.645,23.657]
[null,"2020-12-07T16:59:59.998",12,17,4,-1.9336,-2.7E-2,-2.1436999999999999]
[null,"2020-12-07T17:59:59.998",12,18,4,-1.9336,-2.7E-2,-2.1436999999999999]
[null,"2020-12-07T18:59:59.998",12,19,4,-1.9336,-2.7E-2,-2.1436999999999999]
[null,"2020-12-07T19:59:59.998",12,20,4,-1.9336,-2.7E-2,-2.1436999999999999]
[null,"2020-12-07T20:59:59.998",12,21,2,-1.9336,-2.7E-2,-2.1436999999999999]
[null,"2020-12-07T21:59:59.998",12,22,2,-1.9336,-2.7E-2,-2.1436999999999999]
[null,"2020-12-07T22:59:59.998",12,23,2,-1.9336,-2.7E-2,-2.1436999999999999]
[null,"2020-12-07T23:59:59.998",12,0,2,-1.9336,-2.7E-2,-2.1436999999999999]
[null,"2020-12-08T00:59:59.998",12,1,2,-1.9336,-2.7E-2,-2.1436999999999999]
[null,"2020-12-08T01:59:59.998",12,2,2,-1.9336,-2.7E-2,-2.1436999999999999]
[null,"2020-12-08T02:59:59.998",12,3,2,-1.9336,-2.7E-2,-2.1436999999999999]
[null,"2020-12-08T03:59:59.998",12,4,2,-1.9336,-2.7E-2,-2.1436999999999999]
[null,"2020-12-08T04:59:59.998",12,5,2,-1.9336,-2.7E-2,-2.1436999999999999]
[null,"2020-12-08T05:59:59.998",12,6,2,-1.9336,-2.7E-2,-2.1436999999999999]
[null,"2020-12-08T06:59:59.998",12,7,2,36.783000000000001,34.914999999999999,44.436999999999998]
[null,"2020-12-08T07:59:59.998",12,8,2,159.31399999999999,190.85,201.965]
[null,"2020-12-08T08:59:59.998",12,9,2,245.261,261.83,248.81299999999999]
[null,"2020-12-08T09:59:59.998",12,10,2,398.72199999999998,404.3,404.69400000000002]
[null,"2020-12-08T10:59:59.998",12,11,2,395.06599999999997,396.88,380.80099999999999]
[null,"2020-12-08T11:59:59.998",12,12,2,156.001,172.91,161.25800000000001]
[null,"2020-12-08T12:59:59.998",12,13,2,452.589,434.21,370.22500000000002]
[null,"2020-12-08T13:59:59.998",12,14,2,618.226,539.66,359.91300000000001]
[null,"2020-12-08T14:59:59.998",12,15,2,396.41300000000001,277.67,167.08099999999999]
[null,"2020-12-08T15:59:59.998",12,16,4,4.7736000000000001,11.635999999999999,13.238]
[null,"2020-12-08T16:59:59.998",12,17,4,-1.9336,-2.7E-2,-2.1436999999999999]
[null,"2020-12-08T17:59:59.998",12,18,4,-1.9336,-2.7E-2,-2.1436999999999999]
[null,"2020-12-08T18:59:59.998",12,19,4,-1.9336,-2.7E-2,-2.1436999999999999]
[null,"2020-12-08T19:59:59.998",12,20,4,-1.9336,-2.7E-2,-2.1436999999999999]
[null,"2020-12-08T20:59:59.998",12,21,2,-1.9336,-2.7E-2,-2.1436999999999999]
[null,"2020-12-08T21:59:59.998",12,22,2,-1.9336,-2.7E-2,-2.1436999999999999]
[null,"2020-12-08T22:59:59.998",12,23,2,-1.9336,-2.7E-2,-2.1436999999999999]
[null,"2020-12-08T23:59:59.998",12,0,2,-1.9336,-2.7E-2,-2.1436999999999999]
[null,"2020-12-09T00:59:59.998",12,1,2,-1.9336,-2.7E-2,-2.1436999999999999]
[null,"2020-12-09T01:59:59.998",12,2,2,-1.9336,-2.7E-2,-2.1436999999999999]
[null,"2020-12-09T02:59:59.998",12,3,2,-1.9336,-2.7E-2,-2.1436999999999999]
[null,"2020-12-09T03:59:59.998",12,4,2,-1.9336,-2.7E-2,-2.1436999999999999]
[null,"2020-12-09T04:59:59.998",12,5,2,-1.9336,-2.7E-2,-2.1436999999999999]
[null,"2020-12-09T05:59:59.998",12,6,2,-1.9336,-2.7E-2,-2.1436999999999999]
[null,"2020-12-09T06:59:59.998",12,7,2,-1.9336,-2.7E-2,-2.1436999999999999]
[null,"2020-12-09T07:59:59.998",12,8,2,58.417000000000002,66.697999999999993,61.878]
[null,"2020-12-09T08:59:59.998",12,9,2,217.679,231.87,218.26]
[null,"2020-12-09T09:59:59.998",12,10,2,112.098,125.2,116.405]
[null,"2020-12-09T10:59:59.998",12,11,2,280.399,297.97000000000003,283.20100000000002]
[null,"2020-12-09T11:59:59.998",12,12,2,433.47199999999998,431.81,399.029]
[null,"2020-12-09T12:59:59.998",12,13,2,901.44299999999998,834.66,688.33100000000002]
[null,"2020-12-09T13:59:59.998",12,14,2,528.17600000000004,486.61,364.30599999999998]
[null,"2020-12-09T14:59:59.998",12,15,2,192.23400000000001,171.58,129.49]
[null,"2020-12-09T15:59:59.998",12,16,4,57.151000000000003,46.311,33.24]
[null,"2020-12-09T16:59:59.998",12,17,4,-1.9336,-2.7E-2,-2.1436999999999999]
[null,"2020-12-09T17:59:59.998",12,18,4,-1.9336,-2.7E-2,-2.1436999999999999]
[null,"2020-12-09T18:59:59.998",12,19,4,-1.9336,-2.7E-2,-2.1436999999999999]
[null,"2020-12-09T19:59:59.998",12,20,4,-1.9336,-2.7E-2,-2.1436999999999999]
[null,"2020-12-09T20:59:59.998",12,21,2,-1.9336,-2.7E-2,-2.1436999999999999]
[null,"2020-12-09T21:59:59.998",12,22,2,-1.9336,-2.7E-2,-2.1436999999999999]
[null,"2020-12-09T22:59:59.998",12,23,2,-1.9336,-2.7E-2,-2.1436999999999999]
[null,"2020-12-09T23:59:59.998",12,0,{"$f":"INDEX($AE$11:$BB$22,MATCH(C8265,$AD$11:$AD$22,0),MATCH(D8265,$AE$10:$BB$10,0))","v":2},-1.9336,-2.7E-2,-2.1436999999999999]
[null,"2020-12-10T00:59:59.998",{"$f":"MONTH(B8266)","v":12},{"$f":"HOUR(B8266)","v":1},2,-1.9336,-2.7E-2,-2.1436999999999999]
[null,{"$f":"B8266+1/24","v":"2020-12-10T01:59:59.998"},12,2,2,-1.9336,-2.7E-2,-2.1436999999999999]
[null,"2020-12-10T02:59:59.998",12,3,2,-1.9336,-2.7E-2,-2.1436999999999999]
[null,"2020-12-10T03:59:59.998",12,4,2,-1.9336,-2.7E-2,-2.1436999999999999]
[null,"2020-12-10T04:59:59.998",12,5,2,-1.9336,-2.7E-2,-2.1436999999999999]
[null,"2020-12-10T05:59:59.998",12,6,2,-1.9336,-2.7E-2,-2.1436999999999999]
[null,"2020-12-10T06:59:59.998",12,7,2,-1.9336,-2.7E-2,-2.1436999999999999]
[null,"2020-12-10T07:59:59.998",12,8,2,47.369,55.652000000000001,50.991999999999997]
[null,"2020-12-10T08:59:59.998",12,9,2,105.88,118.02,109.91500000000001]
[null,"2020-12-10T09:59:59.998",12,10,2,257.709,274.73,265.09699999999998]
[null,"2020-12-10T10:59:59.998",12,11,2,226.04400000000001,242.56,229.184]
[null,"2020-12-10T11:59:59.998",12,12,2,144.70400000000001,161.34,150.11600000000001]
[null,"2020-12-10T12:59:59.998",12,13,2,234.74600000000001,241.3,214.09200000000001]
[null,"2020-12-10T13:59:59.998",12,14,2,356.40199999999999,335.59,255.59800000000001]
[null,"2020-12-10T14:59:59.998",12,15,2,337.40499999999997,252.1,160.376]
[null,"2020-12-10T15:59:59.998",12,16,4,30.856999999999999,28.98,25.204000000000001]
[null,"2020-12-10T16:59:59.998",12,17,4,-1.9336,-2.7E-2,-2.1436999999999999]
[null,"2020-12-10T17:59:59.998",12,18,4,-1.9336,-2.7E-2,-2.1436999999999999]
[null,"2020-12-10T18:59:59.998",12,19,4,-1.9336,-2.7E-2,-2.1436999999999999]
[null,"2020-12-10T19:59:59.998",12,20,4,-1.9336,-2.7E-2,-2.1436999999999999]
[null,"2020-12-10T20:59:59.998",12,21,2,-1.9336,-2.7E-2,-2.1436999999999999]
[null,"2020-12-10T21:59:59.998",12,22,2,-1.9336,-2.7E-2,-2.1436999999999999]
[null,"2020-12-10T22:59:59.998",12,23,2,-1.9336,-2.7E-2,-2.1436999999999999]
[null,"2020-12-10T23:59:59.998",12,0,2,-1.9336,-2.7E-2,-2.1436999999999999]
[null,"2020-12-11T00:59:59.998",12,1,2,-1.9336,-2.7E-2,-2.1436999999999999]
[null,"2020-12-11T01:59:59.998",12,2,2,-1.9336,-2.7E-2,-2.1436999999999999]
[null,"2020-12-11T02:59:59.998",12,3,2,-1.9336,-2.7E-2,-2.1436999999999999]
[null,"2020-12-11T03:59:59.998",12,4,2,-1.9336,-2.7E-2,-2.1436999999999999]
[null,"2020-12-11T04:59:59.998",12,5,2,-1.9336,-2.7E-2,-2.1436999999999999]
[null,"2020-12-11T05:59:59.998",12,6,2,-1.9336,-2.7E-2,-2.1436999999999999]
[null,"2020-12-11T06:59:59.998",12,7,2,-1.9336,-2.7E-2,-2.1436999999999999]
[null,"2020-12-11T07:59:59.998",12,8,2,30.111000000000001,37.865000000000002,34.119999999999997]
[null,"2020-12-11T08:59:59.998",12,9,2,78.012,87.35,80.777000000000001]
[null,"2020-12-11T09:59:59.998",12,10,2,106.571,119,110.60599999999999]
[null,"2020-12-11T10:59:59.998",12,11,2,121.167,135.27000000000001,125.949]
[null,"2020-12-11T11:59:59.998",12,12,2,157.82900000000001,175,163.21100000000001]
[null,"2020-12-11T12:59:59.998",12,13,2,135.10400000000001,150.33000000000001,139.63999999999999]
[null,"2020-12-11T13:59:59.998",12,14,2,113.69199999999999,126.03,116.741]
[null,"2020-12-11T14:59:59.998",12,15,2,41.744,50.014000000000003,48.475000000000001]
[null,"2020-12-11T15:59:59.998",12,16,4,-1.9336,-2.7E-2,-2.1436999999999999]
[null,"2020-12-11T16:59:59.998",12,17,4,-1.9336,-2.7E-2,-2.1436999999999999]
[null,"2020-12-11T17:59:59.998",12,18,4,-1.9336,-2.7E-2,-2.1436999999999999]
[null,"2020-12-11T18:59:59.998",12,19,4,-1.9336,-2.7E-2,-2.1436999999999999]
[null,"2020-12-11T19:59:59.998",12,20,4,-1.9336,-2.7E-2,-2.1436999999999999]
[null,"2020-12-11T20:59:59.998",12,21,2,-1.9336,-2.7E-2,-2.1436999999999999]
[null,"2020-12-11T21:59:59.998",12,22,2,-1.9336,-2.7E-2,-2.1436999999999999]
[null,"2020-12-11T22:59:59.998",12,23,2,-1.9336,-2.7E-2,-2.1436999999999999]
[null,"2020-12-11T23:59:59.998",12,0,2,-1.9336,-2.7E-2,-2.1436999999999999]
[null,"2020-12-12T00:59:59.998",12,1,2,-1.9336,-2.7E-2,-2.1436999999999999]
[null,"2020-12-12T01:59:59.998",12,2,2,-1.9336,-2.7E-2,-2.1436999999999999]
[null,"2020-12-12T02:59:59.998",12,3,2,-1.9336,-2.7E-2,-2.1436999999999999]
[null,"2020-12-12T03:59:59.998",12,4,2,-1.9336,-2.7E-2,-2.1436999999999999]
[null,"2020-12-12T04:59:59.998",12,5,2,-1.9336,-2.7E-2,-2.1436999999999999]
[null,"2020-12-12T05:59:59.998",12,6,2,-1.9336,-2.7E-2,-2.1436999999999999]
[null,"2020-12-12T06:59:59.998",12,7,2,-1.9336,-2.7E-2,-2.1436999999999999]
[null,"2020-12-12T07:59:59.998",12,8,2,29.969000000000001,37.673000000000002,33.966000000000001]
[null,"2020-12-12T08:59:59.998",12,9,2,73.843000000000004,82.855000000000004,76.588999999999999]
[null,"2020-12-12T09:59:59.998",12,10,2,116.02800000000001,129.34,120.39700000000001]
[null,"2020-12-12T10:59:59.998",12,11,2,171.03700000000001,188.55,176.80600000000001]
[null,"2020-12-12T11:59:59.998",12,12,2,135.69200000000001,151.19,140.75800000000001]
[null,"2020-12-12T12:59:59.998",12,13,2,116.789,130.09,121.26300000000001]
[null,"2020-12-12T13:59:59.998",12,14,2,76.507000000000005,85.76,80.869]
[null,"2020-12-12T14:59:59.998",12,15,2,34.274000000000001,42.433,41.784999999999997]
[null,"2020-12-12T15:59:59.998",12,16,{"$f":"INDEX($AE$11:$BB$22,MATCH(C8329,$AD$11:$AD$22,0),MATCH(D8329,$AE$10:$BB$10,0))","v":4},-1.9336,-2.7E-2,-2.1436999999999999]
[null,"2020-12-12T16:59:59.998",{"$f":"MONTH(B8330)","v":12},{"$f":"HOUR(B8330)","v":17},4,-1.9336,-2.7E-2,-2.1436999999999999]
[null,{"$f":"B8330+1/24","v":"2020-12-12T17:59:59.998"},12,18,4,-1.9336,-2.7E-2,-2.1436999999999999]
[null,"2020-12-12T18:59:59.998",12,19,4,-1.9336,-2.7E-2,-2.1436999999999999]
[null,"2020-12-12T19:59:59.998",12,20,4,-1.9336,-2.7E-2,-2.1436999999999999]
[null,"2020-12-12T20:59:59.998",12,21,2,-1.9336,-2.7E-2,-2.1436999999999999]
[null,"2020-12-12T21:59:59.998",12,22,2,-1.9336,-2.7E-2,-2.1436999999999999]
[null,"2020-12-12T22:59:59.998",12,23,2,-1.9336,-2.7E-2,-2.1436999999999999]
[null,"2020-12-12T23:59:59.998",12,0,2,-1.9336,-2.7E-2,-2.1436999999999999]
[null,"2020-12-13T00:59:59.998",12,1,2,-1.9336,-2.7E-2,-2.1436999999999999]
[null,"2020-12-13T01:59:59.998",12,2,2,-1.9336,-2.7E-2,-2.1436999999999999]
[null,"2020-12-13T02:59:59.998",12,3,2,-1.9336,-2.7E-2,-2.1436999999999999]
[null,"2020-12-13T03:59:59.998",12,4,2,-1.9336,-2.7E-2,-2.1436999999999999]
[null,"2020-12-13T04:59:59.998",12,5,2,-1.9336,-2.7E-2,-2.1436999999999999]
[null,"2020-12-13T05:59:59.998",12,6,2,-1.9336,-2.7E-2,-2.1436999999999999]
[null,"2020-12-13T06:59:59.998",12,7,2,-1.9336,-2.7E-2,-2.1436999999999999]
[null,"2020-12-13T07:59:59.998",12,8,2,53.603000000000002,61.52,57.118000000000002]
[null,"2020-12-13T08:59:59.998",12,9,2,106.792,118.53,110.729]
[null,"2020-12-13T09:59:59.998",12,10,2,319.36399999999998,328.81,325.20600000000002]
[null,"2020-12-13T10:59:59.998",12,11,2,361.26,367.89,353.01900000000001]
[null,"2020-12-13T11:59:59.998",12,12,2,272.00900000000001,289.02,271.44600000000003]
[null,"2020-12-13T12:59:59.998",12,13,2,213.43100000000001,229.4,212.196]
[null,"2020-12-13T13:59:59.998",12,14,2,107.545,119.23,110.733]
[null,"2020-12-13T14:59:59.998",12,15,2,90.616,93.893000000000001,83.447999999999993]
[null,"2020-12-13T15:59:59.998",12,16,4,18.396000000000001,18.039000000000001,17.713999999999999]
[null,"2020-12-13T16:59:59.998",12,17,4,-1.9336,-2.7E-2,-2.1436999999999999]
[null,"2020-12-13T17:59:59.998",12,18,4,-1.9336,-2.7E-2,-2.1436999999999999]
[null,"2020-12-13T18:59:59.998",12,19,4,-1.9336,-2.7E-2,-2.1436999999999999]
[null,"2020-12-13T19:59:59.998",12,20,4,-1.9336,-2.7E-2,-2.1436999999999999]
[null,"2020-12-13T20:59:59.998",12,21,2,-1.9336,-2.7E-2,-2.1436999999999999]
[null,"2020-12-13T21:59:59.998",12,22,2,-1.9336,-2.7E-2,-2.1436999999999999]
[null,"2020-12-13T22:59:59.998",12,23,2,-1.9336,-2.7E-2,-2.1436999999999999]
[null,"2020-12-13T23:59:59.998",12,0,2,-1.9336,-2.7E-2,-2.1436999999999999]
[null,"2020-12-14T00:59:59.998",12,1,2,-1.9336,-2.7E-2,-2.1436999999999999]
[null,"2020-12-14T01:59:59.998",12,2,2,-1.9336,-2.7E-2,-2.1436999999999999]
[null,"2020-12-14T02:59:59.998",12,3,2,-1.9336,-2.7E-2,-2.1436999999999999]
[null,"2020-12-14T03:59:59.998",12,4,2,-1.9336,-2.7E-2,-2.1436999999999999]
[null,"2020-12-14T04:59:59.998",12,5,2,-1.9336,-2.7E-2,-2.1436999999999999]
[null,"2020-12-14T05:59:59.998",12,6,2,-1.9336,-2.7E-2,-2.1436999999999999]
[null,"2020-12-14T06:59:59.998",12,7,2,27.324000000000002,26.113,33.622]
[null,"2020-12-14T07:59:59.998",12,8,2,180.839,225.32,259.30700000000002]
[null,"2020-12-14T08:59:59.998",12,9,2,315.483,332.36,302.33499999999998]
[null,"2020-12-14T09:59:59.998",12,10,2,633.91800000000001,618.33000000000004,645.39499999999998]
[null,"2020-12-14T10:59:59.998",12,11,2,525.16399999999999,522.26,504.27600000000001]
[null,"2020-12-14T11:59:59.998",12,12,2,822.62099999999998,782.2,715.298]
[null,"2020-12-14T12:59:59.998",12,13,2,370.43099999999998,371.16,331.42]
[null,"2020-12-14T13:59:59.998",12,14,2,455.43599999999998,426.56,328.56599999999997]
[null,"2020-12-14T14:59:59.998",12,15,2,335.22199999999998,250.75,160.70400000000001]
[null,"2020-12-14T15:59:59.998",12,16,4,18.672000000000001,18.37,18.016999999999999]
[null,"2020-12-14T16:59:59.998",12,17,4,-1.9336,-2.7E-2,-2.1436999999999999]
[null,"2020-12-14T17:59:59.998",12,18,4,-1.9336,-2.7E-2,-2.1436999999999999]
[null,"2020-12-14T18:59:59.998",12,19,4,-1.9336,-2.7E-2,-2.1436999999999999]
[null,"2020-12-14T19:59:59.998",12,20,4,-1.9336,-2.7E-2,-2.1436999999999999]
[null,"2020-12-14T20:59:59.998",12,21,2,-1.9336,-2.7E-2,-2.1436999999999999]
[null,"2020-12-14T21:59:59.998",12,22,2,-1.9336,-2.7E-2,-2.1436999999999999]
[null,"2020-12-14T22:59:59.998",12,23,2,-1.9336,-2.7E-2,-2.1436999999999999]
[null,"2020-12-14T23:59:59.998",12,0,2,-1.9336,-2.7E-2,-2.1436999999999999]
[null,"2020-12-15T00:59:59.998",12,1,2,-1.9336,-2.7E-2,-2.1436999999999999]
[null,"2020-12-15T01:59:59.998",12,2,2,-1.9336,-2.7E-2,-2.1436999999999999]
[null,"2020-12-15T02:59:59.998",12,3,2,-1.9336,-2.7E-2,-2.1436999999999999]
[null,"2020-12-15T03:59:59.998",12,4,2,-1.9336,-2.7E-2,-2.1436999999999999]
[null,"2020-12-15T04:59:59.998",12,5,2,-1.9336,-2.7E-2,-2.1436999999999999]
[null,"2020-12-15T05:59:59.998",12,6,2,-1.9336,-2.7E-2,-2.1436999999999999]
[null,"2020-12-15T06:59:59.998",12,7,2,-1.9336,-2.7E-2,-2.1436999999999999]
[null,"2020-12-15T07:59:59.998",12,8,{"$f":"INDEX($AE$11:$BB$22,MATCH(C8393,$AD$11:$AD$22,0),MATCH(D8393,$AE$10:$BB$10,0))","v":2},70.433999999999997,78.775999999999996,74.215000000000003]
[null,"2020-12-15T08:59:59.998",{"$f":"MONTH(B8394)","v":12},{"$f":"HOUR(B8394)","v":9},2,134.56100000000001,149.38,140.48099999999999]
[null,{"$f":"B8394+1/24","v":"2020-12-15T09:59:59.998"},12,10,2,104.721,117.17,108.79]
[null,"2020-12-15T10:59:59.998",12,11,2,564.899,550.74,533.87099999999998]
[null,"2020-12-15T11:59:59.998",12,12,2,779.09400000000005,740.98,677.02099999999996]
[null,"2020-12-15T12:59:59.998",12,13,2,824.24300000000005,766.81,640.11500000000001]
[null,"2020-12-15T13:59:59.998",12,14,2,534.28399999999999,495.32,373.78699999999998]
[null,"2020-12-15T14:59:59.998",12,15,2,239.99600000000001,202.69,144.23500000000001]
[null,"2020-12-15T15:59:59.998",12,16,4,17.309000000000001,23.975999999999999,23.004999999999999]
[null,"2020-12-15T16:59:59.998",12,17,4,-1.9336,-2.7E-2,-2.1436999999999999]
[null,"2020-12-15T17:59:59.998",12,18,4,-1.9336,-2.7E-2,-2.1436999999999999]
[null,"2020-12-15T18:59:59.998",12,19,4,-1.9336,-2.7E-2,-2.1436999999999999]
[null,"2020-12-15T19:59:59.998",12,20,4,-1.9336,-2.7E-2,-2.1436999999999999]
[null,"2020-12-15T20:59:59.998",12,21,2,-1.9336,-2.7E-2,-2.1436999999999999]
[null,"2020-12-15T21:59:59.998",12,22,2,-1.9336,-2.7E-2,-2.1436999999999999]
[null,"2020-12-15T22:59:59.998",12,23,2,-1.9336,-2.7E-2,-2.1436999999999999]
[null,"2020-12-15T23:59:59.998",12,0,2,-1.9336,-2.7E-2,-2.1436999999999999]
[null,"2020-12-16T00:59:59.998",12,1,2,-1.9336,-2.7E-2,-2.1436999999999999]
[null,"2020-12-16T01:59:59.998",12,2,2,-1.9336,-2.7E-2,-2.1436999999999999]
[null,"2020-12-16T02:59:59.998",12,3,2,-1.9336,-2.7E-2,-2.1436999999999999]
[null,"2020-12-16T03:59:59.998",12,4,2,-1.9336,-2.7E-2,-2.1436999999999999]
[null,"2020-12-16T04:59:59.998",12,5,2,-1.9336,-2.7E-2,-2.1436999999999999]
[null,"2020-12-16T05:59:59.998",12,6,2,-1.9336,-2.7E-2,-2.1436999999999999]
[null,"2020-12-16T06:59:59.998",12,7,2,18.241,20.335999999999999,26.474]
[null,"2020-12-16T07:59:59.998",12,8,2,249.15700000000001,352.98,437.47199999999998]
[null,"2020-12-16T08:59:59.998",12,9,2,762.13599999999997,823.87,648.56799999999998]
[null,"2020-12-16T09:59:59.998",12,10,2,1117.5039999999999,1077,1158.248]
[null,"2020-12-16T10:59:59.998",12,11,2,1291.704,1202.2,1179.6890000000001]
[null,"2020-12-16T11:59:59.998",12,12,2,1348.268,1229,1101.4649999999999]
[null,"2020-12-16T12:59:59.998",12,13,2,1264.1120000000001,1142.3,910.947]
[null,"2020-12-16T13:59:59.998",12,14,2,1052.32,911.08,584.78800000000001]
[null,"2020-12-16T14:59:59.998",12,15,2,647.60900000000004,387.72,195.89400000000001]
[null,"2020-12-16T15:59:59.998",12,16,4,74.474000000000004,52.634,36.956000000000003]
[null,"2020-12-16T16:59:59.998",12,17,4,-1.9336,-2.7E-2,-2.1436999999999999]
[null,"2020-12-16T17:59:59.998",12,18,4,-1.9336,-2.7E-2,-2.1436999999999999]
[null,"2020-12-16T18:59:59.998",12,19,4,-1.9336,-2.7E-2,-2.1436999999999999]
[null,"2020-12-16T19:59:59.998",12,20,4,-1.9336,-2.7E-2,-2.1436999999999999]
[null,"2020-12-16T20:59:59.998",12,21,2,-1.9336,-2.7E-2,-2.1436999999999999]
[null,"2020-12-16T21:59:59.998",12,22,2,-1.9336,-2.7E-2,-2.1436999999999999]
[null,"2020-12-16T22:59:59.998",12,23,2,-1.9336,-2.7E-2,-2.1436999999999999]
[null,"2020-12-16T23:59:59.998",12,0,2,-1.9336,-2.7E-2,-2.1436999999999999]
[null,"2020-12-17T00:59:59.998",12,1,2,-1.9336,-2.7E-2,-2.1436999999999999]
[null,"2020-12-17T01:59:59.998",12,2,2,-1.9336,-2.7E-2,-2.1436999999999999]
[null,"2020-12-17T02:59:59.998",12,3,2,-1.9336,-2.7E-2,-2.1436999999999999]
[null,"2020-12-17T03:59:59.998",12,4,2,-1.9336,-2.7E-2,-2.1436999999999999]
[null,"2020-12-17T04:59:59.998",12,5,2,-1.9336,-2.7E-2,-2.1436999999999999]
[null,"2020-12-17T05:59:59.998",12,6,2,-1.9336,-2.7E-2,-2.1436999999999999]
[null,"2020-12-17T06:59:59.998",12,7,2,21.298999999999999,24.466000000000001,27.931999999999999]
[null,"2020-12-17T07:59:59.998",12,8,2,243.30199999999999,349.8,443.33100000000002]
[null,"2020-12-17T08:59:59.998",12,9,2,766.43700000000001,834.15,654.06100000000004]
[null,"2020-12-17T09:59:59.998",12,10,2,1121.4829999999999,1081.4000000000001,1162.825]
[null,"2020-12-17T10:59:59.998",12,11,2,1303.625,1213.0999999999999,1191.393]
[null,"2020-12-17T11:59:59.998",12,12,2,1300.2249999999999,1183.5,1060.212]
[null,"2020-12-17T12:59:59.998",12,13,2,1214.6610000000001,1098.2,878.42399999999998]
[null,"2020-12-17T13:59:59.998",12,14,2,980.56700000000001,850.14,551.16300000000001]
[null,"2020-12-17T14:59:59.998",12,15,2,561.22400000000005,347.11,181.42699999999999]
[null,"2020-12-17T15:59:59.998",12,16,4,58.494,37.085000000000001,25.382000000000001]
[null,"2020-12-17T16:59:59.998",12,17,4,-1.9336,-2.7E-2,-2.1436999999999999]
[null,"2020-12-17T17:59:59.998",12,18,4,-1.9336,-2.7E-2,-2.1436999999999999]
[null,"2020-12-17T18:59:59.998",12,19,4,-1.9336,-2.7E-2,-2.1436999999999999]
[null,"2020-12-17T19:59:59.998",12,20,4,-1.9336,-2.7E-2,-2.1436999999999999]
[null,"2020-12-17T20:59:59.998",12,21,2,-1.9336,-2.7E-2,-2.1436999999999999]
[null,"2020-12-17T21:59:59.998",12,22,2,-1.9336,-2.7E-2,-2.1436999999999999]
[null,"2020-12-17T22:59:59.998",12,23,2,-1.9336,-2.7E-2,-2.1436999999999999]
[null,"2020-12-17T23:59:59.998",12,0,{"$f":"INDEX($AE$11:$BB$22,MATCH(C8457,$AD$11:$AD$22,0),MATCH(D8457,$AE$10:$BB$10,0))","v":2},-1.9336,-2.7E-2,-2.1436999999999999]
[null,"2020-12-18T00:59:59.998",{"$f":"MONTH(B8458)","v":12},{"$f":"HOUR(B8458)","v":1},2,-1.9336,-2.7E-2,-2.1436999999999999]
[null,{"$f":"B8458+1/24","v":"2020-12-18T01:59:59.998"},12,2,2,-1.9336,-2.7E-2,-2.1436999999999999]
[null,"2020-12-18T02:59:59.998",12,3,2,-1.9336,-2.7E-2,-2.1436999999999999]
[null,"2020-12-18T03:59:59.998",12,4,2,-1.9336,-2.7E-2,-2.1436999999999999]
[null,"2020-12-18T04:59:59.998",12,5,2,-1.9336,-2.7E-2,-2.1436999999999999]
[null,"2020-12-18T05:59:59.998",12,6,2,-1.9336,-2.7E-2,-2.1436999999999999]
[null,"2020-12-18T06:59:59.998",12,7,2,19.855,20.701000000000001,26.8]
[null,"2020-12-18T07:59:59.998",12,8,2,257.19200000000001,351.35,440.90600000000001]
[null,"2020-12-18T08:59:59.998",12,9,2,709.923,767.93,622.86900000000003]
[null,"2020-12-18T09:59:59.998",12,10,2,1118.3869999999999,1077,1160.0119999999999]
[null,"2020-12-18T10:59:59.998",12,11,2,1309.271,1218.8,1197.7919999999999]
[null,"2020-12-18T11:59:59.998",12,12,2,1326.973,1208.3,1083.2329999999999]
[null,"2020-12-18T12:59:59.998",12,13,2,1190.3810000000001,1076,862.46199999999999]
[null,"2020-12-18T13:59:59.998",12,14,2,996.75,863.88,560.01199999999994]
[null,"2020-12-18T14:59:59.998",12,15,2,578.66700000000003,355.96,183.34800000000001]
[null,"2020-12-18T15:59:59.998",12,16,4,112.872,53.167000000000002,31.452000000000002]
[null,"2020-12-18T16:59:59.998",12,17,4,-1.9336,-2.7E-2,-2.1436999999999999]
[null,"2020-12-18T17:59:59.998",12,18,4,-1.9336,-2.7E-2,-2.1436999999999999]
[null,"2020-12-18T18:59:59.998",12,19,4,-1.9336,-2.7E-2,-2.1436999999999999]
[null,"2020-12-18T19:59:59.998",12,20,4,-1.9336,-2.7E-2,-2.1436999999999999]
[null,"2020-12-18T20:59:59.998",12,21,2,-1.9336,-2.7E-2,-2.1436999999999999]
[null,"2020-12-18T21:59:59.998",12,22,2,-1.9336,-2.7E-2,-2.1436999999999999]
[null,"2020-12-18T22:59:59.998",12,23,2,-1.9336,-2.7E-2,-2.1436999999999999]
[null,"2020-12-18T23:59:59.998",12,0,2,-1.9336,-2.7E-2,-2.1436999999999999]
[null,"2020-12-19T00:59:59.998",12,1,2,-1.9336,-2.7E-2,-2.1436999999999999]
[null,"2020-12-19T01:59:59.998",12,2,2,-1.9336,-2.7E-2,-2.1436999999999999]
[null,"2020-12-19T02:59:59.998",12,3,2,-1.9336,-2.7E-2,-2.1436999999999999]
[null,"2020-12-19T03:59:59.998",12,4,2,-1.9336,-2.7E-2,-2.1436999999999999]
[null,"2020-12-19T04:59:59.998",12,5,2,-1.9336,-2.7E-2,-2.1436999999999999]
[null,"2020-12-19T05:59:59.998",12,6,2,-1.9336,-2.7E-2,-2.1436999999999999]
[null,"2020-12-19T06:59:59.998",12,7,2,23.873999999999999,26.895,30.978000000000002]
[null,"2020-12-19T07:59:59.998",12,8,2,193.85,242.41,291.642]
[null,"2020-12-19T08:59:59.998",12,9,2,259.39499999999998,279.18,252.37700000000001]
[null,"2020-12-19T09:59:59.998",12,10,2,638.053,629.84,652.22]
[null,"2020-12-19T10:59:59.998",12,11,2,735.93200000000002,711.24,692.86699999999996]
[null,"2020-12-19T11:59:59.998",12,12,2,645.51700000000005,617.27,565.13499999999999]
[null,"2020-12-19T12:59:59.998",12,13,2,1086.7180000000001,993.25,812.45699999999999]
[null,"2020-12-19T13:59:59.998",12,14,2,939.73,818.26,541.38499999999999]
[null,"2020-12-19T14:59:59.998",12,15,2,531.73099999999999,339.92,183.197]
[null,"2020-12-19T15:59:59.998",12,16,4,64.861999999999995,42.43,28.574000000000002]
[null,"2020-12-19T16:59:59.998",12,17,4,-1.9336,-2.7E-2,-2.1436999999999999]
[null,"2020-12-19T17:59:59.998",12,18,4,-1.9336,-2.7E-2,-2.1436999999999999]
[null,"2020-12-19T18:59:59.998",12,19,4,-1.9336,-2.7E-2,-2.1436999999999999]
[null,"2020-12-19T19:59:59.998",12,20,4,-1.9336,-2.7E-2,-2.1436999999999999]
[null,"2020-12-19T20:59:59.998",12,21,2,-1.9336,-2.7E-2,-2.1436999999999999]
[null,"2020-12-19T21:59:59.998",12,22,2,-1.9336,-2.7E-2,-2.1436999999999999]
[null,"2020-12-19T22:59:59.998",12,23,2,-1.9336,-2.7E-2,-2.1436999999999999]
[null,"2020-12-19T23:59:59.998",12,0,2,-1.9336,-2.7E-2,-2.1436999999999999]
[null,"2020-12-20T00:59:59.998",12,1,2,-1.9336,-2.7E-2,-2.1436999999999999]
[null,"2020-12-20T01:59:59.998",12,2,2,-1.9336,-2.7E-2,-2.1436999999999999]
[null,"2020-12-20T02:59:59.998",12,3,2,-1.9336,-2.7E-2,-2.1436999999999999]
[null,"2020-12-20T03:59:59.998",12,4,2,-1.9336,-2.7E-2,-2.1436999999999999]
[null,"2020-12-20T04:59:59.998",12,5,2,-1.9336,-2.7E-2,-2.1436999999999999]
[null,"2020-12-20T05:59:59.998",12,6,2,-1.9336,-2.7E-2,-2.1436999999999999]
[null,"2020-12-20T06:59:59.998",12,7,2,-1.9336,-2.7E-2,-2.1436999999999999]
[null,"2020-12-20T07:59:59.998",12,8,2,25.501999999999999,33.323,29.745000000000001]
[null,"2020-12-20T08:59:59.998",12,9,2,72.346000000000004,81.674999999999997,75.296000000000006]
[null,"2020-12-20T09:59:59.998",12,10,2,102.988,115.24,106.97]
[null,"2020-12-20T10:59:59.998",12,11,2,119.97199999999999,134.25,124.876]
[null,"2020-12-20T11:59:59.998",12,12,2,123.40900000000001,138.08000000000001,128.535]
[null,"2020-12-20T12:59:59.998",12,13,2,109.783,122.89,114.595]
[null,"2020-12-20T13:59:59.998",12,14,2,80.748999999999995,90.718000000000004,85.284999999999997]
[null,"2020-12-20T14:59:59.998",12,15,2,37.405999999999999,46.023000000000003,44.962000000000003]
[null,"2020-12-20T15:59:59.998",12,16,{"$f":"INDEX($AE$11:$BB$22,MATCH(C8521,$AD$11:$AD$22,0),MATCH(D8521,$AE$10:$BB$10,0))","v":4},-1.9336,-2.7E-2,-2.1436999999999999]
[null,"2020-12-20T16:59:59.998",{"$f":"MONTH(B8522)","v":12},{"$f":"HOUR(B8522)","v":17},4,-1.9336,-2.7E-2,-2.1436999999999999]
[null,{"$f":"B8522+1/24","v":"2020-12-20T17:59:59.998"},12,18,4,-1.9336,-2.7E-2,-2.1436999999999999]
[null,"2020-12-20T18:59:59.998",12,19,4,-1.9336,-2.7E-2,-2.1436999999999999]
[null,"2020-12-20T19:59:59.998",12,20,4,-1.9336,-2.7E-2,-2.1436999999999999]
[null,"2020-12-20T20:59:59.998",12,21,2,-1.9336,-2.7E-2,-2.1436999999999999]
[null,"2020-12-20T21:59:59.998",12,22,2,-1.9336,-2.7E-2,-2.1436999999999999]
[null,"2020-12-20T22:59:59.998",12,23,2,-1.9336,-2.7E-2,-2.1436999999999999]
[null,"2020-12-20T23:59:59.998",12,0,2,-1.9336,-2.7E-2,-2.1436999999999999]
[null,"2020-12-21T00:59:59.998",12,1,2,-1.9336,-2.7E-2,-2.1436999999999999]
[null,"2020-12-21T01:59:59.998",12,2,2,-1.9336,-2.7E-2,-2.1436999999999999]
[null,"2020-12-21T02:59:59.998",12,3,2,-1.9336,-2.7E-2,-2.1436999999999999]
[null,"2020-12-21T03:59:59.998",12,4,2,-1.9336,-2.7E-2,-2.1436999999999999]
[null,"2020-12-21T04:59:59.998",12,5,2,-1.9336,-2.7E-2,-2.1436999999999999]
[null,"2020-12-21T05:59:59.998",12,6,2,-1.9336,-2.7E-2,-2.1436999999999999]
[null,"2020-12-21T06:59:59.998",12,7,2,22.896999999999998,24.64,32.045000000000002]
[null,"2020-12-21T07:59:59.998",12,8,2,235.405,342.64,460.00400000000002]
[null,"2020-12-21T08:59:59.998",12,9,2,782.149,871.89,674.58699999999999]
[null,"2020-12-21T09:59:59.998",12,10,2,1179.1310000000001,1141.3,1232.3779999999999]
[null,"2020-12-21T10:59:59.998",12,11,2,1365.2,1274.5999999999999,1255.0989999999999]
[null,"2020-12-21T11:59:59.998",12,12,2,1402.7560000000001,1278.2,1147.2149999999999]
[null,"2020-12-21T12:59:59.998",12,13,2,1264.088,1144.4000000000001,920.03200000000004]
[null,"2020-12-21T13:59:59.998",12,14,2,971.71,842.48,551.52599999999995]
[null,"2020-12-21T14:59:59.998",12,15,2,596.05399999999997,374.35,193.714]
[null,"2020-12-21T15:59:59.998",12,16,4,87.884,54.036999999999999,35.137]
[null,"2020-12-21T16:59:59.998",12,17,4,-1.9336,-2.7E-2,-2.1436999999999999]
[null,"2020-12-21T17:59:59.998",12,18,4,-1.9336,-2.7E-2,-2.1436999999999999]
[null,"2020-12-21T18:59:59.998",12,19,4,-1.9336,-2.7E-2,-2.1436999999999999]
[null,"2020-12-21T19:59:59.998",12,20,4,-1.9336,-2.7E-2,-2.1436999999999999]
[null,"2020-12-21T20:59:59.998",12,21,2,-1.9336,-2.7E-2,-2.1436999999999999]
[null,"2020-12-21T21:59:59.998",12,22,2,-1.9336,-2.7E-2,-2.1436999999999999]
[null,"2020-12-21T22:59:59.998",12,23,2,-1.9336,-2.7E-2,-2.1436999999999999]
[null,"2020-12-21T23:59:59.998",12,0,2,-1.9336,-2.7E-2,-2.1436999999999999]
[null,"2020-12-22T00:59:59.998",12,1,2,-1.9336,-2.7E-2,-2.1436999999999999]
[null,"2020-12-22T01:59:59.998",12,2,2,-1.9336,-2.7E-2,-2.1436999999999999]
[null,"2020-12-22T02:59:59.998",12,3,2,-1.9336,-2.7E-2,-2.1436999999999999]
[null,"2020-12-22T03:59:59.998",12,4,2,-1.9336,-2.7E-2,-2.1436999999999999]
[null,"2020-12-22T04:59:59.998",12,5,2,-1.9336,-2.7E-2,-2.1436999999999999]
[null,"2020-12-22T05:59:59.998",12,6,2,-1.9336,-2.7E-2,-2.1436999999999999]
[null,"2020-12-22T06:59:59.998",12,7,2,-1.9336,-2.7E-2,-2.1436999999999999]
[null,"2020-12-22T07:59:59.998",12,8,2,135.53200000000001,174.54,213.565]
[null,"2020-12-22T08:59:59.998",12,9,2,433.66199999999998,460.45,414.93299999999999]
[null,"2020-12-22T09:59:59.998",12,10,2,399.11200000000002,405.36,407.26400000000001]
[null,"2020-12-22T10:59:59.998",12,11,2,490.77600000000001,489.8,473.625]
[null,"2020-12-22T11:59:59.998",12,12,2,866.16399999999999,813.93,744.84799999999996]
[null,"2020-12-22T12:59:59.998",12,13,2,827.22900000000004,769.47,644.72900000000004]
[null,"2020-12-22T13:59:59.998",12,14,2,891.33900000000006,785.84,541.25400000000002]
[null,"2020-12-22T14:59:59.998",12,15,2,338.07600000000002,249.58,155.49600000000001]
[null,"2020-12-22T15:59:59.998",12,16,4,87.295000000000002,60.1,40.787999999999997]
[null,"2020-12-22T16:59:59.998",12,17,4,-1.9336,-2.7E-2,-2.1436999999999999]
[null,"2020-12-22T17:59:59.998",12,18,4,-1.9336,-2.7E-2,-2.1436999999999999]
[null,"2020-12-22T18:59:59.998",12,19,4,-1.9336,-2.7E-2,-2.1436999999999999]
[null,"2020-12-22T19:59:59.998",12,20,4,-1.9336,-2.7E-2,-2.1436999999999999]
[null,"2020-12-22T20:59:59.998",12,21,2,-1.9336,-2.7E-2,-2.1436999999999999]
[null,"2020-12-22T21:59:59.998",12,22,2,-1.9336,-2.7E-2,-2.1436999999999999]
[null,"2020-12-22T22:59:59.998",12,23,2,-1.9336,-2.7E-2,-2.1436999999999999]
[null,"2020-12-22T23:59:59.998",12,0,2,-1.9336,-2.7E-2,-2.1436999999999999]
[null,"2020-12-23T00:59:59.998",12,1,2,-1.9336,-2.7E-2,-2.1436999999999999]
[null,"2020-12-23T01:59:59.998",12,2,2,-1.9336,-2.7E-2,-2.1436999999999999]
[null,"2020-12-23T02:59:59.998",12,3,2,-1.9336,-2.7E-2,-2.1436999999999999]
[null,"2020-12-23T03:59:59.998",12,4,2,-1.9336,-2.7E-2,-2.1436999999999999]
[null,"2020-12-23T04:59:59.998",12,5,2,-1.9336,-2.7E-2,-2.1436999999999999]
[null,"2020-12-23T05:59:59.998",12,6,2,-1.9336,-2.7E-2,-2.1436999999999999]
[null,"2020-12-23T06:59:59.998",12,7,2,-1.9336,-2.7E-2,-2.1436999999999999]
[null,"2020-12-23T07:59:59.998",12,8,{"$f":"INDEX($AE$11:$BB$22,MATCH(C8585,$AD$11:$AD$22,0),MATCH(D8585,$AE$10:$BB$10,0))","v":2},147.33500000000001,168.98,191.90199999999999]
[null,"2020-12-23T08:59:59.998",{"$f":"MONTH(B8586)","v":12},{"$f":"HOUR(B8586)","v":9},2,407.46699999999998,433.2,396.78800000000001]
[null,{"$f":"B8586+1/24","v":"2020-12-23T09:59:59.998"},12,10,2,553.86300000000006,548.79,565.23199999999997]
[null,"2020-12-23T10:59:59.998",12,11,2,517.85900000000004,517.54999999999995,501.108]
[null,"2020-12-23T11:59:59.998",12,12,2,498.57400000000001,496.43,462.67899999999997]
[null,"2020-12-23T12:59:59.998",12,13,2,493.45400000000001,484.27,426.286]
[null,"2020-12-23T13:59:59.998",12,14,2,145.54300000000001,160.22999999999999,145.98099999999999]
[null,"2020-12-23T14:59:59.998",12,15,2,81.679000000000002,78.793999999999997,66.409000000000006]
[null,"2020-12-23T15:59:59.998",12,16,4,38.789000000000001,36.372,30.38]
[null,"2020-12-23T16:59:59.998",12,17,4,-1.9336,-2.7E-2,-2.1436999999999999]
[null,"2020-12-23T17:59:59.998",12,18,4,-1.9336,-2.7E-2,-2.1436999999999999]
[null,"2020-12-23T18:59:59.998",12,19,4,-1.9336,-2.7E-2,-2.1436999999999999]
[null,"2020-12-23T19:59:59.998",12,20,4,-1.9336,-2.7E-2,-2.1436999999999999]
[null,"2020-12-23T20:59:59.998",12,21,2,-1.9336,-2.7E-2,-2.1436999999999999]
[null,"2020-12-23T21:59:59.998",12,22,2,-1.9336,-2.7E-2,-2.1436999999999999]
[null,"2020-12-23T22:59:59.998",12,23,2,-1.9336,-2.7E-2,-2.1436999999999999]
[null,"2020-12-23T23:59:59.998",12,0,2,-1.9336,-2.7E-2,-2.1436999999999999]
[null,"2020-12-24T00:59:59.998",12,1,2,-1.9336,-2.7E-2,-2.1436999999999999]
[null,"2020-12-24T01:59:59.998",12,2,2,-1.9336,-2.7E-2,-2.1436999999999999]
[null,"2020-12-24T02:59:59.998",12,3,2,-1.9336,-2.7E-2,-2.1436999999999999]
[null,"2020-12-24T03:59:59.998",12,4,2,-1.9336,-2.7E-2,-2.1436999999999999]
[null,"2020-12-24T04:59:59.998",12,5,2,-1.9336,-2.7E-2,-2.1436999999999999]
[null,"2020-12-24T05:59:59.998",12,6,2,-1.9336,-2.7E-2,-2.1436999999999999]
[null,"2020-12-24T06:59:59.998",12,7,2,-1.9336,-2.7E-2,-2.1436999999999999]
[null,"2020-12-24T07:59:59.998",12,8,2,66.784000000000006,74.876000000000005,70.814999999999998]
[null,"2020-12-24T08:59:59.998",12,9,2,85.540999999999997,95.63,88.527000000000001]
[null,"2020-12-24T09:59:59.998",12,10,2,168.982,186.59,175.608]
[null,"2020-12-24T10:59:59.998",12,11,2,141.583,158.19999999999999,147.221]
[null,"2020-12-24T11:59:59.998",12,12,2,190.726,209.01,195.73500000000001]
[null,"2020-12-24T12:59:59.998",12,13,2,270.60899999999998,285.72000000000003,263.279]
[null,"2020-12-24T13:59:59.998",12,14,2,207.46799999999999,221.15,199.41200000000001]
[null,"2020-12-24T14:59:59.998",12,15,2,85.451999999999998,93.820999999999998,85.697000000000003]
[null,"2020-12-24T15:59:59.998",12,16,4,2.8367,-2.7E-2,12.257]
[null,"2020-12-24T16:59:59.998",12,17,4,-1.9336,-2.7E-2,-2.1436999999999999]
[null,"2020-12-24T17:59:59.998",12,18,4,-1.9336,-2.7E-2,-2.1436999999999999]
[null,"2020-12-24T18:59:59.998",12,19,4,-1.9336,-2.7E-2,-2.1436999999999999]
[null,"2020-12-24T19:59:59.998",12,20,4,-1.9336,-2.7E-2,-2.1436999999999999]
[null,"2020-12-24T20:59:59.998",12,21,2,-1.9336,-2.7E-2,-2.1436999999999999]
[null,"2020-12-24T21:59:59.998",12,22,2,-1.9336,-2.7E-2,-2.1436999999999999]
[null,"2020-12-24T22:59:59.998",12,23,2,-1.9336,-2.7E-2,-2.1436999999999999]
[null,"2020-12-24T23:59:59.998",12,0,2,-1.9336,-2.7E-2,-2.1436999999999999]
[null,"2020-12-25T00:59:59.998",12,1,2,-1.9336,-2.7E-2,-2.1436999999999999]
[null,"2020-12-25T01:59:59.998",12,2,2,-1.9336,-2.7E-2,-2.1436999999999999]
[null,"2020-12-25T02:59:59.998",12,3,2,-1.9336,-2.7E-2,-2.1436999999999999]
[null,"2020-12-25T03:59:59.998",12,4,2,-1.9336,-2.7E-2,-2.1436999999999999]
[null,"2020-12-25T04:59:59.998",12,5,2,-1.9336,-2.7E-2,-2.1436999999999999]
[null,"2020-12-25T05:59:59.998",12,6,2,-1.9336,-2.7E-2,-2.1436999999999999]
[null,"2020-12-25T06:59:59.998",12,7,2,-1.9336,-2.7E-2,-2.1436999999999999]
[null,"2020-12-25T07:59:59.998",12,8,2,25.024999999999999,32.648000000000003,29.201000000000001]
[null,"2020-12-25T08:59:59.998",12,9,2,187.744,205.4,194.02699999999999]
[null,"2020-12-25T09:59:59.998",12,10,2,302.52,318.17,310.82299999999998]
[null,"2020-12-25T10:59:59.998",12,11,2,190.42099999999999,208.03,195.81]
[null,"2020-12-25T11:59:59.998",12,12,2,139.68600000000001,155.65,144.86600000000001]
[null,"2020-12-25T12:59:59.998",12,13,2,119.358,133.07,123.96599999999999]
[null,"2020-12-25T13:59:59.998",12,14,2,87.322000000000003,97.331999999999994,91.287000000000006]
[null,"2020-12-25T14:59:59.998",12,15,2,39.932000000000002,48.308,47.023000000000003]
[null,"2020-12-25T15:59:59.998",12,16,4,-1.9336,-2.7E-2,7.3408999999999995]
[null,"2020-12-25T16:59:59.998",12,17,4,-1.9336,-2.7E-2,-2.1436999999999999]
[null,"2020-12-25T17:59:59.998",12,18,4,-1.9336,-2.7E-2,-2.1436999999999999]
[null,"2020-12-25T18:59:59.998",12,19,4,-1.9336,-2.7E-2,-2.1436999999999999]
[null,"2020-12-25T19:59:59.998",12,20,4,-1.9336,-2.7E-2,-2.1436999999999999]
[null,"2020-12-25T20:59:59.998",12,21,2,-1.9336,-2.7E-2,-2.1436999999999999]
[null,"2020-12-25T21:59:59.998",12,22,2,-1.9336,-2.7E-2,-2.1436999999999999]
[null,"2020-12-25T22:59:59.998",12,23,2,-1.9336,-2.7E-2,-2.1436999999999999]
[null,"2020-12-25T23:59:59.998",12,0,{"$f":"INDEX($AE$11:$BB$22,MATCH(C8649,$AD$11:$AD$22,0),MATCH(D8649,$AE$10:$BB$10,0))","v":2},-1.9336,-2.7E-2,-2.1436999999999999]
[null,"2020-12-26T00:59:59.998",{"$f":"MONTH(B8650)","v":12},{"$f":"HOUR(B8650)","v":1},2,-1.9336,-2.7E-2,-2.1436999999999999]
[null,{"$f":"B8650+1/24","v":"2020-12-26T01:59:59.998"},12,2,2,-1.9336,-2.7E-2,-2.1436999999999999]
[null,"2020-12-26T02:59:59.998",12,3,2,-1.9336,-2.7E-2,-2.1436999999999999]
[null,"2020-12-26T03:59:59.998",12,4,2,-1.9336,-2.7E-2,-2.1436999999999999]
[null,"2020-12-26T04:59:59.998",12,5,2,-1.9336,-2.7E-2,-2.1436999999999999]
[null,"2020-12-26T05:59:59.998",12,6,2,-1.9336,-2.7E-2,-2.1436999999999999]
[null,"2020-12-26T06:59:59.998",12,7,2,6.4271000000000003,12.795999999999999,11.978]
[null,"2020-12-26T07:59:59.998",12,8,2,224.25700000000001,307.76,415.99400000000003]
[null,"2020-12-26T08:59:59.998",12,9,2,684.94200000000001,754.16,623.58100000000002]
[null,"2020-12-26T09:59:59.998",12,10,2,881.23400000000004,851.46,909.53499999999997]
[null,"2020-12-26T10:59:59.998",12,11,2,1175.143,1099.3,1085.653]
[null,"2020-12-26T11:59:59.998",12,12,2,1364.1569999999999,1244.9000000000001,1124.6079999999999]
[null,"2020-12-26T12:59:59.998",12,13,2,1280.98,1159.7,934.97199999999998]
[null,"2020-12-26T13:59:59.998",12,14,2,1047.3800000000001,902.07,596.18600000000004]
[null,"2020-12-26T14:59:59.998",12,15,2,586.81600000000003,400.96,219.458]
[null,"2020-12-26T15:59:59.998",12,16,4,117.66200000000001,66.227999999999994,41.631999999999998]
[null,"2020-12-26T16:59:59.998",12,17,4,-1.9336,-2.7E-2,-2.1436999999999999]
[null,"2020-12-26T17:59:59.998",12,18,4,-1.9336,-2.7E-2,-2.1436999999999999]
[null,"2020-12-26T18:59:59.998",12,19,4,-1.9336,-2.7E-2,-2.1436999999999999]
[null,"2020-12-26T19:59:59.998",12,20,4,-1.9336,-2.7E-2,-2.1436999999999999]
[null,"2020-12-26T20:59:59.998",12,21,2,-1.9336,-2.7E-2,-2.1436999999999999]
[null,"2020-12-26T21:59:59.998",12,22,2,-1.9336,-2.7E-2,-2.1436999999999999]
[null,"2020-12-26T22:59:59.998",12,23,2,-1.9336,-2.7E-2,-2.1436999999999999]
[null,"2020-12-26T23:59:59.998",12,0,2,-1.9336,-2.7E-2,-2.1436999999999999]
[null,"2020-12-27T00:59:59.998",12,1,2,-1.9336,-2.7E-2,-2.1436999999999999]
[null,"2020-12-27T01:59:59.998",12,2,2,-1.9336,-2.7E-2,-2.1436999999999999]
[null,"2020-12-27T02:59:59.998",12,3,2,-1.9336,-2.7E-2,-2.1436999999999999]
[null,"2020-12-27T03:59:59.998",12,4,2,-1.9336,-2.7E-2,-2.1436999999999999]
[null,"2020-12-27T04:59:59.998",12,5,2,-1.9336,-2.7E-2,-2.1436999999999999]
[null,"2020-12-27T05:59:59.998",12,6,2,-1.9336,-2.7E-2,-2.1436999999999999]
[null,"2020-12-27T06:59:59.998",12,7,2,12.656000000000001,18.945,18.893000000000001]
[null,"2020-12-27T07:59:59.998",12,8,2,225.054,322.07,457.15699999999998]
[null,"2020-12-27T08:59:59.998",12,9,2,747.75300000000004,844.6,660.03499999999997]
[null,"2020-12-27T09:59:59.998",12,10,2,1151.9000000000001,1111.9000000000001,1207.4870000000001]
[null,"2020-12-27T10:59:59.998",12,11,2,1335.2249999999999,1245.9000000000001,1232.1959999999999]
[null,"2020-12-27T11:59:59.998",12,12,2,1308.6479999999999,1192.5999999999999,1076.684]
[null,"2020-12-27T12:59:59.998",12,13,2,1192.364,1078.9000000000001,871.88]
[null,"2020-12-27T13:59:59.998",12,14,2,1042.672,904.78,596.52099999999996]
[null,"2020-12-27T14:59:59.998",12,15,2,680.72,448.59,224.523]
[null,"2020-12-27T15:59:59.998",12,16,4,117.255,69.558999999999997,43.451000000000001]
[null,"2020-12-27T16:59:59.998",12,17,4,-1.9336,-2.7E-2,-2.1436999999999999]
[null,"2020-12-27T17:59:59.998",12,18,4,-1.9336,-2.7E-2,-2.1436999999999999]
[null,"2020-12-27T18:59:59.998",12,19,4,-1.9336,-2.7E-2,-2.1436999999999999]
[null,"2020-12-27T19:59:59.998",12,20,4,-1.9336,-2.7E-2,-2.1436999999999999]
[null,"2020-12-27T20:59:59.998",12,21,2,-1.9336,-2.7E-2,-2.1436999999999999]
[null,"2020-12-27T21:59:59.998",12,22,2,-1.9336,-2.7E-2,-2.1436999999999999]
[null,"2020-12-27T22:59:59.998",12,23,2,-1.9336,-2.7E-2,-2.1436999999999999]
[null,"2020-12-27T23:59:59.998",12,0,2,-1.9336,-2.7E-2,-2.1436999999999999]
[null,"2020-12-28T00:59:59.998",12,1,2,-1.9336,-2.7E-2,-2.1436999999999999]
[null,"2020-12-28T01:59:59.998",12,2,2,-1.9336,-2.7E-2,-2.1436999999999999]
[null,"2020-12-28T02:59:59.998",12,3,2,-1.9336,-2.7E-2,-2.1436999999999999]
[null,"2020-12-28T03:59:59.998",12,4,2,-1.9336,-2.7E-2,-2.1436999999999999]
[null,"2020-12-28T04:59:59.998",12,5,2,-1.9336,-2.7E-2,-2.1436999999999999]
[null,"2020-12-28T05:59:59.998",12,6,2,-1.9336,-2.7E-2,-2.1436999999999999]
[null,"2020-12-28T06:59:59.998",12,7,2,-1.9336,-2.7E-2,-2.1436999999999999]
[null,"2020-12-28T07:59:59.998",12,8,2,95.186999999999998,103.01,102.361]
[null,"2020-12-28T08:59:59.998",12,9,2,529.73,574.09,503.16199999999998]
[null,"2020-12-28T09:59:59.998",12,10,2,1028.2570000000001,990.23,1070.4190000000001]
[null,"2020-12-28T10:59:59.998",12,11,2,1220.7560000000001,1138.7,1126.6500000000001]
[null,"2020-12-28T11:59:59.998",12,12,2,1295.808,1184.7,1073.875]
[null,"2020-12-28T12:59:59.998",12,13,2,1044.547,957.34,791.779]
[null,"2020-12-28T13:59:59.998",12,14,2,540.05399999999997,502.23,386.19]
[null,"2020-12-28T14:59:59.998",12,15,2,157.45599999999999,161.72999999999999,135.63900000000001]
[null,"2020-12-28T15:59:59.998",12,16,{"$f":"INDEX($AE$11:$BB$22,MATCH(C8713,$AD$11:$AD$22,0),MATCH(D8713,$AE$10:$BB$10,0))","v":4},51.406999999999996,42.33,31.637]
[null,"2020-12-28T16:59:59.998",{"$f":"MONTH(B8714)","v":12},{"$f":"HOUR(B8714)","v":17},4,-1.9336,-2.7E-2,-2.1436999999999999]
[null,{"$f":"B8714+1/24","v":"2020-12-28T17:59:59.998"},12,18,4,-1.9336,-2.7E-2,-2.1436999999999999]
[null,"2020-12-28T18:59:59.998",12,19,4,-1.9336,-2.7E-2,-2.1436999999999999]
[null,"2020-12-28T19:59:59.998",12,20,4,-1.9336,-2.7E-2,-2.1436999999999999]
[null,"2020-12-28T20:59:59.998",12,21,2,-1.9336,-2.7E-2,-2.1436999999999999]
[null,"2020-12-28T21:59:59.998",12,22,2,-1.9336,-2.7E-2,-2.1436999999999999]
[null,"2020-12-28T22:59:59.998",12,23,2,-1.9336,-2.7E-2,-2.1436999999999999]
[null,"2020-12-28T23:59:59.998",12,0,2,-1.9336,-2.7E-2,-2.1436999999999999]
[null,"2020-12-29T00:59:59.998",12,1,2,-1.9336,-2.7E-2,-2.1436999999999999]
[null,"2020-12-29T01:59:59.998",12,2,2,-1.9336,-2.7E-2,-2.1436999999999999]
[null,"2020-12-29T02:59:59.998",12,3,2,-1.9336,-2.7E-2,-2.1436999999999999]
[null,"2020-12-29T03:59:59.998",12,4,2,-1.9336,-2.7E-2,-2.1436999999999999]
[null,"2020-12-29T04:59:59.998",12,5,2,-1.9336,-2.7E-2,-2.1436999999999999]
[null,"2020-12-29T05:59:59.998",12,6,2,-1.9336,-2.7E-2,-2.1436999999999999]
[null,"2020-12-29T06:59:59.998",12,7,2,10.91,17.527999999999999,16.919]
[null,"2020-12-29T07:59:59.998",12,8,2,227.70500000000001,311.27999999999997,431.73]
[null,"2020-12-29T08:59:59.998",12,9,2,704.59799999999996,787.78,634.11]
[null,"2020-12-29T09:59:59.998",12,10,2,1088.2449999999999,1048.0999999999999,1138.48]
[null,"2020-12-29T10:59:59.998",12,11,2,1247.6379999999999,1163.8,1152.42]
[null,"2020-12-29T11:59:59.998",12,12,2,1254.6849999999999,1146.5,1039.2940000000001]
[null,"2020-12-29T12:59:59.998",12,13,2,1195.671,1083.5,879.822]
[null,"2020-12-29T13:59:59.998",12,14,2,988.39099999999996,862.71,581.88599999999997]
[null,"2020-12-29T14:59:59.998",12,15,2,551.37,397.88,220.56]
[null,"2020-12-29T15:59:59.998",12,16,4,144.608,81.063999999999993,47.317]
[null,"2020-12-29T16:59:59.998",12,17,4,-1.9336,-2.7E-2,-2.1436999999999999]
[null,"2020-12-29T17:59:59.998",12,18,4,-1.9336,-2.7E-2,-2.1436999999999999]
[null,"2020-12-29T18:59:59.998",12,19,4,-1.9336,-2.7E-2,-2.1436999999999999]
[null,"2020-12-29T19:59:59.998",12,20,4,-1.9336,-2.7E-2,-2.1436999999999999]
[null,"2020-12-29T20:59:59.998",12,21,2,-1.9336,-2.7E-2,-2.1436999999999999]
[null,"2020-12-29T21:59:59.998",12,22,2,-1.9336,-2.7E-2,-2.1436999999999999]
[null,"2020-12-29T22:59:59.998",12,23,2,-1.9336,-2.7E-2,-2.1436999999999999]
[null,"2020-12-29T23:59:59.998",12,0,2,-1.9336,-2.7E-2,-2.1436999999999999]
[null,"2020-12-30T00:59:59.998",12,1,2,-1.9336,-2.7E-2,-2.1436999999999999]
[null,"2020-12-30T01:59:59.998",12,2,2,-1.9336,-2.7E-2,-2.1436999999999999]
[null,"2020-12-30T02:59:59.998",12,3,2,-1.9336,-2.7E-2,-2.1436999999999999]
[null,"2020-12-30T03:59:59.998",12,4,2,-1.9336,-2.7E-2,-2.1436999999999999]
[null,"2020-12-30T04:59:59.998",12,5,2,-1.9336,-2.7E-2,-2.1436999999999999]
[null,"2020-12-30T05:59:59.998",12,6,2,-1.9336,-2.7E-2,-2.1436999999999999]
[null,"2020-12-30T06:59:59.998",12,7,2,4.7523999999999997,11.266999999999999,10.249000000000001]
[null,"2020-12-30T07:59:59.998",12,8,2,163.83699999999999,207.14,265.7]
[null,"2020-12-30T08:59:59.998",12,9,2,595.68899999999996,647.57000000000005,559.06100000000004]
[null,"2020-12-30T09:59:59.998",12,10,2,632.55600000000004,618.04999999999995,649.68700000000001]
[null,"2020-12-30T10:59:59.998",12,11,2,569.27499999999998,556.37,542.86500000000001]
[null,"2020-12-30T11:59:59.998",12,12,2,1171.0519999999999,1080.3,985.13699999999994]
[null,"2020-12-30T12:59:59.998",12,13,2,1167.7660000000001,1058.9000000000001,861.8]
[null,"2020-12-30T13:59:59.998",12,14,2,1004.437,874.69,584.88499999999999]
[null,"2020-12-30T14:59:59.998",12,15,2,583.14,411.37,213.56299999999999]
[null,"2020-12-30T15:59:59.998",12,16,4,139.13,75.346999999999994,43.722999999999999]
[null,"2020-12-30T16:59:59.998",12,17,4,-1.9336,-2.7E-2,-2.1436999999999999]
[null,"2020-12-30T17:59:59.998",12,18,4,-1.9336,-2.7E-2,-2.1436999999999999]
[null,"2020-12-30T18:59:59.998",12,19,4,-1.9336,-2.7E-2,-2.1436999999999999]
[null,"2020-12-30T19:59:59.998",12,20,4,-1.9336,-2.7E-2,-2.1436999999999999]
[null,"2020-12-30T20:59:59.998",12,21,2,-1.9336,-2.7E-2,-2.1436999999999999]
[null,"2020-12-30T21:59:59.998",12,22,2,-1.9336,-2.7E-2,-2.1436999999999999]
[null,"2020-12-30T22:59:59.998",12,23,2,-1.9336,-2.7E-2,-2.1436999999999999]

{"sheet":"Emissions Factors","index":5,"n_rows":17,"n_cols":38,"rows_kept":17,"cut":false,"hidden":false,"merged":[]}
["Utility","Most Recent Year","Zero Emissions Year","Recent Year Emissions","Slope","Intercept","Current Year Emissions",1990,1991,1992,1993,1994,1995,1996,1997,1998,1999,2000,2001,2002,2003,2004,2005,2006,2007,2008,2009,2010,2011,2012,2013,2014,2015,2016,2017,2018,2019,2020]
["Campus CNG",2016,"NA",{"$f":"ROUND(INDEX($H2:$AL2,1,MATCH($B2,$H$1:$AL$1)),7)","v":6.8599999999999998E-4},{"$f":"IFERROR((D2-0)/(B2-C2),0)","v":0},{"$f":"D2-E2*B2","v":6.8599999999999998E-4},{"$f":"E2*2020+F2","v":6.8599999999999998E-4},6.8599999999999998E-4,6.8599999999999998E-4,6.8599999999999998E-4,6.8599999999999998E-4,6.8599999999999998E-4,6.8599999999999998E-4,6.8599999999999998E-4,6.8599999999999998E-4,6.8599999999999998E-4,6.8599999999999998E-4,6.8599999999999998E-4,6.8599999999999998E-4,6.8599999999999998E-4,6.8599999999999998E-4,6.8599999999999998E-4,6.8599999999999998E-4,6.8599999999999998E-4,6.8599999999999998E-4,6.8599999999999998E-4,6.8599999999999998E-4,6.8599999999999998E-4,6.8599999999999998E-4,6.8599999999999998E-4,6.8599999999999998E-4,6.8599999999999998E-4,6.8599999999999998E-4,6.8599999999999998E-4,"NA","NA","NA","NA"]
["Campus Diesel",2016,"NA",9.9600000000000001E-3,{"$f":"IFERROR((D3-0)/(B3-C3),0)","v":0},{"$f":"D3-E3*B3","v":9.9600000000000001E-3},9.9600000000000001E-3,9.9600000000000001E-3,9.9600000000000001E-3,9.9600000000000001E-3,9.9600000000000001E-3,9.9600000000000001E-3,9.9600000000000001E-3,9.9600000000000001E-3,9.9600000000000001E-3,9.9600000000000001E-3,9.9600000000000001E-3,9.9600000000000001E-3,9.9600000000000001E-3,9.9600000000000001E-3,9.9600000000000001E-3,9.9600000000000001E-3,9.9600000000000001E-3,9.9600000000000001E-3,9.9600000000000001E-3,9.9600000000000001E-3,9.9600000000000001E-3,9.9600000000000001E-3,9.9600000000000001E-3,9.9600000000000001E-3,9.9600000000000001E-3,9.9600004000000002E-3,9.9600004000000002E-3,9.9600004000000002E-3,"NA","NA","NA","NA"]
["Campus Gasoline",2016,"NA",8.5500000000000003E-3,0,8.5500000000000003E-3,8.5500000000000003E-3,8.5500000000000003E-3,8.5500000000000003E-3,8.5500000000000003E-3,8.5500000000000003E-3,8.5500000000000003E-3,8.5500000000000003E-3,8.5500000000000003E-3,8.5500000000000003E-3,8.5500000000000003E-3,8.5500000000000003E-3,8.5500000000000003E-3,8.5500000000000003E-3,8.5500000000000003E-3,8.5500000000000003E-3,8.5500000000000003E-3,8.5500000000000003E-3,8.5500000000000003E-3,8.5500000000000003E-3,8.5500000000000003E-3,8.5500000000000003E-3,8.5500000000000003E-3,8.5500000000000003E-3,8.5500000000000003E-3,8.5500000000000003E-3,8.5500004000000004E-3,8.5500004000000004E-3,8.5500004000000004E-3,"NA","NA","NA","NA"]
["Campus Marine Gas Oil",2016,"NA",1.005E-2,0,1.005E-2,1.005E-2,1.005E-2,1.005E-2,1.005E-2,1.005E-2,1.005E-2,1.005E-2,1.005E-2,1.005E-2,1.005E-2,1.005E-2,1.005E-2,1.005E-2,1.005E-2,1.005E-2,1.005E-2,1.005E-2,1.005E-2,1.005E-2,1.005E-2,1.005E-2,1.005E-2,1.005E-2,1.005E-2,1.005E-2,1.0049999699999999E-2,1.0049999699999999E-2,1.0049999699999999E-2,"NA","NA","NA","NA"]
["Campus Propane",2016,"NA",5.6699999999999997E-3,0,5.6699999999999997E-3,5.6699999999999997E-3,5.6699999999999997E-3,5.6699999999999997E-3,5.6699999999999997E-3,5.6699999999999997E-3,5.6699999999999997E-3,5.6699999999999997E-3,5.6699999999999997E-3,5.6699999999999997E-3,5.6699999999999997E-3,5.6699999999999997E-3,5.6699999999999997E-3,5.6699999999999997E-3,5.6699999999999997E-3,5.6699999999999997E-3,5.6699999999999997E-3,5.6699999999999997E-3,5.6699999999999997E-3,5.6699999999999997E-3,5.6699999999999997E-3,5.6699999999999997E-3,5.6699999999999997E-3,5.6699999999999997E-3,5.6699999999999997E-3,5.6699999999999997E-3,5.6699999000000001E-3,5.6699999000000001E-3,5.6699999000000001E-3,"NA","NA","NA","NA"]
["ESP Electricity",2018,2045,1.8579999999999999E-4,-6.8814814814814808E-6,1.4072629629629628E-2,1.7203703703703652E-4,"NA","NA","NA","NA","NA","NA","NA","NA","NA",3.44285E-4,3.44285E-4,3.44285E-4,3.44285E-4,3.42257E-4,3.5616899999999998E-4,3.5616899999999998E-4,4.4112200000000001E-4,4.4150400000000001E-4,4.5351899999999999E-4,5.1539000000000001E-4,2.2241900000000001E-4,2.2262599999999999E-4,2.3644599999999999E-4,2.3704299999999999E-4,1.6674699999999999E-4,1.5118099999999999E-4,1.6016399999999999E-4,1.9260189999999999E-4,1.858439E-4,"NA","NA"]
["LADWP Electricity",2018,2045,3.6650000000000002E-4,-1.3574074074074075E-5,2.7758981481481482E-2,3.393518518518511E-4,7.1507199999999997E-4,7.1507199999999997E-4,7.1507199999999997E-4,7.1507199999999997E-4,7.1507199999999997E-4,7.1507199999999997E-4,8.9433500000000001E-4,8.9433500000000001E-4,8.9433500000000001E-4,7.5907700000000004E-4,8.2949100000000002E-4,8.2949100000000002E-4,8.2949100000000002E-4,8.2949100000000002E-4,6.17163E-4,5.9130100000000002E-4,5.6178900000000004E-4,5.5696700000000001E-4,5.7800799999999997E-4,5.39359E-4,4.7501200000000003E-4,4.6601299999999998E-4,4.3432799999999999E-4,5.1663000000000002E-4,5.1121999999999995E-4,5.4657299999999996E-4,3.9357690000000001E-4,3.734551E-4,3.6651689999999998E-4,"NA","NA"]
["PG&E Electricity",2020,2045,7.3300000000000006E-5,-2.932E-6,5.99594E-3,7.3300000000000101E-5,6.2776800000000001E-4,6.2776800000000001E-4,6.2776800000000001E-4,6.2776800000000001E-4,6.2776800000000001E-4,6.2776800000000001E-4,2.0941699999999999E-4,2.0941699999999999E-4,2.0941699999999999E-4,6.2171500000000001E-4,6.2171500000000001E-4,6.2171500000000001E-4,6.2171500000000001E-4,2.8122999999999999E-4,2.5673599999999998E-4,2.21809E-4,2.0683999999999999E-4,2.8848799999999999E-4,2.1222299999999999E-4,1.8255300000000001E-4,1.3871700000000001E-4,1.35062E-4,1.3970000000000001E-4,1.4411099999999999E-4,1.3613199999999999E-4,1.19282E-4,1.19282E-4,5.0501870000000003E-5,4.109008E-5,9.4217799999999998E-5,7.3323240000000006E-5]
["Purchased Cogen Electricity",2016,"NA",2.2939999999999999E-4,0,2.2939999999999999E-4,2.2939999999999999E-4,2.29361E-4,2.29361E-4,2.29361E-4,2.29361E-4,2.29361E-4,2.29361E-4,2.29361E-4,2.29361E-4,2.29361E-4,2.29361E-4,2.29361E-4,2.29361E-4,2.29361E-4,2.29361E-4,2.29361E-4,2.29361E-4,2.29361E-4,2.29361E-4,2.29361E-4,2.29361E-4,2.29361E-4,2.29361E-4,2.29361E-4,2.29361E-4,2.29361E-4,2.29361E-4,2.29361E-4,"NA","NA","NA","NA"]
["SCE Electricity",2020,2045,3.0190000000000002E-4,-1.2076000000000001E-5,2.4695420000000003E-2,3.0190000000000078E-4,4.8404900000000001E-4,4.8404900000000001E-4,4.8404900000000001E-4,4.8404900000000001E-4,4.8404900000000001E-4,4.8404900000000001E-4,3.5432299999999998E-4,3.5432299999999998E-4,3.5432299999999998E-4,5.9772700000000005E-4,5.9772700000000005E-4,5.9772700000000005E-4,5.9772700000000005E-4,2.2818900000000001E-4,2.38583E-4,2.1985799999999999E-4,2.1520999999999999E-4,2.1520999999999999E-4,3.18838E-4,3.1795499999999997E-4,2.3501300000000001E-4,2.08092E-4,2.1237099999999999E-4,2.1609799999999999E-4,1.80862E-4,1.707E-4,1.707E-4,"NA","NA","NA",3.0190080000000002E-4]
["SDG&E Electricity",2018,2045,1.9760000000000001E-4,-7.3185185185185188E-6,1.4966370370370369E-2,1.8296296296296116E-4,4.8404900000000001E-4,4.8404900000000001E-4,4.8404900000000001E-4,4.8404900000000001E-4,4.8404900000000001E-4,4.8404900000000001E-4,8.5940300000000001E-4,8.5940300000000001E-4,8.5940300000000001E-4,4.8038200000000001E-4,4.8038200000000001E-4,4.8038200000000001E-4,4.8038200000000001E-4,4.8038200000000001E-4,2.7839500000000002E-4,2.4787099999999999E-4,3.5416400000000002E-4,3.47487E-4,3.3523100000000002E-4,3.3531400000000002E-4,2.9532799999999998E-4,2.2308899999999999E-4,2.5487300000000002E-4,2.9367899999999998E-4,2.0593799999999999E-4,1.8715499999999999E-4,1.9530519999999999E-4,1.922866E-4,1.97648E-4,"NA","NA"]
["SMUD Electricity",2018,2045,1.8249999999999999E-4,-6.7592592592592585E-6,1.3822685185185184E-2,1.6898148148148176E-4,3.8691799999999998E-4,3.5335199999999997E-4,3.54259E-4,2.9030199999999999E-4,3.4065099999999997E-4,2.31334E-4,2.1818E-4,2.2044799999999999E-4,2.48571E-4,2.8168399999999998E-4,2.8485899999999999E-4,3.2931099999999999E-4,3.0118799999999998E-4,2.8213700000000001E-4,3.48816E-4,2.79447E-4,2.5186400000000003E-4,3.3123799999999998E-4,2.8686800000000002E-4,2.8686800000000002E-4,2.68003E-4,2.33002E-4,2.8400300000000001E-4,2.3603299999999999E-4,2.5764100000000002E-4,2.5141900000000001E-4,1.9548539999999999E-4,1.557935E-4,1.824649E-4,"NA","NA"]
["Stationary Cogen Natural Gas",2016,"NA",5.2785000000000002E-3,0,5.2785000000000002E-3,5.2785000000000002E-3,5.2784750000000004E-3,5.2784750000000004E-3,5.2784750000000004E-3,5.2784750000000004E-3,5.2784750000000004E-3,5.2784750000000004E-3,5.2784750000000004E-3,5.2784750000000004E-3,5.2784750000000004E-3,5.2784750000000004E-3,5.2784750000000004E-3,5.2784750000000004E-3,5.2784750000000004E-3,5.2784750000000004E-3,5.2784750000000004E-3,5.2784750000000004E-3,5.2784750000000004E-3,5.2784750000000004E-3,5.2784750000000004E-3,5.2784750000000004E-3,5.2784750000000004E-3,5.2784750000000004E-3,5.2784750000000004E-3,5.2784750000000004E-3,5.2784751E-3,5.2784751E-3,5.2784751E-3,"NA","NA","NA","NA"]
["Stationary Non-Cogen Natural Gas",2016,"NA",5.2785000000000002E-3,0,5.2785000000000002E-3,5.2785000000000002E-3,5.2784750000000004E-3,5.2784750000000004E-3,5.2784750000000004E-3,5.2784750000000004E-3,5.2784750000000004E-3,5.2784750000000004E-3,5.2784750000000004E-3,5.2784750000000004E-3,5.2784750000000004E-3,5.2784750000000004E-3,5.2784750000000004E-3,5.2784750000000004E-3,5.2784750000000004E-3,5.2784750000000004E-3,5.2784750000000004E-3,5.2784750000000004E-3,5.2784750000000004E-3,5.2784750000000004E-3,5.2784750000000004E-3,5.2784750000000004E-3,5.2784750000000004E-3,5.2784750000000004E-3,5.2784750000000004E-3,5.2784750000000004E-3,5.2784751E-3,5.2784751E-3,5.2784751E-3,"NA","NA","NA","NA"]
["Stationary Purchased Steam",2016,"NA",6.5981E-3,0,6.5981E-3,6.5981E-3,6.5980939999999997E-3,6.5980939999999997E-3,6.5980939999999997E-3,6.5980939999999997E-3,6.5980939999999997E-3,6.5980939999999997E-3,6.5980939999999997E-3,6.5980939999999997E-3,6.5980939999999997E-3,6.5980939999999997E-3,6.5980939999999997E-3,6.5980939999999997E-3,6.5980939999999997E-3,6.5980939999999997E-3,6.5980939999999997E-3,6.5980939999999997E-3,6.5980939999999997E-3,6.5980939999999997E-3,6.5980939999999997E-3,6.5980939999999997E-3,6.5980939999999997E-3,6.5980939999999997E-3,6.5980939999999997E-3,6.5980939999999997E-3,6.5980939999999997E-3,6.5980939999999997E-3,6.5980939999999997E-3,"NA","NA","NA","NA"]
["TID Electricity",2019,2045,1.54E-4,-5.9230769230769228E-6,1.2112692307692307E-2,1.4807692307692265E-4,3.0957100000000002E-4,3.0957100000000002E-4,3.0957100000000002E-4,3.0957100000000002E-4,3.0957100000000002E-4,3.0957100000000002E-4,3.0957100000000002E-4,3.0957100000000002E-4,3.0957100000000002E-4,3.0957100000000002E-4,3.0957100000000002E-4,3.0957100000000002E-4,3.0957100000000002E-4,3.0957100000000002E-4,3.0957100000000002E-4,3.0957100000000002E-4,3.0957100000000002E-4,3.6605299999999997E-4,3.5834199999999999E-4,3.1678199999999999E-4,2.09593E-4,2.09593E-4,2.09593E-4,2.09593E-4,2.9638249999999999E-4,2.6203860000000002E-4,2.6203860000000002E-4,1.5395949999999999E-4,1.5395949999999999E-4,1.5395949999999999E-4,"NA"]

{"sheet":"Technologies Table","index":6,"n_rows":55,"n_cols":9,"rows_kept":55,"cut":false,"hidden":false,"merged":[[0,7,1,7],[0,8,1,8],[2,0,13,0],[2,1,4,1],[2,2,4,2],[2,3,4,3],[2,5,4,5],[5,2,8,2],[5,3,8,3],[5,5,8,5],[0,0,1,0],[0,1,1,1],[0,2,1,2],[0,3,1,3],[0,5,1,5],[0,6,1,6],[9,2,13,2],[9,3,13,3],[9,5,13,5],[9,7,13,7],[14,0,27,0],[14,1,16,1],[14,2,16,2],[14,3,16,3],[14,5,16,5],[25,2,27,2],[25,3,27,3],[25,5,27,5],[14,8,21,8],[17,2,21,2],[17,3,21,3],[17,5,21,5],[22,2,24,2],[22,3,24,3],[22,5,24,5],[22,8,24,8],[25,8,27,8],[28,0,31,0],[28,1,31,1],[28,2,31,2],[28,3,31,3],[28,5,31,5],[34,0,41,0],[34,1,37,1],[34,2,37,2],[34,3,37,3],[34,5,37,5],[32,0,33,0],[32,1,33,1],[32,2,33,2],[32,3,33,3],[32,5,33,5],[42,0,43,0],[42,1,43,1],[42,2,43,2],[42,3,43,3],[42,5,43,5],[42,6,43,6],[42,7,43,7],[42,8,43,8],[34,8,37,8],[38,1,41,1],[38,2,41,2],[38,3,41,3],[38,5,41,5]]}
["Sys­tem","Description","First Cost3","O&M Cost4","Efficiency","Max HW Supply","Design Considerations","Best Applications","Limitation and Operational Considerations"]
[null,null,null,null,"[COP]1"]
["Air-to-Water Heat Pump (AWHP)","Heating Only","$-$$","$$$","Heating COP:","145°F","Outdoor space requirement","Distributed HW generation ","Lower efficiency at colder outside conditions, generally when heating loads are highest"]
[null,null,null,null,"2.8-3.6 @44°F ambient",null,"Recommend 115-120°F design temp and 10-15°F ΔT","Mild/warm climate","Requires cascading heating or coil replacement for higher temperature output"]
[null,null,null,null,null,null,"Cost Premium for HW >131°F (R-134a or enhanced vapor injection technology)","Minimal or no CHW load, limited heat recovery potential","Outside air does not drop below 32°F"]
[null,"Heating/Cooling","$-$$","$$$","Heating COP:","145°F","Assess performance when ambient temperature is low, auxiliary electric heating may be necessary","Distributed HW generation"]
[null,"Only",null,null,"2.7-3.4 @44°F ambient",null,null,"Mild climate"]
[null,null,null,null,"Cooling EER:",null,null,"Seasonal heating and cooling loads, limited heat recovery potential"]
[null,null,null,null,"8.6-11 @95°F ambient"]
[null,"Heat Recovery ","$$$","$$$","Heating COP:","131°F","Size for simultaneous heating and cooling base load with 10-15°F ΔT","Consistent simultaneous heating and cooling load, significant heat recovery potential","Lower efficiency at colder outside conditions, generally when heating loads are highest"]
[null,"(4 Pipe)",null,null,"3-3.2 @44°F ambient",null,"Auxiliary electric heating may be necessary for low ambient condition",null,"Requires cascading heating or coil replacement for higher temperature output"]
[null,null,null,null,"Cooling EER:",null,null,null,"HW output limited by CHW load"]
[null,null,null,null,"9.5-11 @95°F ambient",null,null,null,"Outside air does not drop below 32°F"]
[null,null,null,null,"Heat Recovery COP: 6.2-8"]
["Water-to-Water Heat Pump (WWHP) ","Heating Only","$-$$$","$$","Heating COP:","170°F","Cost Premium for HW >130°F (R-134a)","Distributed HW generation, direct boiler replacement","Requires additional heat source for full decarbonization"]
[null,null,null,null,"4-5 @113°F HW",null,"Recommend 130-135°F design temp with 20-25°F ΔT","Minimal or no CHW load, limited heat recovery potential"]
[null,null,null,null,"3-4 @130°F HW",null,"Modular heat pump can allow for project phasing and future expansion of system"]
[null,"Heating/Cooling","$-$$$","$$","Heating COP:","170°F",null,"Central heating/cooling plants"]
[null,"Only",null,null,"4-5 @113°F HW",null,null,"Seasonal heating and cooling loads, limited heat recovery potential"]
[null,null,null,null,"3-4 @130°F HW"]
[null,null,null,null,"Cooling kW/ton:"]
[null,null,null,null,"0.5-0.8 @41°F CHW"]
[null,"Heat Recovery ","$$-$$$","$$","3.9-4.5 @113°F HW","170°F","Cost Premium for HW >130°F (R-134a)","Centralized heating/cooling plants","HW output dependent on CHW load, limited by the smallest of cooling/heating load"]
[null,"(4 pipe)",null,null,"3.1-3.5 @130°F HW",null,"Sized for minimum cooling and heating base load","Significant year-round cooling load for heat recovery"]
[null,null,null,null,"Heat Recovery COP: 6-8"]
[null,"Heat Recovery ","$$-$$$$","$$","3.9-4.5 @113°F HW","170°F","Cost Premium for HW >130°F (R-134a)","Centralized heating/cooling plants","Requires connection to cooling tower or ground loop as additional heat sink/source"]
[null,"(6 pipe)",null,null,"3.1-3.5 @130°F HW",null,"Provides additional cooling capacity","Variable simultaneous cooling and heating over course of a year"]
[null,null,null,null,"Heat Recovery COP: 6-8"]
["Water Source Heat Pump (WSHP)","N/A","$-$$","$$$","Heating COP:","N/A","Distributed compressors, multiple points of service","Smaller facilities","Requires condenser water loop or ground loop"]
[null,null,null,null,"4.7-5.7 @68F CW",null,"Maintain condenser water loop temperature between 60 and 90°F","Simultaneous heating and cooling among the zones","Requires additional heat source to maintain condenser loop temperature"]
[null,null,null,null,"Cooling EER:",null,null,"Cooling tower water loop available"]
[null,null,null,null,"13.0-17.4 @86 CW"]
["Air-to-Air Heat Pump ","N/A","$","$","Heating COP:","N/A","Provides cooling or heating, not simultaneously","Remote and/or smaller facilities ","Lower efficiency, limited capacity"]
[null,null,null,null,"2.8-4 @ 47°F OSA",null,"Does not require connection to CHW or HW","SZAC/RTU unit like-for-like replacement","Reduced efficiency at colder outside conditions"]
["Variable Refrigerant Flow (VRF)","Air Cooled VRF","$$","$$","Heating COP:","N/A","Can be either heat pump or have heat recovery between the zones for maximum efficiency","Remote and/or smaller facilities","Significant refrigerant piped through building"]
[null,null,null,null,"3.2-4.3 @ 47°F OSA",null,"Follow ASHRAE Standard 15 for refrigerant limits","Buildings with extended hours beyond CUP operating period"]
[null,null,null,null,"Cooling EER:",null,null,"Heat recovery amongst building zones"]
[null,null,null,null,"9.3-14.4 @ 95°F OSA"]
[null,"Water Cooled VRF","$$","$$","Heating COP:","N/A","Can be either heat pump or have heat recovery between the zones for maximum efficiency","Buildings with extended hours beyond CUP operating period","Significant refrigerant piped through building"]
[null,null,null,null,"4-6 @ 68°F CW",null,"Follow ASHRAE Standard 15 for refrigerant limits","Heat recovery amongst building zones","Requires water-source loop, usually geothermal or boiler/cooling tower system"]
[null,null,null,null,"Cooling EER:"]
[null,null,null,null,"10-17 @ 86F CW"]
["Ammonia and CO2 Based Heat Pump","N/A","Unknown","Unknown","Ammonia: 3 @194°F HW","194°F","Emerging technology, ASHRAE 15 provides guideline regarding refrigerant usage","As HFC becomes phased out, natural refrigerant with 0 GWP will drive up product development","Use of ammonia as refrigerant not yet prevalent in the US"]
[null,null,null,null,"CO2: 2.8-4.1 @ 194°F HW"]
["Electric Boiler2","N/A","$","$",0.97,"220°F","Efficiency is better than gas boilers but low compared to heat pump","High temperature HW is required (installed where HW is required)","Large electrical load, may require electrical infrastructure upgrade"]
["Electric Resistance2","N/A","$","$",1,"N/A","Baseboard heating, electric furnace, radiant heater","Buildings with very minimal heating","Large electrical load"]
[]
[]
["1Efficiency for Air-to-Water heat pump rated at: Cooling 54/44°F @ 95°F ambient, Heating 104/113°F @ 44°F ambient"]
["Efficiency for Water-to-Water heat pump rated at: Cooling 54/44°F, condenser water 85/95°F, Heating 104/113°F"]
["Efficiency for WSHP, water cooled VRF rated at AHRI condition: Cooling with 86F condenser water, Heating with 68F condenser water"]
["Efficiency for Air-to-Air heat pump, Air-cooled VRF rated at AHRI condition: Cooling @ 95°F ambient, heating @ 47°F OSA"]
["2 Equipment cost for electric boiler and electric resistance heating are low, but electrical infrastructure needs may significantly add to first cost"]
["3 First cost for equipment only, scale: $ < $100/MBH, $$ = $100-200/MBH, $$$ = 200-300/MBH, $$$$ > $300/MBH"]
["4 O&M cost excludes energy cost, scale: $ = similar maintenance cost than existing system, $$ = slightly more maintenance cost than existing system, $$$ = more maintenance cost than existing system"]

{"sheet":"Technology Metric Look-ups","index":7,"n_rows":22,"n_cols":16,"rows_kept":22,"cut":false,"hidden":false,"merged":[]}
["Technology","Technology Report Maintenance Metric","Assumed System Annual Maintenance Cost Multiplier (% of new in-kind)","Average Technology Report Cost Range","Assumed Technology Report Cost Metric ($/MBH)","HHW Temp","Assumed Heating Efficiency (%)","Assumed Cooling Efficiency (COP)","Assumed Heat Recovery Operation (% heating load)","Assumed Heating Only Efficiency (COP)","Assumed Heat Recover Mode (COP)","Assumed Cooling Only Efficiency (COP)","Low Heating COP","High Heating COP","Heating/Cooling Capabilities","Notes on efficiency from Tech Report"]
["Replace in Kind","$",{"$f":"VLOOKUP(B2,'Look-up Refs'!$M$2:$N$4,2,FALSE)","v":1},1,{"$f":"VLOOKUP(D2,'Look-up Refs'!$Q$2:$R$9,2,FALSE)","v":50},null,0.82,3.3,0,null,null,null,null,null,"Heating/Cooling"]
["AWHP Heating Only","$$$",{"$f":"VLOOKUP(B3,'Look-up Refs'!$M$2:$N$4,2,FALSE)","v":1.25},1.5,{"$f":"VLOOKUP(D3,'Look-up Refs'!$Q$2:$R$9,2,FALSE)","v":100},{"$f":"'Life Cycle Analysis Tool'!$F$77","v":140},null,3.3,0,{"$f":"(2.8+3.6)/2","v":3.2},null,null,2.8,3.6,"Heating Only","Heating COP:2.8-3.6 @44°F ambient"]
["AWHP Heating/Cooling Only","$$$",{"$f":"VLOOKUP(B4,'Look-up Refs'!$M$2:$N$4,2,FALSE)","v":1.25},1.5,{"$f":"VLOOKUP(D4,'Look-up Refs'!$Q$2:$R$9,2,FALSE)","v":100},{"$f":"'Life Cycle Analysis Tool'!$F$77","v":140},null,null,0,{"$f":"(2.7+3.4)/2","v":3.05},null,{"$f":"ROUND((8.6+11)/2/3.413,1)","v":2.9},2.7,3.4,"Heating/Cooling","Heating COP:2.7-3.4 @44°F ambient Cooling EER:8.6-11 @95°F ambient"]
["AWHP Heat Recovery (4-Pipe)","$$$",{"$f":"VLOOKUP(B5,'Look-up Refs'!$M$2:$N$4,2,FALSE)","v":1.25},3,{"$f":"VLOOKUP(D5,'Look-up Refs'!$Q$2:$R$9,2,FALSE)","v":250},{"$f":"'Life Cycle Analysis Tool'!$F$77","v":140},null,null,0.6,3.1,{"$f":"IF(F5<105,8,IF(F5>175,2.9,ROUND(-0.073*F5+15.648,1)))","v":5.4},{"$f":"ROUND(10.25/3.413,1)","v":3},3,3.2,"Heating/Cooling","Heating COP: 3-3.2 @44°F ambient Cooling EER: 9.5-11 @95°F ambient Heat Recovery COP: 6.2-8, substituted formula from Glumac to right"]
["WWHP Heating Only","$$",{"$f":"VLOOKUP(B6,'Look-up Refs'!$M$2:$N$4,2,FALSE)","v":1.125},2,{"$f":"VLOOKUP(D6,'Look-up Refs'!$Q$2:$R$9,2,FALSE)","v":150},{"$f":"'Life Cycle Analysis Tool'!$F$77","v":140},null,3.3,0,{"$f":"ROUND(IF(F6<110,N6,IF(F6>145,M6,(F6-110)/(145-110)*(N6-M6)+M6)),1)","v":4.7},null,null,3,5,"Heating Only","Heating COP:4-5 @113°F HW3-4 @130°F HW"]
["WWHP Heating/Cooling Only","$$",{"$f":"VLOOKUP(B7,'Look-up Refs'!$M$2:$N$4,2,FALSE)","v":1.125},2,{"$f":"VLOOKUP(D7,'Look-up Refs'!$Q$2:$R$9,2,FALSE)","v":150},{"$f":"'Life Cycle Analysis Tool'!$F$77","v":140},null,null,0,{"$f":"ROUND(IF(F7<110,N7,IF(F7>145,M7,(F7-110)/(145-110)*(N7-M7)+M7)),1)","v":4.7},null,{"$f":"ROUND(12/(0.65)/3.412,1)","v":5.4},3,5,"Heating/Cooling","Heating COP:4-5 @113°F HW3-4 @130°F HWCooling kW/ton:0.5-0.8 @41°F CHW"]
["WWHP Heat Recovery (4 pipe)","$$",{"$f":"VLOOKUP(B8,'Look-up Refs'!$M$2:$N$4,2,FALSE)","v":1.125},2.5,{"$f":"VLOOKUP(D8,'Look-up Refs'!$Q$2:$R$9,2,FALSE)","v":200},{"$f":"'Life Cycle Analysis Tool'!$F$77","v":140},null,null,0.6,4.3,{"$f":"IF(F8<105,8,IF(F8>175,2.9,ROUND(-0.073*F8+15.648,1)))","v":5.4},5.25,3.1,4.5,"Heating/Cooling","3.9-4.5 @113°F HW 3.1-3.5 @130°F HW Heat Recovery COP: 6-8, cooling COP 5.25 – this can only operate in cooling only mode if there is a CW connection"]
["WWHP Heat Recovery (6 pipe)","$$",{"$f":"VLOOKUP(B9,'Look-up Refs'!$M$2:$N$4,2,FALSE)","v":1.125},3,{"$f":"VLOOKUP(D9,'Look-up Refs'!$Q$2:$R$9,2,FALSE)","v":250},{"$f":"'Life Cycle Analysis Tool'!$F$77","v":140},null,null,0.6,4.3,{"$f":"IF(F9<105,8,IF(F9>175,2.9,ROUND(-0.073*F9+15.648,1)))","v":5.4},5.25,3.1,4.5,"Heating/Cooling","3.9-4.5 @113°F HW 3.1-3.5 @130°F HW Heat Recovery COP: 6-8, cooling same efficiency as 4 Pipe – only difference is that it includes an additional CW connection to allow individual modulates to switch between various models of operation – see decarb reports"]
["WSHP","$$$",{"$f":"VLOOKUP(B10,'Look-up Refs'!$M$2:$N$4,2,FALSE)","v":1.25},1.5,{"$f":"VLOOKUP(D10,'Look-up Refs'!$Q$2:$R$9,2,FALSE)","v":100},{"$f":"'Life Cycle Analysis Tool'!$F$77","v":140},null,null,0,{"$f":"AVERAGE(M10:N10)","v":5.2},null,{"$f":"ROUND(15.2/3.413,1)","v":4.5},4.7,5.7,"Heating/Cooling","Heating COP:4.7-5.7 @68F CWCooling EER:13.0-17.4 @86 CW"]
["Air-to-Air Heat Pump ","$",{"$f":"VLOOKUP(B11,'Look-up Refs'!$M$2:$N$4,2,FALSE)","v":1},1,{"$f":"VLOOKUP(D11,'Look-up Refs'!$Q$2:$R$9,2,FALSE)","v":50},{"$f":"'Life Cycle Analysis Tool'!$F$77","v":140},null,null,0,{"$f":"AVERAGE(M11:N11)","v":3.4},null,{"$f":"ROUND(10.6/3.413,1)","v":3.1},2.8,4,"Heating/Cooling","Heating COP:2.8-4 @ 47°F OSA cooling typical DX.  10.6 EER from 2019 Title 24 Table 110.2-B "]
["VRF Air Cooled","$$",{"$f":"VLOOKUP(B12,'Look-up Refs'!$M$2:$N$4,2,FALSE)","v":1.125},2,{"$f":"VLOOKUP(D12,'Look-up Refs'!$Q$2:$R$9,2,FALSE)","v":150},{"$f":"'Life Cycle Analysis Tool'!$F$77","v":140},null,null,0,3.75,null,{"$f":"ROUND(11.85/3.413,1)","v":3.5},3.2,4.3,"Heating/Cooling","Heating COP:3.2-4.3 @ 47°F OSACooling EER:9.3-14.4 @ 95°F OSA"]
["VRF Water Cooled","$$",{"$f":"VLOOKUP(B13,'Look-up Refs'!$M$2:$N$4,2,FALSE)","v":1.125},2,{"$f":"VLOOKUP(D13,'Look-up Refs'!$Q$2:$R$9,2,FALSE)","v":150},{"$f":"'Life Cycle Analysis Tool'!$F$77","v":140},null,null,0,5,null,{"$f":"ROUND(13.5/3.413,1)","v":4},4,6,"Heating/Cooling","Heating COP:4-6 @ 68°F CWCooling EER:10-17 @ 86F CW"]
["Electric Boiler","$",{"$f":"VLOOKUP(B14,'Look-up Refs'!$M$2:$N$4,2,FALSE)","v":1},1,{"$f":"VLOOKUP(D14,'Look-up Refs'!$Q$2:$R$9,2,FALSE)","v":50},{"$f":"'Life Cycle Analysis Tool'!$F$77","v":140},null,null,0,0.97,null,null,null,null,"Heating Only",0.97]
["Electric Resistance","$",{"$f":"VLOOKUP(B15,'Look-up Refs'!$M$2:$N$4,2,FALSE)","v":1},1,{"$f":"VLOOKUP(D15,'Look-up Refs'!$Q$2:$R$9,2,FALSE)","v":50},{"$f":"'Life Cycle Analysis Tool'!$F$77","v":140},null,null,0,1,null,null,null,null,"Heating Only",1]
["Custom Entry","$",0,1,0,{"$f":"'Life Cycle Analysis Tool'!$F$77","v":140},null,null,0,1,null,null,null,null,"Heating/Cooling","All user inputs"]
["No Selection","$",0,1,0,{"$f":"'Life Cycle Analysis Tool'!$F$77","v":140},null,null,0,1,null,null,null,null," ","All user inputs"]
[]
[]
["Excluded:"]
["Ammonia Based Heat Pump","Unknown",null,"Unknown",null,null,null,null,null,{"$f":"AVERAGE(M21:N21)","v":3},null,{"$f":"AVERAGE(M21:N21)","v":3},3,3,null,"Ammonia: 3 @194°F HW - exclude from LCCA (emerging technology)"]
["CO2 Based Heat Pump","Unknown",null,"Unknown",null,null,null,null,null,{"$f":"AVERAGE(M22:N22)","v":3.4499999999999997},null,3.4499999999999997,2.8,4.0999999999999996,null,"CO2: 2.8-4.1 @ 194°F HW - exclude from LCCA (emerging technology)"]

{"sheet":"Look-up Refs","index":8,"n_rows":25,"n_cols":33,"rows_kept":25,"cut":false,"hidden":false,"merged":[]}
["Yes/No",null,"kBtu Conversions",null,null,null,"GHG Conversions",null,null,null,"Reporting Options",null,"Maintenance Cost $ Metrics","% multiplier",null,"$ Range","Average of $ Range","$/MBH",null,null,null,null,"Project Types","Design Overview and Recommendations","Applicable Technologies",null,"Electric Energy Source","Electric GHG Reduction Equation Slope","Electric GHG Reduction Equation Intercept",null,null,"campus","Default Utility for Emissions"]
["Yes",null,"Electric",3.4121416416000003,"kBtu/kWh",null,"Electric",2.9991600000000001E-4,"MT/kWh",null,"Project Capital Costs ($)",null,"$",1,null,null,0,0,null,null,null,null,"Centralized Heat Recovery","Heat recovery chillers installed in existing campus central plant sized to provide campus HHW requirements and to supplement campus CHW needs. Centralized heat recovery plants have the greatest applicability on CSU campuses with centralized CHW and HHW distribution loops. Campus should size heat recovery chillers by assessing campus loads and conducting a cost-benefit analysis on meeting peak heating loads via heat recovery versus utilizing additional sources of heat for these periods, such as existing boilers.\t\t\t\t\t\t\t\t","• Air-to-Water Heat Pump\n     » Desuperheater (preheat only)\n     » 4-pipe\n• Water-to-Water Heat Pump\n     » Desuperheater (preheat only)\n     » 4-pipe\n     » 6-pipe",null,"Grid Purchases",{"$f":"($H$2-0)/(0-25)","v":-1.1996640000000001E-5},{"$f":"$H$2","v":2.9991600000000001E-4},null,null,"CSU San Luis Obispo","PG&E Electricity"]
["No",null,"Natural Gas",100,"kBtu/therm",null,"Natural Gas",5.3022039999999996E-3,"MT/therm",null,"Maintenance Cost ($)",null,"$$",1.125,null,"$",1,50,null,null,null,null,"Decentralized Heat Recovery","Decentralized heat recovery chillers utilize the same technology as centralized systems, however, are better suited to campuses with distributed boilers, whom are already set up for a decentralized solution This approach allows campuses to connect a group of buildings together or utilize existing groupings to create a quadrant of the campus that is served by a heat recovery chiller. Sizing of systems should account for ease of connecting building together and consider ease of balancing loads (e.g. connecting building with a data center to a housing building will provide a balanced load of cooling and heating)","• Air-to-Water Heat Pump\n     » Desuperheater\n     » 4-pipe\n• Water-to-Water Heat Pump\n     » Desuperheater\n     » 4-pipe\n     » 6-pipe",null,"On-campus Cogeneration",0,{"$f":"$H$2","v":2.9991600000000001E-4},null,null,"CSU Pomona","SCE Electricity"]
[null,null,null,null,null,null,null,null,null,null,"Electric Energy Use (kWh)",null,"$$$",1.25,null,"$-$$",1.5,100,null,null,null,null,"Centralized Heat Pumps","Centralized heat pumps installed in an existing campus central plant to provide HHW to campus loop. This design separates CHW and HHW production and does not recover heat from the campus cooling load. It is therefore better suited to campuses with a HHW loop that have minimal or no chilled water load. Heat pumps should be sized by assessing campus loads and conducting a cost-benefit analysis on meeting peak loads via the heat pumps versus utilizing additional sources of heat for these periods, such as existing boilers.","• Air-to-Water Heat Pump\n     » Heating Only\n     » Heating / Cooling Only\n• Water-to-Water Heat Pump\n     » Heating Only\n     » Heating / Cooling Only\n• Water Source Heat Pump",null,null,null,null,null,null,"CSU Bakersfield","PG&E Electricity"]
[null,null,null,null,null,null,null,null,null,null,"Natural Gas Energy Use (therm)",null,null,null,null,"$$",2,150,null,null,null,null,"Decentralized Heat Pumps","Decentralized heat pumps installed in quadrants and/or individual buildings across campus to provide HHW to individual loop and/or building. This strategy primarily applies to campuses without centralized heating or chilled water loops. Heat pumps should be sized by assessing campus loads and conducting a cost-benefit analysis on meeting peak loads via the heat pumps versus utilizing additional sources of heat for these periods, such as existing boilers.","• Air-to-Water Heat Pump\n     » Heating Only\n     » Heating / Cooling Only\n• Water-to-Water Heat Pump\n     » Heating Only\n     » Heating / Cooling Only\n• Water Source Heat Pump\n• Air-to-Air Heat Pump",null,null,null,null,null,null,"CSU Channel Islands","SCE Electricity"]
[null,null,null,null,null,null,null,null,null,null,"GHG Emissions (MT)",null,null,null,null,"$$-$$$",2.5,200,null,null,null,null,"Condenser Water Loop Distribute","Centralized or decentralized condenser water loop, providing a heat source and sink to individual WWHPs in each building. This strategy may be particularly relevant for expanding campuses, or campuses with existing capacity issues within their distribution networks. Cooling towers provide a heat sink and heat pumps or boilers can provide a heat source to the loop. If heat pumps are utilized, full decarbonization of campus loop is possible. Phasing of source and sink equipment can be achieved as more buildings are added across campus.","• Water-to-Water Heat Pump\n     » Heating Only\n     » Heating / Cooling Only\n• Water Source Heat Pump\n• Variable Refrigerant Flow",null,null,null,null,null,null,"CSU Chico","PG&E Electricity"]
[null,null,null,null,null,null,null,null,null,null,"Kbtu Use per Year (kBtu/yr)",null,null,null,null,"$$$",3,250,null,null,null,null,"Electric Boilers","Centralized or decentralized solution, providing electric boilers as a direct replacement for HHW or steam boilers. This strategy is viable for campuses with existing HHW loops who are unable to reset HHW temperatures to those required for heat pump operation, for campuses with existing steam loops that are in good condition and have significant expected useful life, or for specific buildings that require high temperature hot water whilst the remainder of campus can be served by heat pumps. Boilers should be sized on trended load data to ensure electric boilers are not oversized.","• Electric Boiler – hot water\n• Electric Boiler – steam",null,null,null,null,null,null,"CSU Dominguez Hills","SCE Electricity"]
[null,null,null,null,null,null,null,null,null,null,"Electric Cost ($)",null,null,null,null,"$$$-$$$$",3.5,300,null,null,null,null,"Other","The \"Other\" Category can be used to evaluate projects that do not fit into one of the pre-defined project types.","Users can utilize any technologies or use all Custom entries to in their evaluation",null,null,null,null,null,null,"CSU East Bay","PG&E Electricity"]
[null,null,null,null,null,null,null,null,null,null,"Natural Gas Cost ($)",null,null,null,null,"$$$$",4,350,null,null,null,null,null,null,null,null,null,null,null,null,null,"CSU Fresno","PG&E Electricity"]
[null,null,null,null,null,null,null,null,null,null,"GHG Emissions Cost ($/yr)",null,null,null,null,null,null,null,null,null,null,null,null,null,null,null,null,null,null,null,null,"CSU Fullerton","SCE Electricity"]
[null,null,null,null,null,null,null,null,null,null,"Total Energy Cost ($)",null,null,null,null,null,null,null,null,null,null,null,null,null,null,null,null,null,null,null,null,"CSU Long Beach","SCE Electricity"]
[null,null,null,null,null,null,null,null,null,null,"Total Utility Cost ($)",null,null,null,null,null,null,null,null,null,null,null,null,null,null,null,null,null,null,null,null,"CSU Los Angeles","LADWP Electricity"]
[null,null,null,null,null,null,null,null,null,null,"Annual Total Operating Cost ($)",null,null,null,null,null,null,null,null,null,null,null,null,null,null,null,null,null,null,null,null,"CSU Monterey Bay","PG&E Electricity"]
[null,null,null,null,null,null,null,null,null,null,"Cumulative Total Operating Cost ($)",null,null,null,null,null,null,null,null,null,null,null,null,null,null,null,null,null,null,null,null,"CSU Northridge","LADWP Electricity"]
[null,null,null,null,null,null,null,null,null,null,null,null,null,null,null,null,null,null,null,null,null,null,null,null,null,null,null,null,null,null,null,"CSU Sacramento","SMUD Electricity"]
[null,null,null,null,null,null,null,null,null,null,null,null,null,null,null,null,null,null,null,null,null,null,null,null,null,null,null,null,null,null,null,"CSU San Bernardino","SCE Electricity"]
[null,null,null,null,null,null,null,null,null,null,null,null,null,null,null,null,null,null,null,null,null,null,null,null,null,null,null,null,null,null,null,"CSU San Marcos","SDG&E Electricity"]
[null,null,null,null,null,null,null,null,null,null,null,null,null,null,null,null,null,null,null,null,null,null,null,null,null,null,null,null,null,null,null,"CSU Stanislaus","SMUD Electricity"]
[null,null,null,null,null,null,null,null,null,null,null,null,null,null,null,null,null,null,null,null,null,null,null,null,null,null,null,null,null,null,null,"CSU Humboldt","PG&E Electricity"]
[null,null,null,null,null,null,null,null,null,null,null,null,null,null,null,null,null,null,null,null,null,null,null,null,null,null,null,null,null,null,null,"CSU San Diego","SDG&E Electricity"]
[null,null,null,null,null,null,null,null,null,null,null,null,null,null,null,null,null,null,null,null,null,null,null,null,null,null,null,null,null,null,null,"CSU San Francisco","PG&E Electricity"]
[null,null,null,null,null,null,null,null,null,null,null,null,null,null,null,null,null,null,null,null,null,null,null,null,null,null,null,null,null,null,null,"CSU San Jose","PG&E Electricity"]
[null,null,null,null,null,null,null,null,null,null,null,null,null,null,null,null,null,null,null,null,null,null,null,null,null,null,null,null,null,null,null,"CSU Sonoma","PG&E Electricity"]
[null,null,null,null,null,null,null,null,null,null,null,null,null,null,null,null,null,null,null,null,null,null,null,null,null,null,null,null,null,null,null,"CSU Maritime Academy","PG&E Electricity"]
[null,null,null,null,null,null,null,null,null,null,null,null,null,null,null,null,null,null,null,null,null,null,null,null,null,null,null,null,null,null,null,"CSU Chancellor","SCE Electricity"]

{"sheet":"Dynamic Look-ups","index":9,"n_rows":35,"n_cols":13,"rows_kept":35,"cut":false,"hidden":false,"merged":[]}
[null,null,null,null,null,null,null,null,null,null,null,null,{"$f":"emmissions_type","v":"Grid Purchases"}]
[null,"Utility","Starting Value","Override","Value","Rank",null,"Odered","Grid Purchases","On-campus Cogeneration","Other",null,{"$f":"INDEX($I$3:$K$3,1,MATCH($M$1,I2:K2,0))","v":"LADWP Electricity"}]
[null,"ESP Electricity",7,{"$f":"IF(INDEX('Look-up Refs'!$AG:$AG,MATCH('Life Cycle Analysis Tool'!$D$25,'Look-up Refs'!$AF:$AF,0))=B3,-1000,1000)","v":1000},{"$f":"MIN(C3:D3)","v":7},{"$f":"RANK(E3,$E$3:$E$13,-1)","v":7},null,1,{"$f":"INDEX($B$3:$B$9,MATCH(H3,$F$3:$F$9,0),1)","v":"LADWP Electricity"},"Purchased Cogen Electricity","Stationary Cogen Natural Gas"]
[null,"LADWP Electricity",6,{"$f":"IF(INDEX('Look-up Refs'!$AG:$AG,MATCH('Life Cycle Analysis Tool'!$D$25,'Look-up Refs'!$AF:$AF,0))=B4,-1000,1000)","v":-1000},-1000,1,null,2,{"$f":"INDEX($B$3:$B$9,MATCH(H4,$F$3:$F$9,0),1)","v":"PG&E Electricity"},null,"Stationary Non-Cogen Natural Gas"]
[null,"PG&E Electricity",1,{"$f":"IF(INDEX('Look-up Refs'!$AG:$AG,MATCH('Life Cycle Analysis Tool'!$D$25,'Look-up Refs'!$AF:$AF,0))=B5,-1000,1000)","v":1000},1,2,null,3,"SCE Electricity",null,"Stationary Purchased Steam"]
[null,"SCE Electricity",2,{"$f":"IF(INDEX('Look-up Refs'!$AG:$AG,MATCH('Life Cycle Analysis Tool'!$D$25,'Look-up Refs'!$AF:$AF,0))=B6,-1000,1000)","v":1000},2,3,null,4,"SDG&E Electricity",null,"Campus CNG"]
[null,"SDG&E Electricity",3,{"$f":"IF(INDEX('Look-up Refs'!$AG:$AG,MATCH('Life Cycle Analysis Tool'!$D$25,'Look-up Refs'!$AF:$AF,0))=B7,-1000,1000)","v":1000},3,4,null,5,"SMUD Electricity",null,"Campus Diesel"]
[null,"SMUD Electricity",4,{"$f":"IF(INDEX('Look-up Refs'!$AG:$AG,MATCH('Life Cycle Analysis Tool'!$D$25,'Look-up Refs'!$AF:$AF,0))=B8,-1000,1000)","v":1000},4,5,null,6,"TID Electricity",null,"Campus Gasoline"]
[null,"TID Electricity",5,{"$f":"IF(INDEX('Look-up Refs'!$AG:$AG,MATCH('Life Cycle Analysis Tool'!$D$25,'Look-up Refs'!$AF:$AF,0))=B9,-1000,1000)","v":1000},5,6,null,7,"ESP Electricity",null,"Campus Marine Gas Oil"]
[null,null,null,null,null,null,null,null,null,null,"Campus Propane"]
[]
[]
[null,"Centralized Heat Recovery","Decentralized Heat Recovery","Centralized Heat Pumps","Decentralized Heat Pumps","Condenser Water Loop Distribute","Electric Boilers","Custom Entry"]
[null,"AWHP Heat Recovery (4-Pipe)","AWHP Heat Recovery (4-Pipe)","AWHP Heating Only","WWHP Heating Only","WWHP Heating Only","Electric Boiler","Custom Entry"]
[null,"WWHP Heat Recovery (4 pipe)","WWHP Heat Recovery (4 pipe)","AWHP Heating/Cooling Only","WWHP Heating/Cooling Only","WWHP Heating/Cooling Only","Electric Resistance","No Selection"]
[null,"WWHP Heat Recovery (6 pipe)","WWHP Heat Recovery (6 pipe)","WWHP Heating Only","WSHP","WSHP","Custom Entry","AWHP Heating Only"]
[null,"Custom Entry","Custom Entry","WWHP Heating/Cooling Only","Air-to-Air Heat Pump ","VRF Air Cooled","No Selection","AWHP Heating/Cooling Only"]
[null,"No Selection","No Selection","WSHP","AWHP Heating Only","VRF Water Cooled","AWHP Heating Only","AWHP Heat Recovery (4-Pipe)"]
[null,"AWHP Heating Only","AWHP Heating Only","Custom Entry","AWHP Heating/Cooling Only","Custom Entry","AWHP Heating/Cooling Only","WWHP Heating Only"]
[null,"AWHP Heating/Cooling Only","AWHP Heating/Cooling Only","No Selection","Custom Entry","No Selection","AWHP Heat Recovery (4-Pipe)","WWHP Heating/Cooling Only"]
[null,"WWHP Heating Only","WWHP Heating Only","AWHP Heat Recovery (4-Pipe)","No Selection","AWHP Heating Only","WWHP Heating Only","WWHP Heat Recovery (4 pipe)"]
[null,"WWHP Heating/Cooling Only","WWHP Heating/Cooling Only","WWHP Heat Recovery (4 pipe)","AWHP Heat Recovery (4-Pipe)","AWHP Heating/Cooling Only","WWHP Heating/Cooling Only","WWHP Heat Recovery (6 pipe)"]
[null,"WSHP","WSHP","WWHP Heat Recovery (6 pipe)","WWHP Heat Recovery (4 pipe)","AWHP Heat Recovery (4-Pipe)","WWHP Heat Recovery (4 pipe)","WSHP"]
[null,"Air-to-Air Heat Pump ","Air-to-Air Heat Pump ","Air-to-Air Heat Pump ","WWHP Heat Recovery (6 pipe)","WWHP Heat Recovery (4 pipe)","WWHP Heat Recovery (6 pipe)","Air-to-Air Heat Pump "]
[null,"VRF Air Cooled","VRF Air Cooled","VRF Air Cooled","VRF Air Cooled","WWHP Heat Recovery (6 pipe)","WSHP","VRF Air Cooled"]
[null,"VRF Water Cooled","VRF Water Cooled","VRF Water Cooled","VRF Water Cooled","Air-to-Air Heat Pump ","Air-to-Air Heat Pump ","VRF Water Cooled"]
[null,"Electric Boiler","Electric Boiler","Electric Boiler","Electric Boiler","Electric Boiler","VRF Air Cooled","Electric Boiler"]
[null,"Electric Resistance","Electric Resistance","Electric Resistance","Electric Resistance","Electric Resistance","VRF Water Cooled","Electric Resistance"]
[]
[null,"Centralized Heat Recovery","Decentralized Heat Recovery","Centralized Heat Pumps","Decentralized Heat Pumps","Condenser Water Loop Distribute","Electric Boilers","Custom Entry"]
[null,"AWHP Heat Recovery (4-Pipe)","AWHP Heat Recovery (4-Pipe)","AWHP Heating Only","WWHP Heating Only","WWHP Heating Only","Electric Boiler","AWHP Heating Only"]
[null,"WWHP Heat Recovery (4 pipe)","WWHP Heat Recovery (4 pipe)","AWHP Heating/Cooling Only","WWHP Heating/Cooling Only","WWHP Heating/Cooling Only","Electric Resistance","AWHP Heating/Cooling Only"]
[null,"WWHP Heat Recovery (6 pipe)","WWHP Heat Recovery (6 pipe)","WWHP Heating Only","WSHP","WSHP","No Selection","AWHP Heat Recovery (4-Pipe)"]
[null,"No Selection","No Selection","WWHP Heating/Cooling Only","Air-to-Air Heat Pump ","VRF Air Cooled","No Selection","WWHP Heating Only"]
[null,"No Selection","No Selection","WSHP","AWHP Heating Only","VRF Water Cooled","No Selection","WWHP Heating/Cooling Only"]